{"text_format":"1","workbook":"xlsx","n_sheets":37,"sheets":["INTRODUCTION","STEP_1","1_COMMUNITY EVALUATION","2_COMMUNITY EVALUATION","STEP_2","STAKEHOLDER","STAKEHOLDER (2)","STAKEHOLDER (3)","STAKEHOLDER (4)","STAKEHOLDER (5)","STAKEHOLDER (6)","STAKEHOLDER (7)","STAKEHOLDER (8)","STAKEHOLDER (9)","STAKEHOLDER (10)","STAKEHOLDER (11)","STAKEHOLDER (12)","STAKEHOLDER (13)","STAKEHOLDER (14)","STAKEHOLDER (15)","STAKEHOLDER (16)","STAKEHOLDER (17)","STAKEHOLDER (18)","STAKEHOLDER (19)","STAKEHOLDER (20)","STAKEHOLDER (21)","STAKEHOLDER (22)","STAKEHOLDER (23)","STAKEHOLDER (24)","STAKEHOLDER (25)","STAKEHOLDER (26)","STAKEHOLDER (27)","STAKEHOLDER (28)","STAKEHOLDER (29)","STAKEHOLDER (30)","STEP_3","Stakeholders' Scores"],"not_rendered":{"charts":31,"images":1,"macros":1,"external_links":0,"defined_names":139,"comments":0,"pivot_tables":0},"unopened":[],"bounds":{"document_bytes":16777216,"sheet_cells":100000,"rows_first":2000,"rows_last":500,"rows_between":2000,"halvings":0,"cell_chars":16384,"cell_head_chars":4096},"cells_cut":0,"cells_raw":0,"read":"whole","date_system":"1900"}

{"sheet":"INTRODUCTION","index":0,"n_rows":17,"n_cols":7,"rows_kept":17,"cut":false,"hidden":false,"merged":[[0,1,5,3],[11,6,13,9],[16,1,50,9],[0,4,8,9]]}
[null,null,null,null,"\nგადაწყვეტილების მიღების პროცესში \nსამოქალაქო ჩართულობის მექანიზმი\n \n \n \n \n \n \n"]
[]
[]
[]
[]
[]
[]
[]
[]
[]
[]
[null,null,null,null,null,null,"ოპერაციული სახელმძღვანელო"]
[]
[]
[]
[]
[null,"შესავალი\nწინამდებარე ინსტრუმენტი ადგილობრივ დონეზე პოლიტიკის მიმართულებების განმსაზღვრელ პირებს დაეხმარება ადგილობრივი დაინტერესებული მხარეების იდენტიფიცირებაში, მონაწილეობით პროცესებში მათი ჩართვის მიზნით, რაც ხელს შეუწყობს მოქალაქეთა ჩართულობას ადგილობრივ დონეზე გადაწყვეტილების მიღების პროცესებში. \n\nწინამდებარე ინსტრუმენტი მოიცავს პროცესს, რომელიც სამი ნაბიჯისგან შედგება:\nსაფეხური 1 - ადგილობრივი თემის შეფასება - მიზნად ისახავს მონაწილეობითი გადაწყვეტილების მიღების პროცესის ეფექტურ კონტექსტუალიზაციას \n\nსაფეხური 2 - დაინტერესებულ მხარეთა იდენტიფიკაცია და შეფასება - მიზნად ისახავს ჩართულობის თვალსაზრისით დაინტერესებული მხარეების შესაძლებლობებისა და მზაობის იდენტიფიცირებას \n\nსაფეხური 3 - დაინტერესებულ მხარეთა დიაგრამაზე დატანა\n„დაინტერესებული მხარეების“ შეფასებისას მხარეს ენიჭება 2 სხვადასხვა ქულა (რელევანტურობის და ინტერესის), 0-დან 1-მდე. ინსტრუმენტს ავტომატურად გადააქვს ეს ქულები დიაგრამაზე, რომელიც 4 კვადრატად არის დაყოფილი. თითეული კვადრატი ასახავს დაინტერესებულ მხარეთა პოტენციური ჩართულობის სხვადასხვა დონეს. იმის მიხედვით, თუ რომელ კვადრატში ხვდება დაინტერესებული მხარე, ადგილობრივ ხელისუფლებას ექნება შესაძლებლობა, განახორციელოს სხვადასხვა სტრატეგიები ამ დაინტერესებული მხარის ჩართულობის უზრუნველსაყოფად, მე-4 სექციის შესაბამისად.\n"]

{"sheet":"STEP_1","index":1,"n_rows":17,"n_cols":1,"rows_kept":17,"cut":false,"hidden":false,"merged":[[0,0,5,2],[0,3,5,8],[6,5,8,8],[11,5,13,8],[16,0,50,8]]}
[]
[]
[]
[]
[]
[]
[]
[]
[]
[]
[]
[]
[]
[]
[]
[]
["საფეხური 1 - ადგილობრივი თემის შეფასება\n\nმონაწილეობითი გადაწყვეტილების მიღების პროცესის ეფექტურად კონტექსტუალიზაციის მიზნით, პირველ რიგში, მნიშვნელოვანია შეფასდეს შესაბამისი თემის ზოგადი დამოკიდებულება მონაწილეობის მიმართ. თემის ჩამოყალიბებაზე გავლენას ახდენს სოციალური ცვლადები (მოსაახლეობის საშუალო ასაკი, სამოქალაქო აქტივიზმის დონე, ინფორმაციაზე წვდომა და ა.შ.), ეკონომიკური ცვლადები (საშუალო შემოსავალი, რესურსების დისტრიბუცია, დასაქმების შესაძლებლობები და ა.შ.), ადამიანური ცვლადები (უნარები და ცოდნა, რომელსაც ფლობენ და რომლის გამოყენებაც/გაზიარებაც შეუძლიათ თემის წევრებს); და პოლიტიკური ცვლადები (პოლიტიკური ჩართულობა თემში, გადაწყვეტილების მიღების პროცესში თემის მოანწილეობის დონე და ა.შ.). ეფექტური მონაწილეობითი პროცესის დასაწყებად მნიშვნელოვანია იმის გააზრება, თუ რა გავლენას ახდენს მოცემული ცვლადები მონაწილეობისადმი მიმდრეკილებაზე. შეფასებაში არ არსებობს სწორი და არასწორი პასუხები. ერთ თემში უმუშევრობის მაღალ მაჩვენებელს, შესაძლოა, „უაღრესად პოზიტიური“ გავლენა ჰქონდეს მოსახლეობის ჩართულობისკენ მიდრეკილებაზე, რადგან ეს პრობლემა სტიმულს აძლევს იდეების გაზიარებას და საზოგადოებრივ ცხოვრებაში ჩართვას. მეორე თემში კი იგივე საკითხი, შესაძლოა, ხელს უშლიდეს მონაწილეობას, რადგან ადამიანები, რომელთაც სამუშაო ადგილები დაკარგეს, სახელმწიფო ორგანოებს აღარ ენდობიან. ამ თვალსაზრისით, „თემის შეფასების ცხრილის“ შევსებისას, გთხოვთ, გაითვალისწინოთ, თუ რა გავლენა აქვს თითეულ ასპექტს თქვენს თემზე, მიუხედავად იმისა, თუ რა თეორიული წარმოდგენები არსებობს მოცემულ ცვლადებთან დაკავშირებით. შეფასების დასრულების შემდეგ, თითეულ განზომილებას (სოციალური, ეკონომიკური, ადამიანური და პოლიტიკური) მიენიჭება ქულა (0-დან 1-მდე, სადაც 0 აღნიშნავს „უაღრესად ნეგატიურს“, ხოლო 1 „უაღრესად პოზიტიურს“). ის განზომილებები, სადაც მაღალი ქულა დაფიქსირდა, განსაკუთრებულ გავლენას ახდენს მონაწილეობის კონტექსტზე. ამრიგად, „დაინტერესებულ ხარეთა შეფასება“, რომელიც მომდევნო შეფასებას წარმოადგენს, დაეყრდნობა სხვადასხვა განზომილებების შეწონილ მნიშვნელობებს (შეწონილ ქულებს ინსტრუმენტი ავტომატურად გამოთვლის), „ადგილობრივ თემის შეფასების“ შედეგებზე დაყრდნობით.   \n\n"]

{"sheet":"1_COMMUNITY EVALUATION","index":2,"n_rows":39,"n_cols":14,"rows_kept":39,"cut":false,"hidden":false,"merged":[[22,13,29,13],[31,13,38,13],[0,0,0,13],[4,13,11,13],[13,13,20,13]]}
["გთხოვთ, შეაფასოთ, რა გავლენას ახდენს ქვემოთ წარმოდგენილი ცვლადები მოსახლეობის მონაწილეობაზე საზოგადოებრივ ცხოვრებაში და შესაბამისი გრაფაში მონიშნოთ „x“ (თითოეული პუნქტი/ცვლადი შეაფასეთ „უაღრესად უარყოფითიდან“ „უაღრესად დადებითამდე“). "]
[null,"თემი- მიუთითეთ დასახელება"]
[null,"განზომილებები","უაღრესად უარყოფითი","უარყოფთი","არ არის რელევანტური","დადებითი","უაღრესად დადებითი",-2,-1,0,1,2,null,"ქულა თითოეულ განზომილებაში"]
[null,"(1) სოციალური კაპიტალი",null,null,null,null,null,null,null,null,null,null,{"$f":"SUM(H5:L12)","v":0},{"$f":"(((M4-(-16))*(1-0))/(16-(-16)))+0","v":0.5}]
[1,"მოსახლეობის წილი, რომელიც ამ ქალაქში საცხოვრებლად გადმოვიდა ბოლო 5 წლის განმავლობაში",null,null,null,null,null,{"$f":"IF(C5=\"x\",-2,0)","v":0},{"$f":"IF(D5=\"x\",-1,0)","v":0},{"$f":"IF(E5=\"x\",0,0)","v":0},{"$f":"IF(F5=\"x\",1,0)","v":0},{"$f":"IF(G5=\"x\",2,0)","v":0}]
[2,"მოსახლეობის წილი, რომელმაც ბოლო 5 წელიწადში დატოვა ეს  ქალაქი და სხვაგან გადავიდა საცხოვრებლად",null,null,null,null,null,{"$f":"IF(C6=\"x\",-2,0)","v":0},{"$f":"IF(D6=\"x\",-1,0)","v":0},{"$f":"IF(E6=\"x\",0,0)","v":0},{"$f":"IF(F6=\"x\",1,0)","v":0},{"$f":"IF(G6=\"x\",2,0)","v":0}]
[3,"30-დან 60 წლამდე ასაკის ადამიანთა რაოდენობა, რომლებიც სხვა ქალაქებში/სოფლებში დადიან სამუშაოდ",null,null,null,null,null,0,0,0,0,0]
[4,"მოსახლეობის წილი, რომელიც უმცირესობას წარმოადგენს",null,null,null,null,null,0,0,0,0,0]
[5,"30 წლამდე ასაკის მოსახლეობის წილი ",null,null,null,null,null,0,0,0,0,0]
[6,"ინტერნეტზე წვდომის მქონე მოსახლეობის წილი ",null,null,null,null,null,0,0,0,0,0]
[7,"აქტიური სამოქალაქო ორგანიზაციები",null,null,null,null,null,0,0,0,0,0]
[8,"ადგილობრივ სამოქალაქო ორგანიზაციების/ასოციაციების აქტივობებში აქტიური მონაწილეობის ვარიაცია ",null,null,null,null,null,0,0,0,0,0]
[null,"(2) ეკონომიკური კაპიტალი",null,null,null,null,null,null,null,null,null,null,{"$f":"SUM(H14:L21)","v":0},{"$f":"(((M13-(-16))*(1-0))/(16-(-16)))+0","v":0.5}]
[9,"საშუალო შემოსავალი ერთ სულ მოსახლეზე გაანგარიშებით",null,null,null,null,null,{"$f":"IF(C14=\"x\",-2,0)","v":0},{"$f":"IF(D14=\"x\",-1,0)","v":0},{"$f":"IF(E14=\"x\",0,0)","v":0},{"$f":"IF(F14=\"x\",1,0)","v":0},{"$f":"IF(G14=\"x\",2,0)","v":0}]
[10,"უმუშევრობის მაჩვენებელი",null,null,null,null,null,{"$f":"IF(C15=\"x\",-2,0)","v":0},{"$f":"IF(D15=\"x\",-1,0)","v":0},{"$f":"IF(E15=\"x\",0,0)","v":0},{"$f":"IF(F15=\"x\",1,0)","v":0},{"$f":"IF(G15=\"x\",2,0)","v":0}]
[11,"ახალგაზრდების უმუშევრობის მაჩვენებელი (30 წლამდე ასაკის პირები)",null,null,null,null,null,0,0,0,0,0]
[12,"მდედრობითი სქესის სამუშაო ძალა",null,null,null,null,null,0,0,0,0,0]
[13,"პოტენციურად რთულ ეკონომიკურ მდგომარეობაში მყოფი ოჯახები",null,null,null,null,null,0,0,0,0,0]
[14,"აბსოლუტურ სიღარიბეში მცხოვრები ოჯახები",null,null,null,null,null,0,0,0,0,0]
[15,"თვითდასაქმებული ქალები",null,null,null,null,null,0,0,0,0,0]
[16,"30 წლამდე ასაკის თვითდასაქმებულები",null,null,null,null,null,0,0,0,0,0]
[null,"(3) ადამიანური კაპიტალი",null,null,null,null,null,null,null,null,null,null,{"$f":"SUM(H23:L30)","v":0},{"$f":"(((M22-(-16))*(1-0))/(16-(-16)))+0","v":0.5}]
[17,"18-დან 63 წლამდე ასაკის ადამიანები მოსახლეობაში, რომლებსაც დამთავრებული აქვთ საშუალო სკოლა; ",null,null,null,null,null,{"$f":"IF(C23=\"x\",-2,0)","v":0},{"$f":"IF(D23=\"x\",-1,0)","v":0},{"$f":"IF(E23=\"x\",0,0)","v":0},{"$f":"IF(F23=\"x\",1,0)","v":0},{"$f":"IF(G23=\"x\",2,0)","v":0}]
[18,"18-დან 60 წლამდე ასაკის ქალები მოსახლეობაში, რომელთაც დამთავრებული აქვთ საშუალო სკოლა;  ",null,null,null,null,null,{"$f":"IF(C24=\"x\",-2,0)","v":0},{"$f":"IF(D24=\"x\",-1,0)","v":0},{"$f":"IF(E24=\"x\",0,0)","v":0},{"$f":"IF(F24=\"x\",1,0)","v":0},{"$f":"IF(G24=\"x\",2,0)","v":0}]
[19,"ბოლო 15 წლის განმავლობაში სამოქალაქო განათლების საგნის არსებობა სკოლის სავალდებულო სასწავლო პროგრამაში",null,null,null,null,null,0,0,0,0,0]
[20,"პროფესიონალიზმი",null,null,null,null,null,0,0,0,0,0]
[21,"ციფრული კომპეტენციების მქონე მოსახლეობა",null,null,null,null,null,0,0,0,0,0]
[22,"მოხალისეობრივ საქმიანობაში აქტიურად ჩართული მოსახლეობა",null,null,null,null,null,0,0,0,0,0]
[23,"უწყვეტი სწავლის შესაძლებლობათა არსებობა",null,null,null,null,null,0,0,0,0,0]
[24,"უწყვეტი სწავლის შესაძლებლობათა ხელმისაწვდომობა",null,null,null,null,null,0,0,0,0,0]
[null,"(4) პოლიტიკური კაპიტალი",null,null,null,null,null,null,null,null,null,null,{"$f":"SUM(H32:L39)","v":0},{"$f":"(((M31-(-16))*(1-0))/(16-(-16)))+0","v":0.5}]
[25,"ელექტორატი, რომელმაც ხმა მისცა ბოლო არჩევნებში",null,null,null,null,null,{"$f":"IF(C32=\"x\",-2,0)","v":0},{"$f":"IF(D32=\"x\",-1,0)","v":0},{"$f":"IF(E32=\"x\",0,0)","v":0},{"$f":"IF(F32=\"x\",1,0)","v":0},{"$f":"IF(G32=\"x\",2,0)","v":0}]
[26,"პოლიტიკურ ცხოვრებაში აქტიურად ჩართული მოსახლეობის წილი",null,null,null,null,null,{"$f":"IF(C33=\"x\",-2,0)","v":0},{"$f":"IF(D33=\"x\",-1,0)","v":0},{"$f":"IF(E33=\"x\",0,0)","v":0},{"$f":"IF(F33=\"x\",1,0)","v":0},{"$f":"IF(G33=\"x\",2,0)","v":0}]
[27,"პოლიტიკურ ცხოვრებაში აქტიურად ჩართული ქალების წილი",null,null,null,null,null,0,0,0,0,0]
[28,"პოლიტიკურ ცხოვრებაში აქტიურად ჩართული უმცირესობათა წამომადგენლების წილი",null,null,null,null,null,0,0,0,0,0]
[29,"ადგილობრივი საკრებულოს წევრი ქალები ",null,null,null,null,null,0,0,0,0,0]
[30,"მოქალაქეთა აქტიურობა საჯარო პოლიტიკურ დებატებში/ღონისძიებებში მონაწილეობის კუთხით ",null,null,null,null,null,0,0,0,0,0]
[31,"მოწყვლადი ჯგუფების ინტერესთა წარმომადგენლობა ადგილობრივ დონეზე გადაწყვეტილების მიღების პროცესებში ",null,null,null,null,null,0,0,0,0,0]
[32,"მოქალაქეთა ჩართულობის დონე მონაწილეობითი გადაწყვეტილების მიღების არსებულ პროცესებში ",null,null,null,null,null,0,0,0,0,0]

{"sheet":"2_COMMUNITY EVALUATION","index":3,"n_rows":12,"n_cols":11,"rows_kept":12,"cut":false,"hidden":false,"merged":[[0,0,0,13],[1,2,1,13],[11,4,15,6],[11,1,15,3],[4,10,8,12],[4,8,8,9],[4,1,4,3],[4,4,4,6],[10,4,10,6],[10,1,10,3],[5,1,9,3],[5,4,9,6]]}
["საფეხური 1 - თემის შეფასება\nქვემოთ იხილეთ ქულები, რომელიც მიენიჭა ოთხ განზომილებას, მოცემული მონაწილეობითი პროცესის ჭრილში „ადგილობრივი თემის შეფასებაზე“ დაყრდნობით. უარყოფითი ქულები წარმოდგენილია წითლად, ხოლო დადებითი კი მწვანედ. \nდააწკაპუნეთ ქვემოთ მოცემულ ღილაკზე და გადადით მე-2 ნაბიჯზე.\n"]
[null,"თემი:",{"$f":"IF('1_COMMUNITY EVALUATION'!C2=\"\",\"\",'1_COMMUNITY EVALUATION'!C2)","v":""}]
[]
[]
[null,"სოციალური კაპიტალი",null,null,"ეკონომიკური კაპიტალი",null,null,null,"თემის შეფასების საშუალო ქულა",null,{"$f":"(SUM(B6:G10,B12:G16))/4","v":0.5}]
[null,{"$f":"'1_COMMUNITY EVALUATION'!N4","v":0.5},null,null,{"$f":"'1_COMMUNITY EVALUATION'!N13","v":0.5}]
[]
[]
[]
[]
[null,"ადამიანური კაპიტალი",null,null,"პოლიტიკური კაპიტალი"]
[null,{"$f":"'1_COMMUNITY EVALUATION'!N22","v":0.5},null,null,{"$f":"'1_COMMUNITY EVALUATION'!N31","v":0.5}]

{"sheet":"STEP_2","index":4,"n_rows":17,"n_cols":1,"rows_kept":17,"cut":false,"hidden":false,"merged":[[0,0,5,2],[0,3,5,8],[6,5,8,8],[11,5,13,8],[16,0,50,8]]}
[]
[]
[]
[]
[]
[]
[]
[]
[]
[]
[]
[]
[]
[]
[]
[]
["საფეხური 2 - დაინტერესებულ მხარეთა იდენტიფიკაცია და ანალიზი\n\nჩართულობისადმი თემის მიდრეკილების შეფასების შემდგომ, მეორე ნაბიჯი გულისხმობს თითეული იდენტიფიცირებული დაინტერესებული მხარის შეფასებას, გადაწყვეტილების მიღების პროცესში მათი პოტენციური კონტრიბუციის რელევანტურობის საფუძველზე და იმის საფუძველზე, თუ რა შესაძლო ინტერესი აქვთ მათ, მონაწილეობა მიიღონ კონკრეტულ თემასთან დაკავშირებით გადაწყვეტილების მიღებაში. დაინტერესებული მხარეების ინდივიდუალურ შეფასებას წინ უსწრებს დაინტერესებულ მხარეთა ზოგადი შეფასება. შეფასების განზომილებები იგივეა, რაც „ადგილობრივი თემის შეფასების“ შემთხვევაში. ამავდროულად, ცვლადები იყოფა შემდეგ კატეგორიებად: ა) რელევანტურობასთან დაკავშირებული ცვლადები (ე.ი. რამდენად მნიშვნელოვანია ადგილობრივი ხელისუფლებისთვის, რომ დაინტერესებული მხარე ემხრობოდეს მის გადაწყვეტილებას, რაც მომდინარეობს დაინტერესებული მხარის შესაძლებლობიდან, დაუკავშირდეს სხვა დაინტერესებულ მხარეებს, შეიტანოს ეკონომიკური წვლილი პროცესში, სხვებს გაუზიაროს თავისი ცოდნა/უნარები, რაც სარგებელს მოუტანს თემს, და ჰქონდეს პოლიტიკური პოზიცია მოცემულ თემასთან დაკავშირებით) და ბ) ინტერესთან დაკავშირებული ცვლადები (ე.ი. რამდენად აქვს დაინტერესებულ მხარეს ინტერესი/მზაობა, თავისი შესაძლებლობები გამოიყენოს ეფექტურად, გადაწყვეტილების მიღების პროცესის სასარგებლოდ). თითეულ ცვლადთან მიმართებაში დაინტერესებული მხარის შეფასებისას, ხდება განზომილების საერთო ქულების ავტომატური შეწონვა, რათა აისახოს იმ განზომილების მნიშვნელობა, რომელიც „ადგილობრივი თემის შეფასების“ ფარგლებში ყველაზე რელევანტურად იქნა მიჩნეული. ამრიგად, თითეული დაინტერესებული მხარე ფასდება არა მხოლოდ საკუთარი შესაძლებლობებისა და ჩართულობისადმი მზაობის მიხედვით, არამედ, ასევე, იმ არსებული კონტექსტის გათვალისწინებით, რომელშიც ეს მხარე უნდა ჩაერთოს.\n"]

{"sheet":"STAKEHOLDER","index":5,"n_rows":55,"n_cols":15,"rows_kept":55,"cut":false,"hidden":false,"merged":[[0,1,0,14],[27,2,27,7],[54,2,54,7],[1,3,1,14]]}
[null,"კონკრეტული თემის გათვალისწინებით, გთხოვთ, დაინტერესებული მხარე შეაფასოთ თითოეულ პუნქტთან მიმართებით (უაღრესად უარყოფითიდან უაღრესად დადებითამდე) და შესაბამის გრაფაში მონიშნოთ „x“. "]
[null,null,"დაინტერესებული მხარე -მიუთითეთ დასახელება"]
[null,null,"განზომილებები","უაღრესად უარყოფითი","უარყოფითი","არ არის რელევანტური","დადებითი","უაღრესად დადებითი",-2,-1,0,1,2,null,"ქულა თითოეულ განზომილებაში"]
[null,null,"(1) სოციალური კაპიტალი",null,null,null,null,null,null,null,null,null,null,{"$f":"SUM(I5:M9)","v":0},{"$f":"(((N4-(-10))*(1-0))/(10-(-10)))+0","v":0.5}]
[null,1,"დაინტერესებული მხარის შესაძლებლობა, ჩართოს სხვა დაინტერესებული მხარეები ",null,null,null,null,null,{"$f":"IF(D5=\"x\",-2,0)","v":0},{"$f":"IF(E5=\"x\",-1,0)","v":0},{"$f":"IF(F5=\"x\",0,0)","v":0},{"$f":"IF(G5=\"x\",1,0)","v":0},{"$f":"IF(H5=\"x\",2,0)","v":0},null,"შეწონილი მნიშვნელობა"]
[null,2,"კონკრეტული კატეგორიის აქტორთა წარმომადგენლობითი დონე (მრავალი სხვა მოქალაქის ინტერესების წარმოდგენა)",null,null,null,null,null,{"$f":"IF(D6=\"x\",-2,0)","v":0},{"$f":"IF(E6=\"x\",-1,0)","v":0},{"$f":"IF(F6=\"x\",0,0)","v":0},{"$f":"IF(G6=\"x\",1,0)","v":0},{"$f":"IF(H6=\"x\",2,0)","v":0},null,{"$f":"O4*'1_COMMUNITY EVALUATION'!N4","v":0.25}]
[null,3,"დაინტერესებული მხარის მონაწილეობის დონე ადგილობრივ სამოქალაქო აქტივობებში",null,null,null,null,null,{"$f":"IF(D7=\"x\",-2,0)","v":0},{"$f":"IF(E7=\"x\",-1,0)","v":0},{"$f":"IF(F7=\"x\",0,0)","v":0},{"$f":"IF(G7=\"x\",1,0)","v":0},{"$f":"IF(H7=\"x\",2,0)","v":0}]
[null,4,"დაინტერესებული მხარის შესაძლებლობა, დაიწყოს ცვლილების განხორციელება/გავლენა იქონიოს მასზე",null,null,null,null,null,{"$f":"IF(D8=\"x\",-2,0)","v":0},{"$f":"IF(E8=\"x\",-1,0)","v":0},{"$f":"IF(F8=\"x\",0,0)","v":0},{"$f":"IF(G8=\"x\",1,0)","v":0},{"$f":"IF(H8=\"x\",2,0)","v":0}]
[null,5,"მოქალაქეთა მიერ დაინტერესებული მხარის აღიარების დონე ",null,null,null,null,null,{"$f":"IF(D9=\"x\",-2,0)","v":0},{"$f":"IF(E9=\"x\",-1,0)","v":0},{"$f":"IF(F9=\"x\",0,0)","v":0},{"$f":"IF(G9=\"x\",1,0)","v":0},{"$f":"IF(H9=\"x\",2,0)","v":0}]
[null,null,"(2) ეკონომიკური კაპიტალი",null,null,null,null,null,null,null,null,null,null,{"$f":"SUM(I11:M15)","v":0},{"$f":"(((N10-(-10))*(1-0))/(10-(-10)))+0","v":0.5}]
[null,6,"დაინტერესებული მხარის შესაძლებლობა, შეასრულოს დონორის ფუნქცია",null,null,null,null,null,{"$f":"IF(D11=\"x\",-2,0)","v":0},{"$f":"IF(E11=\"x\",-1,0)","v":0},{"$f":"IF(F11=\"x\",0,0)","v":0},{"$f":"IF(G11=\"x\",1,0)","v":0},{"$f":"IF(H11=\"x\",2,0)","v":0},null,"შეწონილი მნიშვნელობა"]
[null,7,"დაინტერესებული მხარის შესაძლებლობა, გავლენა მოახდინოს რესურსების განაწილებაზე ",null,null,null,null,null,{"$f":"IF(D12=\"x\",-2,0)","v":0},{"$f":"IF(E12=\"x\",-1,0)","v":0},{"$f":"IF(F12=\"x\",0,0)","v":0},{"$f":"IF(G12=\"x\",1,0)","v":0},{"$f":"IF(H12=\"x\",2,0)","v":0},null,{"$f":"O10*'1_COMMUNITY EVALUATION'!N13","v":0.25}]
[null,8,"დაინტერესებული მხარის შესაძლებლობა, ხელი შეუწყოს წვდომას არსებულ ან დამატებით (გარე) რესურსებზე  ",null,null,null,null,null,{"$f":"IF(D13=\"x\",-2,0)","v":0},{"$f":"IF(E13=\"x\",-1,0)","v":0},{"$f":"IF(F13=\"x\",0,0)","v":0},{"$f":"IF(G13=\"x\",1,0)","v":0},{"$f":"IF(H13=\"x\",2,0)","v":0}]
[null,9,"დაინტერესებული მხარის შესაძლებლობა არამატერიალური მხარდაჭერის გასაწევად ",null,null,null,null,null,{"$f":"IF(D14=\"x\",-2,0)","v":0},{"$f":"IF(E14=\"x\",-1,0)","v":0},{"$f":"IF(F14=\"x\",0,0)","v":0},{"$f":"IF(G14=\"x\",1,0)","v":0},{"$f":"IF(H14=\"x\",2,0)","v":0}]
[null,10,"დაინტერესებული მხარის გავლენა შრომის ბაზარზე",null,null,null,null,null,{"$f":"IF(D15=\"x\",-2,0)","v":0},{"$f":"IF(E15=\"x\",-1,0)","v":0},{"$f":"IF(F15=\"x\",0,0)","v":0},{"$f":"IF(G15=\"x\",1,0)","v":0},{"$f":"IF(H15=\"x\",2,0)","v":0}]
[null,null,"(3) ადამიანური კაპიტალი",null,null,null,null,null,null,null,null,null,null,{"$f":"SUM(I17:M21)","v":0},{"$f":"(((N16-(-10))*(1-0))/(10-(-10)))+0","v":0.5}]
[null,11,"დაინტერესებული მხარის ცოდნა/უნარები კონკრეტულ თემასთან მიმართებით",null,null,null,null,null,{"$f":"IF(D17=\"x\",-2,0)","v":0},{"$f":"IF(E17=\"x\",-1,0)","v":0},{"$f":"IF(F17=\"x\",0,0)","v":0},{"$f":"IF(G17=\"x\",1,0)","v":0},{"$f":"IF(H17=\"x\",2,0)","v":0},null,"შეწონილი მნიშვნელობა"]
[null,12,"დაინტერესებული მხარის ინფორმირებულობა კონკრეტულ თემაზე",null,null,null,null,null,{"$f":"IF(D18=\"x\",-2,0)","v":0},{"$f":"IF(E18=\"x\",-1,0)","v":0},{"$f":"IF(F18=\"x\",0,0)","v":0},{"$f":"IF(G18=\"x\",1,0)","v":0},{"$f":"IF(H18=\"x\",2,0)","v":0},null,{"$f":"O16*'1_COMMUNITY EVALUATION'!N22","v":0.25}]
[null,13,"დაინტერესებული მხარის შესაძლებლობა, ჩაერთოს საზოგადოებრივ დებატებში",null,null,null,null,null,{"$f":"IF(D19=\"x\",-2,0)","v":0},{"$f":"IF(E19=\"x\",-1,0)","v":0},{"$f":"IF(F19=\"x\",0,0)","v":0},{"$f":"IF(G19=\"x\",1,0)","v":0},{"$f":"IF(H19=\"x\",2,0)","v":0}]
[null,14,"დაინტერესებული მხარის შესაძლებლობა, კომუნიკაცია დაამყაროს სხვადასხვა მედიასაშუალების გამოყენებით ",null,null,null,null,null,{"$f":"IF(D20=\"x\",-2,0)","v":0},{"$f":"IF(E20=\"x\",-1,0)","v":0},{"$f":"IF(F20=\"x\",0,0)","v":0},{"$f":"IF(G20=\"x\",1,0)","v":0},{"$f":"IF(H20=\"x\",2,0)","v":0}]
[null,15,"დაინტერესებული მხარის ხელმისაწვდომობა საჯარო სივრცეებზე  ",null,null,null,null,null,{"$f":"IF(D21=\"x\",-2,0)","v":0},{"$f":"IF(E21=\"x\",-1,0)","v":0},{"$f":"IF(F21=\"x\",0,0)","v":0},{"$f":"IF(G21=\"x\",1,0)","v":0},{"$f":"IF(H21=\"x\",2,0)","v":0}]
[null,null,"(4) პოლიტიკური კაპიტალი",null,null,null,null,null,null,null,null,null,null,{"$f":"SUM(I23:M27)","v":0},{"$f":"(((N22-(-10))*(1-0))/(10-(-10)))+0","v":0.5}]
[null,16,"ადგილობრივი ადმინისტრაციის ნდობა დაინტერესებული მხარის მიმართ",null,null,null,null,null,{"$f":"IF(D23=\"x\",-2,0)","v":0},{"$f":"IF(E23=\"x\",-1,0)","v":0},{"$f":"IF(F23=\"x\",0,0)","v":0},{"$f":"IF(G23=\"x\",1,0)","v":0},{"$f":"IF(H23=\"x\",2,0)","v":0},null,"შეწონილი მნიშვნელობა"]
[null,17,"დაინტერესებული მხარის შესაძლებლობა, ჩართოს სხვა პოლიტიკური აქტორები",null,null,null,null,null,{"$f":"IF(D24=\"x\",-2,0)","v":0},{"$f":"IF(E24=\"x\",-1,0)","v":0},{"$f":"IF(F24=\"x\",0,0)","v":0},{"$f":"IF(G24=\"x\",1,0)","v":0},{"$f":"IF(H24=\"x\",2,0)","v":0},null,{"$f":"O22*'1_COMMUNITY EVALUATION'!N31","v":0.25}]
[null,18,"დაინტერესებული მხარის შესაძლებლობა, ითანამშრომლოს ადგილობრივი ხელისუფლების ორგანოებთან/სხვა დაინტერესებულ მხარეებთან ",null,null,null,null,null,{"$f":"IF(D25=\"x\",-2,0)","v":0},{"$f":"IF(E25=\"x\",-1,0)","v":0},{"$f":"IF(F25=\"x\",0,0)","v":0},{"$f":"IF(G25=\"x\",1,0)","v":0},{"$f":"IF(H25=\"x\",2,0)","v":0}]
[null,19,"დაინტერესებული მხარის შესაძლებლობა, გავლენა იქონიოს საზოგადოებრივ აზრზე ",null,null,null,null,null,{"$f":"IF(D26=\"x\",-2,0)","v":0},{"$f":"IF(E26=\"x\",-1,0)","v":0},{"$f":"IF(F26=\"x\",0,0)","v":0},{"$f":"IF(G26=\"x\",1,0)","v":0},{"$f":"IF(H26=\"x\",2,0)","v":0}]
[null,20,"დაინტერესებული მხარის ინფორმირებულობა პოლიტიკის საკითხებზე",null,null,null,null,null,{"$f":"IF(D27=\"x\",-2,0)","v":0},{"$f":"IF(E27=\"x\",-1,0)","v":0},{"$f":"IF(F27=\"x\",0,0)","v":0},{"$f":"IF(G27=\"x\",1,0)","v":0},{"$f":"IF(H27=\"x\",2,0)","v":0}]
[null,null,"რელევანტურობის ქულა",null,null,null,null,null,null,null,null,null,null,null,{"$f":"IF(D2=\"\",\"\",(SUM(O24+O18+O12+O6)/4))","v":""}]
[]
[null,null,"განზომილებები","უაღრესად ნეგატიური","ნეგატიური","არ არის რელევანტური","დადებითი","უაღრესად დადებითი",-2,-1,0,1,2,null,"ქულა თითოეულ განზომილებაში"]
[null,null,"(1) სოციალური კაპიტალი",null,null,null,null,null,null,null,null,null,null,{"$f":"SUM(I32:M36)","v":0},{"$f":"(((N31-(-10))*(1-0))/(10-(-10)))+0","v":0.5}]
[null,1,"დაინტერესებული მხარის ინტერესი, დაამყაროს კონტაქტები კონკრეტულ თემასთან დაკავშირებით",null,null,null,null,null,{"$f":"IF(D32=\"x\",-2,0)","v":0},{"$f":"IF(E32=\"x\",-1,0)","v":0},{"$f":"IF(F32=\"x\",0,0)","v":0},{"$f":"IF(G32=\"x\",1,0)","v":0},{"$f":"IF(H32=\"x\",2,0)","v":0},null,"შეწონილი მნიშვნელობა"]
[null,2,"დაინტერესებული მხარის ინტერესი, უზრუნველყოს კონკრეტული კატეგორიის აქტორთა წარმომადგენლობა თემასთან მიმართებით",null,null,null,null,null,{"$f":"IF(D33=\"x\",-2,0)","v":0},{"$f":"IF(E33=\"x\",-1,0)","v":0},{"$f":"IF(F33=\"x\",0,0)","v":0},{"$f":"IF(G33=\"x\",1,0)","v":0},{"$f":"IF(H33=\"x\",2,0)","v":0},null,{"$f":"O31*'1_COMMUNITY EVALUATION'!N4","v":0.25}]
[null,3,"დაინტერესებული მხარის ინტერესი, ჩაერთოს  ადგილობრივ სამოქალაქო აქტივობებში თემასთან მიმართებით",null,null,null,null,null,{"$f":"IF(D34=\"x\",-2,0)","v":0},{"$f":"IF(E34=\"x\",-1,0)","v":0},{"$f":"IF(F34=\"x\",0,0)","v":0},{"$f":"IF(G34=\"x\",1,0)","v":0},{"$f":"IF(H34=\"x\",2,0)","v":0}]
[null,4,"დაინტერესებული მხარის ინტერესი, დაიწყოს ცვლილების განხორციელება/გავლენა იქონიოს მასზე      \n\n",null,null,null,null,null,{"$f":"IF(D35=\"x\",-2,0)","v":0},{"$f":"IF(E35=\"x\",-1,0)","v":0},{"$f":"IF(F35=\"x\",0,0)","v":0},{"$f":"IF(G35=\"x\",1,0)","v":0},{"$f":"IF(H35=\"x\",2,0)","v":0}]
[null,5,"დაინტერესებული მხარის ინტერესი, გაზარდოს მისი აღიარება მოქალაქეთა მხრიდანs",null,null,null,null,null,{"$f":"IF(D36=\"x\",-2,0)","v":0},{"$f":"IF(E36=\"x\",-1,0)","v":0},{"$f":"IF(F36=\"x\",0,0)","v":0},{"$f":"IF(G36=\"x\",1,0)","v":0},{"$f":"IF(H36=\"x\",2,0)","v":0}]
[null,null,"(2) ეკონომიკური კაპიტალი",null,null,null,null,null,null,null,null,null,null,{"$f":"SUM(I38:M42)","v":0},{"$f":"(((N37-(-10))*(1-0))/(10-(-10)))+0","v":0.5}]
[null,6,"დაინტერესებული მხარის სურვილი, ჰქონდეს წვდომა საჯარო სივრცეებზე",null,null,null,null,null,{"$f":"IF(D38=\"x\",-2,0)","v":0},{"$f":"IF(E38=\"x\",-1,0)","v":0},{"$f":"IF(F38=\"x\",0,0)","v":0},{"$f":"IF(G38=\"x\",1,0)","v":0},{"$f":"IF(H38=\"x\",2,0)","v":0},null,"შეწონილი მნიშვნელობა"]
[null,7,"დაინტერესებული მხარის სურვილი, თავი მოუყაროს რესურსებს",null,null,null,null,null,{"$f":"IF(D39=\"x\",-2,0)","v":0},{"$f":"IF(E39=\"x\",-1,0)","v":0},{"$f":"IF(F39=\"x\",0,0)","v":0},{"$f":"IF(G39=\"x\",1,0)","v":0},{"$f":"IF(H39=\"x\",2,0)","v":0},null,{"$f":"O37*'1_COMMUNITY EVALUATION'!N13","v":0.25}]
[null,8,"დაინტერესებული მხარის სურვილი, ხელი შეუწყოს წვდომას არსებულ ან დამატებით(გარე) რესურსებზე      ",null,null,null,null,null,{"$f":"IF(D40=\"x\",-2,0)","v":0},{"$f":"IF(E40=\"x\",-1,0)","v":0},{"$f":"IF(F40=\"x\",0,0)","v":0},{"$f":"IF(G40=\"x\",1,0)","v":0},{"$f":"IF(H40=\"x\",2,0)","v":0}]
[null,9,"დაინტერესებული მხარის მზაობა არამატერიალური მხარდაჭერის გასაწევად",null,null,null,null,null,{"$f":"IF(D41=\"x\",-2,0)","v":0},{"$f":"IF(E41=\"x\",-1,0)","v":0},{"$f":"IF(F41=\"x\",0,0)","v":0},{"$f":"IF(G41=\"x\",1,0)","v":0},{"$f":"IF(H41=\"x\",2,0)","v":0}]
[null,10,"დაინტერესებული მხარის ინტერესი, გაზარდოს თავისი გავლენა შრომის ბაზარზე",null,null,null,null,null,{"$f":"IF(D42=\"x\",-2,0)","v":0},{"$f":"IF(E42=\"x\",-1,0)","v":0},{"$f":"IF(F42=\"x\",0,0)","v":0},{"$f":"IF(G42=\"x\",1,0)","v":0},{"$f":"IF(H42=\"x\",2,0)","v":0}]
[null,null,"(3) ადამიანური კაპიტალი",null,null,null,null,null,null,null,null,null,null,{"$f":"SUM(I44:M48)","v":0},{"$f":"(((N43-(-10))*(1-0))/(10-(-10)))+0","v":0.5}]
[null,11,"დაინტერესებული მხარის ინტერესი, გააზიაროს/გაუმჯობესოს თავისი ცოდნა/უნარები  კონკრეტულ თემასთან მიმართებით",null,null,null,null,null,{"$f":"IF(D44=\"x\",-2,0)","v":0},{"$f":"IF(E44=\"x\",-1,0)","v":0},{"$f":"IF(F44=\"x\",0,0)","v":0},{"$f":"IF(G44=\"x\",1,0)","v":0},{"$f":"IF(H44=\"x\",2,0)","v":0},null,"შეწონილი მნიშვნელობა"]
[null,12,"დაინტერესებული მხარის სურვილი გააზიაროს/გაზარდოს საკუთარი ინფორმირებულობა კონკრეტულ თემაზე",null,null,null,null,null,{"$f":"IF(D45=\"x\",-2,0)","v":0},{"$f":"IF(E45=\"x\",-1,0)","v":0},{"$f":"IF(F45=\"x\",0,0)","v":0},{"$f":"IF(G45=\"x\",1,0)","v":0},{"$f":"IF(H45=\"x\",2,0)","v":0},null,{"$f":"O43*'1_COMMUNITY EVALUATION'!N22","v":0.25}]
[null,13,"დაინტერესებული მხარის სურვილი, ჩაერთოს საზოგადოებრივ დებატებში",null,null,null,null,null,{"$f":"IF(D46=\"x\",-2,0)","v":0},{"$f":"IF(E46=\"x\",-1,0)","v":0},{"$f":"IF(F46=\"x\",0,0)","v":0},{"$f":"IF(G46=\"x\",1,0)","v":0},{"$f":"IF(H46=\"x\",2,0)","v":0}]
[null,14,"დაინტერესებული მხარის სურვილი, კომუნიკაცია დაამყაროს სხვადასხვა მედიასაშუალების გამოყენებით ",null,null,null,null,null,{"$f":"IF(D47=\"x\",-2,0)","v":0},{"$f":"IF(E47=\"x\",-1,0)","v":0},{"$f":"IF(F47=\"x\",0,0)","v":0},{"$f":"IF(G47=\"x\",1,0)","v":0},{"$f":"IF(H47=\"x\",2,0)","v":0}]
[null,15,"დაინტერესებული მხარის სურვილი, ჰქონდეს წვდომა საჯარო სივრცეებზე",null,null,null,null,null,{"$f":"IF(D48=\"x\",-2,0)","v":0},{"$f":"IF(E48=\"x\",-1,0)","v":0},{"$f":"IF(F48=\"x\",0,0)","v":0},{"$f":"IF(G48=\"x\",1,0)","v":0},{"$f":"IF(H48=\"x\",2,0)","v":0}]
[null,null,"(4) პოლიტიკური კაპიტალი",null,null,null,null,null,null,null,null,null,null,{"$f":"SUM(I50:M54)","v":0},{"$f":"(((N49-(-10))*(1-0))/(10-(-10)))+0","v":0.5}]
[null,16,"დაინტერესებული მხარის ნდობა ადგილობრივი ადმინისტრაციის მიმართ",null,null,null,null,null,{"$f":"IF(D50=\"x\",-2,0)","v":0},{"$f":"IF(E50=\"x\",-1,0)","v":0},{"$f":"IF(F50=\"x\",0,0)","v":0},{"$f":"IF(G50=\"x\",1,0)","v":0},{"$f":"IF(H50=\"x\",2,0)","v":0},null,"შეწონილი მნიშვნელობა"]
[null,17,"დაინტერესებული მხარის პოლიტიკური ინტერესი კონკრეტული თემის მიმართ ",null,null,null,null,null,{"$f":"IF(D51=\"x\",-2,0)","v":0},{"$f":"IF(E51=\"x\",-1,0)","v":0},{"$f":"IF(F51=\"x\",0,0)","v":0},{"$f":"IF(G51=\"x\",1,0)","v":0},{"$f":"IF(H51=\"x\",2,0)","v":0},null,{"$f":"O49*'1_COMMUNITY EVALUATION'!N31","v":0.25}]
[null,18,"დაინტერესებული მხარის სურვილი, ითანამშრომლოს ადგილობრივი ხელისუფლების ორგანოებთან",null,null,null,null,null,{"$f":"IF(D52=\"x\",-2,0)","v":0},{"$f":"IF(E52=\"x\",-1,0)","v":0},{"$f":"IF(F52=\"x\",0,0)","v":0},{"$f":"IF(G52=\"x\",1,0)","v":0},{"$f":"IF(H52=\"x\",2,0)","v":0}]
[null,19,"დაინტერესებული მხარის ინტერესი, ხმა მიაწვდინოს/მოიცვას ფართო საზოგადოება",null,null,null,null,null,{"$f":"IF(D53=\"x\",-2,0)","v":0},{"$f":"IF(E53=\"x\",-1,0)","v":0},{"$f":"IF(F53=\"x\",0,0)","v":0},{"$f":"IF(G53=\"x\",1,0)","v":0},{"$f":"IF(H53=\"x\",2,0)","v":0}]
[null,20,"დაინტერესებული მხარის სურვილი, გააზიაროს/გაზარდოს თავისი ინფორმირებულობა პოლიტიკის საკითხებზე",null,null,null,null,null,{"$f":"IF(D54=\"x\",-2,0)","v":0},{"$f":"IF(E54=\"x\",-1,0)","v":0},{"$f":"IF(F54=\"x\",0,0)","v":0},{"$f":"IF(G54=\"x\",1,0)","v":0},{"$f":"IF(H54=\"x\",2,0)","v":0}]
[null,null,"ინტერესის ქულა",null,null,null,null,null,null,null,null,null,null,null,{"$f":"IF(D2=\"\",\"\",(SUM(O51+O45+O39+O33)/4))","v":""}]

{"sheet":"STAKEHOLDER (2)","index":6,"n_rows":55,"n_cols":15,"rows_kept":55,"cut":false,"hidden":false,"merged":[[0,1,0,14],[1,3,1,14],[27,2,27,7],[54,2,54,7]]}
[null,"კონკრეტული თემის გათვალისწინებით, გთხოვთ, დაინტერესებული მხარე შეაფასოთ თითოეულ პუნქტთან მიმართებით (უაღრესად უარყოფითიდან უაღრესად დადებითამდე) და შესაბამის გრაფაში მონიშნოთ „x“. "]
[null,null,"დაინტერესებული მხარე-მიუთითეთ დასახელება"]
[null,null,"განზომილებები","უაღრესად უარყოფითი","უარყოფითი","არ არის რელევანტური","დადებითი","უაღრესად დადებითი",-2,-1,0,1,2,null,"ქულა თითოეულ განზომილებაში"]
[null,null,"(1) სოციალური კაპიტალი",null,null,null,null,null,null,null,null,null,null,{"$f":"SUM(I5:M9)","v":0},{"$f":"(((N4-(-10))*(1-0))/(10-(-10)))+0","v":0.5}]
[null,1,"დაინტერესებული მხარის შესაძლებლობა, ჩართოს სხვა დაინტერესებული მხარეები ",null,null,null,null,null,{"$f":"IF(D5=\"x\",-2,0)","v":0},{"$f":"IF(E5=\"x\",-1,0)","v":0},{"$f":"IF(F5=\"x\",0,0)","v":0},{"$f":"IF(G5=\"x\",1,0)","v":0},{"$f":"IF(H5=\"x\",2,0)","v":0},null,"შეწონილი მნიშვნელობა"]
[null,2,"კონკრეტული კატეგორიის აქტორთა წარმომადგენლობითი დონე (მრავალი სხვა მოქალაქის ინტერესების წარმოდგენა)",null,null,null,null,null,{"$f":"IF(D6=\"x\",-2,0)","v":0},{"$f":"IF(E6=\"x\",-1,0)","v":0},{"$f":"IF(F6=\"x\",0,0)","v":0},{"$f":"IF(G6=\"x\",1,0)","v":0},{"$f":"IF(H6=\"x\",2,0)","v":0},null,{"$f":"O4*'1_COMMUNITY EVALUATION'!N4","v":0.25}]
[null,3,"დაინტერესებული მხარის მონაწილეობის დონე ადგილობრივ სამოქალაქო აქტივობებში",null,null,null,null,null,{"$f":"IF(D7=\"x\",-2,0)","v":0},{"$f":"IF(E7=\"x\",-1,0)","v":0},{"$f":"IF(F7=\"x\",0,0)","v":0},{"$f":"IF(G7=\"x\",1,0)","v":0},{"$f":"IF(H7=\"x\",2,0)","v":0}]
[null,4,"დაინტერესებული მხარის შესაძლებლობა, დაიწყოს ცვლილების განხორციელება/გავლენა იქონიოს მასზე",null,null,null,null,null,{"$f":"IF(D8=\"x\",-2,0)","v":0},{"$f":"IF(E8=\"x\",-1,0)","v":0},{"$f":"IF(F8=\"x\",0,0)","v":0},{"$f":"IF(G8=\"x\",1,0)","v":0},{"$f":"IF(H8=\"x\",2,0)","v":0}]
[null,5,"მოქალაქეთა მიერ დაინტერესებული მხარის აღიარების დონე ",null,null,null,null,null,{"$f":"IF(D9=\"x\",-2,0)","v":0},{"$f":"IF(E9=\"x\",-1,0)","v":0},{"$f":"IF(F9=\"x\",0,0)","v":0},{"$f":"IF(G9=\"x\",1,0)","v":0},{"$f":"IF(H9=\"x\",2,0)","v":0}]
[null,null,"(2) ეკონომიკური კაპიტალი",null,null,null,null,null,null,null,null,null,null,{"$f":"SUM(I11:M15)","v":0},{"$f":"(((N10-(-10))*(1-0))/(10-(-10)))+0","v":0.5}]
[null,6,"დაინტერესებული მხარის შესაძლებლობა, შეასრულოს დონორის ფუნქცია",null,null,null,null,null,{"$f":"IF(D11=\"x\",-2,0)","v":0},{"$f":"IF(E11=\"x\",-1,0)","v":0},{"$f":"IF(F11=\"x\",0,0)","v":0},{"$f":"IF(G11=\"x\",1,0)","v":0},{"$f":"IF(H11=\"x\",2,0)","v":0},null,"შეწონილი მნიშვნელობა"]
[null,7,"დაინტერესებული მხარის შესაძლებლობა, გავლენა მოახდინოს რესურსების განაწილებაზე ",null,null,null,null,null,{"$f":"IF(D12=\"x\",-2,0)","v":0},{"$f":"IF(E12=\"x\",-1,0)","v":0},{"$f":"IF(F12=\"x\",0,0)","v":0},{"$f":"IF(G12=\"x\",1,0)","v":0},{"$f":"IF(H12=\"x\",2,0)","v":0},null,{"$f":"O10*'1_COMMUNITY EVALUATION'!N13","v":0.25}]
[null,8,"დაინტერესებული მხარის შესაძლებლობა, ხელი შეუწყოს წვდომას არსებულ ან დამატებით (გარე) რესურსებზე ",null,null,null,null,null,{"$f":"IF(D13=\"x\",-2,0)","v":0},{"$f":"IF(E13=\"x\",-1,0)","v":0},{"$f":"IF(F13=\"x\",0,0)","v":0},{"$f":"IF(G13=\"x\",1,0)","v":0},{"$f":"IF(H13=\"x\",2,0)","v":0}]
[null,9,"დაინტერესებული მხარის შესაძლებლობა არამატერიალური მხარდაჭერის გასაწევად ",null,null,null,null,null,{"$f":"IF(D14=\"x\",-2,0)","v":0},{"$f":"IF(E14=\"x\",-1,0)","v":0},{"$f":"IF(F14=\"x\",0,0)","v":0},{"$f":"IF(G14=\"x\",1,0)","v":0},{"$f":"IF(H14=\"x\",2,0)","v":0}]
[null,10,"დაინტერესებული მხარის გავლენა შრომის ბაზარზე",null,null,null,null,null,{"$f":"IF(D15=\"x\",-2,0)","v":0},{"$f":"IF(E15=\"x\",-1,0)","v":0},{"$f":"IF(F15=\"x\",0,0)","v":0},{"$f":"IF(G15=\"x\",1,0)","v":0},{"$f":"IF(H15=\"x\",2,0)","v":0}]
[null,null,"(3) ადამიანური კაპიტალი",null,null,null,null,null,null,null,null,null,null,{"$f":"SUM(I17:M21)","v":0},{"$f":"(((N16-(-10))*(1-0))/(10-(-10)))+0","v":0.5}]
[null,11,"დაინტერესებული მხარის ცოდნა/უნარები კონკრეტულ თემასთან მიმართებით",null,null,null,null,null,{"$f":"IF(D17=\"x\",-2,0)","v":0},{"$f":"IF(E17=\"x\",-1,0)","v":0},{"$f":"IF(F17=\"x\",0,0)","v":0},{"$f":"IF(G17=\"x\",1,0)","v":0},{"$f":"IF(H17=\"x\",2,0)","v":0},null,"შეწონილი მნიშვნელობა"]
[null,12,"დაინტერესებული მხარის ინფორმირებულობა კონკრეტულ თემაზე",null,null,null,null,null,{"$f":"IF(D18=\"x\",-2,0)","v":0},{"$f":"IF(E18=\"x\",-1,0)","v":0},{"$f":"IF(F18=\"x\",0,0)","v":0},{"$f":"IF(G18=\"x\",1,0)","v":0},{"$f":"IF(H18=\"x\",2,0)","v":0},null,{"$f":"O16*'1_COMMUNITY EVALUATION'!N22","v":0.25}]
[null,13,"დაინტერესებული მხარის შესაძლებლობა, ჩაერთოს საზოგადოებრივ დებატებში",null,null,null,null,null,{"$f":"IF(D19=\"x\",-2,0)","v":0},{"$f":"IF(E19=\"x\",-1,0)","v":0},{"$f":"IF(F19=\"x\",0,0)","v":0},{"$f":"IF(G19=\"x\",1,0)","v":0},{"$f":"IF(H19=\"x\",2,0)","v":0}]
[null,14,"დაინტერესებული მხარის შესაძლებლობა, კომუნიკაცია დაამყაროს სხვადასხვა მედიასაშუალების გამოყენებით ",null,null,null,null,null,{"$f":"IF(D20=\"x\",-2,0)","v":0},{"$f":"IF(E20=\"x\",-1,0)","v":0},{"$f":"IF(F20=\"x\",0,0)","v":0},{"$f":"IF(G20=\"x\",1,0)","v":0},{"$f":"IF(H20=\"x\",2,0)","v":0}]
[null,15,"დაინტერესებული მხარის ხელმისაწვდომობა საჯარო სივრცეებზე  ",null,null,null,null,null,{"$f":"IF(D21=\"x\",-2,0)","v":0},{"$f":"IF(E21=\"x\",-1,0)","v":0},{"$f":"IF(F21=\"x\",0,0)","v":0},{"$f":"IF(G21=\"x\",1,0)","v":0},{"$f":"IF(H21=\"x\",2,0)","v":0}]
[null,null,"(4) პოლიტიკური კაპიტალი",null,null,null,null,null,null,null,null,null,null,{"$f":"SUM(I23:M27)","v":0},{"$f":"(((N22-(-10))*(1-0))/(10-(-10)))+0","v":0.5}]
[null,16,"ადგილობრივი ადმინისტრაციის ნდობა დაინტერესებული მხარის მიმართ",null,null,null,null,null,{"$f":"IF(D23=\"x\",-2,0)","v":0},{"$f":"IF(E23=\"x\",-1,0)","v":0},{"$f":"IF(F23=\"x\",0,0)","v":0},{"$f":"IF(G23=\"x\",1,0)","v":0},{"$f":"IF(H23=\"x\",2,0)","v":0},null,"შეწონილი მნიშვნელობა"]
[null,17,"დაინტერესებული მხარის შესაძლებლობა, ჩართოს სხვა პოლიტიკური აქტორები",null,null,null,null,null,{"$f":"IF(D24=\"x\",-2,0)","v":0},{"$f":"IF(E24=\"x\",-1,0)","v":0},{"$f":"IF(F24=\"x\",0,0)","v":0},{"$f":"IF(G24=\"x\",1,0)","v":0},{"$f":"IF(H24=\"x\",2,0)","v":0},null,{"$f":"O22*'1_COMMUNITY EVALUATION'!N31","v":0.25}]
[null,18,"დაინტერესებული მხარის შესაძლებლობა, ითანამშრომლოს ადგილობრივი ხელისუფლების ორგანოებთან/სხვა დაინტერესებულ მხარეებთან ",null,null,null,null,null,{"$f":"IF(D25=\"x\",-2,0)","v":0},{"$f":"IF(E25=\"x\",-1,0)","v":0},{"$f":"IF(F25=\"x\",0,0)","v":0},{"$f":"IF(G25=\"x\",1,0)","v":0},{"$f":"IF(H25=\"x\",2,0)","v":0}]
[null,19,"დაინტერესებული მხარის შესაძლებლობა, გავლენა იქონიოს საზოგადოებრივ აზრზე ",null,null,null,null,null,{"$f":"IF(D26=\"x\",-2,0)","v":0},{"$f":"IF(E26=\"x\",-1,0)","v":0},{"$f":"IF(F26=\"x\",0,0)","v":0},{"$f":"IF(G26=\"x\",1,0)","v":0},{"$f":"IF(H26=\"x\",2,0)","v":0}]
[null,20,"დაინტერესებული მხარის ინფორმირებულობა პოლიტიკის საკითხებზე",null,null,null,null,null,{"$f":"IF(D27=\"x\",-2,0)","v":0},{"$f":"IF(E27=\"x\",-1,0)","v":0},{"$f":"IF(F27=\"x\",0,0)","v":0},{"$f":"IF(G27=\"x\",1,0)","v":0},{"$f":"IF(H27=\"x\",2,0)","v":0}]
[null,null,"რელევანტურობის ქულა",null,null,null,null,null,null,null,null,null,null,null,{"$f":"IF(D2=\"\",\"\",(SUM(O24+O18+O12+O6)/4))","v":""}]
[]
[null,null,"განზომილებები","უაღრესად ნეგატიური","უარყოფითი","არ არის რელევანტური","დადებითი","უაღრესად დადებითი",-2,-1,0,1,2,null,"ქულა თითოეულ განზომილებაში"]
[null,null,"(1) სოციალური კაპიტალი",null,null,null,null,null,null,null,null,null,null,{"$f":"SUM(I32:M36)","v":0},{"$f":"(((N31-(-10))*(1-0))/(10-(-10)))+0","v":0.5}]
[null,1,"დაინტერესებული მხარის ინტერესი, დაამყაროს კონტაქტები კონკრეტულ თემასთან დაკავშირებით",null,null,null,null,null,{"$f":"IF(D32=\"x\",-2,0)","v":0},{"$f":"IF(E32=\"x\",-1,0)","v":0},{"$f":"IF(F32=\"x\",0,0)","v":0},{"$f":"IF(G32=\"x\",1,0)","v":0},{"$f":"IF(H32=\"x\",2,0)","v":0},null,"შეწონილი მნიშვნელობა"]
[null,2,"დაინტერესებული მხარის ინტერესი, უზრუნველყოს კონკრეტული კატეგორიის აქტორთა წარმომადგენლობა თემასთან მიმართებით",null,null,null,null,null,{"$f":"IF(D33=\"x\",-2,0)","v":0},{"$f":"IF(E33=\"x\",-1,0)","v":0},{"$f":"IF(F33=\"x\",0,0)","v":0},{"$f":"IF(G33=\"x\",1,0)","v":0},{"$f":"IF(H33=\"x\",2,0)","v":0},null,{"$f":"O31*'1_COMMUNITY EVALUATION'!N4","v":0.25}]
[null,3,"დაინტერესებული მხარის ინტერესი, ჩაერთოს  ადგილობრივ სამოქალაქო აქტივობებში თემასთან მიმართებით",null,null,null,null,null,{"$f":"IF(D34=\"x\",-2,0)","v":0},{"$f":"IF(E34=\"x\",-1,0)","v":0},{"$f":"IF(F34=\"x\",0,0)","v":0},{"$f":"IF(G34=\"x\",1,0)","v":0},{"$f":"IF(H34=\"x\",2,0)","v":0}]
[null,4,"დაინტერესებული მხარის ინტერესი, დაიწყოს ცვლილების განხორციელება/გავლენა იქონიოს მასზე      ",null,null,null,null,null,{"$f":"IF(D35=\"x\",-2,0)","v":0},{"$f":"IF(E35=\"x\",-1,0)","v":0},{"$f":"IF(F35=\"x\",0,0)","v":0},{"$f":"IF(G35=\"x\",1,0)","v":0},{"$f":"IF(H35=\"x\",2,0)","v":0}]
[null,5,"დაინტერესებული მხარის ინტერესი, გაზარდოს მისი აღიარება მოქალაქეთა მხრიდან",null,null,null,null,null,{"$f":"IF(D36=\"x\",-2,0)","v":0},{"$f":"IF(E36=\"x\",-1,0)","v":0},{"$f":"IF(F36=\"x\",0,0)","v":0},{"$f":"IF(G36=\"x\",1,0)","v":0},{"$f":"IF(H36=\"x\",2,0)","v":0}]
[null,null,"(2) ეკონომიკური კაპიტალი",null,null,null,null,null,null,null,null,null,null,{"$f":"SUM(I38:M42)","v":0},{"$f":"(((N37-(-10))*(1-0))/(10-(-10)))+0","v":0.5}]
[null,6,"დაინტერესებული მხარის პოტენციური ეკონომიკური სარგებელი",null,null,null,null,null,{"$f":"IF(D38=\"x\",-2,0)","v":0},{"$f":"IF(E38=\"x\",-1,0)","v":0},{"$f":"IF(F38=\"x\",0,0)","v":0},{"$f":"IF(G38=\"x\",1,0)","v":0},{"$f":"IF(H38=\"x\",2,0)","v":0},null,"შეწონილი მნიშვნელობა"]
[null,7,"დაინტერესებული მხარის სურვილი, თავი მოუყაროს რესურსებს",null,null,null,null,null,{"$f":"IF(D39=\"x\",-2,0)","v":0},{"$f":"IF(E39=\"x\",-1,0)","v":0},{"$f":"IF(F39=\"x\",0,0)","v":0},{"$f":"IF(G39=\"x\",1,0)","v":0},{"$f":"IF(H39=\"x\",2,0)","v":0},null,{"$f":"O37*'1_COMMUNITY EVALUATION'!N13","v":0.25}]
[null,8,"დაინტერესებული მხარის სურვილი, ხელი შეუწყოს წვდომას არსებულ ან დამატებით(გარე) რესურსებზე       ",null,null,null,null,null,{"$f":"IF(D40=\"x\",-2,0)","v":0},{"$f":"IF(E40=\"x\",-1,0)","v":0},{"$f":"IF(F40=\"x\",0,0)","v":0},{"$f":"IF(G40=\"x\",1,0)","v":0},{"$f":"IF(H40=\"x\",2,0)","v":0}]
[null,9,"დაინტერესებული მხარის მზაობა არამატერიალური მხარდაჭერის გასაწევად",null,null,null,null,null,{"$f":"IF(D41=\"x\",-2,0)","v":0},{"$f":"IF(E41=\"x\",-1,0)","v":0},{"$f":"IF(F41=\"x\",0,0)","v":0},{"$f":"IF(G41=\"x\",1,0)","v":0},{"$f":"IF(H41=\"x\",2,0)","v":0}]
[null,10,"დაინტერესებული მხარის ინტერესი, გაზარდოს თავისი გავლენა შრომის ბაზარზე",null,null,null,null,null,{"$f":"IF(D42=\"x\",-2,0)","v":0},{"$f":"IF(E42=\"x\",-1,0)","v":0},{"$f":"IF(F42=\"x\",0,0)","v":0},{"$f":"IF(G42=\"x\",1,0)","v":0},{"$f":"IF(H42=\"x\",2,0)","v":0}]
[null,null,"(3) ადამიანური კაპიტალი",null,null,null,null,null,null,null,null,null,null,{"$f":"SUM(I44:M48)","v":0},{"$f":"(((N43-(-10))*(1-0))/(10-(-10)))+0","v":0.5}]
[null,11,"დაინტერესებული მხარის ინტერესი, გააზიაროს/გააუმჯობესოს თავისი ცოდნა/უნარები კონკრეტულ თემასთან მიმართებით",null,null,null,null,null,{"$f":"IF(D44=\"x\",-2,0)","v":0},{"$f":"IF(E44=\"x\",-1,0)","v":0},{"$f":"IF(F44=\"x\",0,0)","v":0},{"$f":"IF(G44=\"x\",1,0)","v":0},{"$f":"IF(H44=\"x\",2,0)","v":0},null,"შეწონილი მნიშვნელობა"]
[null,12,"დაინტერესებული მხარის სურვილი გააზიაროს/გაზარდოს საკუთარი ინფორმირებულობა კონკრეტულ თემაზე",null,null,null,null,null,{"$f":"IF(D45=\"x\",-2,0)","v":0},{"$f":"IF(E45=\"x\",-1,0)","v":0},{"$f":"IF(F45=\"x\",0,0)","v":0},{"$f":"IF(G45=\"x\",1,0)","v":0},{"$f":"IF(H45=\"x\",2,0)","v":0},null,{"$f":"O43*'1_COMMUNITY EVALUATION'!N22","v":0.25}]
[null,13,"დაინტერესებული მხარის სურვილი, ჩაერთოს საზოგადოებრივ დებატებში",null,null,null,null,null,{"$f":"IF(D46=\"x\",-2,0)","v":0},{"$f":"IF(E46=\"x\",-1,0)","v":0},{"$f":"IF(F46=\"x\",0,0)","v":0},{"$f":"IF(G46=\"x\",1,0)","v":0},{"$f":"IF(H46=\"x\",2,0)","v":0}]
[null,14,"დაინტერესებული მხარის სურვილი, კომუნიკაცია დაამყაროს სხვადასხვა მედიასაშუალების გამოყენებით ",null,null,null,null,null,{"$f":"IF(D47=\"x\",-2,0)","v":0},{"$f":"IF(E47=\"x\",-1,0)","v":0},{"$f":"IF(F47=\"x\",0,0)","v":0},{"$f":"IF(G47=\"x\",1,0)","v":0},{"$f":"IF(H47=\"x\",2,0)","v":0}]
[null,15,"დაინტერესებული მხარის სურვილი, ჰქონდეს წვდომა საჯარო სივრცეებზეs",null,null,null,null,null,{"$f":"IF(D48=\"x\",-2,0)","v":0},{"$f":"IF(E48=\"x\",-1,0)","v":0},{"$f":"IF(F48=\"x\",0,0)","v":0},{"$f":"IF(G48=\"x\",1,0)","v":0},{"$f":"IF(H48=\"x\",2,0)","v":0}]
[null,null,"(4) პოლიტიკური კაპიტალი",null,null,null,null,null,null,null,null,null,null,{"$f":"SUM(I50:M54)","v":0},{"$f":"(((N49-(-10))*(1-0))/(10-(-10)))+0","v":0.5}]
[null,16,"დაინტერესებული მხარის ნდობა ადგილობრივი ადმინისტრაციის მიმართ",null,null,null,null,null,{"$f":"IF(D50=\"x\",-2,0)","v":0},{"$f":"IF(E50=\"x\",-1,0)","v":0},{"$f":"IF(F50=\"x\",0,0)","v":0},{"$f":"IF(G50=\"x\",1,0)","v":0},{"$f":"IF(H50=\"x\",2,0)","v":0},null,"შეწონილი მნიშვნელობა"]
[null,17,"დაინტერესებული მხარის პოლიტიკური ინტერესი კონკრეტული თემის მიმართ ",null,null,null,null,null,{"$f":"IF(D51=\"x\",-2,0)","v":0},{"$f":"IF(E51=\"x\",-1,0)","v":0},{"$f":"IF(F51=\"x\",0,0)","v":0},{"$f":"IF(G51=\"x\",1,0)","v":0},{"$f":"IF(H51=\"x\",2,0)","v":0},null,{"$f":"O49*'1_COMMUNITY EVALUATION'!N31","v":0.25}]
[null,18,"დაინტერესებული მხარის სურვილი, ითანამშრომლოს ადგილობრივი ხელისუფლების ორგანოებთან",null,null,null,null,null,{"$f":"IF(D52=\"x\",-2,0)","v":0},{"$f":"IF(E52=\"x\",-1,0)","v":0},{"$f":"IF(F52=\"x\",0,0)","v":0},{"$f":"IF(G52=\"x\",1,0)","v":0},{"$f":"IF(H52=\"x\",2,0)","v":0}]
[null,19,"დაინტერესებული მხარის ინტერესი, ხმა მიაწვდინოს/მოიცვას ფართო საზოგადოება",null,null,null,null,null,{"$f":"IF(D53=\"x\",-2,0)","v":0},{"$f":"IF(E53=\"x\",-1,0)","v":0},{"$f":"IF(F53=\"x\",0,0)","v":0},{"$f":"IF(G53=\"x\",1,0)","v":0},{"$f":"IF(H53=\"x\",2,0)","v":0}]
[null,20,"დაინტერესებული მხარის სურვილი, გააზიაროს/გაზარდოს თავისი ინფორმირებულობა პოლიტიკის საკითხებზე",null,null,null,null,null,{"$f":"IF(D54=\"x\",-2,0)","v":0},{"$f":"IF(E54=\"x\",-1,0)","v":0},{"$f":"IF(F54=\"x\",0,0)","v":0},{"$f":"IF(G54=\"x\",1,0)","v":0},{"$f":"IF(H54=\"x\",2,0)","v":0}]
[null,null,"ინტერესის ქულა",null,null,null,null,null,null,null,null,null,null,null,{"$f":"IF(D2=\"\",\"\",(SUM(O51+O45+O39+O33)/4))","v":""}]

{"sheet":"STAKEHOLDER (3)","index":7,"n_rows":55,"n_cols":15,"rows_kept":55,"cut":false,"hidden":false,"merged":[[0,1,0,14],[1,3,1,14],[27,2,27,7],[54,2,54,7]]}
[null,"კონკრეტული თემის გათვალისწინებით, გთხოვთ, დაინტერესებული მხარე შეაფასოთ თითოეულ პუნქტთან მიმართებით (უაღრესად უარყოფითიდან უაღრესად დადებითამდე) და შესაბამის გრაფაში მონიშნოთ „x“. "]
[null,null,"დაინტერესებული მხარე-მიუთითეთ დასახელება"]
[null,null,"განზომილებები","უაღრესად ნეგატიური","უარყოფითი","არ არის რელევანტური","დადებითი","უაღრესად დადებითი",-2,-1,0,1,2,null,"ქულა თითოეულ განზომილებაში"]
[null,null,"(1) სოციალური კაპიტალი",null,null,null,null,null,null,null,null,null,null,{"$f":"SUM(I5:M9)","v":0},{"$f":"(((N4-(-10))*(1-0))/(10-(-10)))+0","v":0.5}]
[null,1,"დაინტერესებული მხარის შესაძლებლობა, ჩართოს სხვა დაინტერესებული მხარეები ",null,null,null,null,null,{"$f":"IF(D5=\"x\",-2,0)","v":0},{"$f":"IF(E5=\"x\",-1,0)","v":0},{"$f":"IF(F5=\"x\",0,0)","v":0},{"$f":"IF(G5=\"x\",1,0)","v":0},{"$f":"IF(H5=\"x\",2,0)","v":0},null,"შეწონილი მნიშვნელობა"]
[null,2,"კონკრეტული კატეგორიის აქტორთა წარმომადგენლობითი დონე (მრავალი სხვა მოქალაქის ინტერესების წარმოდგენა)",null,null,null,null,null,{"$f":"IF(D6=\"x\",-2,0)","v":0},{"$f":"IF(E6=\"x\",-1,0)","v":0},{"$f":"IF(F6=\"x\",0,0)","v":0},{"$f":"IF(G6=\"x\",1,0)","v":0},{"$f":"IF(H6=\"x\",2,0)","v":0},null,{"$f":"O4*'1_COMMUNITY EVALUATION'!N4","v":0.25}]
[null,3,"დაინტერესებული მხარის მონაწილეობის დონე ადგილობრივ სამოქალაქო აქტივობებში",null,null,null,null,null,{"$f":"IF(D7=\"x\",-2,0)","v":0},{"$f":"IF(E7=\"x\",-1,0)","v":0},{"$f":"IF(F7=\"x\",0,0)","v":0},{"$f":"IF(G7=\"x\",1,0)","v":0},{"$f":"IF(H7=\"x\",2,0)","v":0}]
[null,4,"დაინტერესებული მხარის შესაძლებლობა, დაიწყოს ცვლილების განხორციელება/გავლენა იქონიოს მასზე",null,null,null,null,null,{"$f":"IF(D8=\"x\",-2,0)","v":0},{"$f":"IF(E8=\"x\",-1,0)","v":0},{"$f":"IF(F8=\"x\",0,0)","v":0},{"$f":"IF(G8=\"x\",1,0)","v":0},{"$f":"IF(H8=\"x\",2,0)","v":0}]
[null,5,"მოქალაქეთა მიერ დაინტერესებული მხარის აღიარების დონე ",null,null,null,null,null,{"$f":"IF(D9=\"x\",-2,0)","v":0},{"$f":"IF(E9=\"x\",-1,0)","v":0},{"$f":"IF(F9=\"x\",0,0)","v":0},{"$f":"IF(G9=\"x\",1,0)","v":0},{"$f":"IF(H9=\"x\",2,0)","v":0}]
[null,null,"(2) ეკონომიკური კაპიტალი",null,null,null,null,null,null,null,null,null,null,{"$f":"SUM(I11:M15)","v":0},{"$f":"(((N10-(-10))*(1-0))/(10-(-10)))+0","v":0.5}]
[null,6,"დაინტერესებული მხარის შესაძლებლობა, შეასრულოს დონორის ფუნქცია",null,null,null,null,null,{"$f":"IF(D11=\"x\",-2,0)","v":0},{"$f":"IF(E11=\"x\",-1,0)","v":0},{"$f":"IF(F11=\"x\",0,0)","v":0},{"$f":"IF(G11=\"x\",1,0)","v":0},{"$f":"IF(H11=\"x\",2,0)","v":0},null,"შეწონილი მნიშვნელობა"]
[null,7,"დაინტერესებული მხარის შესაძლებლობა, გავლენა მოახდინოს რესურსების განაწილებაზე ",null,null,null,null,null,{"$f":"IF(D12=\"x\",-2,0)","v":0},{"$f":"IF(E12=\"x\",-1,0)","v":0},{"$f":"IF(F12=\"x\",0,0)","v":0},{"$f":"IF(G12=\"x\",1,0)","v":0},{"$f":"IF(H12=\"x\",2,0)","v":0},null,{"$f":"O10*'1_COMMUNITY EVALUATION'!N13","v":0.25}]
[null,8,"დაინტერესებული მხარის შესაძლებლობა, ხელი შეუწყოს წვდომას არსებულ ან დამატებით (გარე) რესურსებზე ",null,null,null,null,null,{"$f":"IF(D13=\"x\",-2,0)","v":0},{"$f":"IF(E13=\"x\",-1,0)","v":0},{"$f":"IF(F13=\"x\",0,0)","v":0},{"$f":"IF(G13=\"x\",1,0)","v":0},{"$f":"IF(H13=\"x\",2,0)","v":0}]
[null,9,"დაინტერესებული მხარის შესაძლებლობა არამატერიალური მხარდაჭერის გასაწევად ",null,null,null,null,null,{"$f":"IF(D14=\"x\",-2,0)","v":0},{"$f":"IF(E14=\"x\",-1,0)","v":0},{"$f":"IF(F14=\"x\",0,0)","v":0},{"$f":"IF(G14=\"x\",1,0)","v":0},{"$f":"IF(H14=\"x\",2,0)","v":0}]
[null,10,"დაინტერესებული მხარის გავლენა შრომის ბაზარზე",null,null,null,null,null,{"$f":"IF(D15=\"x\",-2,0)","v":0},{"$f":"IF(E15=\"x\",-1,0)","v":0},{"$f":"IF(F15=\"x\",0,0)","v":0},{"$f":"IF(G15=\"x\",1,0)","v":0},{"$f":"IF(H15=\"x\",2,0)","v":0}]
[null,null,"(3) ადამიანური კაპიტალი",null,null,null,null,null,null,null,null,null,null,{"$f":"SUM(I17:M21)","v":0},{"$f":"(((N16-(-10))*(1-0))/(10-(-10)))+0","v":0.5}]
[null,11,"დაინტერესებული მხარის ცოდნა/უნარები კონკრეტულ თემასთან მიმართებით",null,null,null,null,null,{"$f":"IF(D17=\"x\",-2,0)","v":0},{"$f":"IF(E17=\"x\",-1,0)","v":0},{"$f":"IF(F17=\"x\",0,0)","v":0},{"$f":"IF(G17=\"x\",1,0)","v":0},{"$f":"IF(H17=\"x\",2,0)","v":0},null,"შეწონილი მნიშვნელობა"]
[null,12,"დაინტერესებული მხარის ინფორმირებულობა კონკრეტულ თემაზე",null,null,null,null,null,{"$f":"IF(D18=\"x\",-2,0)","v":0},{"$f":"IF(E18=\"x\",-1,0)","v":0},{"$f":"IF(F18=\"x\",0,0)","v":0},{"$f":"IF(G18=\"x\",1,0)","v":0},{"$f":"IF(H18=\"x\",2,0)","v":0},null,{"$f":"O16*'1_COMMUNITY EVALUATION'!N22","v":0.25}]
[null,13,"დაინტერესებული მხარის შესაძლებლობა, ჩაერთოს საზოგადოებრივ დებატებში",null,null,null,null,null,{"$f":"IF(D19=\"x\",-2,0)","v":0},{"$f":"IF(E19=\"x\",-1,0)","v":0},{"$f":"IF(F19=\"x\",0,0)","v":0},{"$f":"IF(G19=\"x\",1,0)","v":0},{"$f":"IF(H19=\"x\",2,0)","v":0}]
[null,14,"დაინტერესებული მხარის შესაძლებლობა, კომუნიკაცია დაამყაროს სხვადასხვა მედიასაშუალების გამოყენებით ",null,null,null,null,null,{"$f":"IF(D20=\"x\",-2,0)","v":0},{"$f":"IF(E20=\"x\",-1,0)","v":0},{"$f":"IF(F20=\"x\",0,0)","v":0},{"$f":"IF(G20=\"x\",1,0)","v":0},{"$f":"IF(H20=\"x\",2,0)","v":0}]
[null,15,"დაინტერესებული მხარის ხელმისაწვდომობა საჯარო სივრცეებზე  ",null,null,null,null,null,{"$f":"IF(D21=\"x\",-2,0)","v":0},{"$f":"IF(E21=\"x\",-1,0)","v":0},{"$f":"IF(F21=\"x\",0,0)","v":0},{"$f":"IF(G21=\"x\",1,0)","v":0},{"$f":"IF(H21=\"x\",2,0)","v":0}]
[null,null,"(4) პოლიტიკური კაპიტალი",null,null,null,null,null,null,null,null,null,null,{"$f":"SUM(I23:M27)","v":0},{"$f":"(((N22-(-10))*(1-0))/(10-(-10)))+0","v":0.5}]
[null,16,"ადგილობრივი ადმინისტრაციის ნდობა დაინტერესებული მხარის მიმართ",null,null,null,null,null,{"$f":"IF(D23=\"x\",-2,0)","v":0},{"$f":"IF(E23=\"x\",-1,0)","v":0},{"$f":"IF(F23=\"x\",0,0)","v":0},{"$f":"IF(G23=\"x\",1,0)","v":0},{"$f":"IF(H23=\"x\",2,0)","v":0},null,"შეწონილი მნიშვნელობა"]
[null,17,"დაინტერესებული მხარის შესაძლებლობა, ჩართოს სხვა პოლიტიკური აქტორები",null,null,null,null,null,{"$f":"IF(D24=\"x\",-2,0)","v":0},{"$f":"IF(E24=\"x\",-1,0)","v":0},{"$f":"IF(F24=\"x\",0,0)","v":0},{"$f":"IF(G24=\"x\",1,0)","v":0},{"$f":"IF(H24=\"x\",2,0)","v":0},null,{"$f":"O22*'1_COMMUNITY EVALUATION'!N31","v":0.25}]
[null,18,"დაინტერესებული მხარის შესაძლებლობა, ითანამშრომლოს ადგილობრივი ხელისუფლების ორგანოებთან/სხვა დაინტერესებულ მხარეებთან ",null,null,null,null,null,{"$f":"IF(D25=\"x\",-2,0)","v":0},{"$f":"IF(E25=\"x\",-1,0)","v":0},{"$f":"IF(F25=\"x\",0,0)","v":0},{"$f":"IF(G25=\"x\",1,0)","v":0},{"$f":"IF(H25=\"x\",2,0)","v":0}]
[null,19,"დაინტერესებული მხარის შესაძლებლობა, გავლენა იქონიოს საზოგადოებრივ აზრზე ",null,null,null,null,null,{"$f":"IF(D26=\"x\",-2,0)","v":0},{"$f":"IF(E26=\"x\",-1,0)","v":0},{"$f":"IF(F26=\"x\",0,0)","v":0},{"$f":"IF(G26=\"x\",1,0)","v":0},{"$f":"IF(H26=\"x\",2,0)","v":0}]
[null,20,"დაინტერესებული მხარის ინფორმირებულობა პოლიტიკის საკითხებზე",null,null,null,null,null,{"$f":"IF(D27=\"x\",-2,0)","v":0},{"$f":"IF(E27=\"x\",-1,0)","v":0},{"$f":"IF(F27=\"x\",0,0)","v":0},{"$f":"IF(G27=\"x\",1,0)","v":0},{"$f":"IF(H27=\"x\",2,0)","v":0}]
[null,null,"რელევანტურობის ქულა",null,null,null,null,null,null,null,null,null,null,null,{"$f":"IF(D2=\"\",\"\",(SUM(O24+O18+O12+O6)/4))","v":""}]
[]
[null,null,"განზომილებები","უაღრესად ნეგატიური","უარყოფითი","არ არის რელევანტური","დადებითი","უაღღესად დადებითი",-2,-1,0,1,2,null,"ქულა თითოეულ განზომილებაში"]
[null,null,"(1) სოციალური კაპიტლი",null,null,null,null,null,null,null,null,null,null,{"$f":"SUM(I32:M36)","v":0},{"$f":"(((N31-(-10))*(1-0))/(10-(-10)))+0","v":0.5}]
[null,1,"დაინტერესებული მხარის ინტერესი, დაამყაროს კონტაქტები კონკრეტულ თემასთან დაკავშირებით",null,null,null,null,null,{"$f":"IF(D32=\"x\",-2,0)","v":0},{"$f":"IF(E32=\"x\",-1,0)","v":0},{"$f":"IF(F32=\"x\",0,0)","v":0},{"$f":"IF(G32=\"x\",1,0)","v":0},{"$f":"IF(H32=\"x\",2,0)","v":0},null,"შეწონილი მნიშვნელობა"]
[null,2,"დაინტერესებული მხარის ინტერესი, უზრუნველყოს კონკრეტული კატეგორიის აქტორთა წარმომადგენლობა თემასთან მიმართებით",null,null,null,null,null,{"$f":"IF(D33=\"x\",-2,0)","v":0},{"$f":"IF(E33=\"x\",-1,0)","v":0},{"$f":"IF(F33=\"x\",0,0)","v":0},{"$f":"IF(G33=\"x\",1,0)","v":0},{"$f":"IF(H33=\"x\",2,0)","v":0},null,{"$f":"O31*'1_COMMUNITY EVALUATION'!N4","v":0.25}]
[null,3,"დაინტერესებული მხარის ინტერესი, ჩაერთოს  ადგილობრივ სამოქალაქო აქტივობებში თემასთან მიმართებით",null,null,null,null,null,{"$f":"IF(D34=\"x\",-2,0)","v":0},{"$f":"IF(E34=\"x\",-1,0)","v":0},{"$f":"IF(F34=\"x\",0,0)","v":0},{"$f":"IF(G34=\"x\",1,0)","v":0},{"$f":"IF(H34=\"x\",2,0)","v":0}]
[null,4,"დაინტერესებული მხარის ინტერესი, დაიწყოს ცვლილების განხორციელება/გავლენა იქონიოს მასზე      ",null,null,null,null,null,{"$f":"IF(D35=\"x\",-2,0)","v":0},{"$f":"IF(E35=\"x\",-1,0)","v":0},{"$f":"IF(F35=\"x\",0,0)","v":0},{"$f":"IF(G35=\"x\",1,0)","v":0},{"$f":"IF(H35=\"x\",2,0)","v":0}]
[null,5,"დაინტერესებული მხარის ინტერესი, გაზარდოს მისი აღიარება მოქალაქეთა მხრიდან",null,null,null,null,null,{"$f":"IF(D36=\"x\",-2,0)","v":0},{"$f":"IF(E36=\"x\",-1,0)","v":0},{"$f":"IF(F36=\"x\",0,0)","v":0},{"$f":"IF(G36=\"x\",1,0)","v":0},{"$f":"IF(H36=\"x\",2,0)","v":0}]
[null,null,"(2) ეკონომიკური კაპიტალი",null,null,null,null,null,null,null,null,null,null,{"$f":"SUM(I38:M42)","v":0},{"$f":"(((N37-(-10))*(1-0))/(10-(-10)))+0","v":0.5}]
[null,6,"დაინტერესებული მხარის პოტენციური ეკონომიკური სარგებელი",null,null,null,null,null,{"$f":"IF(D38=\"x\",-2,0)","v":0},{"$f":"IF(E38=\"x\",-1,0)","v":0},{"$f":"IF(F38=\"x\",0,0)","v":0},{"$f":"IF(G38=\"x\",1,0)","v":0},{"$f":"IF(H38=\"x\",2,0)","v":0},null,"შეწონილი მნიშვნელობა"]
[null,7,"დაინტერესებული მხარის სურვილი, თავი მოუყაროს რესურსებს",null,null,null,null,null,{"$f":"IF(D39=\"x\",-2,0)","v":0},{"$f":"IF(E39=\"x\",-1,0)","v":0},{"$f":"IF(F39=\"x\",0,0)","v":0},{"$f":"IF(G39=\"x\",1,0)","v":0},{"$f":"IF(H39=\"x\",2,0)","v":0},null,{"$f":"O37*'1_COMMUNITY EVALUATION'!N13","v":0.25}]
[null,8,"დაინტერესებული მხარის სურვილი, ხელი შეუწყოს წვდომას არსებულ ან დამატებით(გარე) რესურსებზე      ",null,null,null,null,null,{"$f":"IF(D40=\"x\",-2,0)","v":0},{"$f":"IF(E40=\"x\",-1,0)","v":0},{"$f":"IF(F40=\"x\",0,0)","v":0},{"$f":"IF(G40=\"x\",1,0)","v":0},{"$f":"IF(H40=\"x\",2,0)","v":0}]
[null,9,"დაინტერესებული მხარის მზაობა არამატერიალური მხარდაჭერის გასაწევად",null,null,null,null,null,{"$f":"IF(D41=\"x\",-2,0)","v":0},{"$f":"IF(E41=\"x\",-1,0)","v":0},{"$f":"IF(F41=\"x\",0,0)","v":0},{"$f":"IF(G41=\"x\",1,0)","v":0},{"$f":"IF(H41=\"x\",2,0)","v":0}]
[null,10,"დაინტერესებული მხარის ინტერესი, გაზარდოს თავისი გავლენა შრომის ბაზარზე",null,null,null,null,null,{"$f":"IF(D42=\"x\",-2,0)","v":0},{"$f":"IF(E42=\"x\",-1,0)","v":0},{"$f":"IF(F42=\"x\",0,0)","v":0},{"$f":"IF(G42=\"x\",1,0)","v":0},{"$f":"IF(H42=\"x\",2,0)","v":0}]
[null,null,"(3) ადამიანური კაპიტრალი",null,null,null,null,null,null,null,null,null,null,{"$f":"SUM(I44:M48)","v":0},{"$f":"(((N43-(-10))*(1-0))/(10-(-10)))+0","v":0.5}]
[null,11,"დაინტერესებული მხარის ინტერესი, გააზიაროს/გააუმჯობესოს თავისი ცოდნა/უნარები კონკრეტულ თემასთან მიმართებით",null,null,null,null,null,{"$f":"IF(D44=\"x\",-2,0)","v":0},{"$f":"IF(E44=\"x\",-1,0)","v":0},{"$f":"IF(F44=\"x\",0,0)","v":0},{"$f":"IF(G44=\"x\",1,0)","v":0},{"$f":"IF(H44=\"x\",2,0)","v":0},null,"შეწონილი მნიშვნელობა"]
[null,12,"დაინტერესებული მხარის სურვილი გააზიაროს/გაზარდოს საკუთარი ინფორმირებულობა კონკრეტულ თემაზე",null,null,null,null,null,{"$f":"IF(D45=\"x\",-2,0)","v":0},{"$f":"IF(E45=\"x\",-1,0)","v":0},{"$f":"IF(F45=\"x\",0,0)","v":0},{"$f":"IF(G45=\"x\",1,0)","v":0},{"$f":"IF(H45=\"x\",2,0)","v":0},null,{"$f":"O43*'1_COMMUNITY EVALUATION'!N22","v":0.25}]
[null,13,"დაინტერესებული მხარის სურვილი, ჩაერთოს საზოგადოებრივ დებატებში",null,null,null,null,null,{"$f":"IF(D46=\"x\",-2,0)","v":0},{"$f":"IF(E46=\"x\",-1,0)","v":0},{"$f":"IF(F46=\"x\",0,0)","v":0},{"$f":"IF(G46=\"x\",1,0)","v":0},{"$f":"IF(H46=\"x\",2,0)","v":0}]
[null,14,"დაინტერესებული მხარის სურვილი, კომუნიკაცია დაამყაროს სხვადასხვა მედიასაშუალების გამოყენებით ",null,null,null,null,null,{"$f":"IF(D47=\"x\",-2,0)","v":0},{"$f":"IF(E47=\"x\",-1,0)","v":0},{"$f":"IF(F47=\"x\",0,0)","v":0},{"$f":"IF(G47=\"x\",1,0)","v":0},{"$f":"IF(H47=\"x\",2,0)","v":0}]
[null,15,"დაინტერესებული მხარის სურვილი, ჰქონდეს წვდომა საჯარო სივრცეებზე",null,null,null,null,null,{"$f":"IF(D48=\"x\",-2,0)","v":0},{"$f":"IF(E48=\"x\",-1,0)","v":0},{"$f":"IF(F48=\"x\",0,0)","v":0},{"$f":"IF(G48=\"x\",1,0)","v":0},{"$f":"IF(H48=\"x\",2,0)","v":0}]
[null,null,"(4) პოლიტიკური კაპიტალი",null,null,null,null,null,null,null,null,null,null,{"$f":"SUM(I50:M54)","v":0},{"$f":"(((N49-(-10))*(1-0))/(10-(-10)))+0","v":0.5}]
[null,16,"დაინტერესებული მხარის ნდობა ადგილობრივი ადმინისტრაციის მიმართ",null,null,null,null,null,{"$f":"IF(D50=\"x\",-2,0)","v":0},{"$f":"IF(E50=\"x\",-1,0)","v":0},{"$f":"IF(F50=\"x\",0,0)","v":0},{"$f":"IF(G50=\"x\",1,0)","v":0},{"$f":"IF(H50=\"x\",2,0)","v":0},null,"შეწონილი მნიშვნელობა"]
[null,17,"დაინტერესებული მხარის პოლიტიკური ინტერესი კონკრეტული თემის მიმართ ",null,null,null,null,null,{"$f":"IF(D51=\"x\",-2,0)","v":0},{"$f":"IF(E51=\"x\",-1,0)","v":0},{"$f":"IF(F51=\"x\",0,0)","v":0},{"$f":"IF(G51=\"x\",1,0)","v":0},{"$f":"IF(H51=\"x\",2,0)","v":0},null,{"$f":"O49*'1_COMMUNITY EVALUATION'!N31","v":0.25}]
[null,18,"დაინტერესებული მხარის სურვილი, ითანამშრომლოს ადგილობრივი ხელისუფლების ორგანოებთან",null,null,null,null,null,{"$f":"IF(D52=\"x\",-2,0)","v":0},{"$f":"IF(E52=\"x\",-1,0)","v":0},{"$f":"IF(F52=\"x\",0,0)","v":0},{"$f":"IF(G52=\"x\",1,0)","v":0},{"$f":"IF(H52=\"x\",2,0)","v":0}]
[null,19,"დაინტერესებული მხარის ინტერესი, ხმა მიაწვდინოს/მოიცვას ფართო საზოგადოება",null,null,null,null,null,{"$f":"IF(D53=\"x\",-2,0)","v":0},{"$f":"IF(E53=\"x\",-1,0)","v":0},{"$f":"IF(F53=\"x\",0,0)","v":0},{"$f":"IF(G53=\"x\",1,0)","v":0},{"$f":"IF(H53=\"x\",2,0)","v":0}]
[null,20,"დაინტერესებული მხარის სურვილი, გააზიაროს/გაზარდოს თავისი ინფორმირებულობა პოლიტიკის საკითხებზე",null,null,null,null,null,{"$f":"IF(D54=\"x\",-2,0)","v":0},{"$f":"IF(E54=\"x\",-1,0)","v":0},{"$f":"IF(F54=\"x\",0,0)","v":0},{"$f":"IF(G54=\"x\",1,0)","v":0},{"$f":"IF(H54=\"x\",2,0)","v":0}]
[null,null,"ინტერესის ქულა",null,null,null,null,null,null,null,null,null,null,null,{"$f":"IF(D2=\"\",\"\",(SUM(O51+O45+O39+O33)/4))","v":""}]

{"sheet":"STAKEHOLDER (4)","index":8,"n_rows":55,"n_cols":15,"rows_kept":55,"cut":false,"hidden":false,"merged":[[0,1,0,14],[1,3,1,14],[27,2,27,7],[54,2,54,7]]}
[null,"კონკრეტული თემის გათვალისწინებით, გთხოვთ, დაინტერესებული მხარე შეაფასოთ თითოეულ პუნქტთან მიმართებით (უაღრესად უარყოფითიდან უაღრესად დადებითამდე) და შესაბამის გრაფაში მონიშნოთ „x“. "]
[null,null,"დაინტერესებული მხარე -მიუთითეთ დასახელება"]
[null,null,"განზომილებები","უაღრესად უარყოფითი","უარყოფითი","არ არის რელევანტური","დადებითი","უაღრესად დადებითი",-2,-1,0,1,2,null,"ქულა თითოეულ განზომილებაში"]
[null,null,"(1) სოციალური კაპიტალი",null,null,null,null,null,null,null,null,null,null,{"$f":"SUM(I5:M9)","v":0},{"$f":"(((N4-(-10))*(1-0))/(10-(-10)))+0","v":0.5}]
[null,1,"დაინტერესებული მხარის შესაძლებლობა, ჩართოს სხვა დაინტერესებული მხარეები ",null,null,null,null,null,{"$f":"IF(D5=\"x\",-2,0)","v":0},{"$f":"IF(E5=\"x\",-1,0)","v":0},{"$f":"IF(F5=\"x\",0,0)","v":0},{"$f":"IF(G5=\"x\",1,0)","v":0},{"$f":"IF(H5=\"x\",2,0)","v":0},null,"შეწონილი მნიშვნელობა"]
[null,2,"კონკრეტული კატეგორიის აქტორთა წარმომადგენლობითი დონე (მრავალი სხვა მოქალაქის ინტერესების წარმოდგენა)",null,null,null,null,null,{"$f":"IF(D6=\"x\",-2,0)","v":0},{"$f":"IF(E6=\"x\",-1,0)","v":0},{"$f":"IF(F6=\"x\",0,0)","v":0},{"$f":"IF(G6=\"x\",1,0)","v":0},{"$f":"IF(H6=\"x\",2,0)","v":0},null,{"$f":"O4*'1_COMMUNITY EVALUATION'!N4","v":0.25}]
[null,3,"დაინტერესებული მხარის მონაწილეობის დონე ადგილობრივ სამოქალაქო აქტივობებში",null,null,null,null,null,{"$f":"IF(D7=\"x\",-2,0)","v":0},{"$f":"IF(E7=\"x\",-1,0)","v":0},{"$f":"IF(F7=\"x\",0,0)","v":0},{"$f":"IF(G7=\"x\",1,0)","v":0},{"$f":"IF(H7=\"x\",2,0)","v":0}]
[null,4,"დაინტერესებული მხარის შესაძლებლობა, დაიწყოს ცვლილების განხორციელება/გავლენა იქონიოს მასზე",null,null,null,null,null,{"$f":"IF(D8=\"x\",-2,0)","v":0},{"$f":"IF(E8=\"x\",-1,0)","v":0},{"$f":"IF(F8=\"x\",0,0)","v":0},{"$f":"IF(G8=\"x\",1,0)","v":0},{"$f":"IF(H8=\"x\",2,0)","v":0}]
[null,5,"მოქალაქეთა მიერ დაინტერესებული მხარის აღიარების დონე ",null,null,null,null,null,{"$f":"IF(D9=\"x\",-2,0)","v":0},{"$f":"IF(E9=\"x\",-1,0)","v":0},{"$f":"IF(F9=\"x\",0,0)","v":0},{"$f":"IF(G9=\"x\",1,0)","v":0},{"$f":"IF(H9=\"x\",2,0)","v":0}]
[null,null,"(2) ეკონომიკური კაპიტალი",null,null,null,null,null,null,null,null,null,null,{"$f":"SUM(I11:M15)","v":0},{"$f":"(((N10-(-10))*(1-0))/(10-(-10)))+0","v":0.5}]
[null,6,"დაინტერესებული მხარის შესაძლებლობა, შეასრულოს დონორის ფუნქცია",null,null,null,null,null,{"$f":"IF(D11=\"x\",-2,0)","v":0},{"$f":"IF(E11=\"x\",-1,0)","v":0},{"$f":"IF(F11=\"x\",0,0)","v":0},{"$f":"IF(G11=\"x\",1,0)","v":0},{"$f":"IF(H11=\"x\",2,0)","v":0},null,"შეწონილი მნიშვნელობა"]
[null,7,"დაინტერესებული მხარის შესაძლებლობა, გავლენა მოახდინოს რესურსების განაწილებაზე ",null,null,null,null,null,{"$f":"IF(D12=\"x\",-2,0)","v":0},{"$f":"IF(E12=\"x\",-1,0)","v":0},{"$f":"IF(F12=\"x\",0,0)","v":0},{"$f":"IF(G12=\"x\",1,0)","v":0},{"$f":"IF(H12=\"x\",2,0)","v":0},null,{"$f":"O10*'1_COMMUNITY EVALUATION'!N13","v":0.25}]
[null,8,"დაინტერესებული მხარის შესაძლებლობა, ხელი შეუწყოს წვდომას არსებულ ან დამატებით (გარე) რესურსებზე ",null,null,null,null,null,{"$f":"IF(D13=\"x\",-2,0)","v":0},{"$f":"IF(E13=\"x\",-1,0)","v":0},{"$f":"IF(F13=\"x\",0,0)","v":0},{"$f":"IF(G13=\"x\",1,0)","v":0},{"$f":"IF(H13=\"x\",2,0)","v":0}]
[null,9,"დაინტერესებული მხარის შესაძლებლობა არამატერიალური მხარდაჭერის გასაწევად ",null,null,null,null,null,{"$f":"IF(D14=\"x\",-2,0)","v":0},{"$f":"IF(E14=\"x\",-1,0)","v":0},{"$f":"IF(F14=\"x\",0,0)","v":0},{"$f":"IF(G14=\"x\",1,0)","v":0},{"$f":"IF(H14=\"x\",2,0)","v":0}]
[null,10,"დაინტერესებული მხარის გავლენა შრომის ბაზარზე",null,null,null,null,null,{"$f":"IF(D15=\"x\",-2,0)","v":0},{"$f":"IF(E15=\"x\",-1,0)","v":0},{"$f":"IF(F15=\"x\",0,0)","v":0},{"$f":"IF(G15=\"x\",1,0)","v":0},{"$f":"IF(H15=\"x\",2,0)","v":0}]
[null,null,"(3) ადამიანური კაპიტალი",null,null,null,null,null,null,null,null,null,null,{"$f":"SUM(I17:M21)","v":0},{"$f":"(((N16-(-10))*(1-0))/(10-(-10)))+0","v":0.5}]
[null,11,"დაინტერესებული მხარის ცოდნა/უნარები კონკრეტულ თემასთან მიმართებით",null,null,null,null,null,{"$f":"IF(D17=\"x\",-2,0)","v":0},{"$f":"IF(E17=\"x\",-1,0)","v":0},{"$f":"IF(F17=\"x\",0,0)","v":0},{"$f":"IF(G17=\"x\",1,0)","v":0},{"$f":"IF(H17=\"x\",2,0)","v":0},null,"შეწონილი მნიშვნელობა"]
[null,12,"დაინტერესებული მხარის ინფორმირებულობა კონკრეტულ თემაზე",null,null,null,null,null,{"$f":"IF(D18=\"x\",-2,0)","v":0},{"$f":"IF(E18=\"x\",-1,0)","v":0},{"$f":"IF(F18=\"x\",0,0)","v":0},{"$f":"IF(G18=\"x\",1,0)","v":0},{"$f":"IF(H18=\"x\",2,0)","v":0},null,{"$f":"O16*'1_COMMUNITY EVALUATION'!N22","v":0.25}]
[null,13,"დაინტერესებული მხარის შესაძლებლობა, ჩაერთოს საზოგადოებრივ დებატებში",null,null,null,null,null,{"$f":"IF(D19=\"x\",-2,0)","v":0},{"$f":"IF(E19=\"x\",-1,0)","v":0},{"$f":"IF(F19=\"x\",0,0)","v":0},{"$f":"IF(G19=\"x\",1,0)","v":0},{"$f":"IF(H19=\"x\",2,0)","v":0}]
[null,14,"დაინტერესებული მხარის შესაძლებლობა, კომუნიკაცია დაამყაროს სხვადასხვა მედიასაშუალების გამოყენებით ",null,null,null,null,null,{"$f":"IF(D20=\"x\",-2,0)","v":0},{"$f":"IF(E20=\"x\",-1,0)","v":0},{"$f":"IF(F20=\"x\",0,0)","v":0},{"$f":"IF(G20=\"x\",1,0)","v":0},{"$f":"IF(H20=\"x\",2,0)","v":0}]
[null,15,"დაინტერესებული მხარის ხელმისაწვდომობა საჯარო სივრცეებზე  ",null,null,null,null,null,{"$f":"IF(D21=\"x\",-2,0)","v":0},{"$f":"IF(E21=\"x\",-1,0)","v":0},{"$f":"IF(F21=\"x\",0,0)","v":0},{"$f":"IF(G21=\"x\",1,0)","v":0},{"$f":"IF(H21=\"x\",2,0)","v":0}]
[null,null,"(4) პოლიტიკური კაპიტალი",null,null,null,null,null,null,null,null,null,null,{"$f":"SUM(I23:M27)","v":0},{"$f":"(((N22-(-10))*(1-0))/(10-(-10)))+0","v":0.5}]
[null,16,"ადგილობრივი ადმინისტრაციის ნდობა დაინტერესებული მხარის მიმართ",null,null,null,null,null,{"$f":"IF(D23=\"x\",-2,0)","v":0},{"$f":"IF(E23=\"x\",-1,0)","v":0},{"$f":"IF(F23=\"x\",0,0)","v":0},{"$f":"IF(G23=\"x\",1,0)","v":0},{"$f":"IF(H23=\"x\",2,0)","v":0},null,"შეწონილი მნიშვნელობა"]
[null,17,"დაინტერესებული მხარის შესაძლებლობა, ჩართოს სხვა პოლიტიკური აქტორები",null,null,null,null,null,{"$f":"IF(D24=\"x\",-2,0)","v":0},{"$f":"IF(E24=\"x\",-1,0)","v":0},{"$f":"IF(F24=\"x\",0,0)","v":0},{"$f":"IF(G24=\"x\",1,0)","v":0},{"$f":"IF(H24=\"x\",2,0)","v":0},null,{"$f":"O22*'1_COMMUNITY EVALUATION'!N31","v":0.25}]
[null,18,"დაინტერესებული მხარის შესაძლებლობა, ითანამშრომლოს ადგილობრივი ხელისუფლების ორგანოებთან/სხვა დაინტერესებულ მხარეებთან ",null,null,null,null,null,{"$f":"IF(D25=\"x\",-2,0)","v":0},{"$f":"IF(E25=\"x\",-1,0)","v":0},{"$f":"IF(F25=\"x\",0,0)","v":0},{"$f":"IF(G25=\"x\",1,0)","v":0},{"$f":"IF(H25=\"x\",2,0)","v":0}]
[null,19,"დაინტერესებული მხარის შესაძლებლობა, გავლენა იქონიოს საზოგადოებრივ აზრზე ",null,null,null,null,null,{"$f":"IF(D26=\"x\",-2,0)","v":0},{"$f":"IF(E26=\"x\",-1,0)","v":0},{"$f":"IF(F26=\"x\",0,0)","v":0},{"$f":"IF(G26=\"x\",1,0)","v":0},{"$f":"IF(H26=\"x\",2,0)","v":0}]
[null,20,"დაინტერესებული მხარის ინფორმირებულობა პოლიტიკის საკითხებზე",null,null,null,null,null,{"$f":"IF(D27=\"x\",-2,0)","v":0},{"$f":"IF(E27=\"x\",-1,0)","v":0},{"$f":"IF(F27=\"x\",0,0)","v":0},{"$f":"IF(G27=\"x\",1,0)","v":0},{"$f":"IF(H27=\"x\",2,0)","v":0}]
[null,null,"რელევანტურობის ქულა",null,null,null,null,null,null,null,null,null,null,null,{"$f":"IF(D2=\"\",\"\",(SUM(O24+O18+O12+O6)/4))","v":""}]
[]
[null,null,"განზომილებები","უაღრესად ნეგატიური","უარყოფითი","არ არის რელევანტური","დადებითი","უაღრესად დადებითი",-2,-1,0,1,2,null,"ქულა თითოეულ განზომილებაში"]
[null,null,"(1) სოციალური კაპიტალი",null,null,null,null,null,null,null,null,null,null,{"$f":"SUM(I32:M36)","v":0},{"$f":"(((N31-(-10))*(1-0))/(10-(-10)))+0","v":0.5}]
[null,1,"დაინტერესებული მხარის ინტერესი, დაამყაროს კონტაქტები კონკრეტულ თემასთან დაკავშირებით",null,null,null,null,null,{"$f":"IF(D32=\"x\",-2,0)","v":0},{"$f":"IF(E32=\"x\",-1,0)","v":0},{"$f":"IF(F32=\"x\",0,0)","v":0},{"$f":"IF(G32=\"x\",1,0)","v":0},{"$f":"IF(H32=\"x\",2,0)","v":0},null,"შეწონილი მნიშვნელობა"]
[null,2,"დაინტერესებული მხარის ინტერესი, უზრუნველყოს კონკრეტული კატეგორიის აქტორთა წარმომადგენლობა თემასთან მიმართებით",null,null,null,null,null,{"$f":"IF(D33=\"x\",-2,0)","v":0},{"$f":"IF(E33=\"x\",-1,0)","v":0},{"$f":"IF(F33=\"x\",0,0)","v":0},{"$f":"IF(G33=\"x\",1,0)","v":0},{"$f":"IF(H33=\"x\",2,0)","v":0},null,{"$f":"O31*'1_COMMUNITY EVALUATION'!N4","v":0.25}]
[null,3,"დაინტერესებული მხარის ინტერესი, ჩაერთოს  ადგილობრივ სამოქალაქო აქტივობებში თემასთან მიმართებით",null,null,null,null,null,{"$f":"IF(D34=\"x\",-2,0)","v":0},{"$f":"IF(E34=\"x\",-1,0)","v":0},{"$f":"IF(F34=\"x\",0,0)","v":0},{"$f":"IF(G34=\"x\",1,0)","v":0},{"$f":"IF(H34=\"x\",2,0)","v":0}]
[null,4,"დაინტერესებული მხარის ინტერესი, დაიწყოს ცვლილების განხორციელება/გავლენა იქონიოს მასზე      ",null,null,null,null,null,{"$f":"IF(D35=\"x\",-2,0)","v":0},{"$f":"IF(E35=\"x\",-1,0)","v":0},{"$f":"IF(F35=\"x\",0,0)","v":0},{"$f":"IF(G35=\"x\",1,0)","v":0},{"$f":"IF(H35=\"x\",2,0)","v":0}]
[null,5,"დაინტერესებული მხარის ინტერესი, გაზარდოს მისი აღიარება მოქალაქეთა მხრიდან",null,null,null,null,null,{"$f":"IF(D36=\"x\",-2,0)","v":0},{"$f":"IF(E36=\"x\",-1,0)","v":0},{"$f":"IF(F36=\"x\",0,0)","v":0},{"$f":"IF(G36=\"x\",1,0)","v":0},{"$f":"IF(H36=\"x\",2,0)","v":0}]
[null,null,"(2) ეკონომიკური კაპიტალი",null,null,null,null,null,null,null,null,null,null,{"$f":"SUM(I38:M42)","v":0},{"$f":"(((N37-(-10))*(1-0))/(10-(-10)))+0","v":0.5}]
[null,6,"დაინტერესებული მხარის პოტენციური ეკონომიკური სარგებელი",null,null,null,null,null,{"$f":"IF(D38=\"x\",-2,0)","v":0},{"$f":"IF(E38=\"x\",-1,0)","v":0},{"$f":"IF(F38=\"x\",0,0)","v":0},{"$f":"IF(G38=\"x\",1,0)","v":0},{"$f":"IF(H38=\"x\",2,0)","v":0},null,"შეწონილი მნიშვნელობა"]
[null,7,"დაინტერესებული მხარის სურვილი, თავი მოუყაროს რესურსებს",null,null,null,null,null,{"$f":"IF(D39=\"x\",-2,0)","v":0},{"$f":"IF(E39=\"x\",-1,0)","v":0},{"$f":"IF(F39=\"x\",0,0)","v":0},{"$f":"IF(G39=\"x\",1,0)","v":0},{"$f":"IF(H39=\"x\",2,0)","v":0},null,{"$f":"O37*'1_COMMUNITY EVALUATION'!N13","v":0.25}]
[null,8,"დაინტერესებული მხარის სურვილი, ხელი შეუწყოს წვდომას არსებულ ან დამატებით(გარე) რესურსებზე      ",null,null,null,null,null,{"$f":"IF(D40=\"x\",-2,0)","v":0},{"$f":"IF(E40=\"x\",-1,0)","v":0},{"$f":"IF(F40=\"x\",0,0)","v":0},{"$f":"IF(G40=\"x\",1,0)","v":0},{"$f":"IF(H40=\"x\",2,0)","v":0}]
[null,9,"დაინტერესებული მხარის მზაობა არამატერიალური მხარდაჭერის გასაწევად",null,null,null,null,null,{"$f":"IF(D41=\"x\",-2,0)","v":0},{"$f":"IF(E41=\"x\",-1,0)","v":0},{"$f":"IF(F41=\"x\",0,0)","v":0},{"$f":"IF(G41=\"x\",1,0)","v":0},{"$f":"IF(H41=\"x\",2,0)","v":0}]
[null,10,"დაინტერესებული მხარის ინტერესი, გაზარდოს თავისი გავლენა შრომის ბაზარზე",null,null,null,null,null,{"$f":"IF(D42=\"x\",-2,0)","v":0},{"$f":"IF(E42=\"x\",-1,0)","v":0},{"$f":"IF(F42=\"x\",0,0)","v":0},{"$f":"IF(G42=\"x\",1,0)","v":0},{"$f":"IF(H42=\"x\",2,0)","v":0}]
[null,null,"(3) ადამიანური კაპიტალი",null,null,null,null,null,null,null,null,null,null,{"$f":"SUM(I44:M48)","v":0},{"$f":"(((N43-(-10))*(1-0))/(10-(-10)))+0","v":0.5}]
[null,11,"დაინტერესებული მხარის ინტერესი, გააზიაროს/გააუმჯობესოს თავისი ცოდნა/უნარები კონკრეტულ თემასთან მიმართებით",null,null,null,null,null,{"$f":"IF(D44=\"x\",-2,0)","v":0},{"$f":"IF(E44=\"x\",-1,0)","v":0},{"$f":"IF(F44=\"x\",0,0)","v":0},{"$f":"IF(G44=\"x\",1,0)","v":0},{"$f":"IF(H44=\"x\",2,0)","v":0},null,"შეწონილი მნიშვნელობა"]
[null,12,"დაინტერესებული მხარის სურვილი გააზიაროს/გაზარდოს საკუთარი ინფორმირებულობა კონკრეტულ თემაზე",null,null,null,null,null,{"$f":"IF(D45=\"x\",-2,0)","v":0},{"$f":"IF(E45=\"x\",-1,0)","v":0},{"$f":"IF(F45=\"x\",0,0)","v":0},{"$f":"IF(G45=\"x\",1,0)","v":0},{"$f":"IF(H45=\"x\",2,0)","v":0},null,{"$f":"O43*'1_COMMUNITY EVALUATION'!N22","v":0.25}]
[null,13,"დაინტერესებული მხარის სურვილი, ჩაერთოს საზოგადოებრივ დებატებში",null,null,null,null,null,{"$f":"IF(D46=\"x\",-2,0)","v":0},{"$f":"IF(E46=\"x\",-1,0)","v":0},{"$f":"IF(F46=\"x\",0,0)","v":0},{"$f":"IF(G46=\"x\",1,0)","v":0},{"$f":"IF(H46=\"x\",2,0)","v":0}]
[null,14,"დაინტერესებული მხარის სურვილი, კომუნიკაცია დაამყაროს სხვადასხვა მედიასაშუალების გამოყენებით ",null,null,null,null,null,{"$f":"IF(D47=\"x\",-2,0)","v":0},{"$f":"IF(E47=\"x\",-1,0)","v":0},{"$f":"IF(F47=\"x\",0,0)","v":0},{"$f":"IF(G47=\"x\",1,0)","v":0},{"$f":"IF(H47=\"x\",2,0)","v":0}]
[null,15,"დაინტერესებული მხარის სურვილი, ჰქონდეს წვდომა საჯარო სივრცეებზე",null,null,null,null,null,{"$f":"IF(D48=\"x\",-2,0)","v":0},{"$f":"IF(E48=\"x\",-1,0)","v":0},{"$f":"IF(F48=\"x\",0,0)","v":0},{"$f":"IF(G48=\"x\",1,0)","v":0},{"$f":"IF(H48=\"x\",2,0)","v":0}]
[null,null,"(4) პოლიტიკური კაპიტალი",null,null,null,null,null,null,null,null,null,null,{"$f":"SUM(I50:M54)","v":0},{"$f":"(((N49-(-10))*(1-0))/(10-(-10)))+0","v":0.5}]
[null,16,"დაინტერესებული მხარის ნდობა ადგილობრივი ადმინისტრაციის მიმართ",null,null,null,null,null,{"$f":"IF(D50=\"x\",-2,0)","v":0},{"$f":"IF(E50=\"x\",-1,0)","v":0},{"$f":"IF(F50=\"x\",0,0)","v":0},{"$f":"IF(G50=\"x\",1,0)","v":0},{"$f":"IF(H50=\"x\",2,0)","v":0},null,"შეწონილი მნიშვნელობა"]
[null,17,"დაინტერესებული მხარის პოლიტიკური ინტერესი კონკრეტული თემის მიმართ ",null,null,null,null,null,{"$f":"IF(D51=\"x\",-2,0)","v":0},{"$f":"IF(E51=\"x\",-1,0)","v":0},{"$f":"IF(F51=\"x\",0,0)","v":0},{"$f":"IF(G51=\"x\",1,0)","v":0},{"$f":"IF(H51=\"x\",2,0)","v":0},null,{"$f":"O49*'1_COMMUNITY EVALUATION'!N31","v":0.25}]
[null,18,"დაინტერესებული მხარის სურვილი, ითანამშრომლოს ადგილობრივი ხელისუფლების ორგანოებთან",null,null,null,null,null,{"$f":"IF(D52=\"x\",-2,0)","v":0},{"$f":"IF(E52=\"x\",-1,0)","v":0},{"$f":"IF(F52=\"x\",0,0)","v":0},{"$f":"IF(G52=\"x\",1,0)","v":0},{"$f":"IF(H52=\"x\",2,0)","v":0}]
[null,19,"დაინტერესებული მხარის ინტერესი, ხმა მიაწვდინოს/მოიცვას ფართო საზოგადოება",null,null,null,null,null,{"$f":"IF(D53=\"x\",-2,0)","v":0},{"$f":"IF(E53=\"x\",-1,0)","v":0},{"$f":"IF(F53=\"x\",0,0)","v":0},{"$f":"IF(G53=\"x\",1,0)","v":0},{"$f":"IF(H53=\"x\",2,0)","v":0}]
[null,20,"დაინტერესებული მხარის სურვილი, გააზიაროს/გაზარდოს თავისი ინფორმირებულობა პოლიტიკის საკითხებზე",null,null,null,null,null,{"$f":"IF(D54=\"x\",-2,0)","v":0},{"$f":"IF(E54=\"x\",-1,0)","v":0},{"$f":"IF(F54=\"x\",0,0)","v":0},{"$f":"IF(G54=\"x\",1,0)","v":0},{"$f":"IF(H54=\"x\",2,0)","v":0}]
[null,null,"ინტერესის ქულა",null,null,null,null,null,null,null,null,null,null,null,{"$f":"IF(D2=\"\",\"\",(SUM(O51+O45+O39+O33)/4))","v":""}]

{"sheet":"STAKEHOLDER (5)","index":9,"n_rows":55,"n_cols":15,"rows_kept":55,"cut":false,"hidden":false,"merged":[[0,1,0,14],[1,3,1,14],[27,2,27,7],[54,2,54,7]]}
[null,"კონკრეტული თემის გათვალისწინებით, გთხოვთ, დაინტერესებული მხარე შეაფასოთ თითოეულ პუნქტთან მიმართებით (უაღრესად უარყოფითიდან უაღრესად დადებითამდე) და შესაბამის გრაფაში მონიშნოთ „x“. "]
[null,null,"დაინტერესებული მხარე -მიუთითეთ დასახელება"]
[null,null,"განზომილებები","უაღრესად ნეგატიური","უარყოფითი","არ არის რელევანტური","დადებითი","უაღრესად დადებითი",-2,-1,0,1,2,null,"ქულა თითოეულ განზომილებაში"]
[null,null,"(1) სოციალური კაპიტალი",null,null,null,null,null,null,null,null,null,null,{"$f":"SUM(I5:M9)","v":0},{"$f":"(((N4-(-10))*(1-0))/(10-(-10)))+0","v":0.5}]
[null,1,"დაინტერესებული მხარის შესაძლებლობა, ჩართოს სხვა დაინტერესებული მხარეები ",null,null,null,null,null,{"$f":"IF(D5=\"x\",-2,0)","v":0},{"$f":"IF(E5=\"x\",-1,0)","v":0},{"$f":"IF(F5=\"x\",0,0)","v":0},{"$f":"IF(G5=\"x\",1,0)","v":0},{"$f":"IF(H5=\"x\",2,0)","v":0},null,"შეწონილი მნიშვნელობა"]
[null,2,"კონკრეტული კატეგორიის აქტორთა წარმომადგენლობითი დონე (მრავალი სხვა მოქალაქის ინტერესების წარმოდგენა)",null,null,null,null,null,{"$f":"IF(D6=\"x\",-2,0)","v":0},{"$f":"IF(E6=\"x\",-1,0)","v":0},{"$f":"IF(F6=\"x\",0,0)","v":0},{"$f":"IF(G6=\"x\",1,0)","v":0},{"$f":"IF(H6=\"x\",2,0)","v":0},null,{"$f":"O4*'1_COMMUNITY EVALUATION'!N4","v":0.25}]
[null,3,"დაინტერესებული მხარის მონაწილეობის დონე ადგილობრივ სამოქალაქო აქტივობებში",null,null,null,null,null,{"$f":"IF(D7=\"x\",-2,0)","v":0},{"$f":"IF(E7=\"x\",-1,0)","v":0},{"$f":"IF(F7=\"x\",0,0)","v":0},{"$f":"IF(G7=\"x\",1,0)","v":0},{"$f":"IF(H7=\"x\",2,0)","v":0}]
[null,4,"დაინტერესებული მხარის შესაძლებლობა, დაიწყოს ცვლილების განხორციელება/გავლენა იქონიოს მასზე",null,null,null,null,null,{"$f":"IF(D8=\"x\",-2,0)","v":0},{"$f":"IF(E8=\"x\",-1,0)","v":0},{"$f":"IF(F8=\"x\",0,0)","v":0},{"$f":"IF(G8=\"x\",1,0)","v":0},{"$f":"IF(H8=\"x\",2,0)","v":0}]
[null,5,"მოქალაქეთა მიერ დაინტერესებული მხარის აღიარების დონე ",null,null,null,null,null,{"$f":"IF(D9=\"x\",-2,0)","v":0},{"$f":"IF(E9=\"x\",-1,0)","v":0},{"$f":"IF(F9=\"x\",0,0)","v":0},{"$f":"IF(G9=\"x\",1,0)","v":0},{"$f":"IF(H9=\"x\",2,0)","v":0}]
[null,null,"(2) ეკონომიკური კაპიტალი",null,null,null,null,null,null,null,null,null,null,{"$f":"SUM(I11:M15)","v":0},{"$f":"(((N10-(-10))*(1-0))/(10-(-10)))+0","v":0.5}]
[null,6,"დაინტერესებული მხარის შესაძლებლობა, შეასრულოს დონორის ფუნქცია",null,null,null,null,null,{"$f":"IF(D11=\"x\",-2,0)","v":0},{"$f":"IF(E11=\"x\",-1,0)","v":0},{"$f":"IF(F11=\"x\",0,0)","v":0},{"$f":"IF(G11=\"x\",1,0)","v":0},{"$f":"IF(H11=\"x\",2,0)","v":0},null,"შეწონილი მნიშვნელობა"]
[null,7,"დაინტერესებული მხარის შესაძლებლობა, გავლენა მოახდინოს რესურსების განაწილებაზე ",null,null,null,null,null,{"$f":"IF(D12=\"x\",-2,0)","v":0},{"$f":"IF(E12=\"x\",-1,0)","v":0},{"$f":"IF(F12=\"x\",0,0)","v":0},{"$f":"IF(G12=\"x\",1,0)","v":0},{"$f":"IF(H12=\"x\",2,0)","v":0},null,{"$f":"O10*'1_COMMUNITY EVALUATION'!N13","v":0.25}]
[null,8,"დაინტერესებული მხარის შესაძლებლობა, ხელი შეუწყოს წვდომას არსებულ ან დამატებით (გარე) რესურსებზე ",null,null,null,null,null,{"$f":"IF(D13=\"x\",-2,0)","v":0},{"$f":"IF(E13=\"x\",-1,0)","v":0},{"$f":"IF(F13=\"x\",0,0)","v":0},{"$f":"IF(G13=\"x\",1,0)","v":0},{"$f":"IF(H13=\"x\",2,0)","v":0}]
[null,9,"დაინტერესებული მხარის შესაძლებლობა არამატერიალური მხარდაჭერის გასაწევად ",null,null,null,null,null,{"$f":"IF(D14=\"x\",-2,0)","v":0},{"$f":"IF(E14=\"x\",-1,0)","v":0},{"$f":"IF(F14=\"x\",0,0)","v":0},{"$f":"IF(G14=\"x\",1,0)","v":0},{"$f":"IF(H14=\"x\",2,0)","v":0}]
[null,10,"დაინტერესებული მხარის გავლენა შრომის ბაზარზე",null,null,null,null,null,{"$f":"IF(D15=\"x\",-2,0)","v":0},{"$f":"IF(E15=\"x\",-1,0)","v":0},{"$f":"IF(F15=\"x\",0,0)","v":0},{"$f":"IF(G15=\"x\",1,0)","v":0},{"$f":"IF(H15=\"x\",2,0)","v":0}]
[null,null,"(3) ადამიანური კაპიტალი",null,null,null,null,null,null,null,null,null,null,{"$f":"SUM(I17:M21)","v":0},{"$f":"(((N16-(-10))*(1-0))/(10-(-10)))+0","v":0.5}]
[null,11,"დაინტერესებული მხარის ცოდნა/უნარები კონკრეტულ თემასთან მიმართებით",null,null,null,null,null,{"$f":"IF(D17=\"x\",-2,0)","v":0},{"$f":"IF(E17=\"x\",-1,0)","v":0},{"$f":"IF(F17=\"x\",0,0)","v":0},{"$f":"IF(G17=\"x\",1,0)","v":0},{"$f":"IF(H17=\"x\",2,0)","v":0},null,"შეწონილი მნიშვნელობა"]
[null,12,"დაინტერესებული მხარის ინფორმირებულობა კონკრეტულ თემაზე",null,null,null,null,null,{"$f":"IF(D18=\"x\",-2,0)","v":0},{"$f":"IF(E18=\"x\",-1,0)","v":0},{"$f":"IF(F18=\"x\",0,0)","v":0},{"$f":"IF(G18=\"x\",1,0)","v":0},{"$f":"IF(H18=\"x\",2,0)","v":0},null,{"$f":"O16*'1_COMMUNITY EVALUATION'!N22","v":0.25}]
[null,13,"დაინტერესებული მხარის შესაძლებლობა, ჩაერთოს საზოგადოებრივ დებატებში",null,null,null,null,null,{"$f":"IF(D19=\"x\",-2,0)","v":0},{"$f":"IF(E19=\"x\",-1,0)","v":0},{"$f":"IF(F19=\"x\",0,0)","v":0},{"$f":"IF(G19=\"x\",1,0)","v":0},{"$f":"IF(H19=\"x\",2,0)","v":0}]
[null,14,"დაინტერესებული მხარის შესაძლებლობა, კომუნიკაცია დაამყაროს სხვადასხვა მედიასაშუალების გამოყენებით ",null,null,null,null,null,{"$f":"IF(D20=\"x\",-2,0)","v":0},{"$f":"IF(E20=\"x\",-1,0)","v":0},{"$f":"IF(F20=\"x\",0,0)","v":0},{"$f":"IF(G20=\"x\",1,0)","v":0},{"$f":"IF(H20=\"x\",2,0)","v":0}]
[null,15,"დაინტერესებული მხარის ხელმისაწვდომობა საჯარო სივრცეებზე  ",null,null,null,null,null,{"$f":"IF(D21=\"x\",-2,0)","v":0},{"$f":"IF(E21=\"x\",-1,0)","v":0},{"$f":"IF(F21=\"x\",0,0)","v":0},{"$f":"IF(G21=\"x\",1,0)","v":0},{"$f":"IF(H21=\"x\",2,0)","v":0}]
[null,null,"(4) პოლიტიკური კაპიტალი",null,null,null,null,null,null,null,null,null,null,{"$f":"SUM(I23:M27)","v":0},{"$f":"(((N22-(-10))*(1-0))/(10-(-10)))+0","v":0.5}]
[null,16,"ადგილობრივი ადმინისტრაციის ნდობა დაინტერესებული მხარის მიმართ",null,null,null,null,null,{"$f":"IF(D23=\"x\",-2,0)","v":0},{"$f":"IF(E23=\"x\",-1,0)","v":0},{"$f":"IF(F23=\"x\",0,0)","v":0},{"$f":"IF(G23=\"x\",1,0)","v":0},{"$f":"IF(H23=\"x\",2,0)","v":0},null,"შეწონილი მნიშვნელობა"]
[null,17,"დაინტერესებული მხარის შესაძლებლობა, ჩართოს სხვა პოლიტიკური აქტორები",null,null,null,null,null,{"$f":"IF(D24=\"x\",-2,0)","v":0},{"$f":"IF(E24=\"x\",-1,0)","v":0},{"$f":"IF(F24=\"x\",0,0)","v":0},{"$f":"IF(G24=\"x\",1,0)","v":0},{"$f":"IF(H24=\"x\",2,0)","v":0},null,{"$f":"O22*'1_COMMUNITY EVALUATION'!N31","v":0.25}]
[null,18,"დაინტერესებული მხარის შესაძლებლობა, ითანამშრომლოს ადგილობრივი ხელისუფლების ორგანოებთან/სხვა დაინტერესებულ მხარეებთან ",null,null,null,null,null,{"$f":"IF(D25=\"x\",-2,0)","v":0},{"$f":"IF(E25=\"x\",-1,0)","v":0},{"$f":"IF(F25=\"x\",0,0)","v":0},{"$f":"IF(G25=\"x\",1,0)","v":0},{"$f":"IF(H25=\"x\",2,0)","v":0}]
[null,19,"დაინტერესებული მხარის შესაძლებლობა, გავლენა იქონიოს საზოგადოებრივ აზრზე ",null,null,null,null,null,{"$f":"IF(D26=\"x\",-2,0)","v":0},{"$f":"IF(E26=\"x\",-1,0)","v":0},{"$f":"IF(F26=\"x\",0,0)","v":0},{"$f":"IF(G26=\"x\",1,0)","v":0},{"$f":"IF(H26=\"x\",2,0)","v":0}]
[null,20,"დაინტერესებული მხარის ინფორმირებულობა პოლიტიკის საკითხებზე",null,null,null,null,null,{"$f":"IF(D27=\"x\",-2,0)","v":0},{"$f":"IF(E27=\"x\",-1,0)","v":0},{"$f":"IF(F27=\"x\",0,0)","v":0},{"$f":"IF(G27=\"x\",1,0)","v":0},{"$f":"IF(H27=\"x\",2,0)","v":0}]
[null,null,"რელევანტურობის ქულა",null,null,null,null,null,null,null,null,null,null,null,{"$f":"IF(D2=\"\",\"\",(SUM(O24+O18+O12+O6)/4))","v":""}]
[]
[null,null,"განზომილებები","უაღრესად ნეგატიური","უარყოფითი","არ არის რელევანტური","დადებითი","უაღღესად დადებითი",-2,-1,0,1,2,null,"ქულა თითოეულ განზომილებაში"]
[null,null,"(1) სოციალური კაპიტალი",null,null,null,null,null,null,null,null,null,null,{"$f":"SUM(I32:M36)","v":0},{"$f":"(((N31-(-10))*(1-0))/(10-(-10)))+0","v":0.5}]
[null,1,"დაინტერესებული მხარის ინტერესი, დაამყაროს კონტაქტები კონკრეტულ თემასთან დაკავშირებით",null,null,null,null,null,{"$f":"IF(D32=\"x\",-2,0)","v":0},{"$f":"IF(E32=\"x\",-1,0)","v":0},{"$f":"IF(F32=\"x\",0,0)","v":0},{"$f":"IF(G32=\"x\",1,0)","v":0},{"$f":"IF(H32=\"x\",2,0)","v":0},null,"შეწონილი მნიშვნელობა"]
[null,2,"დაინტერესებული მხარის ინტერესი, უზრუნველყოს კონკრეტული კატეგორიის აქტორთა წარმომადგენლობა თემასთან მიმართებით",null,null,null,null,null,{"$f":"IF(D33=\"x\",-2,0)","v":0},{"$f":"IF(E33=\"x\",-1,0)","v":0},{"$f":"IF(F33=\"x\",0,0)","v":0},{"$f":"IF(G33=\"x\",1,0)","v":0},{"$f":"IF(H33=\"x\",2,0)","v":0},null,{"$f":"O31*'1_COMMUNITY EVALUATION'!N4","v":0.25}]
[null,3,"დაინტერესებული მხარის ინტერესი, ჩაერთოს  ადგილობრივ სამოქალაქო აქტივობებში თემასთან მიმართებით",null,null,null,null,null,{"$f":"IF(D34=\"x\",-2,0)","v":0},{"$f":"IF(E34=\"x\",-1,0)","v":0},{"$f":"IF(F34=\"x\",0,0)","v":0},{"$f":"IF(G34=\"x\",1,0)","v":0},{"$f":"IF(H34=\"x\",2,0)","v":0}]
[null,4,"დაინტერესებული მხარის ინტერესი, დაიწყოს ცვლილების განხორციელება/გავლენა იქონიოს მასზე      ",null,null,null,null,null,{"$f":"IF(D35=\"x\",-2,0)","v":0},{"$f":"IF(E35=\"x\",-1,0)","v":0},{"$f":"IF(F35=\"x\",0,0)","v":0},{"$f":"IF(G35=\"x\",1,0)","v":0},{"$f":"IF(H35=\"x\",2,0)","v":0}]
[null,5,"დაინტერესებული მხარის ინტერესი, გაზარდოს მისი აღიარება მოქალაქეთა მხრიდან",null,null,null,null,null,{"$f":"IF(D36=\"x\",-2,0)","v":0},{"$f":"IF(E36=\"x\",-1,0)","v":0},{"$f":"IF(F36=\"x\",0,0)","v":0},{"$f":"IF(G36=\"x\",1,0)","v":0},{"$f":"IF(H36=\"x\",2,0)","v":0}]
[null,null,"(2) ეკონომიკური კაპიტალი",null,null,null,null,null,null,null,null,null,null,{"$f":"SUM(I38:M42)","v":0},{"$f":"(((N37-(-10))*(1-0))/(10-(-10)))+0","v":0.5}]
[null,6,"დაინტერესებული მხარის პოტენციური ეკონომიკური სარგებელი",null,null,null,null,null,{"$f":"IF(D38=\"x\",-2,0)","v":0},{"$f":"IF(E38=\"x\",-1,0)","v":0},{"$f":"IF(F38=\"x\",0,0)","v":0},{"$f":"IF(G38=\"x\",1,0)","v":0},{"$f":"IF(H38=\"x\",2,0)","v":0},null,"შეწონილი მნიშვნელობა"]
[null,7,"დაინტერესებული მხარის სურვილი, თავი მოუყაროს რესურსებს",null,null,null,null,null,{"$f":"IF(D39=\"x\",-2,0)","v":0},{"$f":"IF(E39=\"x\",-1,0)","v":0},{"$f":"IF(F39=\"x\",0,0)","v":0},{"$f":"IF(G39=\"x\",1,0)","v":0},{"$f":"IF(H39=\"x\",2,0)","v":0},null,{"$f":"O37*'1_COMMUNITY EVALUATION'!N13","v":0.25}]
[null,8,"დაინტერესებული მხარის სურვილი, ხელი შეუწყოს წვდომას არსებულ ან დამატებით(გარე) რესურსებზე      ",null,null,null,null,null,{"$f":"IF(D40=\"x\",-2,0)","v":0},{"$f":"IF(E40=\"x\",-1,0)","v":0},{"$f":"IF(F40=\"x\",0,0)","v":0},{"$f":"IF(G40=\"x\",1,0)","v":0},{"$f":"IF(H40=\"x\",2,0)","v":0}]
[null,9,"დაინტერესებული მხარის მზაობა არამატერიალური მხარდაჭერის გასაწევად",null,null,null,null,null,{"$f":"IF(D41=\"x\",-2,0)","v":0},{"$f":"IF(E41=\"x\",-1,0)","v":0},{"$f":"IF(F41=\"x\",0,0)","v":0},{"$f":"IF(G41=\"x\",1,0)","v":0},{"$f":"IF(H41=\"x\",2,0)","v":0}]
[null,10,"დაინტერესებული მხარის ინტერესი, გაზარდოს თავისი გავლენა შრომის ბაზარზე",null,null,null,null,null,{"$f":"IF(D42=\"x\",-2,0)","v":0},{"$f":"IF(E42=\"x\",-1,0)","v":0},{"$f":"IF(F42=\"x\",0,0)","v":0},{"$f":"IF(G42=\"x\",1,0)","v":0},{"$f":"IF(H42=\"x\",2,0)","v":0}]
[null,null,"(3) ადამიანური კაპიოტალი",null,null,null,null,null,null,null,null,null,null,{"$f":"SUM(I44:M48)","v":0},{"$f":"(((N43-(-10))*(1-0))/(10-(-10)))+0","v":0.5}]
[null,11,"დაინტერესებული მხარის ინტერესი, გააზიაროს/გააუმჯობესოს თავისი ცოდნა/უნარები კონკრეტულ თემასთან მიმართებით",null,null,null,null,null,{"$f":"IF(D44=\"x\",-2,0)","v":0},{"$f":"IF(E44=\"x\",-1,0)","v":0},{"$f":"IF(F44=\"x\",0,0)","v":0},{"$f":"IF(G44=\"x\",1,0)","v":0},{"$f":"IF(H44=\"x\",2,0)","v":0},null,"შეწონილი მნიშვნელობა"]
[null,12,"დაინტერესებული მხარის სურვილი გააზიაროს/გაზარდოს საკუთარი ინფორმირებულობა კონკრეტულ თემაზე",null,null,null,null,null,{"$f":"IF(D45=\"x\",-2,0)","v":0},{"$f":"IF(E45=\"x\",-1,0)","v":0},{"$f":"IF(F45=\"x\",0,0)","v":0},{"$f":"IF(G45=\"x\",1,0)","v":0},{"$f":"IF(H45=\"x\",2,0)","v":0},null,{"$f":"O43*'1_COMMUNITY EVALUATION'!N22","v":0.25}]
[null,13,"დაინტერესებული მხარის სურვილი, ჩაერთოს საზოგადოებრივ დებატებში",null,null,null,null,null,{"$f":"IF(D46=\"x\",-2,0)","v":0},{"$f":"IF(E46=\"x\",-1,0)","v":0},{"$f":"IF(F46=\"x\",0,0)","v":0},{"$f":"IF(G46=\"x\",1,0)","v":0},{"$f":"IF(H46=\"x\",2,0)","v":0}]
[null,14,"დაინტერესებული მხარის სურვილი, კომუნიკაცია დაამყაროს სხვადასხვა მედიასაშუალების გამოყენებით ",null,null,null,null,null,{"$f":"IF(D47=\"x\",-2,0)","v":0},{"$f":"IF(E47=\"x\",-1,0)","v":0},{"$f":"IF(F47=\"x\",0,0)","v":0},{"$f":"IF(G47=\"x\",1,0)","v":0},{"$f":"IF(H47=\"x\",2,0)","v":0}]
[null,15,"დაინტერესებული მხარის სურვილი, ჰქონდეს წვდომა საჯარო სივრცეებზე",null,null,null,null,null,{"$f":"IF(D48=\"x\",-2,0)","v":0},{"$f":"IF(E48=\"x\",-1,0)","v":0},{"$f":"IF(F48=\"x\",0,0)","v":0},{"$f":"IF(G48=\"x\",1,0)","v":0},{"$f":"IF(H48=\"x\",2,0)","v":0}]
[null,null,"(4)პოლიტიკური კაპიტალი",null,null,null,null,null,null,null,null,null,null,{"$f":"SUM(I50:M54)","v":0},{"$f":"(((N49-(-10))*(1-0))/(10-(-10)))+0","v":0.5}]
[null,16,"ადგილობრივი ადმინისტრაციის ნდობა დაინტერესებული მხარის მიმართ",null,null,null,null,null,{"$f":"IF(D50=\"x\",-2,0)","v":0},{"$f":"IF(E50=\"x\",-1,0)","v":0},{"$f":"IF(F50=\"x\",0,0)","v":0},{"$f":"IF(G50=\"x\",1,0)","v":0},{"$f":"IF(H50=\"x\",2,0)","v":0},null,"შეწონილი მნიშვნელობა"]
[null,17,"დაინტერესებული მხარის პოლიტიკური ინტერესი კონკრეტული თემის მიმართ ",null,null,null,null,null,{"$f":"IF(D51=\"x\",-2,0)","v":0},{"$f":"IF(E51=\"x\",-1,0)","v":0},{"$f":"IF(F51=\"x\",0,0)","v":0},{"$f":"IF(G51=\"x\",1,0)","v":0},{"$f":"IF(H51=\"x\",2,0)","v":0},null,{"$f":"O49*'1_COMMUNITY EVALUATION'!N31","v":0.25}]
[null,18,"დაინტერესებული მხარის სურვილი, ითანამშრომლოს ადგილობრივი ხელისუფლების ორგანოებთან",null,null,null,null,null,{"$f":"IF(D52=\"x\",-2,0)","v":0},{"$f":"IF(E52=\"x\",-1,0)","v":0},{"$f":"IF(F52=\"x\",0,0)","v":0},{"$f":"IF(G52=\"x\",1,0)","v":0},{"$f":"IF(H52=\"x\",2,0)","v":0}]
[null,19,"დაინტერესებული მხარის ინტერესი, ხმა მიაწვდინოს/მოიცვას ფართო საზოგადოება",null,null,null,null,null,{"$f":"IF(D53=\"x\",-2,0)","v":0},{"$f":"IF(E53=\"x\",-1,0)","v":0},{"$f":"IF(F53=\"x\",0,0)","v":0},{"$f":"IF(G53=\"x\",1,0)","v":0},{"$f":"IF(H53=\"x\",2,0)","v":0}]
[null,20,"დაინტერესებული მხარის სურვილი, გააზიაროს/გაზარდოს თავისი ინფორმირებულობა პოლიტიკის საკითხებზე",null,null,null,null,null,{"$f":"IF(D54=\"x\",-2,0)","v":0},{"$f":"IF(E54=\"x\",-1,0)","v":0},{"$f":"IF(F54=\"x\",0,0)","v":0},{"$f":"IF(G54=\"x\",1,0)","v":0},{"$f":"IF(H54=\"x\",2,0)","v":0}]
[null,null,"ინტერესის ქულა",null,null,null,null,null,null,null,null,null,null,null,{"$f":"IF(D2=\"\",\"\",(SUM(O51+O45+O39+O33)/4))","v":""}]

{"sheet":"STAKEHOLDER (6)","index":10,"n_rows":55,"n_cols":15,"rows_kept":55,"cut":false,"hidden":false,"merged":[[0,1,0,14],[1,3,1,14],[27,2,27,7],[54,2,54,7]]}
[null,"კონკრეტული თემის გათვალისწინებით, გთხოვთ, დაინტერესებული მხარე შეაფასოთ თითოეულ პუნქტთან მიმართებით (უაღრესად უარყოფითიდან უაღრესად დადებითამდე) და შესაბამის გრაფაში მონიშნოთ „x“. "]
[null,null,"დაინტერესებული მხარე -მიუთითეთ დასახელება"]
[null,null,"განზომილებები","უაღრესად უარყოფითი","უარყოფითი","არ არის რელევანტური","დადებითი","უაღრესად დადებითი",-2,-1,0,1,2,null,"ქულა თითოეულ განზომილებაში"]
[null,null,"(1)სოციალური კაპიტალი",null,null,null,null,null,null,null,null,null,null,{"$f":"SUM(I5:M9)","v":0},{"$f":"(((N4-(-10))*(1-0))/(10-(-10)))+0","v":0.5}]
[null,1,"დაინტერესებული მხარის შესაძლებლობა, ჩართოს სხვა დაინტერესებული მხარეები  ",null,null,null,null,null,{"$f":"IF(D5=\"x\",-2,0)","v":0},{"$f":"IF(E5=\"x\",-1,0)","v":0},{"$f":"IF(F5=\"x\",0,0)","v":0},{"$f":"IF(G5=\"x\",1,0)","v":0},{"$f":"IF(H5=\"x\",2,0)","v":0},null,"შეწონილი მნიშვნელობა"]
[null,2,"კონკრეტული კატეგორიის აქტორთა წარმომადგენლობითი დონე (მრავალი სხვა მოქალაქის ინტერესების წარმოდგენა)",null,null,null,null,null,{"$f":"IF(D6=\"x\",-2,0)","v":0},{"$f":"IF(E6=\"x\",-1,0)","v":0},{"$f":"IF(F6=\"x\",0,0)","v":0},{"$f":"IF(G6=\"x\",1,0)","v":0},{"$f":"IF(H6=\"x\",2,0)","v":0},null,{"$f":"O4*'1_COMMUNITY EVALUATION'!N4","v":0.25}]
[null,3,"დაინტერესებული მხარის მონაწილეობის დონე ადგილობრივ სამოქალაქო აქტივობებში",null,null,null,null,null,{"$f":"IF(D7=\"x\",-2,0)","v":0},{"$f":"IF(E7=\"x\",-1,0)","v":0},{"$f":"IF(F7=\"x\",0,0)","v":0},{"$f":"IF(G7=\"x\",1,0)","v":0},{"$f":"IF(H7=\"x\",2,0)","v":0}]
[null,4,"დაინტერესებული მხარის შესაძლებლობა, დაიწყოს ცვლილების განხორციელება/გავლენა იქონიოს მასზე",null,null,null,null,null,{"$f":"IF(D8=\"x\",-2,0)","v":0},{"$f":"IF(E8=\"x\",-1,0)","v":0},{"$f":"IF(F8=\"x\",0,0)","v":0},{"$f":"IF(G8=\"x\",1,0)","v":0},{"$f":"IF(H8=\"x\",2,0)","v":0}]
[null,5,"მოქალაქეთა მიერ დაინტერესებული მხარის აღიარების დონე ",null,null,null,null,null,{"$f":"IF(D9=\"x\",-2,0)","v":0},{"$f":"IF(E9=\"x\",-1,0)","v":0},{"$f":"IF(F9=\"x\",0,0)","v":0},{"$f":"IF(G9=\"x\",1,0)","v":0},{"$f":"IF(H9=\"x\",2,0)","v":0}]
[null,null,"(2) ეკონომიკური კაპიტალი",null,null,null,null,null,null,null,null,null,null,{"$f":"SUM(I11:M15)","v":0},{"$f":"(((N10-(-10))*(1-0))/(10-(-10)))+0","v":0.5}]
[null,6,"დაინტერესებული მხარის შესაძლებლობა, შეასრულოს დონორის ფუნქცია",null,null,null,null,null,{"$f":"IF(D11=\"x\",-2,0)","v":0},{"$f":"IF(E11=\"x\",-1,0)","v":0},{"$f":"IF(F11=\"x\",0,0)","v":0},{"$f":"IF(G11=\"x\",1,0)","v":0},{"$f":"IF(H11=\"x\",2,0)","v":0},null,"შეწონილი მნიშვნელობა"]
[null,7,"დაინტერესებული მხარის შესაძლებლობა, გავლენა მოახდინოს რესურსების განაწილებაზე ",null,null,null,null,null,{"$f":"IF(D12=\"x\",-2,0)","v":0},{"$f":"IF(E12=\"x\",-1,0)","v":0},{"$f":"IF(F12=\"x\",0,0)","v":0},{"$f":"IF(G12=\"x\",1,0)","v":0},{"$f":"IF(H12=\"x\",2,0)","v":0},null,{"$f":"O10*'1_COMMUNITY EVALUATION'!N13","v":0.25}]
[null,8,"დაინტერესებული მხარის შესაძლებლობა, ხელი შეუწყოს წვდომას არსებულ ან დამატებით (გარე) რესურსებზე ",null,null,null,null,null,{"$f":"IF(D13=\"x\",-2,0)","v":0},{"$f":"IF(E13=\"x\",-1,0)","v":0},{"$f":"IF(F13=\"x\",0,0)","v":0},{"$f":"IF(G13=\"x\",1,0)","v":0},{"$f":"IF(H13=\"x\",2,0)","v":0}]
[null,9,"დაინტერესებული მხარის შესაძლებლობა არამატერიალური მხარდაჭერის გასაწევად ",null,null,null,null,null,{"$f":"IF(D14=\"x\",-2,0)","v":0},{"$f":"IF(E14=\"x\",-1,0)","v":0},{"$f":"IF(F14=\"x\",0,0)","v":0},{"$f":"IF(G14=\"x\",1,0)","v":0},{"$f":"IF(H14=\"x\",2,0)","v":0}]
[null,10,"დაინტერესებული მხარის გავლენა შრომის ბაზარზე",null,null,null,null,null,{"$f":"IF(D15=\"x\",-2,0)","v":0},{"$f":"IF(E15=\"x\",-1,0)","v":0},{"$f":"IF(F15=\"x\",0,0)","v":0},{"$f":"IF(G15=\"x\",1,0)","v":0},{"$f":"IF(H15=\"x\",2,0)","v":0}]
[null,null,"(3) ადამიანური კაპიტალი",null,null,null,null,null,null,null,null,null,null,{"$f":"SUM(I17:M21)","v":0},{"$f":"(((N16-(-10))*(1-0))/(10-(-10)))+0","v":0.5}]
[null,11,"დაინტერესებული მხარის ინტერესი, გააზიაროს/გააუმჯობესოს თავისი ცოდნა/უნარები კონკრეტულ თემასთან მიმართებით",null,null,null,null,null,{"$f":"IF(D17=\"x\",-2,0)","v":0},{"$f":"IF(E17=\"x\",-1,0)","v":0},{"$f":"IF(F17=\"x\",0,0)","v":0},{"$f":"IF(G17=\"x\",1,0)","v":0},{"$f":"IF(H17=\"x\",2,0)","v":0},null,"შეწონილი მნიშვნელობა"]
[null,12,"დაინტერესებული მხარის ინფორმირებულობა კონკრეტულ თემაზე",null,null,null,null,null,{"$f":"IF(D18=\"x\",-2,0)","v":0},{"$f":"IF(E18=\"x\",-1,0)","v":0},{"$f":"IF(F18=\"x\",0,0)","v":0},{"$f":"IF(G18=\"x\",1,0)","v":0},{"$f":"IF(H18=\"x\",2,0)","v":0},null,{"$f":"O16*'1_COMMUNITY EVALUATION'!N22","v":0.25}]
[null,13,"დაინტერესებული მხარის შესაძლებლობა, ჩაერთოს საზოგადოებრივ დებატებში",null,null,null,null,null,{"$f":"IF(D19=\"x\",-2,0)","v":0},{"$f":"IF(E19=\"x\",-1,0)","v":0},{"$f":"IF(F19=\"x\",0,0)","v":0},{"$f":"IF(G19=\"x\",1,0)","v":0},{"$f":"IF(H19=\"x\",2,0)","v":0}]
[null,14,"დაინტერესებული მხარის შესაძლებლობა, კომუნიკაცია დაამყაროს სხვადასხვა მედიასაშუალების გამოყენებით ",null,null,null,null,null,{"$f":"IF(D20=\"x\",-2,0)","v":0},{"$f":"IF(E20=\"x\",-1,0)","v":0},{"$f":"IF(F20=\"x\",0,0)","v":0},{"$f":"IF(G20=\"x\",1,0)","v":0},{"$f":"IF(H20=\"x\",2,0)","v":0}]
[null,15,"დაინტერესებული მხარის ხელმისაწვდომობა საჯარო სივრცეებზე  ",null,null,null,null,null,{"$f":"IF(D21=\"x\",-2,0)","v":0},{"$f":"IF(E21=\"x\",-1,0)","v":0},{"$f":"IF(F21=\"x\",0,0)","v":0},{"$f":"IF(G21=\"x\",1,0)","v":0},{"$f":"IF(H21=\"x\",2,0)","v":0}]
[null,null,"(4) პოლიტიკური კაპიტალი",null,null,null,null,null,null,null,null,null,null,{"$f":"SUM(I23:M27)","v":0},{"$f":"(((N22-(-10))*(1-0))/(10-(-10)))+0","v":0.5}]
[null,16,"ადგილობრივი ადმინისტრაციის ნდობა დაინტერესებული მხარის მიმართ",null,null,null,null,null,{"$f":"IF(D23=\"x\",-2,0)","v":0},{"$f":"IF(E23=\"x\",-1,0)","v":0},{"$f":"IF(F23=\"x\",0,0)","v":0},{"$f":"IF(G23=\"x\",1,0)","v":0},{"$f":"IF(H23=\"x\",2,0)","v":0},null,"შეწონილი მნიშვნელობა"]
[null,17,"დაინტერესებული მხარის შესაძლებლობა, ჩართოს სხვა პოლიტიკური აქტორები",null,null,null,null,null,{"$f":"IF(D24=\"x\",-2,0)","v":0},{"$f":"IF(E24=\"x\",-1,0)","v":0},{"$f":"IF(F24=\"x\",0,0)","v":0},{"$f":"IF(G24=\"x\",1,0)","v":0},{"$f":"IF(H24=\"x\",2,0)","v":0},null,{"$f":"O22*'1_COMMUNITY EVALUATION'!N31","v":0.25}]
[null,18,"დაინტერესებული მხარის შესაძლებლობა, ითანამშრომლოს ადგილობრივი ხელისუფლების ორგანოებთან/სხვა დაინტერესებულ მხარეებთან ",null,null,null,null,null,{"$f":"IF(D25=\"x\",-2,0)","v":0},{"$f":"IF(E25=\"x\",-1,0)","v":0},{"$f":"IF(F25=\"x\",0,0)","v":0},{"$f":"IF(G25=\"x\",1,0)","v":0},{"$f":"IF(H25=\"x\",2,0)","v":0}]
[null,19,"დაინტერესებული მხარის შესაძლებლობა, გავლენა იქონიოს საზოგადოებრივ აზრზე ",null,null,null,null,null,{"$f":"IF(D26=\"x\",-2,0)","v":0},{"$f":"IF(E26=\"x\",-1,0)","v":0},{"$f":"IF(F26=\"x\",0,0)","v":0},{"$f":"IF(G26=\"x\",1,0)","v":0},{"$f":"IF(H26=\"x\",2,0)","v":0}]
[null,20,"დაინტერესებული მხარის ინფორმირებულობა პოლიტიკის საკითხებზე",null,null,null,null,null,{"$f":"IF(D27=\"x\",-2,0)","v":0},{"$f":"IF(E27=\"x\",-1,0)","v":0},{"$f":"IF(F27=\"x\",0,0)","v":0},{"$f":"IF(G27=\"x\",1,0)","v":0},{"$f":"IF(H27=\"x\",2,0)","v":0}]
[null,null,"რელევანტურობის ქულა",null,null,null,null,null,null,null,null,null,null,null,{"$f":"IF(D2=\"\",\"\",(SUM(O24+O18+O12+O6)/4))","v":""}]
[]
[null,null,"განზომილებები","უაღრესად ნეგატიური","უარყოფითი","არ არის რელევანტური","დადებითი","უაღრესად დადებითი",-2,-1,0,1,2,null,"ქულა თითოეულ განზომილებაში"]
[null,null,"(1) სოციალური კაპიტალი",null,null,null,null,null,null,null,null,null,null,{"$f":"SUM(I32:M36)","v":0},{"$f":"(((N31-(-10))*(1-0))/(10-(-10)))+0","v":0.5}]
[null,1,"დაინტერესებული მხარის ინტერესი, დაამყაროს კონტაქტები კონკრეტულ თემასთან დაკავშირებით",null,null,null,null,null,{"$f":"IF(D32=\"x\",-2,0)","v":0},{"$f":"IF(E32=\"x\",-1,0)","v":0},{"$f":"IF(F32=\"x\",0,0)","v":0},{"$f":"IF(G32=\"x\",1,0)","v":0},{"$f":"IF(H32=\"x\",2,0)","v":0},null,"შეწონილი მნიშვნელობა"]
[null,2,"დაინტერესებული მხარის ინტერესი, უზრუნველყოს კონკრეტული კატეგორიის აქტორთა წარმომადგენლობა თემასთან მიმართებით",null,null,null,null,null,{"$f":"IF(D33=\"x\",-2,0)","v":0},{"$f":"IF(E33=\"x\",-1,0)","v":0},{"$f":"IF(F33=\"x\",0,0)","v":0},{"$f":"IF(G33=\"x\",1,0)","v":0},{"$f":"IF(H33=\"x\",2,0)","v":0},null,{"$f":"O31*'1_COMMUNITY EVALUATION'!N4","v":0.25}]
[null,3,"დაინტერესებული მხარის ინტერესი, ჩაერთოს  ადგილობრივ სამოქალაქო აქტივობებში თემასთან მიმართებით",null,null,null,null,null,{"$f":"IF(D34=\"x\",-2,0)","v":0},{"$f":"IF(E34=\"x\",-1,0)","v":0},{"$f":"IF(F34=\"x\",0,0)","v":0},{"$f":"IF(G34=\"x\",1,0)","v":0},{"$f":"IF(H34=\"x\",2,0)","v":0}]
[null,4,"დაინტერესებული მხარის ინტერესი, დაიწყოს ცვლილების განხორციელება/გავლენა იქონიოს მასზე      ",null,null,null,null,null,{"$f":"IF(D35=\"x\",-2,0)","v":0},{"$f":"IF(E35=\"x\",-1,0)","v":0},{"$f":"IF(F35=\"x\",0,0)","v":0},{"$f":"IF(G35=\"x\",1,0)","v":0},{"$f":"IF(H35=\"x\",2,0)","v":0}]
[null,5,"დაინტერესებული მხარის ინტერესი, გაზარდოს მისი აღიარება მოქალაქეთა მხრიდან",null,null,null,null,null,{"$f":"IF(D36=\"x\",-2,0)","v":0},{"$f":"IF(E36=\"x\",-1,0)","v":0},{"$f":"IF(F36=\"x\",0,0)","v":0},{"$f":"IF(G36=\"x\",1,0)","v":0},{"$f":"IF(H36=\"x\",2,0)","v":0}]
[null,null,"(2) ეკონომიკური კაპიტალი",null,null,null,null,null,null,null,null,null,null,{"$f":"SUM(I38:M42)","v":0},{"$f":"(((N37-(-10))*(1-0))/(10-(-10)))+0","v":0.5}]
[null,6,"დაინტერესებული მხარის პოტენციური ეკონომიკური სარგებელი",null,null,null,null,null,{"$f":"IF(D38=\"x\",-2,0)","v":0},{"$f":"IF(E38=\"x\",-1,0)","v":0},{"$f":"IF(F38=\"x\",0,0)","v":0},{"$f":"IF(G38=\"x\",1,0)","v":0},{"$f":"IF(H38=\"x\",2,0)","v":0},null,"შეწონილი მნიშვნელობა"]
[null,7,"დაინტერესებული მხარის სურვილი, თავი მოუყაროს რესურსებს",null,null,null,null,null,{"$f":"IF(D39=\"x\",-2,0)","v":0},{"$f":"IF(E39=\"x\",-1,0)","v":0},{"$f":"IF(F39=\"x\",0,0)","v":0},{"$f":"IF(G39=\"x\",1,0)","v":0},{"$f":"IF(H39=\"x\",2,0)","v":0},null,{"$f":"O37*'1_COMMUNITY EVALUATION'!N13","v":0.25}]
[null,8,"დაინტერესებული მხარის სურვილი, ხელი შეუწყოს წვდომას არსებულ ან დამატებით(გარე) რესურსებზე       ",null,null,null,null,null,{"$f":"IF(D40=\"x\",-2,0)","v":0},{"$f":"IF(E40=\"x\",-1,0)","v":0},{"$f":"IF(F40=\"x\",0,0)","v":0},{"$f":"IF(G40=\"x\",1,0)","v":0},{"$f":"IF(H40=\"x\",2,0)","v":0}]
[null,9,"დაინტერესებული მხარის მზაობა არამატერიალური მხარდაჭერის გასაწევად",null,null,null,null,null,{"$f":"IF(D41=\"x\",-2,0)","v":0},{"$f":"IF(E41=\"x\",-1,0)","v":0},{"$f":"IF(F41=\"x\",0,0)","v":0},{"$f":"IF(G41=\"x\",1,0)","v":0},{"$f":"IF(H41=\"x\",2,0)","v":0}]
[null,10,"დაინტერესებული მხარის ინტერესი, გაზარდოს თავისი გავლენა შრომის ბაზარზე",null,null,null,null,null,{"$f":"IF(D42=\"x\",-2,0)","v":0},{"$f":"IF(E42=\"x\",-1,0)","v":0},{"$f":"IF(F42=\"x\",0,0)","v":0},{"$f":"IF(G42=\"x\",1,0)","v":0},{"$f":"IF(H42=\"x\",2,0)","v":0}]
[null,null,"(3) ადამიანური კაპიტალი",null,null,null,null,null,null,null,null,null,null,{"$f":"SUM(I44:M48)","v":0},{"$f":"(((N43-(-10))*(1-0))/(10-(-10)))+0","v":0.5}]
[null,11,"დაინტერესებული მხარის ინტერესი, გააზიაროს/გაუმჯობესოს თავისი ცოდნა/უნარები  კონკრეტულ თემასთან მიმართებით",null,null,null,null,null,{"$f":"IF(D44=\"x\",-2,0)","v":0},{"$f":"IF(E44=\"x\",-1,0)","v":0},{"$f":"IF(F44=\"x\",0,0)","v":0},{"$f":"IF(G44=\"x\",1,0)","v":0},{"$f":"IF(H44=\"x\",2,0)","v":0},null,"შეწონილი მნიშვნელობა"]
[null,12,"დაინტერესებული მხარის სურვილი გააზიაროს/გაზარდოს საკუთარი ინფორმირებულობა კონკრეტულ თემაზე",null,null,null,null,null,{"$f":"IF(D45=\"x\",-2,0)","v":0},{"$f":"IF(E45=\"x\",-1,0)","v":0},{"$f":"IF(F45=\"x\",0,0)","v":0},{"$f":"IF(G45=\"x\",1,0)","v":0},{"$f":"IF(H45=\"x\",2,0)","v":0},null,{"$f":"O43*'1_COMMUNITY EVALUATION'!N22","v":0.25}]
[null,13,"დაინტერესებული მხარის სურვილი, ჩაერთოს საზოგადოებრივ დებატებში",null,null,null,null,null,{"$f":"IF(D46=\"x\",-2,0)","v":0},{"$f":"IF(E46=\"x\",-1,0)","v":0},{"$f":"IF(F46=\"x\",0,0)","v":0},{"$f":"IF(G46=\"x\",1,0)","v":0},{"$f":"IF(H46=\"x\",2,0)","v":0}]
[null,14,"დაინტერესებული მხარის სურვილი, კომუნიკაცია დაამყაროს სხვადასხვა მედიასაშუალების გამოყენებით ",null,null,null,null,null,{"$f":"IF(D47=\"x\",-2,0)","v":0},{"$f":"IF(E47=\"x\",-1,0)","v":0},{"$f":"IF(F47=\"x\",0,0)","v":0},{"$f":"IF(G47=\"x\",1,0)","v":0},{"$f":"IF(H47=\"x\",2,0)","v":0}]
[null,15,"დაინტერესებული მხარის სურვილი, ჰქონდეს წვდომა საჯარო სივრცეებზე",null,null,null,null,null,{"$f":"IF(D48=\"x\",-2,0)","v":0},{"$f":"IF(E48=\"x\",-1,0)","v":0},{"$f":"IF(F48=\"x\",0,0)","v":0},{"$f":"IF(G48=\"x\",1,0)","v":0},{"$f":"IF(H48=\"x\",2,0)","v":0}]
[null,null,"(4) პოლიტიკური კაპიტალი",null,null,null,null,null,null,null,null,null,null,{"$f":"SUM(I50:M54)","v":0},{"$f":"(((N49-(-10))*(1-0))/(10-(-10)))+0","v":0.5}]
[null,16,"დაინტერესებული მხარის ნდობა ადგილობრივი ადმინისტრაციის მიმართ",null,null,null,null,null,{"$f":"IF(D50=\"x\",-2,0)","v":0},{"$f":"IF(E50=\"x\",-1,0)","v":0},{"$f":"IF(F50=\"x\",0,0)","v":0},{"$f":"IF(G50=\"x\",1,0)","v":0},{"$f":"IF(H50=\"x\",2,0)","v":0},null,"შეწონილი მნიშვნელობა"]
[null,17,"დაინტერესებული მხარის პოლიტიკური ინტერესი კონკრეტული თემის მიმართ ",null,null,null,null,null,{"$f":"IF(D51=\"x\",-2,0)","v":0},{"$f":"IF(E51=\"x\",-1,0)","v":0},{"$f":"IF(F51=\"x\",0,0)","v":0},{"$f":"IF(G51=\"x\",1,0)","v":0},{"$f":"IF(H51=\"x\",2,0)","v":0},null,{"$f":"O49*'1_COMMUNITY EVALUATION'!N31","v":0.25}]
[null,18,"დაინტერესებული მხარის სურვილი, ითანამშრომლოს ადგილობრივი ხელისუფლების ორგანოებთან",null,null,null,null,null,{"$f":"IF(D52=\"x\",-2,0)","v":0},{"$f":"IF(E52=\"x\",-1,0)","v":0},{"$f":"IF(F52=\"x\",0,0)","v":0},{"$f":"IF(G52=\"x\",1,0)","v":0},{"$f":"IF(H52=\"x\",2,0)","v":0}]
[null,19,"დაინტერესებული მხარის ინტერესი, ხმა მიაწვდინოს/მოიცვას ფართო საზოგადოება",null,null,null,null,null,{"$f":"IF(D53=\"x\",-2,0)","v":0},{"$f":"IF(E53=\"x\",-1,0)","v":0},{"$f":"IF(F53=\"x\",0,0)","v":0},{"$f":"IF(G53=\"x\",1,0)","v":0},{"$f":"IF(H53=\"x\",2,0)","v":0}]
[null,20,"დაინტერესებული მხარის სურვილი, გააზიაროს/გაზარდოს თავისი ინფორმირებულობა პოლიტიკის საკითხებზე",null,null,null,null,null,{"$f":"IF(D54=\"x\",-2,0)","v":0},{"$f":"IF(E54=\"x\",-1,0)","v":0},{"$f":"IF(F54=\"x\",0,0)","v":0},{"$f":"IF(G54=\"x\",1,0)","v":0},{"$f":"IF(H54=\"x\",2,0)","v":0}]
[null,null,"ინტერესის ქულა",null,null,null,null,null,null,null,null,null,null,null,{"$f":"IF(D2=\"\",\"\",(SUM(O51+O45+O39+O33)/4))","v":""}]

{"sheet":"STAKEHOLDER (7)","index":11,"n_rows":55,"n_cols":15,"rows_kept":55,"cut":false,"hidden":false,"merged":[[0,1,0,14],[1,3,1,14],[27,2,27,7],[54,2,54,7]]}
[null,"კონკრეტული თემის გათვალისწინებით, გთხოვთ, დაინტერესებული მხარე შეაფასოთ თითოეულ პუნქტთან მიმართებით (უაღრესად უარყოფითიდან უაღრესად დადებითამდე) და შესაბამის გრაფაში მონიშნოთ „x“. "]
[null,null,"დაინტერესებული მხარე -მიუთითეთ დასახელება"]
[null,null,"განზომილებები","უაღრესად უარყოფითი","Negative","არ არის რელევანტური","დადებითი","უაღრესად დადებითი",-2,-1,0,1,2,null,"ქულა თითოეულ განზომილებაში"]
[null,null,"(1)სოციალური კაპიტალი",null,null,null,null,null,null,null,null,null,null,{"$f":"SUM(I5:M9)","v":0},{"$f":"(((N4-(-10))*(1-0))/(10-(-10)))+0","v":0.5}]
[null,1,"დაინტერესებული მხარის შესაძლებლობა, ჩართოს სხვა დაინტერესებული მხარეები ",null,null,null,null,null,{"$f":"IF(D5=\"x\",-2,0)","v":0},{"$f":"IF(E5=\"x\",-1,0)","v":0},{"$f":"IF(F5=\"x\",0,0)","v":0},{"$f":"IF(G5=\"x\",1,0)","v":0},{"$f":"IF(H5=\"x\",2,0)","v":0},null,"შეწონილი მნიშვნელობა"]
[null,2,"კონკრეტული კატეგორიის აქტორთა წარმომადგენლობითი დონე (მრავალი სხვა მოქალაქის ინტერესების წარმოდგენა)",null,null,null,null,null,{"$f":"IF(D6=\"x\",-2,0)","v":0},{"$f":"IF(E6=\"x\",-1,0)","v":0},{"$f":"IF(F6=\"x\",0,0)","v":0},{"$f":"IF(G6=\"x\",1,0)","v":0},{"$f":"IF(H6=\"x\",2,0)","v":0},null,{"$f":"O4*'1_COMMUNITY EVALUATION'!N4","v":0.25}]
[null,3,"დაინტერესებული მხარის მონაწილეობის დონე ადგილობრივ სამოქალაქო აქტივობებში",null,null,null,null,null,{"$f":"IF(D7=\"x\",-2,0)","v":0},{"$f":"IF(E7=\"x\",-1,0)","v":0},{"$f":"IF(F7=\"x\",0,0)","v":0},{"$f":"IF(G7=\"x\",1,0)","v":0},{"$f":"IF(H7=\"x\",2,0)","v":0}]
[null,4,"დაინტერესებული მხარის შესაძლებლობა, დაიწყოს ცვლილების განხორციელება/გავლენა იქონიოს მასზე",null,null,null,null,null,{"$f":"IF(D8=\"x\",-2,0)","v":0},{"$f":"IF(E8=\"x\",-1,0)","v":0},{"$f":"IF(F8=\"x\",0,0)","v":0},{"$f":"IF(G8=\"x\",1,0)","v":0},{"$f":"IF(H8=\"x\",2,0)","v":0}]
[null,5,"მოქალაქეთა მიერ დაინტერესებული მხარის აღიარების დონე ",null,null,null,null,null,{"$f":"IF(D9=\"x\",-2,0)","v":0},{"$f":"IF(E9=\"x\",-1,0)","v":0},{"$f":"IF(F9=\"x\",0,0)","v":0},{"$f":"IF(G9=\"x\",1,0)","v":0},{"$f":"IF(H9=\"x\",2,0)","v":0}]
[null,null,"(2) ეკონომიკური კაპიტალი",null,null,null,null,null,null,null,null,null,null,{"$f":"SUM(I11:M15)","v":0},{"$f":"(((N10-(-10))*(1-0))/(10-(-10)))+0","v":0.5}]
[null,6,"დაინტერესებული მხარის შესაძლებლობა, შეასრულოს დონორის ფუნქცია",null,null,null,null,null,{"$f":"IF(D11=\"x\",-2,0)","v":0},{"$f":"IF(E11=\"x\",-1,0)","v":0},{"$f":"IF(F11=\"x\",0,0)","v":0},{"$f":"IF(G11=\"x\",1,0)","v":0},{"$f":"IF(H11=\"x\",2,0)","v":0},null,"შეწონილი მნიშვნელობა"]
[null,7,"დაინტერესებული მხარის შესაძლებლობა, გავლენა მოახდინოს რესურსების განაწილებაზე ",null,null,null,null,null,{"$f":"IF(D12=\"x\",-2,0)","v":0},{"$f":"IF(E12=\"x\",-1,0)","v":0},{"$f":"IF(F12=\"x\",0,0)","v":0},{"$f":"IF(G12=\"x\",1,0)","v":0},{"$f":"IF(H12=\"x\",2,0)","v":0},null,{"$f":"O10*'1_COMMUNITY EVALUATION'!N13","v":0.25}]
[null,8,"დაინტერესებული მხარის შესაძლებლობა, ხელი შეუწყოს წვდომას არსებულ ან დამატებით (გარე) რესურსებზე ",null,null,null,null,null,{"$f":"IF(D13=\"x\",-2,0)","v":0},{"$f":"IF(E13=\"x\",-1,0)","v":0},{"$f":"IF(F13=\"x\",0,0)","v":0},{"$f":"IF(G13=\"x\",1,0)","v":0},{"$f":"IF(H13=\"x\",2,0)","v":0}]
[null,9,"დაინტერესებული მხარის შესაძლებლობა არამატერიალური მხარდაჭერის გასაწევად ",null,null,null,null,null,{"$f":"IF(D14=\"x\",-2,0)","v":0},{"$f":"IF(E14=\"x\",-1,0)","v":0},{"$f":"IF(F14=\"x\",0,0)","v":0},{"$f":"IF(G14=\"x\",1,0)","v":0},{"$f":"IF(H14=\"x\",2,0)","v":0}]
[null,10,"დაინტერესებული მხარის გავლენა შრომის ბაზარზე",null,null,null,null,null,{"$f":"IF(D15=\"x\",-2,0)","v":0},{"$f":"IF(E15=\"x\",-1,0)","v":0},{"$f":"IF(F15=\"x\",0,0)","v":0},{"$f":"IF(G15=\"x\",1,0)","v":0},{"$f":"IF(H15=\"x\",2,0)","v":0}]
[null,null,"(3) ადამიანური კაპიტალი",null,null,null,null,null,null,null,null,null,null,{"$f":"SUM(I17:M21)","v":0},{"$f":"(((N16-(-10))*(1-0))/(10-(-10)))+0","v":0.5}]
[null,11,"დაინტერესებული მხარის ცოდნა/უნარები კონკრეტულ თემასთან მიმართებით",null,null,null,null,null,{"$f":"IF(D17=\"x\",-2,0)","v":0},{"$f":"IF(E17=\"x\",-1,0)","v":0},{"$f":"IF(F17=\"x\",0,0)","v":0},{"$f":"IF(G17=\"x\",1,0)","v":0},{"$f":"IF(H17=\"x\",2,0)","v":0},null,"შეწონილი მნიშვნელობა"]
[null,12,"დაინტერესებული მხარის ინფორმირებულობა კონკრეტულ თემაზე",null,null,null,null,null,{"$f":"IF(D18=\"x\",-2,0)","v":0},{"$f":"IF(E18=\"x\",-1,0)","v":0},{"$f":"IF(F18=\"x\",0,0)","v":0},{"$f":"IF(G18=\"x\",1,0)","v":0},{"$f":"IF(H18=\"x\",2,0)","v":0},null,{"$f":"O16*'1_COMMUNITY EVALUATION'!N22","v":0.25}]
[null,13,"დაინტერესებული მხარის შესაძლებლობა, ჩაერთოს საზოგადოებრივ დებატებში",null,null,null,null,null,{"$f":"IF(D19=\"x\",-2,0)","v":0},{"$f":"IF(E19=\"x\",-1,0)","v":0},{"$f":"IF(F19=\"x\",0,0)","v":0},{"$f":"IF(G19=\"x\",1,0)","v":0},{"$f":"IF(H19=\"x\",2,0)","v":0}]
[null,14,"დაინტერესებული მხარის შესაძლებლობა, კომუნიკაცია დაამყაროს სხვადასხვა მედიასაშუალების გამოყენებით ",null,null,null,null,null,{"$f":"IF(D20=\"x\",-2,0)","v":0},{"$f":"IF(E20=\"x\",-1,0)","v":0},{"$f":"IF(F20=\"x\",0,0)","v":0},{"$f":"IF(G20=\"x\",1,0)","v":0},{"$f":"IF(H20=\"x\",2,0)","v":0}]
[null,15,"დაინტერესებული მხარის ხელმისაწვდომობა საჯარო სივრცეებზე  ",null,null,null,null,null,{"$f":"IF(D21=\"x\",-2,0)","v":0},{"$f":"IF(E21=\"x\",-1,0)","v":0},{"$f":"IF(F21=\"x\",0,0)","v":0},{"$f":"IF(G21=\"x\",1,0)","v":0},{"$f":"IF(H21=\"x\",2,0)","v":0}]
[null,null,"(4) პოლიტიკური კაპიტალი",null,null,null,null,null,null,null,null,null,null,{"$f":"SUM(I23:M27)","v":0},{"$f":"(((N22-(-10))*(1-0))/(10-(-10)))+0","v":0.5}]
[null,16,"ადგილობრივი ადმინისტრაციის ნდობა დაინტერესებული მხარის მიმართ",null,null,null,null,null,{"$f":"IF(D23=\"x\",-2,0)","v":0},{"$f":"IF(E23=\"x\",-1,0)","v":0},{"$f":"IF(F23=\"x\",0,0)","v":0},{"$f":"IF(G23=\"x\",1,0)","v":0},{"$f":"IF(H23=\"x\",2,0)","v":0},null,"შეწონილი მნიშვნელობა"]
[null,17,"დაინტერესებული მხარის შესაძლებლობა, ჩართოს სხვა პოლიტიკური აქტორები",null,null,null,null,null,{"$f":"IF(D24=\"x\",-2,0)","v":0},{"$f":"IF(E24=\"x\",-1,0)","v":0},{"$f":"IF(F24=\"x\",0,0)","v":0},{"$f":"IF(G24=\"x\",1,0)","v":0},{"$f":"IF(H24=\"x\",2,0)","v":0},null,{"$f":"O22*'1_COMMUNITY EVALUATION'!N31","v":0.25}]
[null,18,"დაინტერესებული მხარის შესაძლებლობა, ითანამშრომლოს ადგილობრივი ხელისუფლების ორგანოებთან/სხვა დაინტერესებულ მხარეებთან ",null,null,null,null,null,{"$f":"IF(D25=\"x\",-2,0)","v":0},{"$f":"IF(E25=\"x\",-1,0)","v":0},{"$f":"IF(F25=\"x\",0,0)","v":0},{"$f":"IF(G25=\"x\",1,0)","v":0},{"$f":"IF(H25=\"x\",2,0)","v":0}]
[null,19,"დაინტერესებული მხარის შესაძლებლობა, გავლენა იქონიოს საზოგადოებრივ აზრზე ",null,null,null,null,null,{"$f":"IF(D26=\"x\",-2,0)","v":0},{"$f":"IF(E26=\"x\",-1,0)","v":0},{"$f":"IF(F26=\"x\",0,0)","v":0},{"$f":"IF(G26=\"x\",1,0)","v":0},{"$f":"IF(H26=\"x\",2,0)","v":0}]
[null,20,"დაინტერესებული მხარის ინფორმირებულობა პოლიტიკის საკითხებზე",null,null,null,null,null,{"$f":"IF(D27=\"x\",-2,0)","v":0},{"$f":"IF(E27=\"x\",-1,0)","v":0},{"$f":"IF(F27=\"x\",0,0)","v":0},{"$f":"IF(G27=\"x\",1,0)","v":0},{"$f":"IF(H27=\"x\",2,0)","v":0}]
[null,null,"რელევანტურობის ქულა",null,null,null,null,null,null,null,null,null,null,null,{"$f":"IF(D2=\"\",\"\",(SUM(O24+O18+O12+O6)/4))","v":""}]
[]
[null,null,"განზომილებები","უაღრესად უარყოფითი","უარყოფითი","არ არის რელევანტური","დადებითი","უაღრესად დადებითი",-2,-1,0,1,2,null,"ქულა თითოეულ განზომილებაში"]
[null,null,"(1)სოციალური კაპიტალი",null,null,null,null,null,null,null,null,null,null,{"$f":"SUM(I32:M36)","v":0},{"$f":"(((N31-(-10))*(1-0))/(10-(-10)))+0","v":0.5}]
[null,1,"დაინტერესებული მხარის ინტერესი, დაამყაროს კონტაქტები კონკრეტულ თემასთან დაკავშირებით",null,null,null,null,null,{"$f":"IF(D32=\"x\",-2,0)","v":0},{"$f":"IF(E32=\"x\",-1,0)","v":0},{"$f":"IF(F32=\"x\",0,0)","v":0},{"$f":"IF(G32=\"x\",1,0)","v":0},{"$f":"IF(H32=\"x\",2,0)","v":0},null,"შეწონილი მნიშვნელობა"]
[null,2,"დაინტერესებული მხარის ინტერესი, უზრუნველყოს კონკრეტული კატეგორიის აქტორთა წარმომადგენლობა თემასთან მიმართებით",null,null,null,null,null,{"$f":"IF(D33=\"x\",-2,0)","v":0},{"$f":"IF(E33=\"x\",-1,0)","v":0},{"$f":"IF(F33=\"x\",0,0)","v":0},{"$f":"IF(G33=\"x\",1,0)","v":0},{"$f":"IF(H33=\"x\",2,0)","v":0},null,{"$f":"O31*'1_COMMUNITY EVALUATION'!N4","v":0.25}]
[null,3,"დაინტერესებული მხარის ინტერესი, ჩაერთოს  ადგილობრივ სამოქალაქო აქტივობებში თემასთან მიმართებით",null,null,null,null,null,{"$f":"IF(D34=\"x\",-2,0)","v":0},{"$f":"IF(E34=\"x\",-1,0)","v":0},{"$f":"IF(F34=\"x\",0,0)","v":0},{"$f":"IF(G34=\"x\",1,0)","v":0},{"$f":"IF(H34=\"x\",2,0)","v":0}]
[null,4,"დაინტერესებული მხარის ინტერესი, დაიწყოს ცვლილების განხორციელება/გავლენა იქონიოს მასზე      ",null,null,null,null,null,{"$f":"IF(D35=\"x\",-2,0)","v":0},{"$f":"IF(E35=\"x\",-1,0)","v":0},{"$f":"IF(F35=\"x\",0,0)","v":0},{"$f":"IF(G35=\"x\",1,0)","v":0},{"$f":"IF(H35=\"x\",2,0)","v":0}]
[null,5,"დაინტერესებული მხარის ინტერესი, გაზარდოს მისი აღიარება მოქალაქეთა მხრიდან",null,null,null,null,null,{"$f":"IF(D36=\"x\",-2,0)","v":0},{"$f":"IF(E36=\"x\",-1,0)","v":0},{"$f":"IF(F36=\"x\",0,0)","v":0},{"$f":"IF(G36=\"x\",1,0)","v":0},{"$f":"IF(H36=\"x\",2,0)","v":0}]
[null,null,"(2) ეკონომიკური კაპიტალი",null,null,null,null,null,null,null,null,null,null,{"$f":"SUM(I38:M42)","v":0},{"$f":"(((N37-(-10))*(1-0))/(10-(-10)))+0","v":0.5}]
[null,6,"დაინტერესებული მხარის პოტენციური ეკონომიკური სარგებელი",null,null,null,null,null,{"$f":"IF(D38=\"x\",-2,0)","v":0},{"$f":"IF(E38=\"x\",-1,0)","v":0},{"$f":"IF(F38=\"x\",0,0)","v":0},{"$f":"IF(G38=\"x\",1,0)","v":0},{"$f":"IF(H38=\"x\",2,0)","v":0},null,"შეწონილი მნიშვნელობა"]
[null,7,"დაინტერესებული მხარის სურვილი, თავი მოუყაროს რესურსებს",null,null,null,null,null,{"$f":"IF(D39=\"x\",-2,0)","v":0},{"$f":"IF(E39=\"x\",-1,0)","v":0},{"$f":"IF(F39=\"x\",0,0)","v":0},{"$f":"IF(G39=\"x\",1,0)","v":0},{"$f":"IF(H39=\"x\",2,0)","v":0},null,{"$f":"O37*'1_COMMUNITY EVALUATION'!N13","v":0.25}]
[null,8,"დაინტერესებული მხარის სურვილი, ხელი შეუწყოს წვდომას არსებულ ან დამატებით(გარე) რესურსებზე       ",null,null,null,null,null,{"$f":"IF(D40=\"x\",-2,0)","v":0},{"$f":"IF(E40=\"x\",-1,0)","v":0},{"$f":"IF(F40=\"x\",0,0)","v":0},{"$f":"IF(G40=\"x\",1,0)","v":0},{"$f":"IF(H40=\"x\",2,0)","v":0}]
[null,9,"დაინტერესებული მხარის მზაობა არამატერიალური მხარდაჭერის გასაწევად",null,null,null,null,null,{"$f":"IF(D41=\"x\",-2,0)","v":0},{"$f":"IF(E41=\"x\",-1,0)","v":0},{"$f":"IF(F41=\"x\",0,0)","v":0},{"$f":"IF(G41=\"x\",1,0)","v":0},{"$f":"IF(H41=\"x\",2,0)","v":0}]
[null,10,"დაინტერესებული მხარის ინტერესი, გაზარდოს თავისი გავლენა შრომის ბაზარზე",null,null,null,null,null,{"$f":"IF(D42=\"x\",-2,0)","v":0},{"$f":"IF(E42=\"x\",-1,0)","v":0},{"$f":"IF(F42=\"x\",0,0)","v":0},{"$f":"IF(G42=\"x\",1,0)","v":0},{"$f":"IF(H42=\"x\",2,0)","v":0}]
[null,null,"(3) ადამიანური კაპიტალი",null,null,null,null,null,null,null,null,null,null,{"$f":"SUM(I44:M48)","v":0},{"$f":"(((N43-(-10))*(1-0))/(10-(-10)))+0","v":0.5}]
[null,11,"დაინტერესებული მხარის ინტერესი, გააზიაროს/გააუმჯობესოს თავისი ცოდნა/უნარები კონკრეტულ თემასთან მიმართებით",null,null,null,null,null,{"$f":"IF(D44=\"x\",-2,0)","v":0},{"$f":"IF(E44=\"x\",-1,0)","v":0},{"$f":"IF(F44=\"x\",0,0)","v":0},{"$f":"IF(G44=\"x\",1,0)","v":0},{"$f":"IF(H44=\"x\",2,0)","v":0},null,"შეწონილი მნიშვნელობა"]
[null,12,"დაინტერესებული მხარის სურვილი გააზიაროს/გაზარდოს საკუთარი ინფორმირებულობა კონკრეტულ თემაზე",null,null,null,null,null,{"$f":"IF(D45=\"x\",-2,0)","v":0},{"$f":"IF(E45=\"x\",-1,0)","v":0},{"$f":"IF(F45=\"x\",0,0)","v":0},{"$f":"IF(G45=\"x\",1,0)","v":0},{"$f":"IF(H45=\"x\",2,0)","v":0},null,{"$f":"O43*'1_COMMUNITY EVALUATION'!N22","v":0.25}]
[null,13,"დაინტერესებული მხარის სურვილი, ჩაერთოს საზოგადოებრივ დებატებში",null,null,null,null,null,{"$f":"IF(D46=\"x\",-2,0)","v":0},{"$f":"IF(E46=\"x\",-1,0)","v":0},{"$f":"IF(F46=\"x\",0,0)","v":0},{"$f":"IF(G46=\"x\",1,0)","v":0},{"$f":"IF(H46=\"x\",2,0)","v":0}]
[null,14,"დაინტერესებული მხარის სურვილი, კომუნიკაცია დაამყაროს სხვადასხვა მედიასაშუალების გამოყენებით ",null,null,null,null,null,{"$f":"IF(D47=\"x\",-2,0)","v":0},{"$f":"IF(E47=\"x\",-1,0)","v":0},{"$f":"IF(F47=\"x\",0,0)","v":0},{"$f":"IF(G47=\"x\",1,0)","v":0},{"$f":"IF(H47=\"x\",2,0)","v":0}]
[null,15,"დაინტერესებული მხარის სურვილი, ჰქონდეს წვდომა საჯარო სივრცეებზე",null,null,null,null,null,{"$f":"IF(D48=\"x\",-2,0)","v":0},{"$f":"IF(E48=\"x\",-1,0)","v":0},{"$f":"IF(F48=\"x\",0,0)","v":0},{"$f":"IF(G48=\"x\",1,0)","v":0},{"$f":"IF(H48=\"x\",2,0)","v":0}]
[null,null,"(4) პოლიტიკური კაპიტალი",null,null,null,null,null,null,null,null,null,null,{"$f":"SUM(I50:M54)","v":0},{"$f":"(((N49-(-10))*(1-0))/(10-(-10)))+0","v":0.5}]
[null,16,"დაინტერესებული მხარის ნდობა ადგილობრივი ადმინისტრაციის მიმართ",null,null,null,null,null,{"$f":"IF(D50=\"x\",-2,0)","v":0},{"$f":"IF(E50=\"x\",-1,0)","v":0},{"$f":"IF(F50=\"x\",0,0)","v":0},{"$f":"IF(G50=\"x\",1,0)","v":0},{"$f":"IF(H50=\"x\",2,0)","v":0},null,"შეწონილი მნიშვნელობა"]
[null,17,"დაინტერესებული მხარის პოლიტიკური ინტერესი კონკრეტული თემის მიმართ ",null,null,null,null,null,{"$f":"IF(D51=\"x\",-2,0)","v":0},{"$f":"IF(E51=\"x\",-1,0)","v":0},{"$f":"IF(F51=\"x\",0,0)","v":0},{"$f":"IF(G51=\"x\",1,0)","v":0},{"$f":"IF(H51=\"x\",2,0)","v":0},null,{"$f":"O49*'1_COMMUNITY EVALUATION'!N31","v":0.25}]
[null,18,"დაინტერესებული მხარის სურვილი, ითანამშრომლოს ადგილობრივი ხელისუფლების ორგანოებთან",null,null,null,null,null,{"$f":"IF(D52=\"x\",-2,0)","v":0},{"$f":"IF(E52=\"x\",-1,0)","v":0},{"$f":"IF(F52=\"x\",0,0)","v":0},{"$f":"IF(G52=\"x\",1,0)","v":0},{"$f":"IF(H52=\"x\",2,0)","v":0}]
[null,19,"დაინტერესებული მხარის ინტერესი, ხმა მიაწვდინოს/მოიცვას ფართო საზოგადოება",null,null,null,null,null,{"$f":"IF(D53=\"x\",-2,0)","v":0},{"$f":"IF(E53=\"x\",-1,0)","v":0},{"$f":"IF(F53=\"x\",0,0)","v":0},{"$f":"IF(G53=\"x\",1,0)","v":0},{"$f":"IF(H53=\"x\",2,0)","v":0}]
[null,20,"დაინტერესებული მხარის სურვილი, გააზიაროს/გაზარდოს თავისი ინფორმირებულობა პოლიტიკის საკითხებზე",null,null,null,null,null,{"$f":"IF(D54=\"x\",-2,0)","v":0},{"$f":"IF(E54=\"x\",-1,0)","v":0},{"$f":"IF(F54=\"x\",0,0)","v":0},{"$f":"IF(G54=\"x\",1,0)","v":0},{"$f":"IF(H54=\"x\",2,0)","v":0}]
[null,null,"ინტერესის ქულა",null,null,null,null,null,null,null,null,null,null,null,{"$f":"IF(D2=\"\",\"\",(SUM(O51+O45+O39+O33)/4))","v":""}]

{"sheet":"STAKEHOLDER (8)","index":12,"n_rows":55,"n_cols":15,"rows_kept":55,"cut":false,"hidden":false,"merged":[[0,1,0,14],[1,3,1,14],[27,2,27,7],[54,2,54,7]]}
[null,"კონკრეტული თემის გათვალისწინებით, გთხოვთ, დაინტერესებული მხარე შეაფასოთ თითოეულ პუნქტთან მიმართებით (უაღრესად უარყოფითიდან უაღრესად დადებითამდე) და შესაბამის გრაფაში მონიშნოთ „x“. "]
[null,null,"დაინტერესებული მხარე -მიუთითეთ დასახელება"]
[null,null,"განზომილებები","უაღრესად უარყოფითი","უარყოფითი","არ არის რელევანტური","დადებითი","უაღრესად დადებითი",-2,-1,0,1,2,null,"ქულა თითოეულ განზომილებაში"]
[null,null,"(1) სოციალური კაპიტალი",null,null,null,null,null,null,null,null,null,null,{"$f":"SUM(I5:M9)","v":0},{"$f":"(((N4-(-10))*(1-0))/(10-(-10)))+0","v":0.5}]
[null,1,"დაინტერესებული მხარის შესაძლებლობა, ჩართოს სხვა დაინტერესებული მხარეები ",null,null,null,null,null,{"$f":"IF(D5=\"x\",-2,0)","v":0},{"$f":"IF(E5=\"x\",-1,0)","v":0},{"$f":"IF(F5=\"x\",0,0)","v":0},{"$f":"IF(G5=\"x\",1,0)","v":0},{"$f":"IF(H5=\"x\",2,0)","v":0},null,"შეწონილი მნიშვნელობა"]
[null,2,"კონკრეტული კატეგორიის აქტორთა წარმომადგენლობითი დონე (მრავალი სხვა მოქალაქის ინტერესების წარმოდგენა)",null,null,null,null,null,{"$f":"IF(D6=\"x\",-2,0)","v":0},{"$f":"IF(E6=\"x\",-1,0)","v":0},{"$f":"IF(F6=\"x\",0,0)","v":0},{"$f":"IF(G6=\"x\",1,0)","v":0},{"$f":"IF(H6=\"x\",2,0)","v":0},null,{"$f":"O4*'1_COMMUNITY EVALUATION'!N4","v":0.25}]
[null,3,"დაინტერესებული მხარის მონაწილეობის დონე ადგილობრივ სამოქალაქო აქტივობებში",null,null,null,null,null,{"$f":"IF(D7=\"x\",-2,0)","v":0},{"$f":"IF(E7=\"x\",-1,0)","v":0},{"$f":"IF(F7=\"x\",0,0)","v":0},{"$f":"IF(G7=\"x\",1,0)","v":0},{"$f":"IF(H7=\"x\",2,0)","v":0}]
[null,4,"დაინტერესებული მხარის შესაძლებლობა, დაიწყოს ცვლილების განხორციელება/გავლენა იქონიოს მასზე",null,null,null,null,null,{"$f":"IF(D8=\"x\",-2,0)","v":0},{"$f":"IF(E8=\"x\",-1,0)","v":0},{"$f":"IF(F8=\"x\",0,0)","v":0},{"$f":"IF(G8=\"x\",1,0)","v":0},{"$f":"IF(H8=\"x\",2,0)","v":0}]
[null,5,"მოქალაქეთა მიერ დაინტერესებული მხარის აღიარების დონე ",null,null,null,null,null,{"$f":"IF(D9=\"x\",-2,0)","v":0},{"$f":"IF(E9=\"x\",-1,0)","v":0},{"$f":"IF(F9=\"x\",0,0)","v":0},{"$f":"IF(G9=\"x\",1,0)","v":0},{"$f":"IF(H9=\"x\",2,0)","v":0}]
[null,null,"(2) ეკონომიკური კაპიტალი",null,null,null,null,null,null,null,null,null,null,{"$f":"SUM(I11:M15)","v":0},{"$f":"(((N10-(-10))*(1-0))/(10-(-10)))+0","v":0.5}]
[null,6,"დაინტერესებული მხარის შესაძლებლობა, შეასრულოს დონორის ფუნქცია",null,null,null,null,null,{"$f":"IF(D11=\"x\",-2,0)","v":0},{"$f":"IF(E11=\"x\",-1,0)","v":0},{"$f":"IF(F11=\"x\",0,0)","v":0},{"$f":"IF(G11=\"x\",1,0)","v":0},{"$f":"IF(H11=\"x\",2,0)","v":0},null,"შეწონილი მნიშვნელობა"]
[null,7,"დაინტერესებული მხარის შესაძლებლობა, გავლენა მოახდინოს რესურსების განაწილებაზე ",null,null,null,null,null,{"$f":"IF(D12=\"x\",-2,0)","v":0},{"$f":"IF(E12=\"x\",-1,0)","v":0},{"$f":"IF(F12=\"x\",0,0)","v":0},{"$f":"IF(G12=\"x\",1,0)","v":0},{"$f":"IF(H12=\"x\",2,0)","v":0},null,{"$f":"O10*'1_COMMUNITY EVALUATION'!N13","v":0.25}]
[null,8,"დაინტერესებული მხარის შესაძლებლობა, ხელი შეუწყოს წვდომას არსებულ ან დამატებით (გარე) რესურსებზე ",null,null,null,null,null,{"$f":"IF(D13=\"x\",-2,0)","v":0},{"$f":"IF(E13=\"x\",-1,0)","v":0},{"$f":"IF(F13=\"x\",0,0)","v":0},{"$f":"IF(G13=\"x\",1,0)","v":0},{"$f":"IF(H13=\"x\",2,0)","v":0}]
[null,9,"დაინტერესებული მხარის შესაძლებლობა არამატერიალური მხარდაჭერის გასაწევად ",null,null,null,null,null,{"$f":"IF(D14=\"x\",-2,0)","v":0},{"$f":"IF(E14=\"x\",-1,0)","v":0},{"$f":"IF(F14=\"x\",0,0)","v":0},{"$f":"IF(G14=\"x\",1,0)","v":0},{"$f":"IF(H14=\"x\",2,0)","v":0}]
[null,10,"დაინტერესებული მხარის გავლენა შრომის ბაზარზე",null,null,null,null,null,{"$f":"IF(D15=\"x\",-2,0)","v":0},{"$f":"IF(E15=\"x\",-1,0)","v":0},{"$f":"IF(F15=\"x\",0,0)","v":0},{"$f":"IF(G15=\"x\",1,0)","v":0},{"$f":"IF(H15=\"x\",2,0)","v":0}]
[null,null,"(3) ადამიანური კაპიტალი",null,null,null,null,null,null,null,null,null,null,{"$f":"SUM(I17:M21)","v":0},{"$f":"(((N16-(-10))*(1-0))/(10-(-10)))+0","v":0.5}]
[null,11,"დაინტერესებული მხარის ცოდნა/უნარები კონკრეტულ თემასთან მიმართებით",null,null,null,null,null,{"$f":"IF(D17=\"x\",-2,0)","v":0},{"$f":"IF(E17=\"x\",-1,0)","v":0},{"$f":"IF(F17=\"x\",0,0)","v":0},{"$f":"IF(G17=\"x\",1,0)","v":0},{"$f":"IF(H17=\"x\",2,0)","v":0},null,"შეწონილი მნიშვნელობა"]
[null,12,"დაინტერესებული მხარის ინფორმირებულობა კონკრეტულ თემაზე",null,null,null,null,null,{"$f":"IF(D18=\"x\",-2,0)","v":0},{"$f":"IF(E18=\"x\",-1,0)","v":0},{"$f":"IF(F18=\"x\",0,0)","v":0},{"$f":"IF(G18=\"x\",1,0)","v":0},{"$f":"IF(H18=\"x\",2,0)","v":0},null,{"$f":"O16*'1_COMMUNITY EVALUATION'!N22","v":0.25}]
[null,13,"დაინტერესებული მხარის შესაძლებლობა, ჩაერთოს საზოგადოებრივ დებატებში",null,null,null,null,null,{"$f":"IF(D19=\"x\",-2,0)","v":0},{"$f":"IF(E19=\"x\",-1,0)","v":0},{"$f":"IF(F19=\"x\",0,0)","v":0},{"$f":"IF(G19=\"x\",1,0)","v":0},{"$f":"IF(H19=\"x\",2,0)","v":0}]
[null,14,"დაინტერესებული მხარის შესაძლებლობა, კომუნიკაცია დაამყაროს სხვადასხვა მედიასაშუალების გამოყენებით ",null,null,null,null,null,{"$f":"IF(D20=\"x\",-2,0)","v":0},{"$f":"IF(E20=\"x\",-1,0)","v":0},{"$f":"IF(F20=\"x\",0,0)","v":0},{"$f":"IF(G20=\"x\",1,0)","v":0},{"$f":"IF(H20=\"x\",2,0)","v":0}]
[null,15,"დაინტერესებული მხარის ხელმისაწვდომობა საჯარო სივრცეებზე  ",null,null,null,null,null,{"$f":"IF(D21=\"x\",-2,0)","v":0},{"$f":"IF(E21=\"x\",-1,0)","v":0},{"$f":"IF(F21=\"x\",0,0)","v":0},{"$f":"IF(G21=\"x\",1,0)","v":0},{"$f":"IF(H21=\"x\",2,0)","v":0}]
[null,null,"(4) პოლიტიკური კაპიტალი",null,null,null,null,null,null,null,null,null,null,{"$f":"SUM(I23:M27)","v":0},{"$f":"(((N22-(-10))*(1-0))/(10-(-10)))+0","v":0.5}]
[null,16,"ადგილობრივი ადმინისტრაციის ნდობა დაინტერესებული მხარის მიმართ",null,null,null,null,null,{"$f":"IF(D23=\"x\",-2,0)","v":0},{"$f":"IF(E23=\"x\",-1,0)","v":0},{"$f":"IF(F23=\"x\",0,0)","v":0},{"$f":"IF(G23=\"x\",1,0)","v":0},{"$f":"IF(H23=\"x\",2,0)","v":0},null,"შეწონილი მნიშვნელობა"]
[null,17,"დაინტერესებული მხარის შესაძლებლობა, ჩართოს სხვა პოლიტიკური აქტორები",null,null,null,null,null,{"$f":"IF(D24=\"x\",-2,0)","v":0},{"$f":"IF(E24=\"x\",-1,0)","v":0},{"$f":"IF(F24=\"x\",0,0)","v":0},{"$f":"IF(G24=\"x\",1,0)","v":0},{"$f":"IF(H24=\"x\",2,0)","v":0},null,{"$f":"O22*'1_COMMUNITY EVALUATION'!N31","v":0.25}]
[null,18,"დაინტერესებული მხარის შესაძლებლობა, ითანამშრომლოს ადგილობრივი ხელისუფლების ორგანოებთან/სხვა დაინტერესებულ მხარეებთან ",null,null,null,null,null,{"$f":"IF(D25=\"x\",-2,0)","v":0},{"$f":"IF(E25=\"x\",-1,0)","v":0},{"$f":"IF(F25=\"x\",0,0)","v":0},{"$f":"IF(G25=\"x\",1,0)","v":0},{"$f":"IF(H25=\"x\",2,0)","v":0}]
[null,19,"დაინტერესებული მხარის შესაძლებლობა, გავლენა იქონიოს საზოგადოებრივ აზრზე ",null,null,null,null,null,{"$f":"IF(D26=\"x\",-2,0)","v":0},{"$f":"IF(E26=\"x\",-1,0)","v":0},{"$f":"IF(F26=\"x\",0,0)","v":0},{"$f":"IF(G26=\"x\",1,0)","v":0},{"$f":"IF(H26=\"x\",2,0)","v":0}]
[null,20,"დაინტერესებული მხარის ინფორმირებულობა პოლიტიკის საკითხებზე",null,null,null,null,null,{"$f":"IF(D27=\"x\",-2,0)","v":0},{"$f":"IF(E27=\"x\",-1,0)","v":0},{"$f":"IF(F27=\"x\",0,0)","v":0},{"$f":"IF(G27=\"x\",1,0)","v":0},{"$f":"IF(H27=\"x\",2,0)","v":0}]
[null,null,"რელევანტურობის ქულა",null,null,null,null,null,null,null,null,null,null,null,{"$f":"IF(D2=\"\",\"\",(SUM(O24+O18+O12+O6)/4))","v":""}]
[]
[null,null,"განზომილებები","უაღრესად უარყოფითი","უარყოფითი","არ არის რელევანტური","დადებითი","უაღრესად დადებითი",-2,-1,0,1,2,null,"ქულა თითოეულ განზომილებაში"]
[null,null,"(1) სოციალური კაპიტალი",null,null,null,null,null,null,null,null,null,null,{"$f":"SUM(I32:M36)","v":0},{"$f":"(((N31-(-10))*(1-0))/(10-(-10)))+0","v":0.5}]
[null,1,"დაინტერესებული მხარის ინტერესი, დაამყაროს კონტაქტები კონკრეტულ თემასთან დაკავშირებით",null,null,null,null,null,{"$f":"IF(D32=\"x\",-2,0)","v":0},{"$f":"IF(E32=\"x\",-1,0)","v":0},{"$f":"IF(F32=\"x\",0,0)","v":0},{"$f":"IF(G32=\"x\",1,0)","v":0},{"$f":"IF(H32=\"x\",2,0)","v":0},null,"შეწონილი მნიშვნელობა"]
[null,2,"დაინტერესებული მხარის ინტერესი, უზრუნველყოს კონკრეტული კატეგორიის აქტორთა წარმომადგენლობა თემასთან მიმართებით",null,null,null,null,null,{"$f":"IF(D33=\"x\",-2,0)","v":0},{"$f":"IF(E33=\"x\",-1,0)","v":0},{"$f":"IF(F33=\"x\",0,0)","v":0},{"$f":"IF(G33=\"x\",1,0)","v":0},{"$f":"IF(H33=\"x\",2,0)","v":0},null,{"$f":"O31*'1_COMMUNITY EVALUATION'!N4","v":0.25}]
[null,3,"დაინტერესებული მხარის ინტერესი, ჩაერთოს  ადგილობრივ სამოქალაქო აქტივობებში თემასთან მიმართებით",null,null,null,null,null,{"$f":"IF(D34=\"x\",-2,0)","v":0},{"$f":"IF(E34=\"x\",-1,0)","v":0},{"$f":"IF(F34=\"x\",0,0)","v":0},{"$f":"IF(G34=\"x\",1,0)","v":0},{"$f":"IF(H34=\"x\",2,0)","v":0}]
[null,4,"დაინტერესებული მხარის ინტერესი, დაიწყოს ცვლილების განხორციელება/გავლენა იქონიოს მასზე ",null,null,null,null,null,{"$f":"IF(D35=\"x\",-2,0)","v":0},{"$f":"IF(E35=\"x\",-1,0)","v":0},{"$f":"IF(F35=\"x\",0,0)","v":0},{"$f":"IF(G35=\"x\",1,0)","v":0},{"$f":"IF(H35=\"x\",2,0)","v":0}]
[null,5,"დაინტერესებული მხარის ინტერესი, გაზარდოს მისი აღიარება მოქალაქეთა მხრიდან",null,null,null,null,null,{"$f":"IF(D36=\"x\",-2,0)","v":0},{"$f":"IF(E36=\"x\",-1,0)","v":0},{"$f":"IF(F36=\"x\",0,0)","v":0},{"$f":"IF(G36=\"x\",1,0)","v":0},{"$f":"IF(H36=\"x\",2,0)","v":0}]
[null,null,"(2) ეკონომიკური კაპიტალი",null,null,null,null,null,null,null,null,null,null,{"$f":"SUM(I38:M42)","v":0},{"$f":"(((N37-(-10))*(1-0))/(10-(-10)))+0","v":0.5}]
[null,6,"დაინტერესებული მხარის პოტენციური ეკონომიკური სარგებელი",null,null,null,null,null,{"$f":"IF(D38=\"x\",-2,0)","v":0},{"$f":"IF(E38=\"x\",-1,0)","v":0},{"$f":"IF(F38=\"x\",0,0)","v":0},{"$f":"IF(G38=\"x\",1,0)","v":0},{"$f":"IF(H38=\"x\",2,0)","v":0},null,"შეწონილი მნიშვნელობა"]
[null,7,"დაინტერესებული მხარის სურვილი, თავი მოუყაროს რესურსებს",null,null,null,null,null,{"$f":"IF(D39=\"x\",-2,0)","v":0},{"$f":"IF(E39=\"x\",-1,0)","v":0},{"$f":"IF(F39=\"x\",0,0)","v":0},{"$f":"IF(G39=\"x\",1,0)","v":0},{"$f":"IF(H39=\"x\",2,0)","v":0},null,{"$f":"O37*'1_COMMUNITY EVALUATION'!N13","v":0.25}]
[null,8,"დაინტერესებული მხარის სურვილი, ხელი შეუწყოს წვდომას არსებულ ან დამატებით(გარე) რესურსებზე       ",null,null,null,null,null,{"$f":"IF(D40=\"x\",-2,0)","v":0},{"$f":"IF(E40=\"x\",-1,0)","v":0},{"$f":"IF(F40=\"x\",0,0)","v":0},{"$f":"IF(G40=\"x\",1,0)","v":0},{"$f":"IF(H40=\"x\",2,0)","v":0}]
[null,9,"დაინტერესებული მხარის მზაობა არამატერიალური მხარდაჭერის გასაწევად",null,null,null,null,null,{"$f":"IF(D41=\"x\",-2,0)","v":0},{"$f":"IF(E41=\"x\",-1,0)","v":0},{"$f":"IF(F41=\"x\",0,0)","v":0},{"$f":"IF(G41=\"x\",1,0)","v":0},{"$f":"IF(H41=\"x\",2,0)","v":0}]
[null,10,"დაინტერესებული მხარის ინტერესი, გაზარდოს თავისი გავლენა შრომის ბაზარზე",null,null,null,null,null,{"$f":"IF(D42=\"x\",-2,0)","v":0},{"$f":"IF(E42=\"x\",-1,0)","v":0},{"$f":"IF(F42=\"x\",0,0)","v":0},{"$f":"IF(G42=\"x\",1,0)","v":0},{"$f":"IF(H42=\"x\",2,0)","v":0}]
[null,null,"(3) ადამიანური კაპიტალი",null,null,null,null,null,null,null,null,null,null,{"$f":"SUM(I44:M48)","v":0},{"$f":"(((N43-(-10))*(1-0))/(10-(-10)))+0","v":0.5}]
[null,11,"დაინტერესებული მხარის ინტერესი, გააზიაროს/გააუმჯობესოს თავისი ცოდნა/უნარები კონკრეტულ თემასთან მიმართებით",null,null,null,null,null,{"$f":"IF(D44=\"x\",-2,0)","v":0},{"$f":"IF(E44=\"x\",-1,0)","v":0},{"$f":"IF(F44=\"x\",0,0)","v":0},{"$f":"IF(G44=\"x\",1,0)","v":0},{"$f":"IF(H44=\"x\",2,0)","v":0},null,"შეწონილი მნიშვნელობა"]
[null,12,"დაინტერესებული მხარის სურვილი გააზიაროს/გაზარდოს საკუთარი ინფორმირებულობა კონკრეტულ თემაზე",null,null,null,null,null,{"$f":"IF(D45=\"x\",-2,0)","v":0},{"$f":"IF(E45=\"x\",-1,0)","v":0},{"$f":"IF(F45=\"x\",0,0)","v":0},{"$f":"IF(G45=\"x\",1,0)","v":0},{"$f":"IF(H45=\"x\",2,0)","v":0},null,{"$f":"O43*'1_COMMUNITY EVALUATION'!N22","v":0.25}]
[null,13,"დაინტერესებული მხარის სურვილი, ჩაერთოს საზოგადოებრივ დებატებში",null,null,null,null,null,{"$f":"IF(D46=\"x\",-2,0)","v":0},{"$f":"IF(E46=\"x\",-1,0)","v":0},{"$f":"IF(F46=\"x\",0,0)","v":0},{"$f":"IF(G46=\"x\",1,0)","v":0},{"$f":"IF(H46=\"x\",2,0)","v":0}]
[null,14,"დაინტერესებული მხარის სურვილი, კომუნიკაცია დაამყაროს სხვადასხვა მედიასაშუალების გამოყენებით ",null,null,null,null,null,{"$f":"IF(D47=\"x\",-2,0)","v":0},{"$f":"IF(E47=\"x\",-1,0)","v":0},{"$f":"IF(F47=\"x\",0,0)","v":0},{"$f":"IF(G47=\"x\",1,0)","v":0},{"$f":"IF(H47=\"x\",2,0)","v":0}]
[null,15,"დაინტერესებული მხარის სურვილი, ჰქონდეს წვდომა საჯარო სივრცეებზე",null,null,null,null,null,{"$f":"IF(D48=\"x\",-2,0)","v":0},{"$f":"IF(E48=\"x\",-1,0)","v":0},{"$f":"IF(F48=\"x\",0,0)","v":0},{"$f":"IF(G48=\"x\",1,0)","v":0},{"$f":"IF(H48=\"x\",2,0)","v":0}]
[null,null,"(4) პოლიტიკური კაპიტალი",null,null,null,null,null,null,null,null,null,null,{"$f":"SUM(I50:M54)","v":0},{"$f":"(((N49-(-10))*(1-0))/(10-(-10)))+0","v":0.5}]
[null,16,"დაინტერესებული მხარის ნდობა ადგილობრივი ადმინისტრაციის მიმართ",null,null,null,null,null,{"$f":"IF(D50=\"x\",-2,0)","v":0},{"$f":"IF(E50=\"x\",-1,0)","v":0},{"$f":"IF(F50=\"x\",0,0)","v":0},{"$f":"IF(G50=\"x\",1,0)","v":0},{"$f":"IF(H50=\"x\",2,0)","v":0},null,"შეწონილი მნიშვნელობა"]
[null,17,"დაინტერესებული მხარის პოლიტიკური ინტერესი კონკრეტული თემის მიმართ ",null,null,null,null,null,{"$f":"IF(D51=\"x\",-2,0)","v":0},{"$f":"IF(E51=\"x\",-1,0)","v":0},{"$f":"IF(F51=\"x\",0,0)","v":0},{"$f":"IF(G51=\"x\",1,0)","v":0},{"$f":"IF(H51=\"x\",2,0)","v":0},null,{"$f":"O49*'1_COMMUNITY EVALUATION'!N31","v":0.25}]
[null,18,"დაინტერესებული მხარის სურვილი, ითანამშრომლოს ადგილობრივი ხელისუფლების ორგანოებთან",null,null,null,null,null,{"$f":"IF(D52=\"x\",-2,0)","v":0},{"$f":"IF(E52=\"x\",-1,0)","v":0},{"$f":"IF(F52=\"x\",0,0)","v":0},{"$f":"IF(G52=\"x\",1,0)","v":0},{"$f":"IF(H52=\"x\",2,0)","v":0}]
[null,19,"დაინტერესებული მხარის ინტერესი, ხმა მიაწვდინოს/მოიცვას ფართო საზოგადოება",null,null,null,null,null,{"$f":"IF(D53=\"x\",-2,0)","v":0},{"$f":"IF(E53=\"x\",-1,0)","v":0},{"$f":"IF(F53=\"x\",0,0)","v":0},{"$f":"IF(G53=\"x\",1,0)","v":0},{"$f":"IF(H53=\"x\",2,0)","v":0}]
[null,20,"დაინტერესებული მხარის სურვილი, გააზიაროს/გაზარდოს თავისი ინფორმირებულობა პოლიტიკის საკითხებზე",null,null,null,null,null,{"$f":"IF(D54=\"x\",-2,0)","v":0},{"$f":"IF(E54=\"x\",-1,0)","v":0},{"$f":"IF(F54=\"x\",0,0)","v":0},{"$f":"IF(G54=\"x\",1,0)","v":0},{"$f":"IF(H54=\"x\",2,0)","v":0}]
[null,null,"ინტერესის ქულა",null,null,null,null,null,null,null,null,null,null,null,{"$f":"IF(D2=\"\",\"\",(SUM(O51+O45+O39+O33)/4))","v":""}]

{"sheet":"STAKEHOLDER (9)","index":13,"n_rows":55,"n_cols":15,"rows_kept":55,"cut":false,"hidden":false,"merged":[[0,1,0,14],[1,3,1,14],[27,2,27,7],[54,2,54,7]]}
[null,"კონკრეტული თემის გათვალისწინებით, გთხოვთ, დაინტერესებული მხარე შეაფასოთ თითოეულ პუნქტთან მიმართებით (უაღრესად უარყოფითიდან უაღრესად დადებითამდე) და შესაბამის გრაფაში მონიშნოთ „x“. "]
[null,null,"დაინტერესებული მხარე -მიუთითეთ დასახელება>"]
[null,null,"განზომილებები","უაღრესად უარყოფითი","უარყოფითი","არ არის რელევანტური","დადებითი","უაღრესად დადებითი",-2,-1,0,1,2,null,"ქულა თითოეულ განზომილებაში"]
[null,null,"(1)სოციალური კაპიტალი",null,null,null,null,null,null,null,null,null,null,{"$f":"SUM(I5:M9)","v":0},{"$f":"(((N4-(-10))*(1-0))/(10-(-10)))+0","v":0.5}]
[null,1,"დაინტერესებული მხარის შესაძლებლობა, ჩართოს სხვა დაინტერესებული მხარეები ",null,null,null,null,null,{"$f":"IF(D5=\"x\",-2,0)","v":0},{"$f":"IF(E5=\"x\",-1,0)","v":0},{"$f":"IF(F5=\"x\",0,0)","v":0},{"$f":"IF(G5=\"x\",1,0)","v":0},{"$f":"IF(H5=\"x\",2,0)","v":0},null,"შეწონილი მნიშვნელობა"]
[null,2,"კონკრეტული კატეგორიის აქტორთა წარმომადგენლობითი დონე (მრავალი სხვა მოქალაქის ინტერესების წარმოდგენა)",null,null,null,null,null,{"$f":"IF(D6=\"x\",-2,0)","v":0},{"$f":"IF(E6=\"x\",-1,0)","v":0},{"$f":"IF(F6=\"x\",0,0)","v":0},{"$f":"IF(G6=\"x\",1,0)","v":0},{"$f":"IF(H6=\"x\",2,0)","v":0},null,{"$f":"O4*'1_COMMUNITY EVALUATION'!N4","v":0.25}]
[null,3,"დაინტერესებული მხარის მონაწილეობის დონე ადგილობრივ სამოქალაქო აქტივობებში",null,null,null,null,null,{"$f":"IF(D7=\"x\",-2,0)","v":0},{"$f":"IF(E7=\"x\",-1,0)","v":0},{"$f":"IF(F7=\"x\",0,0)","v":0},{"$f":"IF(G7=\"x\",1,0)","v":0},{"$f":"IF(H7=\"x\",2,0)","v":0}]
[null,4,"დაინტერესებული მხარის შესაძლებლობა, დაიწყოს ცვლილების განხორციელება/გავლენა იქონიოს მასზე",null,null,null,null,null,{"$f":"IF(D8=\"x\",-2,0)","v":0},{"$f":"IF(E8=\"x\",-1,0)","v":0},{"$f":"IF(F8=\"x\",0,0)","v":0},{"$f":"IF(G8=\"x\",1,0)","v":0},{"$f":"IF(H8=\"x\",2,0)","v":0}]
[null,5,"მოქალაქეთა მიერ დაინტერესებული მხარის აღიარების დონე ",null,null,null,null,null,{"$f":"IF(D9=\"x\",-2,0)","v":0},{"$f":"IF(E9=\"x\",-1,0)","v":0},{"$f":"IF(F9=\"x\",0,0)","v":0},{"$f":"IF(G9=\"x\",1,0)","v":0},{"$f":"IF(H9=\"x\",2,0)","v":0}]
[null,null,"(2) ეკონომიკური კაპიტალი",null,null,null,null,null,null,null,null,null,null,{"$f":"SUM(I11:M15)","v":0},{"$f":"(((N10-(-10))*(1-0))/(10-(-10)))+0","v":0.5}]
[null,6,"დაინტერესებული მხარის შესაძლებლობა, შეასრულოს დონორის ფუნქცია",null,null,null,null,null,{"$f":"IF(D11=\"x\",-2,0)","v":0},{"$f":"IF(E11=\"x\",-1,0)","v":0},{"$f":"IF(F11=\"x\",0,0)","v":0},{"$f":"IF(G11=\"x\",1,0)","v":0},{"$f":"IF(H11=\"x\",2,0)","v":0},null,"შეწონილი მნიშვნელობა"]
[null,7,"დაინტერესებული მხარის შესაძლებლობა, გავლენა მოახდინოს რესურსების განაწილებაზე ",null,null,null,null,null,{"$f":"IF(D12=\"x\",-2,0)","v":0},{"$f":"IF(E12=\"x\",-1,0)","v":0},{"$f":"IF(F12=\"x\",0,0)","v":0},{"$f":"IF(G12=\"x\",1,0)","v":0},{"$f":"IF(H12=\"x\",2,0)","v":0},null,{"$f":"O10*'1_COMMUNITY EVALUATION'!N13","v":0.25}]
[null,8,"დაინტერესებული მხარის შესაძლებლობა, ხელი შეუწყოს წვდომას არსებულ ან დამატებით (გარე) რესურსებზე ",null,null,null,null,null,{"$f":"IF(D13=\"x\",-2,0)","v":0},{"$f":"IF(E13=\"x\",-1,0)","v":0},{"$f":"IF(F13=\"x\",0,0)","v":0},{"$f":"IF(G13=\"x\",1,0)","v":0},{"$f":"IF(H13=\"x\",2,0)","v":0}]
[null,9,"დაინტერესებული მხარის შესაძლებლობა არამატერიალური მხარდაჭერის გასაწევად ",null,null,null,null,null,{"$f":"IF(D14=\"x\",-2,0)","v":0},{"$f":"IF(E14=\"x\",-1,0)","v":0},{"$f":"IF(F14=\"x\",0,0)","v":0},{"$f":"IF(G14=\"x\",1,0)","v":0},{"$f":"IF(H14=\"x\",2,0)","v":0}]
[null,10,"დაინტერესებული მხარის გავლენა შრომის ბაზარზე",null,null,null,null,null,{"$f":"IF(D15=\"x\",-2,0)","v":0},{"$f":"IF(E15=\"x\",-1,0)","v":0},{"$f":"IF(F15=\"x\",0,0)","v":0},{"$f":"IF(G15=\"x\",1,0)","v":0},{"$f":"IF(H15=\"x\",2,0)","v":0}]
[null,null,"(3) ადამიანური კაპიტალი",null,null,null,null,null,null,null,null,null,null,{"$f":"SUM(I17:M21)","v":0},{"$f":"(((N16-(-10))*(1-0))/(10-(-10)))+0","v":0.5}]
[null,11,"დაინტერესებული მხარის ცოდნა/უნარები კონკრეტულ თემასთან მიმართებით",null,null,null,null,null,{"$f":"IF(D17=\"x\",-2,0)","v":0},{"$f":"IF(E17=\"x\",-1,0)","v":0},{"$f":"IF(F17=\"x\",0,0)","v":0},{"$f":"IF(G17=\"x\",1,0)","v":0},{"$f":"IF(H17=\"x\",2,0)","v":0},null,"შეწონილი მნიშვნელობა"]
[null,12,"დაინტერესებული მხარის ინფორმირებულობა კონკრეტულ თემაზე",null,null,null,null,null,{"$f":"IF(D18=\"x\",-2,0)","v":0},{"$f":"IF(E18=\"x\",-1,0)","v":0},{"$f":"IF(F18=\"x\",0,0)","v":0},{"$f":"IF(G18=\"x\",1,0)","v":0},{"$f":"IF(H18=\"x\",2,0)","v":0},null,{"$f":"O16*'1_COMMUNITY EVALUATION'!N22","v":0.25}]
[null,13,"დაინტერესებული მხარის შესაძლებლობა, ჩაერთოს საზოგადოებრივ დებატებში",null,null,null,null,null,{"$f":"IF(D19=\"x\",-2,0)","v":0},{"$f":"IF(E19=\"x\",-1,0)","v":0},{"$f":"IF(F19=\"x\",0,0)","v":0},{"$f":"IF(G19=\"x\",1,0)","v":0},{"$f":"IF(H19=\"x\",2,0)","v":0}]
[null,14,"დაინტერესებული მხარის შესაძლებლობა, კომუნიკაცია დაამყაროს სხვადასხვა მედიასაშუალების გამოყენებით ",null,null,null,null,null,{"$f":"IF(D20=\"x\",-2,0)","v":0},{"$f":"IF(E20=\"x\",-1,0)","v":0},{"$f":"IF(F20=\"x\",0,0)","v":0},{"$f":"IF(G20=\"x\",1,0)","v":0},{"$f":"IF(H20=\"x\",2,0)","v":0}]
[null,15,"დაინტერესებული მხარის ხელმისაწვდომობა საჯარო სივრცეებზე  ",null,null,null,null,null,{"$f":"IF(D21=\"x\",-2,0)","v":0},{"$f":"IF(E21=\"x\",-1,0)","v":0},{"$f":"IF(F21=\"x\",0,0)","v":0},{"$f":"IF(G21=\"x\",1,0)","v":0},{"$f":"IF(H21=\"x\",2,0)","v":0}]
[null,null,"(4) პოლიტიკური კაპიტალი",null,null,null,null,null,null,null,null,null,null,{"$f":"SUM(I23:M27)","v":0},{"$f":"(((N22-(-10))*(1-0))/(10-(-10)))+0","v":0.5}]
[null,16,"ადგილობრივი ადმინისტრაციის ნდობა დაინტერესებული მხარის მიმართ",null,null,null,null,null,{"$f":"IF(D23=\"x\",-2,0)","v":0},{"$f":"IF(E23=\"x\",-1,0)","v":0},{"$f":"IF(F23=\"x\",0,0)","v":0},{"$f":"IF(G23=\"x\",1,0)","v":0},{"$f":"IF(H23=\"x\",2,0)","v":0},null,"შეწონილი მნიშვნელობა"]
[null,17,"დაინტერესებული მხარის შესაძლებლობა, ჩართოს სხვა პოლიტიკური აქტორები",null,null,null,null,null,{"$f":"IF(D24=\"x\",-2,0)","v":0},{"$f":"IF(E24=\"x\",-1,0)","v":0},{"$f":"IF(F24=\"x\",0,0)","v":0},{"$f":"IF(G24=\"x\",1,0)","v":0},{"$f":"IF(H24=\"x\",2,0)","v":0},null,{"$f":"O22*'1_COMMUNITY EVALUATION'!N31","v":0.25}]
[null,18,"დაინტერესებული მხარის შესაძლებლობა, ითანამშრომლოს ადგილობრივი ხელისუფლების ორგანოებთან/სხვა დაინტერესებულ მხარეებთან ",null,null,null,null,null,{"$f":"IF(D25=\"x\",-2,0)","v":0},{"$f":"IF(E25=\"x\",-1,0)","v":0},{"$f":"IF(F25=\"x\",0,0)","v":0},{"$f":"IF(G25=\"x\",1,0)","v":0},{"$f":"IF(H25=\"x\",2,0)","v":0}]
[null,19,"დაინტერესებული მხარის შესაძლებლობა, გავლენა იქონიოს საზოგადოებრივ აზრზე ",null,null,null,null,null,{"$f":"IF(D26=\"x\",-2,0)","v":0},{"$f":"IF(E26=\"x\",-1,0)","v":0},{"$f":"IF(F26=\"x\",0,0)","v":0},{"$f":"IF(G26=\"x\",1,0)","v":0},{"$f":"IF(H26=\"x\",2,0)","v":0}]
[null,20,"დაინტერესებული მხარის ინფორმირებულობა პოლიტიკის საკითხებზე",null,null,null,null,null,{"$f":"IF(D27=\"x\",-2,0)","v":0},{"$f":"IF(E27=\"x\",-1,0)","v":0},{"$f":"IF(F27=\"x\",0,0)","v":0},{"$f":"IF(G27=\"x\",1,0)","v":0},{"$f":"IF(H27=\"x\",2,0)","v":0}]
[null,null,"რელევანტურობის ქულა",null,null,null,null,null,null,null,null,null,null,null,{"$f":"IF(D2=\"\",\"\",(SUM(O24+O18+O12+O6)/4))","v":""}]
[]
[null,null,"განზომილებები","უაღრესად უარყოფითი","უარყოფითი","არ არის რელევანტური","დადებითი","უაღრესად დადებითი",-2,-1,0,1,2,null,"ქულა თითოეულ განზომილებაში"]
[null,null,"(1)სოციალური კაპიტალი",null,null,null,null,null,null,null,null,null,null,{"$f":"SUM(I32:M36)","v":0},{"$f":"(((N31-(-10))*(1-0))/(10-(-10)))+0","v":0.5}]
[null,1,"დაინტერესებული მხარის ინტერესი, დაამყაროს კონტაქტები კონკრეტულ თემასთან დაკავშირებით",null,null,null,null,null,{"$f":"IF(D32=\"x\",-2,0)","v":0},{"$f":"IF(E32=\"x\",-1,0)","v":0},{"$f":"IF(F32=\"x\",0,0)","v":0},{"$f":"IF(G32=\"x\",1,0)","v":0},{"$f":"IF(H32=\"x\",2,0)","v":0},null,"შეწონილი მნიშვნელობა"]
[null,2,"დაინტერესებული მხარის ინტერესი, უზრუნველყოს კონკრეტული კატეგორიის აქტორთა წარმომადგენლობა თემასთან მიმართებით",null,null,null,null,null,{"$f":"IF(D33=\"x\",-2,0)","v":0},{"$f":"IF(E33=\"x\",-1,0)","v":0},{"$f":"IF(F33=\"x\",0,0)","v":0},{"$f":"IF(G33=\"x\",1,0)","v":0},{"$f":"IF(H33=\"x\",2,0)","v":0},null,{"$f":"O31*'1_COMMUNITY EVALUATION'!N4","v":0.25}]
[null,3,"დაინტერესებული მხარის ინტერესი, ჩაერთოს  ადგილობრივ სამოქალაქო აქტივობებში თემასთან მიმართებით",null,null,null,null,null,{"$f":"IF(D34=\"x\",-2,0)","v":0},{"$f":"IF(E34=\"x\",-1,0)","v":0},{"$f":"IF(F34=\"x\",0,0)","v":0},{"$f":"IF(G34=\"x\",1,0)","v":0},{"$f":"IF(H34=\"x\",2,0)","v":0}]
[null,4,"დაინტერესებული მხარის ინტერესი, დაიწყოს ცვლილების განხორციელება/გავლენა იქონიოს მასზე      ",null,null,null,null,null,{"$f":"IF(D35=\"x\",-2,0)","v":0},{"$f":"IF(E35=\"x\",-1,0)","v":0},{"$f":"IF(F35=\"x\",0,0)","v":0},{"$f":"IF(G35=\"x\",1,0)","v":0},{"$f":"IF(H35=\"x\",2,0)","v":0}]
[null,5,"დაინტერესებული მხარის ინტერესი, გაზარდოს მისი აღიარება მოქალაქეთა მხრიდან",null,null,null,null,null,{"$f":"IF(D36=\"x\",-2,0)","v":0},{"$f":"IF(E36=\"x\",-1,0)","v":0},{"$f":"IF(F36=\"x\",0,0)","v":0},{"$f":"IF(G36=\"x\",1,0)","v":0},{"$f":"IF(H36=\"x\",2,0)","v":0}]
[null,null,"(2) ეკონომიკური კაპიტალი",null,null,null,null,null,null,null,null,null,null,{"$f":"SUM(I38:M42)","v":0},{"$f":"(((N37-(-10))*(1-0))/(10-(-10)))+0","v":0.5}]
[null,6,"დაინტერესებული მხარის პოტენციური ეკონომიკური სარგებელი",null,null,null,null,null,{"$f":"IF(D38=\"x\",-2,0)","v":0},{"$f":"IF(E38=\"x\",-1,0)","v":0},{"$f":"IF(F38=\"x\",0,0)","v":0},{"$f":"IF(G38=\"x\",1,0)","v":0},{"$f":"IF(H38=\"x\",2,0)","v":0},null,"შეწონილი მნიშვნელობა"]
[null,7,"დაინტერესებული მხარის სურვილი, თავი მოუყაროს რესურსებს",null,null,null,null,null,{"$f":"IF(D39=\"x\",-2,0)","v":0},{"$f":"IF(E39=\"x\",-1,0)","v":0},{"$f":"IF(F39=\"x\",0,0)","v":0},{"$f":"IF(G39=\"x\",1,0)","v":0},{"$f":"IF(H39=\"x\",2,0)","v":0},null,{"$f":"O37*'1_COMMUNITY EVALUATION'!N13","v":0.25}]
[null,8,"დაინტერესებული მხარის სურვილი, ხელი შეუწყოს წვდომას არსებულ ან დამატებით(გარე) რესურსებზე       ",null,null,null,null,null,{"$f":"IF(D40=\"x\",-2,0)","v":0},{"$f":"IF(E40=\"x\",-1,0)","v":0},{"$f":"IF(F40=\"x\",0,0)","v":0},{"$f":"IF(G40=\"x\",1,0)","v":0},{"$f":"IF(H40=\"x\",2,0)","v":0}]
[null,9,"დაინტერესებული მხარის მზაობა არამატერიალური მხარდაჭერის გასაწევად",null,null,null,null,null,{"$f":"IF(D41=\"x\",-2,0)","v":0},{"$f":"IF(E41=\"x\",-1,0)","v":0},{"$f":"IF(F41=\"x\",0,0)","v":0},{"$f":"IF(G41=\"x\",1,0)","v":0},{"$f":"IF(H41=\"x\",2,0)","v":0}]
[null,10,"დაინტერესებული მხარის ინტერესი, გაზარდოს თავისი გავლენა შრომის ბაზარზე",null,null,null,null,null,{"$f":"IF(D42=\"x\",-2,0)","v":0},{"$f":"IF(E42=\"x\",-1,0)","v":0},{"$f":"IF(F42=\"x\",0,0)","v":0},{"$f":"IF(G42=\"x\",1,0)","v":0},{"$f":"IF(H42=\"x\",2,0)","v":0}]
[null,null,"(3) ადამიანური კაპიტალი",null,null,null,null,null,null,null,null,null,null,{"$f":"SUM(I44:M48)","v":0},{"$f":"(((N43-(-10))*(1-0))/(10-(-10)))+0","v":0.5}]
[null,11,"დაინტერესებული მხარის ინტერესი, გააზიაროს/გააუმჯობესოს თავისი ცოდნა/უნარები კონკრეტულ თემასთან მიმართებით",null,null,null,null,null,{"$f":"IF(D44=\"x\",-2,0)","v":0},{"$f":"IF(E44=\"x\",-1,0)","v":0},{"$f":"IF(F44=\"x\",0,0)","v":0},{"$f":"IF(G44=\"x\",1,0)","v":0},{"$f":"IF(H44=\"x\",2,0)","v":0},null,"შეწონილი მნიშვნელობა"]
[null,12,"დაინტერესებული მხარის სურვილი გააზიაროს/გაზარდოს საკუთარი ინფორმირებულობა კონკრეტულ თემაზე",null,null,null,null,null,{"$f":"IF(D45=\"x\",-2,0)","v":0},{"$f":"IF(E45=\"x\",-1,0)","v":0},{"$f":"IF(F45=\"x\",0,0)","v":0},{"$f":"IF(G45=\"x\",1,0)","v":0},{"$f":"IF(H45=\"x\",2,0)","v":0},null,{"$f":"O43*'1_COMMUNITY EVALUATION'!N22","v":0.25}]
[null,13,"დაინტერესებული მხარის სურვილი, ჩაერთოს საზოგადოებრივ დებატებში",null,null,null,null,null,{"$f":"IF(D46=\"x\",-2,0)","v":0},{"$f":"IF(E46=\"x\",-1,0)","v":0},{"$f":"IF(F46=\"x\",0,0)","v":0},{"$f":"IF(G46=\"x\",1,0)","v":0},{"$f":"IF(H46=\"x\",2,0)","v":0}]
[null,14,"დაინტერესებული მხარის სურვილი, კომუნიკაცია დაამყაროს სხვადასხვა მედიასაშუალების  გამოყენებით ",null,null,null,null,null,{"$f":"IF(D47=\"x\",-2,0)","v":0},{"$f":"IF(E47=\"x\",-1,0)","v":0},{"$f":"IF(F47=\"x\",0,0)","v":0},{"$f":"IF(G47=\"x\",1,0)","v":0},{"$f":"IF(H47=\"x\",2,0)","v":0}]
[null,15,"დაინტერესებული მხარის სურვილი, ჰქონდეს წვდომა საჯარო სივრცეებზე",null,null,null,null,null,{"$f":"IF(D48=\"x\",-2,0)","v":0},{"$f":"IF(E48=\"x\",-1,0)","v":0},{"$f":"IF(F48=\"x\",0,0)","v":0},{"$f":"IF(G48=\"x\",1,0)","v":0},{"$f":"IF(H48=\"x\",2,0)","v":0}]
[null,null,"(4) პოლიტიკური კაპიტალი",null,null,null,null,null,null,null,null,null,null,{"$f":"SUM(I50:M54)","v":0},{"$f":"(((N49-(-10))*(1-0))/(10-(-10)))+0","v":0.5}]
[null,16,"დაინტერესებული მხარის ნდობა ადგილობრივი ადმინისტრაციის მიმართ",null,null,null,null,null,{"$f":"IF(D50=\"x\",-2,0)","v":0},{"$f":"IF(E50=\"x\",-1,0)","v":0},{"$f":"IF(F50=\"x\",0,0)","v":0},{"$f":"IF(G50=\"x\",1,0)","v":0},{"$f":"IF(H50=\"x\",2,0)","v":0},null,"შეწონილი მნიშვნელობა"]
[null,17,"დაინტერესებული მხარის პოლიტიკური ინტერესი კონკრეტული თემის მიმართ ",null,null,null,null,null,{"$f":"IF(D51=\"x\",-2,0)","v":0},{"$f":"IF(E51=\"x\",-1,0)","v":0},{"$f":"IF(F51=\"x\",0,0)","v":0},{"$f":"IF(G51=\"x\",1,0)","v":0},{"$f":"IF(H51=\"x\",2,0)","v":0},null,{"$f":"O49*'1_COMMUNITY EVALUATION'!N31","v":0.25}]
[null,18,"დაინტერესებული მხარის სურვილი, ითანამშრომლოს ადგილობრივი ხელისუფლების ორგანოებთან",null,null,null,null,null,{"$f":"IF(D52=\"x\",-2,0)","v":0},{"$f":"IF(E52=\"x\",-1,0)","v":0},{"$f":"IF(F52=\"x\",0,0)","v":0},{"$f":"IF(G52=\"x\",1,0)","v":0},{"$f":"IF(H52=\"x\",2,0)","v":0}]
[null,19,"დაინტერესებული მხარის ინტერესი, ხმა მიაწვდინოს/მოიცვას ფართო საზოგადოება",null,null,null,null,null,{"$f":"IF(D53=\"x\",-2,0)","v":0},{"$f":"IF(E53=\"x\",-1,0)","v":0},{"$f":"IF(F53=\"x\",0,0)","v":0},{"$f":"IF(G53=\"x\",1,0)","v":0},{"$f":"IF(H53=\"x\",2,0)","v":0}]
[null,20,"დაინტერესებული მხარის სურვილი, გააზიაროს/გაზარდოს თავისი ინფორმირებულობა პოლიტიკის საკითხებზე",null,null,null,null,null,{"$f":"IF(D54=\"x\",-2,0)","v":0},{"$f":"IF(E54=\"x\",-1,0)","v":0},{"$f":"IF(F54=\"x\",0,0)","v":0},{"$f":"IF(G54=\"x\",1,0)","v":0},{"$f":"IF(H54=\"x\",2,0)","v":0}]
[null,null,"ინტერესის ქულა",null,null,null,null,null,null,null,null,null,null,null,{"$f":"IF(D2=\"\",\"\",(SUM(O51+O45+O39+O33)/4))","v":""}]

{"sheet":"STAKEHOLDER (10)","index":14,"n_rows":55,"n_cols":15,"rows_kept":55,"cut":false,"hidden":false,"merged":[[0,1,0,14],[1,3,1,14],[27,2,27,7],[54,2,54,7]]}
[null,"კონკრეტული თემის გათვალისწინებით, გთხოვთ, დაინტერესებული მხარე შეაფასოთ თითოეულ პუნქტთან მიმართებით (უაღრესად უარყოფითიდან უაღრესად დადებითამდე) და შესაბამის გრაფაში მონიშნოთ „x“. "]
[null,null,"დაინტერესებული მხარე -მიუთითეთ დასახელება"]
[null,null,"განზომილებები","უაღრესად უარყოფითი","უარყოფითი","არ არის რელევანტური","დადებითი","უაღრესად დადებითი",-2,-1,0,1,2,null,"ქულა თითოეულ განზომილებაში"]
[null,null,"(1)სოციალური კაპიტალი",null,null,null,null,null,null,null,null,null,null,{"$f":"SUM(I5:M9)","v":0},{"$f":"(((N4-(-10))*(1-0))/(10-(-10)))+0","v":0.5}]
[null,1,"დაინტერესებული მხარის შესაძლებლობა, ჩართოს სხვა დაინტერესებული მხარეები ",null,null,null,null,null,{"$f":"IF(D5=\"x\",-2,0)","v":0},{"$f":"IF(E5=\"x\",-1,0)","v":0},{"$f":"IF(F5=\"x\",0,0)","v":0},{"$f":"IF(G5=\"x\",1,0)","v":0},{"$f":"IF(H5=\"x\",2,0)","v":0},null,"შეწონილი მნიშვნელობა"]
[null,2,"კონკრეტული კატეგორიის აქტორთა წარმომადგენლობითი დონე (მრავალი სხვა მოქალაქის ინტერესების წარმოდგენა)",null,null,null,null,null,{"$f":"IF(D6=\"x\",-2,0)","v":0},{"$f":"IF(E6=\"x\",-1,0)","v":0},{"$f":"IF(F6=\"x\",0,0)","v":0},{"$f":"IF(G6=\"x\",1,0)","v":0},{"$f":"IF(H6=\"x\",2,0)","v":0},null,{"$f":"O4*'1_COMMUNITY EVALUATION'!N4","v":0.25}]
[null,3,"დაინტერესებული მხარის მონაწილეობის დონე ადგილობრივ სამოქალაქო აქტივობებში",null,null,null,null,null,{"$f":"IF(D7=\"x\",-2,0)","v":0},{"$f":"IF(E7=\"x\",-1,0)","v":0},{"$f":"IF(F7=\"x\",0,0)","v":0},{"$f":"IF(G7=\"x\",1,0)","v":0},{"$f":"IF(H7=\"x\",2,0)","v":0}]
[null,4,"დაინტერესებული მხარის შესაძლებლობა, დაიწყოს ცვლილების განხორციელება/გავლენა იქონიოს მასზე",null,null,null,null,null,{"$f":"IF(D8=\"x\",-2,0)","v":0},{"$f":"IF(E8=\"x\",-1,0)","v":0},{"$f":"IF(F8=\"x\",0,0)","v":0},{"$f":"IF(G8=\"x\",1,0)","v":0},{"$f":"IF(H8=\"x\",2,0)","v":0}]
[null,5,"მოქალაქეთა მიერ დაინტერესებული მხარის აღიარების დონე ",null,null,null,null,null,{"$f":"IF(D9=\"x\",-2,0)","v":0},{"$f":"IF(E9=\"x\",-1,0)","v":0},{"$f":"IF(F9=\"x\",0,0)","v":0},{"$f":"IF(G9=\"x\",1,0)","v":0},{"$f":"IF(H9=\"x\",2,0)","v":0}]
[null,null,"(2) ეკონომიკური კაპიტალი",null,null,null,null,null,null,null,null,null,null,{"$f":"SUM(I11:M15)","v":0},{"$f":"(((N10-(-10))*(1-0))/(10-(-10)))+0","v":0.5}]
[null,6,"დაინტერესებული მხარის შესაძლებლობა, შეასრულოს დონორის ფუნქცია",null,null,null,null,null,{"$f":"IF(D11=\"x\",-2,0)","v":0},{"$f":"IF(E11=\"x\",-1,0)","v":0},{"$f":"IF(F11=\"x\",0,0)","v":0},{"$f":"IF(G11=\"x\",1,0)","v":0},{"$f":"IF(H11=\"x\",2,0)","v":0},null,"შეწონილი მნიშვნელობა"]
[null,7,"დაინტერესებული მხარის შესაძლებლობა, გავლენა მოახდინოს რესურსების განაწილებაზე ",null,null,null,null,null,{"$f":"IF(D12=\"x\",-2,0)","v":0},{"$f":"IF(E12=\"x\",-1,0)","v":0},{"$f":"IF(F12=\"x\",0,0)","v":0},{"$f":"IF(G12=\"x\",1,0)","v":0},{"$f":"IF(H12=\"x\",2,0)","v":0},null,{"$f":"O10*'1_COMMUNITY EVALUATION'!N13","v":0.25}]
[null,8,"დაინტერესებული მხარის შესაძლებლობა, ხელი შეუწყოს წვდომას არსებულ ან დამატებით (გარე) რესურსებზე ",null,null,null,null,null,{"$f":"IF(D13=\"x\",-2,0)","v":0},{"$f":"IF(E13=\"x\",-1,0)","v":0},{"$f":"IF(F13=\"x\",0,0)","v":0},{"$f":"IF(G13=\"x\",1,0)","v":0},{"$f":"IF(H13=\"x\",2,0)","v":0}]
[null,9,"დაინტერესებული მხარის შესაძლებლობა არამატერიალური მხარდაჭერის გასაწევად ",null,null,null,null,null,{"$f":"IF(D14=\"x\",-2,0)","v":0},{"$f":"IF(E14=\"x\",-1,0)","v":0},{"$f":"IF(F14=\"x\",0,0)","v":0},{"$f":"IF(G14=\"x\",1,0)","v":0},{"$f":"IF(H14=\"x\",2,0)","v":0}]
[null,10,"დაინტერესებული მხარის გავლენა შრომის ბაზარზე",null,null,null,null,null,{"$f":"IF(D15=\"x\",-2,0)","v":0},{"$f":"IF(E15=\"x\",-1,0)","v":0},{"$f":"IF(F15=\"x\",0,0)","v":0},{"$f":"IF(G15=\"x\",1,0)","v":0},{"$f":"IF(H15=\"x\",2,0)","v":0}]
[null,null,"(3) ადამიანური კაპიტალი",null,null,null,null,null,null,null,null,null,null,{"$f":"SUM(I17:M21)","v":0},{"$f":"(((N16-(-10))*(1-0))/(10-(-10)))+0","v":0.5}]
[null,11,"დაინტერესებული მხარის ცოდნა/უნარები კონკრეტულ თემასთან მიმართებით",null,null,null,null,null,{"$f":"IF(D17=\"x\",-2,0)","v":0},{"$f":"IF(E17=\"x\",-1,0)","v":0},{"$f":"IF(F17=\"x\",0,0)","v":0},{"$f":"IF(G17=\"x\",1,0)","v":0},{"$f":"IF(H17=\"x\",2,0)","v":0},null,"შეწონილი მნიშვნელობა"]
[null,12,"დაინტერესებული მხარის ინფორმირებულობა კონკრეტულ თემაზე",null,null,null,null,null,{"$f":"IF(D18=\"x\",-2,0)","v":0},{"$f":"IF(E18=\"x\",-1,0)","v":0},{"$f":"IF(F18=\"x\",0,0)","v":0},{"$f":"IF(G18=\"x\",1,0)","v":0},{"$f":"IF(H18=\"x\",2,0)","v":0},null,{"$f":"O16*'1_COMMUNITY EVALUATION'!N22","v":0.25}]
[null,13,"დაინტერესებული მხარის შესაძლებლობა, ჩაერთოს საზოგადოებრივ დებატებში",null,null,null,null,null,{"$f":"IF(D19=\"x\",-2,0)","v":0},{"$f":"IF(E19=\"x\",-1,0)","v":0},{"$f":"IF(F19=\"x\",0,0)","v":0},{"$f":"IF(G19=\"x\",1,0)","v":0},{"$f":"IF(H19=\"x\",2,0)","v":0}]
[null,14,"დაინტერესებული მხარის შესაძლებლობა, კომუნიკაცია დაამყაროს სხვადასხვა მედიასაშუალების გამოყენებით ",null,null,null,null,null,{"$f":"IF(D20=\"x\",-2,0)","v":0},{"$f":"IF(E20=\"x\",-1,0)","v":0},{"$f":"IF(F20=\"x\",0,0)","v":0},{"$f":"IF(G20=\"x\",1,0)","v":0},{"$f":"IF(H20=\"x\",2,0)","v":0}]
[null,15,"დაინტერესებული მხარის ხელმისაწვდომობა საჯარო სივრცეებზე  ",null,null,null,null,null,{"$f":"IF(D21=\"x\",-2,0)","v":0},{"$f":"IF(E21=\"x\",-1,0)","v":0},{"$f":"IF(F21=\"x\",0,0)","v":0},{"$f":"IF(G21=\"x\",1,0)","v":0},{"$f":"IF(H21=\"x\",2,0)","v":0}]
[null,null,"(4) პოლიტიკური კაპიტალი",null,null,null,null,null,null,null,null,null,null,{"$f":"SUM(I23:M27)","v":0},{"$f":"(((N22-(-10))*(1-0))/(10-(-10)))+0","v":0.5}]
[null,16,"ადგილობრივი ადმინისტრაციის ნდობა დაინტერესებული მხარის მიმართ",null,null,null,null,null,{"$f":"IF(D23=\"x\",-2,0)","v":0},{"$f":"IF(E23=\"x\",-1,0)","v":0},{"$f":"IF(F23=\"x\",0,0)","v":0},{"$f":"IF(G23=\"x\",1,0)","v":0},{"$f":"IF(H23=\"x\",2,0)","v":0},null,"შეწონილი მნიშვნელობა"]
[null,17,"დაინტერესებული მხარის შესაძლებლობა, ჩართოს სხვა პოლიტიკური აქტორები",null,null,null,null,null,{"$f":"IF(D24=\"x\",-2,0)","v":0},{"$f":"IF(E24=\"x\",-1,0)","v":0},{"$f":"IF(F24=\"x\",0,0)","v":0},{"$f":"IF(G24=\"x\",1,0)","v":0},{"$f":"IF(H24=\"x\",2,0)","v":0},null,{"$f":"O22*'1_COMMUNITY EVALUATION'!N31","v":0.25}]
[null,18,"დაინტერესებული მხარის შესაძლებლობა, ითანამშრომლოს ადგილობრივი ხელისუფლების ორგანოებთან/სხვა დაინტერესებულ მხარეებთან ",null,null,null,null,null,{"$f":"IF(D25=\"x\",-2,0)","v":0},{"$f":"IF(E25=\"x\",-1,0)","v":0},{"$f":"IF(F25=\"x\",0,0)","v":0},{"$f":"IF(G25=\"x\",1,0)","v":0},{"$f":"IF(H25=\"x\",2,0)","v":0}]
[null,19,"დაინტერესებული მხარის შესაძლებლობა, გავლენა იქონიოს საზოგადოებრივ აზრზე ",null,null,null,null,null,{"$f":"IF(D26=\"x\",-2,0)","v":0},{"$f":"IF(E26=\"x\",-1,0)","v":0},{"$f":"IF(F26=\"x\",0,0)","v":0},{"$f":"IF(G26=\"x\",1,0)","v":0},{"$f":"IF(H26=\"x\",2,0)","v":0}]
[null,20,"დაინტერესებული მხარის ინფორმირებულობა პოლიტიკის საკითხებზე",null,null,null,null,null,{"$f":"IF(D27=\"x\",-2,0)","v":0},{"$f":"IF(E27=\"x\",-1,0)","v":0},{"$f":"IF(F27=\"x\",0,0)","v":0},{"$f":"IF(G27=\"x\",1,0)","v":0},{"$f":"IF(H27=\"x\",2,0)","v":0}]
[null,null,"რელევანტურობის ქულა",null,null,null,null,null,null,null,null,null,null,null,{"$f":"IF(D2=\"\",\"\",(SUM(O24+O18+O12+O6)/4))","v":""}]
[]
[null,null,"განზომილებები","უაღრესად უარყოფითი","უარყოფითი","არ არის რელევანტური","დადებითი","უაღრესად დადებითი",-2,-1,0,1,2,null,"ქულა თითოეულ განზომილებაში"]
[null,null,"(1)სოციალური კაპიტალი",null,null,null,null,null,null,null,null,null,null,{"$f":"SUM(I32:M36)","v":0},{"$f":"(((N31-(-10))*(1-0))/(10-(-10)))+0","v":0.5}]
[null,1,"დაინტერესებული მხარის ინტერესი, დაამყაროს კონტაქტები კონკრეტულ თემასთან დაკავშირებით",null,null,null,null,null,{"$f":"IF(D32=\"x\",-2,0)","v":0},{"$f":"IF(E32=\"x\",-1,0)","v":0},{"$f":"IF(F32=\"x\",0,0)","v":0},{"$f":"IF(G32=\"x\",1,0)","v":0},{"$f":"IF(H32=\"x\",2,0)","v":0},null,"შეწონილი მნიშვნელობა"]
[null,2,"დაინტერესებული მხარის ინტერესი, უზრუნველყოს კონკრეტული კატეგორიის აქტორთა წარმომადგენლობა თემასთან მიმართებით",null,null,null,null,null,{"$f":"IF(D33=\"x\",-2,0)","v":0},{"$f":"IF(E33=\"x\",-1,0)","v":0},{"$f":"IF(F33=\"x\",0,0)","v":0},{"$f":"IF(G33=\"x\",1,0)","v":0},{"$f":"IF(H33=\"x\",2,0)","v":0},null,{"$f":"O31*'1_COMMUNITY EVALUATION'!N4","v":0.25}]
[null,3,"დაინტერესებული მხარის ინტერესი, ჩაერთოს  ადგილობრივ სამოქალაქო აქტივობებში თემასთან მიმართებით",null,null,null,null,null,{"$f":"IF(D34=\"x\",-2,0)","v":0},{"$f":"IF(E34=\"x\",-1,0)","v":0},{"$f":"IF(F34=\"x\",0,0)","v":0},{"$f":"IF(G34=\"x\",1,0)","v":0},{"$f":"IF(H34=\"x\",2,0)","v":0}]
[null,4,"დაინტერესებული მხარის ინტერესი, დაიწყოს ცვლილების განხორციელება/გავლენა იქონიოს მასზე      ",null,null,null,null,null,{"$f":"IF(D35=\"x\",-2,0)","v":0},{"$f":"IF(E35=\"x\",-1,0)","v":0},{"$f":"IF(F35=\"x\",0,0)","v":0},{"$f":"IF(G35=\"x\",1,0)","v":0},{"$f":"IF(H35=\"x\",2,0)","v":0}]
[null,5,"დაინტერესებული მხარის ინტერესი, გაზარდოს მისი აღიარება მოქალაქეთა მხრიდან",null,null,null,null,null,{"$f":"IF(D36=\"x\",-2,0)","v":0},{"$f":"IF(E36=\"x\",-1,0)","v":0},{"$f":"IF(F36=\"x\",0,0)","v":0},{"$f":"IF(G36=\"x\",1,0)","v":0},{"$f":"IF(H36=\"x\",2,0)","v":0}]
[null,null,"(2) ეკონომიკური კაპიტალი",null,null,null,null,null,null,null,null,null,null,{"$f":"SUM(I38:M42)","v":0},{"$f":"(((N37-(-10))*(1-0))/(10-(-10)))+0","v":0.5}]
[null,6,"დაინტერესებული მხარის პოტენციური ეკონომიკური სარგებელი",null,null,null,null,null,{"$f":"IF(D38=\"x\",-2,0)","v":0},{"$f":"IF(E38=\"x\",-1,0)","v":0},{"$f":"IF(F38=\"x\",0,0)","v":0},{"$f":"IF(G38=\"x\",1,0)","v":0},{"$f":"IF(H38=\"x\",2,0)","v":0},null,"შეწონილი მნიშვნელობა"]
[null,7,"დაინტერესებული მხარის სურვილი, თავი მოუყაროს რესურსებს",null,null,null,null,null,{"$f":"IF(D39=\"x\",-2,0)","v":0},{"$f":"IF(E39=\"x\",-1,0)","v":0},{"$f":"IF(F39=\"x\",0,0)","v":0},{"$f":"IF(G39=\"x\",1,0)","v":0},{"$f":"IF(H39=\"x\",2,0)","v":0},null,{"$f":"O37*'1_COMMUNITY EVALUATION'!N13","v":0.25}]
[null,8,"დაინტერესებული მხარის სურვილი, ხელი შეუწყოს წვდომას არსებულ ან დამატებით(გარე) რესურსებზე       ",null,null,null,null,null,{"$f":"IF(D40=\"x\",-2,0)","v":0},{"$f":"IF(E40=\"x\",-1,0)","v":0},{"$f":"IF(F40=\"x\",0,0)","v":0},{"$f":"IF(G40=\"x\",1,0)","v":0},{"$f":"IF(H40=\"x\",2,0)","v":0}]
[null,9,"დაინტერესებული მხარის მზაობა არამატერიალური მხარდაჭერის გასაწევად",null,null,null,null,null,{"$f":"IF(D41=\"x\",-2,0)","v":0},{"$f":"IF(E41=\"x\",-1,0)","v":0},{"$f":"IF(F41=\"x\",0,0)","v":0},{"$f":"IF(G41=\"x\",1,0)","v":0},{"$f":"IF(H41=\"x\",2,0)","v":0}]
[null,10,"დაინტერესებული მხარის ინტერესი, გაზარდოს თავისი გავლენა შრომის ბაზარზე",null,null,null,null,null,{"$f":"IF(D42=\"x\",-2,0)","v":0},{"$f":"IF(E42=\"x\",-1,0)","v":0},{"$f":"IF(F42=\"x\",0,0)","v":0},{"$f":"IF(G42=\"x\",1,0)","v":0},{"$f":"IF(H42=\"x\",2,0)","v":0}]
[null,null,"(3) ადამიანური კაპიტალი",null,null,null,null,null,null,null,null,null,null,{"$f":"SUM(I44:M48)","v":0},{"$f":"(((N43-(-10))*(1-0))/(10-(-10)))+0","v":0.5}]
[null,11,"დაინტერესებული მხარის ინტერესი, გააზიაროს/გააუმჯობესოს თავისი ცოდნა/უნარები კონკრეტულ თემასთან მიმართებით",null,null,null,null,null,{"$f":"IF(D44=\"x\",-2,0)","v":0},{"$f":"IF(E44=\"x\",-1,0)","v":0},{"$f":"IF(F44=\"x\",0,0)","v":0},{"$f":"IF(G44=\"x\",1,0)","v":0},{"$f":"IF(H44=\"x\",2,0)","v":0},null,"შეწონილი მნიშვნელობა"]
[null,12,"დაინტერესებული მხარის სურვილი გააზიაროს/გაზარდოს საკუთარი ინფორმირებულობა კონკრეტულ თემაზე",null,null,null,null,null,{"$f":"IF(D45=\"x\",-2,0)","v":0},{"$f":"IF(E45=\"x\",-1,0)","v":0},{"$f":"IF(F45=\"x\",0,0)","v":0},{"$f":"IF(G45=\"x\",1,0)","v":0},{"$f":"IF(H45=\"x\",2,0)","v":0},null,{"$f":"O43*'1_COMMUNITY EVALUATION'!N22","v":0.25}]
[null,13,"დაინტერესებული მხარის სურვილი, ჩაერთოს საზოგადოებრივ დებატებში",null,null,null,null,null,{"$f":"IF(D46=\"x\",-2,0)","v":0},{"$f":"IF(E46=\"x\",-1,0)","v":0},{"$f":"IF(F46=\"x\",0,0)","v":0},{"$f":"IF(G46=\"x\",1,0)","v":0},{"$f":"IF(H46=\"x\",2,0)","v":0}]
[null,14,"დაინტერესებული მხარის სურვილი, კომუნიკაცია დაამყაროს სხვადასხვა მედიასაშუალების  გამოყენებით ",null,null,null,null,null,{"$f":"IF(D47=\"x\",-2,0)","v":0},{"$f":"IF(E47=\"x\",-1,0)","v":0},{"$f":"IF(F47=\"x\",0,0)","v":0},{"$f":"IF(G47=\"x\",1,0)","v":0},{"$f":"IF(H47=\"x\",2,0)","v":0}]
[null,15,"დაინტერესებული მხარის სურვილი, ჰქონდეს წვდომა საჯარო სივრცეებზე",null,null,null,null,null,{"$f":"IF(D48=\"x\",-2,0)","v":0},{"$f":"IF(E48=\"x\",-1,0)","v":0},{"$f":"IF(F48=\"x\",0,0)","v":0},{"$f":"IF(G48=\"x\",1,0)","v":0},{"$f":"IF(H48=\"x\",2,0)","v":0}]
[null,null,"(4) პოლიტიკური კაპიტალი",null,null,null,null,null,null,null,null,null,null,{"$f":"SUM(I50:M54)","v":0},{"$f":"(((N49-(-10))*(1-0))/(10-(-10)))+0","v":0.5}]
[null,16,"დაინტერესებული მხარის ნდობა ადგილობრივი ადმინისტრაციის მიმართ",null,null,null,null,null,{"$f":"IF(D50=\"x\",-2,0)","v":0},{"$f":"IF(E50=\"x\",-1,0)","v":0},{"$f":"IF(F50=\"x\",0,0)","v":0},{"$f":"IF(G50=\"x\",1,0)","v":0},{"$f":"IF(H50=\"x\",2,0)","v":0},null,"შეწონილი მნიშვნელობა"]
[null,17,"დაინტერესებული მხარის პოლიტიკური ინტერესი კონკრეტული თემის მიმართ ",null,null,null,null,null,{"$f":"IF(D51=\"x\",-2,0)","v":0},{"$f":"IF(E51=\"x\",-1,0)","v":0},{"$f":"IF(F51=\"x\",0,0)","v":0},{"$f":"IF(G51=\"x\",1,0)","v":0},{"$f":"IF(H51=\"x\",2,0)","v":0},null,{"$f":"O49*'1_COMMUNITY EVALUATION'!N31","v":0.25}]
[null,18,"დაინტერესებული მხარის სურვილი, ითანამშრომლოს ადგილობრივი ხელისუფლების ორგანოებთან",null,null,null,null,null,{"$f":"IF(D52=\"x\",-2,0)","v":0},{"$f":"IF(E52=\"x\",-1,0)","v":0},{"$f":"IF(F52=\"x\",0,0)","v":0},{"$f":"IF(G52=\"x\",1,0)","v":0},{"$f":"IF(H52=\"x\",2,0)","v":0}]
[null,19,"დაინტერესებული მხარის ინტერესი, ხმა მიაწვდინოს/მოიცვას ფართო საზოგადოება",null,null,null,null,null,{"$f":"IF(D53=\"x\",-2,0)","v":0},{"$f":"IF(E53=\"x\",-1,0)","v":0},{"$f":"IF(F53=\"x\",0,0)","v":0},{"$f":"IF(G53=\"x\",1,0)","v":0},{"$f":"IF(H53=\"x\",2,0)","v":0}]
[null,20,"დაინტერესებული მხარის სურვილი, გააზიაროს/გაზარდოს თავისი ინფორმირებულობა პოლიტიკის საკითხებზე",null,null,null,null,null,{"$f":"IF(D54=\"x\",-2,0)","v":0},{"$f":"IF(E54=\"x\",-1,0)","v":0},{"$f":"IF(F54=\"x\",0,0)","v":0},{"$f":"IF(G54=\"x\",1,0)","v":0},{"$f":"IF(H54=\"x\",2,0)","v":0}]
[null,null,"ინტერესის ქულა",null,null,null,null,null,null,null,null,null,null,null,{"$f":"IF(D2=\"\",\"\",(SUM(O51+O45+O39+O33)/4))","v":""}]

{"sheet":"STAKEHOLDER (11)","index":15,"n_rows":55,"n_cols":15,"rows_kept":55,"cut":false,"hidden":false,"merged":[[0,1,0,14],[1,3,1,14],[27,2,27,7],[54,2,54,7]]}
[null,"კონკრეტული თემის გათვალისწინებით, გთხოვთ, დაინტერესებული მხარე შეაფასოთ თითოეულ პუნქტთან მიმართებით (უაღრესად უარყოფითიდან უაღრესად დადებითამდე) და შესაბამის გრაფაში მონიშნოთ „x“. "]
[null,null,"დაინტერესებული მხარე -მიუთითეთ დასახელება"]
[null,null,"განზომილებები","უაღრესად უარყოფითი","უარყოფითი","არ არის რელევანტური","დადებითი","უაღრესად დადებითი",-2,-1,0,1,2,null,"ქულა თითოეულ განზომილებაში"]
[null,null,"(1) სოციალური კაპიტალი",null,null,null,null,null,null,null,null,null,null,{"$f":"SUM(I5:M9)","v":0},{"$f":"(((N4-(-10))*(1-0))/(10-(-10)))+0","v":0.5}]
[null,1,"დაინტერესებული მხარის შესაძლებლობა, ჩართოს სხვა დაინტერესებული მხარეები ",null,null,null,null,null,{"$f":"IF(D5=\"x\",-2,0)","v":0},{"$f":"IF(E5=\"x\",-1,0)","v":0},{"$f":"IF(F5=\"x\",0,0)","v":0},{"$f":"IF(G5=\"x\",1,0)","v":0},{"$f":"IF(H5=\"x\",2,0)","v":0},null,"შეწონილი მნიშვნელობა"]
[null,2,"კონკრეტული კატეგორიის აქტორთა წარმომადგენლობითი დონე (მრავალი სხვა მოქალაქის ინტერესების წარმოდგენა)",null,null,null,null,null,{"$f":"IF(D6=\"x\",-2,0)","v":0},{"$f":"IF(E6=\"x\",-1,0)","v":0},{"$f":"IF(F6=\"x\",0,0)","v":0},{"$f":"IF(G6=\"x\",1,0)","v":0},{"$f":"IF(H6=\"x\",2,0)","v":0},null,{"$f":"O4*'1_COMMUNITY EVALUATION'!N4","v":0.25}]
[null,3,"დაინტერესებული მხარის მონაწილეობის დონე ადგილობრივ სამოქალაქო აქტივობებში",null,null,null,null,null,{"$f":"IF(D7=\"x\",-2,0)","v":0},{"$f":"IF(E7=\"x\",-1,0)","v":0},{"$f":"IF(F7=\"x\",0,0)","v":0},{"$f":"IF(G7=\"x\",1,0)","v":0},{"$f":"IF(H7=\"x\",2,0)","v":0}]
[null,4,"დაინტერესებული მხარის შესაძლებლობა, დაიწყოს ცვლილების განხორციელება/გავლენა იქონიოს მასზე",null,null,null,null,null,{"$f":"IF(D8=\"x\",-2,0)","v":0},{"$f":"IF(E8=\"x\",-1,0)","v":0},{"$f":"IF(F8=\"x\",0,0)","v":0},{"$f":"IF(G8=\"x\",1,0)","v":0},{"$f":"IF(H8=\"x\",2,0)","v":0}]
[null,5,"მოქალაქეთა მიერ დაინტერესებული მხარის აღიარების დონე ",null,null,null,null,null,{"$f":"IF(D9=\"x\",-2,0)","v":0},{"$f":"IF(E9=\"x\",-1,0)","v":0},{"$f":"IF(F9=\"x\",0,0)","v":0},{"$f":"IF(G9=\"x\",1,0)","v":0},{"$f":"IF(H9=\"x\",2,0)","v":0}]
[null,null,"(2) ეკონომიკური კაპიტალი",null,null,null,null,null,null,null,null,null,null,{"$f":"SUM(I11:M15)","v":0},{"$f":"(((N10-(-10))*(1-0))/(10-(-10)))+0","v":0.5}]
[null,6,"დაინტერესებული მხარის შესაძლებლობა, შეასრულოს დონორის ფუნქცია",null,null,null,null,null,{"$f":"IF(D11=\"x\",-2,0)","v":0},{"$f":"IF(E11=\"x\",-1,0)","v":0},{"$f":"IF(F11=\"x\",0,0)","v":0},{"$f":"IF(G11=\"x\",1,0)","v":0},{"$f":"IF(H11=\"x\",2,0)","v":0},null,"შეწონილი მნიშვნელობა"]
[null,7,"დაინტერესებული მხარის შესაძლებლობა, გავლენა მოახდინოს რესურსების განაწილებაზე ",null,null,null,null,null,{"$f":"IF(D12=\"x\",-2,0)","v":0},{"$f":"IF(E12=\"x\",-1,0)","v":0},{"$f":"IF(F12=\"x\",0,0)","v":0},{"$f":"IF(G12=\"x\",1,0)","v":0},{"$f":"IF(H12=\"x\",2,0)","v":0},null,{"$f":"O10*'1_COMMUNITY EVALUATION'!N13","v":0.25}]
[null,8,"დაინტერესებული მხარის შესაძლებლობა, ხელი შეუწყოს წვდომას არსებულ ან დამატებით (გარე) რესურსებზე ",null,null,null,null,null,{"$f":"IF(D13=\"x\",-2,0)","v":0},{"$f":"IF(E13=\"x\",-1,0)","v":0},{"$f":"IF(F13=\"x\",0,0)","v":0},{"$f":"IF(G13=\"x\",1,0)","v":0},{"$f":"IF(H13=\"x\",2,0)","v":0}]
[null,9,"დაინტერესებული მხარის შესაძლებლობა არამატერიალური მხარდაჭერის გასაწევად ",null,null,null,null,null,{"$f":"IF(D14=\"x\",-2,0)","v":0},{"$f":"IF(E14=\"x\",-1,0)","v":0},{"$f":"IF(F14=\"x\",0,0)","v":0},{"$f":"IF(G14=\"x\",1,0)","v":0},{"$f":"IF(H14=\"x\",2,0)","v":0}]
[null,10,"დაინტერესებული მხარის გავლენა შრომის ბაზარზე",null,null,null,null,null,{"$f":"IF(D15=\"x\",-2,0)","v":0},{"$f":"IF(E15=\"x\",-1,0)","v":0},{"$f":"IF(F15=\"x\",0,0)","v":0},{"$f":"IF(G15=\"x\",1,0)","v":0},{"$f":"IF(H15=\"x\",2,0)","v":0}]
[null,null,"(3) ადამიანური კაპიტალი",null,null,null,null,null,null,null,null,null,null,{"$f":"SUM(I17:M21)","v":0},{"$f":"(((N16-(-10))*(1-0))/(10-(-10)))+0","v":0.5}]
[null,11,"დაინტერესებული მხარის ცოდნა/უნარები კონკრეტულ თემასთან მიმართებით",null,null,null,null,null,{"$f":"IF(D17=\"x\",-2,0)","v":0},{"$f":"IF(E17=\"x\",-1,0)","v":0},{"$f":"IF(F17=\"x\",0,0)","v":0},{"$f":"IF(G17=\"x\",1,0)","v":0},{"$f":"IF(H17=\"x\",2,0)","v":0},null,"შეწონილი მნიშვნელობა"]
[null,12,"დაინტერესებული მხარის ინფორმირებულობა კონკრეტულ თემაზე",null,null,null,null,null,{"$f":"IF(D18=\"x\",-2,0)","v":0},{"$f":"IF(E18=\"x\",-1,0)","v":0},{"$f":"IF(F18=\"x\",0,0)","v":0},{"$f":"IF(G18=\"x\",1,0)","v":0},{"$f":"IF(H18=\"x\",2,0)","v":0},null,{"$f":"O16*'1_COMMUNITY EVALUATION'!N22","v":0.25}]
[null,13,"დაინტერესებული მხარის შესაძლებლობა, ჩაერთოს საზოგადოებრივ დებატებში",null,null,null,null,null,{"$f":"IF(D19=\"x\",-2,0)","v":0},{"$f":"IF(E19=\"x\",-1,0)","v":0},{"$f":"IF(F19=\"x\",0,0)","v":0},{"$f":"IF(G19=\"x\",1,0)","v":0},{"$f":"IF(H19=\"x\",2,0)","v":0}]
[null,14,"დაინტერესებული მხარის შესაძლებლობა, კომუნიკაცია დაამყაროს სხვადასხვა მედიასაშუალების გამოყენებით ",null,null,null,null,null,{"$f":"IF(D20=\"x\",-2,0)","v":0},{"$f":"IF(E20=\"x\",-1,0)","v":0},{"$f":"IF(F20=\"x\",0,0)","v":0},{"$f":"IF(G20=\"x\",1,0)","v":0},{"$f":"IF(H20=\"x\",2,0)","v":0}]
[null,15,"დაინტერესებული მხარის ხელმისაწვდომობა საჯარო სივრცეებზე  ",null,null,null,null,null,{"$f":"IF(D21=\"x\",-2,0)","v":0},{"$f":"IF(E21=\"x\",-1,0)","v":0},{"$f":"IF(F21=\"x\",0,0)","v":0},{"$f":"IF(G21=\"x\",1,0)","v":0},{"$f":"IF(H21=\"x\",2,0)","v":0}]
[null,null,"(4) პოლიტიკური კაპიტალი",null,null,null,null,null,null,null,null,null,null,{"$f":"SUM(I23:M27)","v":0},{"$f":"(((N22-(-10))*(1-0))/(10-(-10)))+0","v":0.5}]
[null,16,"ადგილობრივი ადმინისტრაციის ნდობა დაინტერესებული მხარის მიმართ",null,null,null,null,null,{"$f":"IF(D23=\"x\",-2,0)","v":0},{"$f":"IF(E23=\"x\",-1,0)","v":0},{"$f":"IF(F23=\"x\",0,0)","v":0},{"$f":"IF(G23=\"x\",1,0)","v":0},{"$f":"IF(H23=\"x\",2,0)","v":0},null,"შეწონილი მნიშვნელობა"]
[null,17,"დაინტერესებული მხარის შესაძლებლობა, ჩართოს სხვა პოლიტიკური აქტორები",null,null,null,null,null,{"$f":"IF(D24=\"x\",-2,0)","v":0},{"$f":"IF(E24=\"x\",-1,0)","v":0},{"$f":"IF(F24=\"x\",0,0)","v":0},{"$f":"IF(G24=\"x\",1,0)","v":0},{"$f":"IF(H24=\"x\",2,0)","v":0},null,{"$f":"O22*'1_COMMUNITY EVALUATION'!N31","v":0.25}]
[null,18,"დაინტერესებული მხარის შესაძლებლობა, ითანამშრომლოს ადგილობრივი ხელისუფლების ორგანოებთან/სხვა დაინტერესებულ მხარეებთან ",null,null,null,null,null,{"$f":"IF(D25=\"x\",-2,0)","v":0},{"$f":"IF(E25=\"x\",-1,0)","v":0},{"$f":"IF(F25=\"x\",0,0)","v":0},{"$f":"IF(G25=\"x\",1,0)","v":0},{"$f":"IF(H25=\"x\",2,0)","v":0}]
[null,19,"დაინტერესებული მხარის შესაძლებლობა, გავლენა იქონიოს საზოგადოებრივ აზრზე ",null,null,null,null,null,{"$f":"IF(D26=\"x\",-2,0)","v":0},{"$f":"IF(E26=\"x\",-1,0)","v":0},{"$f":"IF(F26=\"x\",0,0)","v":0},{"$f":"IF(G26=\"x\",1,0)","v":0},{"$f":"IF(H26=\"x\",2,0)","v":0}]
[null,20,"დაინტერესებული მხარის ინფორმირებულობა პოლიტიკის საკითხებზე",null,null,null,null,null,{"$f":"IF(D27=\"x\",-2,0)","v":0},{"$f":"IF(E27=\"x\",-1,0)","v":0},{"$f":"IF(F27=\"x\",0,0)","v":0},{"$f":"IF(G27=\"x\",1,0)","v":0},{"$f":"IF(H27=\"x\",2,0)","v":0}]
[null,null,"რელევანტურობის ქულა",null,null,null,null,null,null,null,null,null,null,null,{"$f":"IF(D2=\"\",\"\",(SUM(O24+O18+O12+O6)/4))","v":""}]
[]
[null,null,"განზომილებები","უაღრესად უარყოფითი","უარყოფითი","არ არის რელევანტური","დადებითი","უაღრესად დადებითი",-2,-1,0,1,2,null,"ქულა თითოეულ განზომილებაში"]
[null,null,"(1)სოციალური კაპიტალი",null,null,null,null,null,null,null,null,null,null,{"$f":"SUM(I32:M36)","v":0},{"$f":"(((N31-(-10))*(1-0))/(10-(-10)))+0","v":0.5}]
[null,1,"დაინტერესებული მხარის ინტერესი, დაამყაროს კონტაქტები კონკრეტულ თემასთან დაკავშირებით",null,null,null,null,null,{"$f":"IF(D32=\"x\",-2,0)","v":0},{"$f":"IF(E32=\"x\",-1,0)","v":0},{"$f":"IF(F32=\"x\",0,0)","v":0},{"$f":"IF(G32=\"x\",1,0)","v":0},{"$f":"IF(H32=\"x\",2,0)","v":0},null,"შეწონილი მნიშვნელობა"]
[null,2,"დაინტერესებული მხარის ინტერესი, უზრუნველყოს კონკრეტული კატეგორიის აქტორთა წარმომადგენლობა თემასთან მიმართებით",null,null,null,null,null,{"$f":"IF(D33=\"x\",-2,0)","v":0},{"$f":"IF(E33=\"x\",-1,0)","v":0},{"$f":"IF(F33=\"x\",0,0)","v":0},{"$f":"IF(G33=\"x\",1,0)","v":0},{"$f":"IF(H33=\"x\",2,0)","v":0},null,{"$f":"O31*'1_COMMUNITY EVALUATION'!N4","v":0.25}]
[null,3,"დაინტერესებული მხარის ინტერესი, ჩაერთოს  ადგილობრივ სამოქალაქო აქტივობებში თემასთან მიმართებით",null,null,null,null,null,{"$f":"IF(D34=\"x\",-2,0)","v":0},{"$f":"IF(E34=\"x\",-1,0)","v":0},{"$f":"IF(F34=\"x\",0,0)","v":0},{"$f":"IF(G34=\"x\",1,0)","v":0},{"$f":"IF(H34=\"x\",2,0)","v":0}]
[null,4,"დაინტერესებული მხარის ინტერესი, დაიწყოს ცვლილების განხორციელება/გავლენა იქონიოს მასზე      ",null,null,null,null,null,{"$f":"IF(D35=\"x\",-2,0)","v":0},{"$f":"IF(E35=\"x\",-1,0)","v":0},{"$f":"IF(F35=\"x\",0,0)","v":0},{"$f":"IF(G35=\"x\",1,0)","v":0},{"$f":"IF(H35=\"x\",2,0)","v":0}]
[null,5,"დაინტერესებული მხარის ინტერესი, გაზარდოს მისი აღიარება მოქალაქეთა მხრიდან",null,null,null,null,null,{"$f":"IF(D36=\"x\",-2,0)","v":0},{"$f":"IF(E36=\"x\",-1,0)","v":0},{"$f":"IF(F36=\"x\",0,0)","v":0},{"$f":"IF(G36=\"x\",1,0)","v":0},{"$f":"IF(H36=\"x\",2,0)","v":0}]
[null,null,"(2) ეკონომიკური კაპიტალი",null,null,null,null,null,null,null,null,null,null,{"$f":"SUM(I38:M42)","v":0},{"$f":"(((N37-(-10))*(1-0))/(10-(-10)))+0","v":0.5}]
[null,6,"დაინტერესებული მხარის პოტენციური ეკონომიკური სარგებელი",null,null,null,null,null,{"$f":"IF(D38=\"x\",-2,0)","v":0},{"$f":"IF(E38=\"x\",-1,0)","v":0},{"$f":"IF(F38=\"x\",0,0)","v":0},{"$f":"IF(G38=\"x\",1,0)","v":0},{"$f":"IF(H38=\"x\",2,0)","v":0},null,"შეწონილი მნიშვნელობა"]
[null,7,"დაინტერესებული მხარის სურვილი, თავი მოუყაროს რესურსებს",null,null,null,null,null,{"$f":"IF(D39=\"x\",-2,0)","v":0},{"$f":"IF(E39=\"x\",-1,0)","v":0},{"$f":"IF(F39=\"x\",0,0)","v":0},{"$f":"IF(G39=\"x\",1,0)","v":0},{"$f":"IF(H39=\"x\",2,0)","v":0},null,{"$f":"O37*'1_COMMUNITY EVALUATION'!N13","v":0.25}]
[null,8,"დაინტერესებული მხარის სურვილი, ხელი შეუწყოს წვდომას არსებულ ან დამატებით(გარე) რესურსებზე       ",null,null,null,null,null,{"$f":"IF(D40=\"x\",-2,0)","v":0},{"$f":"IF(E40=\"x\",-1,0)","v":0},{"$f":"IF(F40=\"x\",0,0)","v":0},{"$f":"IF(G40=\"x\",1,0)","v":0},{"$f":"IF(H40=\"x\",2,0)","v":0}]
[null,9,"დაინტერესებული მხარის მზაობა არამატერიალური მხარდაჭერის გასაწევად",null,null,null,null,null,{"$f":"IF(D41=\"x\",-2,0)","v":0},{"$f":"IF(E41=\"x\",-1,0)","v":0},{"$f":"IF(F41=\"x\",0,0)","v":0},{"$f":"IF(G41=\"x\",1,0)","v":0},{"$f":"IF(H41=\"x\",2,0)","v":0}]
[null,10,"დაინტერესებული მხარის ინტერესი, გაზარდოს თავისი გავლენა შრომის ბაზარზე",null,null,null,null,null,{"$f":"IF(D42=\"x\",-2,0)","v":0},{"$f":"IF(E42=\"x\",-1,0)","v":0},{"$f":"IF(F42=\"x\",0,0)","v":0},{"$f":"IF(G42=\"x\",1,0)","v":0},{"$f":"IF(H42=\"x\",2,0)","v":0}]
[null,null,"(3) ადამიანური კაპიტალი",null,null,null,null,null,null,null,null,null,null,{"$f":"SUM(I44:M48)","v":0},{"$f":"(((N43-(-10))*(1-0))/(10-(-10)))+0","v":0.5}]
[null,11,"დაინტერესებული მხარის ინტერესი, გააზიაროს/გააუმჯობესოს თავისი ცოდნა/უნარები კონკრეტულ თემასთან მიმართებით",null,null,null,null,null,{"$f":"IF(D44=\"x\",-2,0)","v":0},{"$f":"IF(E44=\"x\",-1,0)","v":0},{"$f":"IF(F44=\"x\",0,0)","v":0},{"$f":"IF(G44=\"x\",1,0)","v":0},{"$f":"IF(H44=\"x\",2,0)","v":0},null,"შეწონილი მნიშვნელობა"]
[null,12,"დაინტერესებული მხარის სურვილი გააზიაროს/გაზარდოს საკუთარი ინფორმირებულობა კონკრეტულ თემაზე",null,null,null,null,null,{"$f":"IF(D45=\"x\",-2,0)","v":0},{"$f":"IF(E45=\"x\",-1,0)","v":0},{"$f":"IF(F45=\"x\",0,0)","v":0},{"$f":"IF(G45=\"x\",1,0)","v":0},{"$f":"IF(H45=\"x\",2,0)","v":0},null,{"$f":"O43*'1_COMMUNITY EVALUATION'!N22","v":0.25}]
[null,13,"დაინტერესებული მხარის სურვილი, ჩაერთოს საზოგადოებრივ დებატებში",null,null,null,null,null,{"$f":"IF(D46=\"x\",-2,0)","v":0},{"$f":"IF(E46=\"x\",-1,0)","v":0},{"$f":"IF(F46=\"x\",0,0)","v":0},{"$f":"IF(G46=\"x\",1,0)","v":0},{"$f":"IF(H46=\"x\",2,0)","v":0}]
[null,14,"დაინტერესებული მხარის სურვილი, კომუნიკაცია დაამყაროს სხვადასხვა მედიასაშუალების  გამოყენებით ",null,null,null,null,null,{"$f":"IF(D47=\"x\",-2,0)","v":0},{"$f":"IF(E47=\"x\",-1,0)","v":0},{"$f":"IF(F47=\"x\",0,0)","v":0},{"$f":"IF(G47=\"x\",1,0)","v":0},{"$f":"IF(H47=\"x\",2,0)","v":0}]
[null,15,"დაინტერესებული მხარის სურვილი, ჰქონდეს წვდომა საჯარო სივრცეებზე",null,null,null,null,null,{"$f":"IF(D48=\"x\",-2,0)","v":0},{"$f":"IF(E48=\"x\",-1,0)","v":0},{"$f":"IF(F48=\"x\",0,0)","v":0},{"$f":"IF(G48=\"x\",1,0)","v":0},{"$f":"IF(H48=\"x\",2,0)","v":0}]
[null,null,"(4) პოლიტიკური კაპიტალი",null,null,null,null,null,null,null,null,null,null,{"$f":"SUM(I50:M54)","v":0},{"$f":"(((N49-(-10))*(1-0))/(10-(-10)))+0","v":0.5}]
[null,16,"დაინტერესებული მხარის ნდობა ადგილობრივი ადმინისტრაციის მიმართ",null,null,null,null,null,{"$f":"IF(D50=\"x\",-2,0)","v":0},{"$f":"IF(E50=\"x\",-1,0)","v":0},{"$f":"IF(F50=\"x\",0,0)","v":0},{"$f":"IF(G50=\"x\",1,0)","v":0},{"$f":"IF(H50=\"x\",2,0)","v":0},null,"შეწონილი მნიშვნელობა"]
[null,17,"დაინტერესებული მხარის პოლიტიკური ინტერესი კონკრეტული თემის მიმართ ",null,null,null,null,null,{"$f":"IF(D51=\"x\",-2,0)","v":0},{"$f":"IF(E51=\"x\",-1,0)","v":0},{"$f":"IF(F51=\"x\",0,0)","v":0},{"$f":"IF(G51=\"x\",1,0)","v":0},{"$f":"IF(H51=\"x\",2,0)","v":0},null,{"$f":"O49*'1_COMMUNITY EVALUATION'!N31","v":0.25}]
[null,18,"დაინტერესებული მხარის სურვილი, ითანამშრომლოს ადგილობრივი ხელისუფლების ორგანოებთან",null,null,null,null,null,{"$f":"IF(D52=\"x\",-2,0)","v":0},{"$f":"IF(E52=\"x\",-1,0)","v":0},{"$f":"IF(F52=\"x\",0,0)","v":0},{"$f":"IF(G52=\"x\",1,0)","v":0},{"$f":"IF(H52=\"x\",2,0)","v":0}]
[null,19,"დაინტერესებული მხარის ინტერესი, ხმა მიაწვდინოს/მოიცვას ფართო საზოგადოება",null,null,null,null,null,{"$f":"IF(D53=\"x\",-2,0)","v":0},{"$f":"IF(E53=\"x\",-1,0)","v":0},{"$f":"IF(F53=\"x\",0,0)","v":0},{"$f":"IF(G53=\"x\",1,0)","v":0},{"$f":"IF(H53=\"x\",2,0)","v":0}]
[null,20,"დაინტერესებული მხარის სურვილი, გააზიაროს/გაზარდოს თავისი ინფორმირებულობა პოლიტიკის საკითხებზე",null,null,null,null,null,{"$f":"IF(D54=\"x\",-2,0)","v":0},{"$f":"IF(E54=\"x\",-1,0)","v":0},{"$f":"IF(F54=\"x\",0,0)","v":0},{"$f":"IF(G54=\"x\",1,0)","v":0},{"$f":"IF(H54=\"x\",2,0)","v":0}]
[null,null,"ინტერესის ქულა",null,null,null,null,null,null,null,null,null,null,null,{"$f":"IF(D2=\"\",\"\",(SUM(O51+O45+O39+O33)/4))","v":""}]

{"sheet":"STAKEHOLDER (12)","index":16,"n_rows":55,"n_cols":15,"rows_kept":55,"cut":false,"hidden":false,"merged":[[0,1,0,14],[1,3,1,14],[27,2,27,7],[54,2,54,7]]}
[null,"კონკრეტული თემის გათვალისწინებით, გთხოვთ, დაინტერესებული მხარე შეაფასოთ თითოეულ პუნქტთან მიმართებით (უაღრესად უარყოფითიდან უაღრესად დადებითამდე) და შესაბამის გრაფაში მონიშნოთ „x“. "]
[null,null,"დაინტერესებული მხარე -მიუთითეთ დასახელება"]
[null,null,"განზომილებები","უაღრესად უარყოფითი","უარყოფითი","არ არის რელევანტური","დადებითი","უაღრესად დადებითი",-2,-1,0,1,2,null,"ქულა თითოეულ განზომილებაში"]
[null,null,"(1)სოციალური კაპიტალი",null,null,null,null,null,null,null,null,null,null,{"$f":"SUM(I5:M9)","v":0},{"$f":"(((N4-(-10))*(1-0))/(10-(-10)))+0","v":0.5}]
[null,1,"დაინტერესებული მხარის შესაძლებლობა, ჩართოს სხვა დაინტერესებული მხარეები ",null,null,null,null,null,{"$f":"IF(D5=\"x\",-2,0)","v":0},{"$f":"IF(E5=\"x\",-1,0)","v":0},{"$f":"IF(F5=\"x\",0,0)","v":0},{"$f":"IF(G5=\"x\",1,0)","v":0},{"$f":"IF(H5=\"x\",2,0)","v":0},null,"შეწონილი მნიშვნელობა"]
[null,2,"კონკრეტული კატეგორიის აქტორთა წარმომადგენლობითი დონე (მრავალი სხვა მოქალაქის ინტერესების წარმოდგენა)",null,null,null,null,null,{"$f":"IF(D6=\"x\",-2,0)","v":0},{"$f":"IF(E6=\"x\",-1,0)","v":0},{"$f":"IF(F6=\"x\",0,0)","v":0},{"$f":"IF(G6=\"x\",1,0)","v":0},{"$f":"IF(H6=\"x\",2,0)","v":0},null,{"$f":"O4*'1_COMMUNITY EVALUATION'!N4","v":0.25}]
[null,3,"დაინტერესებული მხარის მონაწილეობის დონე ადგილობრივ სამოქალაქო აქტივობებში",null,null,null,null,null,{"$f":"IF(D7=\"x\",-2,0)","v":0},{"$f":"IF(E7=\"x\",-1,0)","v":0},{"$f":"IF(F7=\"x\",0,0)","v":0},{"$f":"IF(G7=\"x\",1,0)","v":0},{"$f":"IF(H7=\"x\",2,0)","v":0}]
[null,4,"დაინტერესებული მხარის შესაძლებლობა, დაიწყოს ცვლილების განხორციელება/გავლენა იქონიოს მასზე",null,null,null,null,null,{"$f":"IF(D8=\"x\",-2,0)","v":0},{"$f":"IF(E8=\"x\",-1,0)","v":0},{"$f":"IF(F8=\"x\",0,0)","v":0},{"$f":"IF(G8=\"x\",1,0)","v":0},{"$f":"IF(H8=\"x\",2,0)","v":0}]
[null,5,"მოქალაქეთა მიერ დაინტერესებული მხარის აღიარების დონე ",null,null,null,null,null,{"$f":"IF(D9=\"x\",-2,0)","v":0},{"$f":"IF(E9=\"x\",-1,0)","v":0},{"$f":"IF(F9=\"x\",0,0)","v":0},{"$f":"IF(G9=\"x\",1,0)","v":0},{"$f":"IF(H9=\"x\",2,0)","v":0}]
[null,null,"(2) ეკონომიკური კაპიტალი",null,null,null,null,null,null,null,null,null,null,{"$f":"SUM(I11:M15)","v":0},{"$f":"(((N10-(-10))*(1-0))/(10-(-10)))+0","v":0.5}]
[null,6,"დაინტერესებული მხარის შესაძლებლობა, შეასრულოს დონორის ფუნქცია",null,null,null,null,null,{"$f":"IF(D11=\"x\",-2,0)","v":0},{"$f":"IF(E11=\"x\",-1,0)","v":0},{"$f":"IF(F11=\"x\",0,0)","v":0},{"$f":"IF(G11=\"x\",1,0)","v":0},{"$f":"IF(H11=\"x\",2,0)","v":0},null,"შეწონილი მნიშვნელობა"]
[null,7,"დაინტერესებული მხარის შესაძლებლობა, გავლენა მოახდინოს რესურსების განაწილებაზე ",null,null,null,null,null,{"$f":"IF(D12=\"x\",-2,0)","v":0},{"$f":"IF(E12=\"x\",-1,0)","v":0},{"$f":"IF(F12=\"x\",0,0)","v":0},{"$f":"IF(G12=\"x\",1,0)","v":0},{"$f":"IF(H12=\"x\",2,0)","v":0},null,{"$f":"O10*'1_COMMUNITY EVALUATION'!N13","v":0.25}]
[null,8,"დაინტერესებული მხარის შესაძლებლობა, ხელი შეუწყოს წვდომას არსებულ ან დამატებით (გარე) რესურსებზე ",null,null,null,null,null,{"$f":"IF(D13=\"x\",-2,0)","v":0},{"$f":"IF(E13=\"x\",-1,0)","v":0},{"$f":"IF(F13=\"x\",0,0)","v":0},{"$f":"IF(G13=\"x\",1,0)","v":0},{"$f":"IF(H13=\"x\",2,0)","v":0}]
[null,9,"დაინტერესებული მხარის შესაძლებლობა არამატერიალური მხარდაჭერის გასაწევად ",null,null,null,null,null,{"$f":"IF(D14=\"x\",-2,0)","v":0},{"$f":"IF(E14=\"x\",-1,0)","v":0},{"$f":"IF(F14=\"x\",0,0)","v":0},{"$f":"IF(G14=\"x\",1,0)","v":0},{"$f":"IF(H14=\"x\",2,0)","v":0}]
[null,10,"დაინტერესებული მხარის გავლენა შრომის ბაზარზე",null,null,null,null,null,{"$f":"IF(D15=\"x\",-2,0)","v":0},{"$f":"IF(E15=\"x\",-1,0)","v":0},{"$f":"IF(F15=\"x\",0,0)","v":0},{"$f":"IF(G15=\"x\",1,0)","v":0},{"$f":"IF(H15=\"x\",2,0)","v":0}]
[null,null,"(3) ადამიანური კაპიტალი",null,null,null,null,null,null,null,null,null,null,{"$f":"SUM(I17:M21)","v":0},{"$f":"(((N16-(-10))*(1-0))/(10-(-10)))+0","v":0.5}]
[null,11,"დაინტერესებული მხარის ცოდნა/უნარები კონკრეტულ თემასთან მიმართებით",null,null,null,null,null,{"$f":"IF(D17=\"x\",-2,0)","v":0},{"$f":"IF(E17=\"x\",-1,0)","v":0},{"$f":"IF(F17=\"x\",0,0)","v":0},{"$f":"IF(G17=\"x\",1,0)","v":0},{"$f":"IF(H17=\"x\",2,0)","v":0},null,"შეწონილი მნიშვნელობა"]
[null,12,"დაინტერესებული მხარის ინფორმირებულობა კონკრეტულ თემაზე",null,null,null,null,null,{"$f":"IF(D18=\"x\",-2,0)","v":0},{"$f":"IF(E18=\"x\",-1,0)","v":0},{"$f":"IF(F18=\"x\",0,0)","v":0},{"$f":"IF(G18=\"x\",1,0)","v":0},{"$f":"IF(H18=\"x\",2,0)","v":0},null,{"$f":"O16*'1_COMMUNITY EVALUATION'!N22","v":0.25}]
[null,13,"დაინტერესებული მხარის შესაძლებლობა, ჩაერთოს საზოგადოებრივ დებატებში",null,null,null,null,null,{"$f":"IF(D19=\"x\",-2,0)","v":0},{"$f":"IF(E19=\"x\",-1,0)","v":0},{"$f":"IF(F19=\"x\",0,0)","v":0},{"$f":"IF(G19=\"x\",1,0)","v":0},{"$f":"IF(H19=\"x\",2,0)","v":0}]
[null,14,"დაინტერესებული მხარის შესაძლებლობა, კომუნიკაცია დაამყაროს სხვადასხვა მედიასაშუალების გამოყენებით ",null,null,null,null,null,{"$f":"IF(D20=\"x\",-2,0)","v":0},{"$f":"IF(E20=\"x\",-1,0)","v":0},{"$f":"IF(F20=\"x\",0,0)","v":0},{"$f":"IF(G20=\"x\",1,0)","v":0},{"$f":"IF(H20=\"x\",2,0)","v":0}]
[null,15,"დაინტერესებული მხარის ხელმისაწვდომობა საჯარო სივრცეებზე  ",null,null,null,null,null,{"$f":"IF(D21=\"x\",-2,0)","v":0},{"$f":"IF(E21=\"x\",-1,0)","v":0},{"$f":"IF(F21=\"x\",0,0)","v":0},{"$f":"IF(G21=\"x\",1,0)","v":0},{"$f":"IF(H21=\"x\",2,0)","v":0}]
[null,null,"(4) პოლიტიკური კაპიტალი",null,null,null,null,null,null,null,null,null,null,{"$f":"SUM(I23:M27)","v":0},{"$f":"(((N22-(-10))*(1-0))/(10-(-10)))+0","v":0.5}]
[null,16,"ადგილობრივი ადმინისტრაციის ნდობა დაინტერესებული მხარის მიმართ",null,null,null,null,null,{"$f":"IF(D23=\"x\",-2,0)","v":0},{"$f":"IF(E23=\"x\",-1,0)","v":0},{"$f":"IF(F23=\"x\",0,0)","v":0},{"$f":"IF(G23=\"x\",1,0)","v":0},{"$f":"IF(H23=\"x\",2,0)","v":0},null,"შეწონილი მნიშვნელობა"]
[null,17,"დაინტერესებული მხარის შესაძლებლობა, ჩართოს სხვა პოლიტიკური აქტორები",null,null,null,null,null,{"$f":"IF(D24=\"x\",-2,0)","v":0},{"$f":"IF(E24=\"x\",-1,0)","v":0},{"$f":"IF(F24=\"x\",0,0)","v":0},{"$f":"IF(G24=\"x\",1,0)","v":0},{"$f":"IF(H24=\"x\",2,0)","v":0},null,{"$f":"O22*'1_COMMUNITY EVALUATION'!N31","v":0.25}]
[null,18,"დაინტერესებული მხარის შესაძლებლობა, ითანამშრომლოს ადგილობრივი ხელისუფლების ორგანოებთან/სხვა დაინტერესებულ მხარეებთან ",null,null,null,null,null,{"$f":"IF(D25=\"x\",-2,0)","v":0},{"$f":"IF(E25=\"x\",-1,0)","v":0},{"$f":"IF(F25=\"x\",0,0)","v":0},{"$f":"IF(G25=\"x\",1,0)","v":0},{"$f":"IF(H25=\"x\",2,0)","v":0}]
[null,19,"დაინტერესებული მხარის შესაძლებლობა, გავლენა იქონიოს საზოგადოებრივ აზრზე ",null,null,null,null,null,{"$f":"IF(D26=\"x\",-2,0)","v":0},{"$f":"IF(E26=\"x\",-1,0)","v":0},{"$f":"IF(F26=\"x\",0,0)","v":0},{"$f":"IF(G26=\"x\",1,0)","v":0},{"$f":"IF(H26=\"x\",2,0)","v":0}]
[null,20,"დაინტერესებული მხარის ინფორმირებულობა პოლიტიკის საკითხებზე",null,null,null,null,null,{"$f":"IF(D27=\"x\",-2,0)","v":0},{"$f":"IF(E27=\"x\",-1,0)","v":0},{"$f":"IF(F27=\"x\",0,0)","v":0},{"$f":"IF(G27=\"x\",1,0)","v":0},{"$f":"IF(H27=\"x\",2,0)","v":0}]
[null,null,"რელევანტურობის ქულა",null,null,null,null,null,null,null,null,null,null,null,{"$f":"IF(D2=\"\",\"\",(SUM(O24+O18+O12+O6)/4))","v":""}]
[]
[null,null,"განზომილებები","უაღრესად უარყოფითი","უარყოფითი","არ არის რელევანტური","დადებითი","უაღრესად დადებითი",-2,-1,0,1,2,null,"ქულა თითოეულ განზომილებაში"]
[null,null,"(1)სოციალური კაპიტალი",null,null,null,null,null,null,null,null,null,null,{"$f":"SUM(I32:M36)","v":0},{"$f":"(((N31-(-10))*(1-0))/(10-(-10)))+0","v":0.5}]
[null,1,"დაინტერესებული მხარის ინტერესი, დაამყაროს კონტაქტები კონკრეტულ თემასთან დაკავშირებით",null,null,null,null,null,{"$f":"IF(D32=\"x\",-2,0)","v":0},{"$f":"IF(E32=\"x\",-1,0)","v":0},{"$f":"IF(F32=\"x\",0,0)","v":0},{"$f":"IF(G32=\"x\",1,0)","v":0},{"$f":"IF(H32=\"x\",2,0)","v":0},null,"შეწონილი მნიშვნელობა"]
[null,2,"დაინტერესებული მხარის ინტერესი, უზრუნველყოს კონკრეტული კატეგორიის აქტორთა წარმომადგენლობა თემასთან მიმართებით",null,null,null,null,null,{"$f":"IF(D33=\"x\",-2,0)","v":0},{"$f":"IF(E33=\"x\",-1,0)","v":0},{"$f":"IF(F33=\"x\",0,0)","v":0},{"$f":"IF(G33=\"x\",1,0)","v":0},{"$f":"IF(H33=\"x\",2,0)","v":0},null,{"$f":"O31*'1_COMMUNITY EVALUATION'!N4","v":0.25}]
[null,3,"დაინტერესებული მხარის ინტერესი, ჩაერთოს  ადგილობრივ სამოქალაქო აქტივობებში თემასთან მიმართებით",null,null,null,null,null,{"$f":"IF(D34=\"x\",-2,0)","v":0},{"$f":"IF(E34=\"x\",-1,0)","v":0},{"$f":"IF(F34=\"x\",0,0)","v":0},{"$f":"IF(G34=\"x\",1,0)","v":0},{"$f":"IF(H34=\"x\",2,0)","v":0}]
[null,4,"დაინტერესებული მხარის ინტერესი, დაიწყოს ცვლილების განხორციელება/გავლენა იქონიოს მასზე      ",null,null,null,null,null,{"$f":"IF(D35=\"x\",-2,0)","v":0},{"$f":"IF(E35=\"x\",-1,0)","v":0},{"$f":"IF(F35=\"x\",0,0)","v":0},{"$f":"IF(G35=\"x\",1,0)","v":0},{"$f":"IF(H35=\"x\",2,0)","v":0}]
[null,5,"დაინტერესებული მხარის ინტერესი, გაზარდოს მისი აღიარება მოქალაქეთა მხრიდან",null,null,null,null,null,{"$f":"IF(D36=\"x\",-2,0)","v":0},{"$f":"IF(E36=\"x\",-1,0)","v":0},{"$f":"IF(F36=\"x\",0,0)","v":0},{"$f":"IF(G36=\"x\",1,0)","v":0},{"$f":"IF(H36=\"x\",2,0)","v":0}]
[null,null,"(2) ეკონომიკური კაპიტალი",null,null,null,null,null,null,null,null,null,null,{"$f":"SUM(I38:M42)","v":0},{"$f":"(((N37-(-10))*(1-0))/(10-(-10)))+0","v":0.5}]
[null,6,"დაინტერესებული მხარის პოტენციური ეკონომიკური სარგებელი",null,null,null,null,null,{"$f":"IF(D38=\"x\",-2,0)","v":0},{"$f":"IF(E38=\"x\",-1,0)","v":0},{"$f":"IF(F38=\"x\",0,0)","v":0},{"$f":"IF(G38=\"x\",1,0)","v":0},{"$f":"IF(H38=\"x\",2,0)","v":0},null,"შეწონილი მნიშვნელობა"]
[null,7,"დაინტერესებული მხარის სურვილი, თავი მოუყაროს რესურსებს",null,null,null,null,null,{"$f":"IF(D39=\"x\",-2,0)","v":0},{"$f":"IF(E39=\"x\",-1,0)","v":0},{"$f":"IF(F39=\"x\",0,0)","v":0},{"$f":"IF(G39=\"x\",1,0)","v":0},{"$f":"IF(H39=\"x\",2,0)","v":0},null,{"$f":"O37*'1_COMMUNITY EVALUATION'!N13","v":0.25}]
[null,8,"დაინტერესებული მხარის სურვილი, ხელი შეუწყოს წვდომას არსებულ ან დამატებით(გარე) რესურსებზე       ",null,null,null,null,null,{"$f":"IF(D40=\"x\",-2,0)","v":0},{"$f":"IF(E40=\"x\",-1,0)","v":0},{"$f":"IF(F40=\"x\",0,0)","v":0},{"$f":"IF(G40=\"x\",1,0)","v":0},{"$f":"IF(H40=\"x\",2,0)","v":0}]
[null,9,"დაინტერესებული მხარის მზაობა არამატერიალური მხარდაჭერის გასაწევად",null,null,null,null,null,{"$f":"IF(D41=\"x\",-2,0)","v":0},{"$f":"IF(E41=\"x\",-1,0)","v":0},{"$f":"IF(F41=\"x\",0,0)","v":0},{"$f":"IF(G41=\"x\",1,0)","v":0},{"$f":"IF(H41=\"x\",2,0)","v":0}]
[null,10,"დაინტერესებული მხარის ინტერესი, გაზარდოს თავისი გავლენა შრომის ბაზარზე",null,null,null,null,null,{"$f":"IF(D42=\"x\",-2,0)","v":0},{"$f":"IF(E42=\"x\",-1,0)","v":0},{"$f":"IF(F42=\"x\",0,0)","v":0},{"$f":"IF(G42=\"x\",1,0)","v":0},{"$f":"IF(H42=\"x\",2,0)","v":0}]
[null,null,"(3) ადამიანური კაპიტალი",null,null,null,null,null,null,null,null,null,null,{"$f":"SUM(I44:M48)","v":0},{"$f":"(((N43-(-10))*(1-0))/(10-(-10)))+0","v":0.5}]
[null,11,"დაინტერესებული მხარის ინტერესი, გააზიაროს/გააუმჯობესოს თავისი ცოდნა/უნარები კონკრეტულ თემასთან მიმართებით",null,null,null,null,null,{"$f":"IF(D44=\"x\",-2,0)","v":0},{"$f":"IF(E44=\"x\",-1,0)","v":0},{"$f":"IF(F44=\"x\",0,0)","v":0},{"$f":"IF(G44=\"x\",1,0)","v":0},{"$f":"IF(H44=\"x\",2,0)","v":0},null,"შეწონილი მნიშვნელობა"]
[null,12,"დაინტერესებული მხარის სურვილი გააზიაროს/გაზარდოს საკუთარი ინფორმირებულობა კონკრეტულ თემაზე",null,null,null,null,null,{"$f":"IF(D45=\"x\",-2,0)","v":0},{"$f":"IF(E45=\"x\",-1,0)","v":0},{"$f":"IF(F45=\"x\",0,0)","v":0},{"$f":"IF(G45=\"x\",1,0)","v":0},{"$f":"IF(H45=\"x\",2,0)","v":0},null,{"$f":"O43*'1_COMMUNITY EVALUATION'!N22","v":0.25}]
[null,13,"დაინტერესებული მხარის სურვილი, ჩაერთოს საზოგადოებრივ დებატებში",null,null,null,null,null,{"$f":"IF(D46=\"x\",-2,0)","v":0},{"$f":"IF(E46=\"x\",-1,0)","v":0},{"$f":"IF(F46=\"x\",0,0)","v":0},{"$f":"IF(G46=\"x\",1,0)","v":0},{"$f":"IF(H46=\"x\",2,0)","v":0}]
[null,14,"დაინტერესებული მხარის სურვილი, კომუნიკაცია დაამყაროს სხვადასხვა მედიასაშუალების  გამოყენებით ",null,null,null,null,null,{"$f":"IF(D47=\"x\",-2,0)","v":0},{"$f":"IF(E47=\"x\",-1,0)","v":0},{"$f":"IF(F47=\"x\",0,0)","v":0},{"$f":"IF(G47=\"x\",1,0)","v":0},{"$f":"IF(H47=\"x\",2,0)","v":0}]
[null,15,"დაინტერესებული მხარის სურვილი, ჰქონდეს წვდომა საჯარო სივრცეებზე",null,null,null,null,null,{"$f":"IF(D48=\"x\",-2,0)","v":0},{"$f":"IF(E48=\"x\",-1,0)","v":0},{"$f":"IF(F48=\"x\",0,0)","v":0},{"$f":"IF(G48=\"x\",1,0)","v":0},{"$f":"IF(H48=\"x\",2,0)","v":0}]
[null,null,"(4) პოლიტიკური კაპიტალი",null,null,null,null,null,null,null,null,null,null,{"$f":"SUM(I50:M54)","v":0},{"$f":"(((N49-(-10))*(1-0))/(10-(-10)))+0","v":0.5}]
[null,16,"დაინტერესებული მხარის ნდობა ადგილობრივი ადმინისტრაციის მიმართ",null,null,null,null,null,{"$f":"IF(D50=\"x\",-2,0)","v":0},{"$f":"IF(E50=\"x\",-1,0)","v":0},{"$f":"IF(F50=\"x\",0,0)","v":0},{"$f":"IF(G50=\"x\",1,0)","v":0},{"$f":"IF(H50=\"x\",2,0)","v":0},null,"შეწონილი მნიშვნელობა"]
[null,17,"დაინტერესებული მხარის პოლიტიკური ინტერესი კონკრეტული თემის მიმართ ",null,null,null,null,null,{"$f":"IF(D51=\"x\",-2,0)","v":0},{"$f":"IF(E51=\"x\",-1,0)","v":0},{"$f":"IF(F51=\"x\",0,0)","v":0},{"$f":"IF(G51=\"x\",1,0)","v":0},{"$f":"IF(H51=\"x\",2,0)","v":0},null,{"$f":"O49*'1_COMMUNITY EVALUATION'!N31","v":0.25}]
[null,18,"დაინტერესებული მხარის სურვილი, ითანამშრომლოს ადგილობრივი ხელისუფლების ორგანოებთან",null,null,null,null,null,{"$f":"IF(D52=\"x\",-2,0)","v":0},{"$f":"IF(E52=\"x\",-1,0)","v":0},{"$f":"IF(F52=\"x\",0,0)","v":0},{"$f":"IF(G52=\"x\",1,0)","v":0},{"$f":"IF(H52=\"x\",2,0)","v":0}]
[null,19,"დაინტერესებული მხარის ინტერესი, ხმა მიაწვდინოს/მოიცვას ფართო საზოგადოება",null,null,null,null,null,{"$f":"IF(D53=\"x\",-2,0)","v":0},{"$f":"IF(E53=\"x\",-1,0)","v":0},{"$f":"IF(F53=\"x\",0,0)","v":0},{"$f":"IF(G53=\"x\",1,0)","v":0},{"$f":"IF(H53=\"x\",2,0)","v":0}]
[null,20,"დაინტერესებული მხარის სურვილი, გააზიაროს/გაზარდოს თავისი ინფორმირებულობა პოლიტიკის საკითხებზე",null,null,null,null,null,{"$f":"IF(D54=\"x\",-2,0)","v":0},{"$f":"IF(E54=\"x\",-1,0)","v":0},{"$f":"IF(F54=\"x\",0,0)","v":0},{"$f":"IF(G54=\"x\",1,0)","v":0},{"$f":"IF(H54=\"x\",2,0)","v":0}]
[null,null,"ინტერესის ქულა",null,null,null,null,null,null,null,null,null,null,null,{"$f":"IF(D2=\"\",\"\",(SUM(O51+O45+O39+O33)/4))","v":""}]

{"sheet":"STAKEHOLDER (13)","index":17,"n_rows":55,"n_cols":15,"rows_kept":55,"cut":false,"hidden":false,"merged":[[0,1,0,14],[1,3,1,14],[27,2,27,7],[54,2,54,7]]}
[null,"კონკრეტული თემის გათვალისწინებით, გთხოვთ, დაინტერესებული მხარე შეაფასოთ თითოეულ პუნქტთან მიმართებით (უაღრესად უარყოფითიდან უაღრესად დადებითამდე) და შესაბამის გრაფაში მონიშნოთ „x“. "]
[null,null,"დაინტერესებული მხარე -მიუთითეთ დასახელება"]
[null,null,"განზომილებები","უაღრესად უარყოფითი","უარყოფითი","არ არის რელევანტური","დადებითი","უაღრესად დადებითი",-2,-1,0,1,2,null,"ქულა თითოეულ განზომილებაში"]
[null,null,"(1)სოციალური კაპიტალი",null,null,null,null,null,null,null,null,null,null,{"$f":"SUM(I5:M9)","v":0},{"$f":"(((N4-(-10))*(1-0))/(10-(-10)))+0","v":0.5}]
[null,1,"დაინტერესებული მხარის შესაძლებლობა, ჩართოს სხვა დაინტერესებული მხარეები ",null,null,null,null,null,{"$f":"IF(D5=\"x\",-2,0)","v":0},{"$f":"IF(E5=\"x\",-1,0)","v":0},{"$f":"IF(F5=\"x\",0,0)","v":0},{"$f":"IF(G5=\"x\",1,0)","v":0},{"$f":"IF(H5=\"x\",2,0)","v":0},null,"შეწონილი მნიშვნელობა"]
[null,2,"კონკრეტული კატეგორიის აქტორთა წარმომადგენლობითი დონე (მრავალი სხვა მოქალაქის ინტერესების წარმოდგენა)",null,null,null,null,null,{"$f":"IF(D6=\"x\",-2,0)","v":0},{"$f":"IF(E6=\"x\",-1,0)","v":0},{"$f":"IF(F6=\"x\",0,0)","v":0},{"$f":"IF(G6=\"x\",1,0)","v":0},{"$f":"IF(H6=\"x\",2,0)","v":0},null,{"$f":"O4*'1_COMMUNITY EVALUATION'!N4","v":0.25}]
[null,3,"დაინტერესებული მხარის მონაწილეობის დონე ადგილობრივ სამოქალაქო აქტივობებში",null,null,null,null,null,{"$f":"IF(D7=\"x\",-2,0)","v":0},{"$f":"IF(E7=\"x\",-1,0)","v":0},{"$f":"IF(F7=\"x\",0,0)","v":0},{"$f":"IF(G7=\"x\",1,0)","v":0},{"$f":"IF(H7=\"x\",2,0)","v":0}]
[null,4,"დაინტერესებული მხარის შესაძლებლობა, დაიწყოს ცვლილების განხორციელება/გავლენა იქონიოს მასზე",null,null,null,null,null,{"$f":"IF(D8=\"x\",-2,0)","v":0},{"$f":"IF(E8=\"x\",-1,0)","v":0},{"$f":"IF(F8=\"x\",0,0)","v":0},{"$f":"IF(G8=\"x\",1,0)","v":0},{"$f":"IF(H8=\"x\",2,0)","v":0}]
[null,5,"მოქალაქეთა მიერ დაინტერესებული მხარის აღიარების დონე ",null,null,null,null,null,{"$f":"IF(D9=\"x\",-2,0)","v":0},{"$f":"IF(E9=\"x\",-1,0)","v":0},{"$f":"IF(F9=\"x\",0,0)","v":0},{"$f":"IF(G9=\"x\",1,0)","v":0},{"$f":"IF(H9=\"x\",2,0)","v":0}]
[null,null,"(2) ეკონომიკური კაპიტალი",null,null,null,null,null,null,null,null,null,null,{"$f":"SUM(I11:M15)","v":0},{"$f":"(((N10-(-10))*(1-0))/(10-(-10)))+0","v":0.5}]
[null,6,"დაინტერესებული მხარის შესაძლებლობა, შეასრულოს დონორის ფუნქცია",null,null,null,null,null,{"$f":"IF(D11=\"x\",-2,0)","v":0},{"$f":"IF(E11=\"x\",-1,0)","v":0},{"$f":"IF(F11=\"x\",0,0)","v":0},{"$f":"IF(G11=\"x\",1,0)","v":0},{"$f":"IF(H11=\"x\",2,0)","v":0},null,"შეწონილი მნიშვნელობა"]
[null,7,"დაინტერესებული მხარის შესაძლებლობა, გავლენა მოახდინოს რესურსების განაწილებაზე ",null,null,null,null,null,{"$f":"IF(D12=\"x\",-2,0)","v":0},{"$f":"IF(E12=\"x\",-1,0)","v":0},{"$f":"IF(F12=\"x\",0,0)","v":0},{"$f":"IF(G12=\"x\",1,0)","v":0},{"$f":"IF(H12=\"x\",2,0)","v":0},null,{"$f":"O10*'1_COMMUNITY EVALUATION'!N13","v":0.25}]
[null,8,"დაინტერესებული მხარის შესაძლებლობა, ხელი შეუწყოს წვდომას არსებულ ან დამატებით (გარე) რესურსებზე ",null,null,null,null,null,{"$f":"IF(D13=\"x\",-2,0)","v":0},{"$f":"IF(E13=\"x\",-1,0)","v":0},{"$f":"IF(F13=\"x\",0,0)","v":0},{"$f":"IF(G13=\"x\",1,0)","v":0},{"$f":"IF(H13=\"x\",2,0)","v":0}]
[null,9,"დაინტერესებული მხარის შესაძლებლობა არამატერიალური მხარდაჭერის გასაწევად ",null,null,null,null,null,{"$f":"IF(D14=\"x\",-2,0)","v":0},{"$f":"IF(E14=\"x\",-1,0)","v":0},{"$f":"IF(F14=\"x\",0,0)","v":0},{"$f":"IF(G14=\"x\",1,0)","v":0},{"$f":"IF(H14=\"x\",2,0)","v":0}]
[null,10,"დაინტერესებული მხარის გავლენა შრომის ბაზარზე",null,null,null,null,null,{"$f":"IF(D15=\"x\",-2,0)","v":0},{"$f":"IF(E15=\"x\",-1,0)","v":0},{"$f":"IF(F15=\"x\",0,0)","v":0},{"$f":"IF(G15=\"x\",1,0)","v":0},{"$f":"IF(H15=\"x\",2,0)","v":0}]
[null,null,"(3) ადამიანური კაპიტალი",null,null,null,null,null,null,null,null,null,null,{"$f":"SUM(I17:M21)","v":0},{"$f":"(((N16-(-10))*(1-0))/(10-(-10)))+0","v":0.5}]
[null,11,"დაინტერესებული მხარის ცოდნა/უნარები კონკრეტულ თემასთან მიმართებით",null,null,null,null,null,{"$f":"IF(D17=\"x\",-2,0)","v":0},{"$f":"IF(E17=\"x\",-1,0)","v":0},{"$f":"IF(F17=\"x\",0,0)","v":0},{"$f":"IF(G17=\"x\",1,0)","v":0},{"$f":"IF(H17=\"x\",2,0)","v":0},null,"შეწონილი მნიშვნელობა"]
[null,12,"დაინტერესებული მხარის ინფორმირებულობა კონკრეტულ თემაზე",null,null,null,null,null,{"$f":"IF(D18=\"x\",-2,0)","v":0},{"$f":"IF(E18=\"x\",-1,0)","v":0},{"$f":"IF(F18=\"x\",0,0)","v":0},{"$f":"IF(G18=\"x\",1,0)","v":0},{"$f":"IF(H18=\"x\",2,0)","v":0},null,{"$f":"O16*'1_COMMUNITY EVALUATION'!N22","v":0.25}]
[null,13,"დაინტერესებული მხარის შესაძლებლობა, ჩაერთოს საზოგადოებრივ დებატებში",null,null,null,null,null,{"$f":"IF(D19=\"x\",-2,0)","v":0},{"$f":"IF(E19=\"x\",-1,0)","v":0},{"$f":"IF(F19=\"x\",0,0)","v":0},{"$f":"IF(G19=\"x\",1,0)","v":0},{"$f":"IF(H19=\"x\",2,0)","v":0}]
[null,14,"დაინტერესებული მხარის შესაძლებლობა, კომუნიკაცია დაამყაროს სხვადასხვა მედიასაშუალების გამოყენებით ",null,null,null,null,null,{"$f":"IF(D20=\"x\",-2,0)","v":0},{"$f":"IF(E20=\"x\",-1,0)","v":0},{"$f":"IF(F20=\"x\",0,0)","v":0},{"$f":"IF(G20=\"x\",1,0)","v":0},{"$f":"IF(H20=\"x\",2,0)","v":0}]
[null,15,"დაინტერესებული მხარის ხელმისაწვდომობა საჯარო სივრცეებზე  ",null,null,null,null,null,{"$f":"IF(D21=\"x\",-2,0)","v":0},{"$f":"IF(E21=\"x\",-1,0)","v":0},{"$f":"IF(F21=\"x\",0,0)","v":0},{"$f":"IF(G21=\"x\",1,0)","v":0},{"$f":"IF(H21=\"x\",2,0)","v":0}]
[null,null,"(4) პოლიტიკური კაპიტალი",null,null,null,null,null,null,null,null,null,null,{"$f":"SUM(I23:M27)","v":0},{"$f":"(((N22-(-10))*(1-0))/(10-(-10)))+0","v":0.5}]
[null,16,"ადგილობრივი ადმინისტრაციის ნდობა დაინტერესებული მხარის მიმართ",null,null,null,null,null,{"$f":"IF(D23=\"x\",-2,0)","v":0},{"$f":"IF(E23=\"x\",-1,0)","v":0},{"$f":"IF(F23=\"x\",0,0)","v":0},{"$f":"IF(G23=\"x\",1,0)","v":0},{"$f":"IF(H23=\"x\",2,0)","v":0},null,"შეწონილი მნიშვნელობა"]
[null,17,"დაინტერესებული მხარის შესაძლებლობა, ჩართოს სხვა პოლიტიკური აქტორები",null,null,null,null,null,{"$f":"IF(D24=\"x\",-2,0)","v":0},{"$f":"IF(E24=\"x\",-1,0)","v":0},{"$f":"IF(F24=\"x\",0,0)","v":0},{"$f":"IF(G24=\"x\",1,0)","v":0},{"$f":"IF(H24=\"x\",2,0)","v":0},null,{"$f":"O22*'1_COMMUNITY EVALUATION'!N31","v":0.25}]
[null,18,"დაინტერესებული მხარის შესაძლებლობა, ითანამშრომლოს ადგილობრივი ხელისუფლების ორგანოებთან/სხვა დაინტერესებულ მხარეებთან ",null,null,null,null,null,{"$f":"IF(D25=\"x\",-2,0)","v":0},{"$f":"IF(E25=\"x\",-1,0)","v":0},{"$f":"IF(F25=\"x\",0,0)","v":0},{"$f":"IF(G25=\"x\",1,0)","v":0},{"$f":"IF(H25=\"x\",2,0)","v":0}]
[null,19,"დაინტერესებული მხარის შესაძლებლობა, გავლენა იქონიოს საზოგადოებრივ აზრზე ",null,null,null,null,null,{"$f":"IF(D26=\"x\",-2,0)","v":0},{"$f":"IF(E26=\"x\",-1,0)","v":0},{"$f":"IF(F26=\"x\",0,0)","v":0},{"$f":"IF(G26=\"x\",1,0)","v":0},{"$f":"IF(H26=\"x\",2,0)","v":0}]
[null,20,"დაინტერესებული მხარის ინფორმირებულობა პოლიტიკის საკითხებზე",null,null,null,null,null,{"$f":"IF(D27=\"x\",-2,0)","v":0},{"$f":"IF(E27=\"x\",-1,0)","v":0},{"$f":"IF(F27=\"x\",0,0)","v":0},{"$f":"IF(G27=\"x\",1,0)","v":0},{"$f":"IF(H27=\"x\",2,0)","v":0}]
[null,null,"რელევანტურობის ქულა",null,null,null,null,null,null,null,null,null,null,null,{"$f":"IF(D2=\"\",\"\",(SUM(O24+O18+O12+O6)/4))","v":""}]
[]
[null,null,"განზომილებები","უაღრესად უარყოფითი","უარყოფითი","არ არის რელევანტური","დადებითი","უაღრესად დადებითი",-2,-1,0,1,2,null,"ქულა თითოეულ განზომილებაში"]
[null,null,"(1)სოციალური კაპიტალი",null,null,null,null,null,null,null,null,null,null,{"$f":"SUM(I32:M36)","v":0},{"$f":"(((N31-(-10))*(1-0))/(10-(-10)))+0","v":0.5}]
[null,1,"დაინტერესებული მხარის ინტერესი, დაამყაროს კონტაქტები კონკრეტულ თემასთან დაკავშირებით",null,null,null,null,null,{"$f":"IF(D32=\"x\",-2,0)","v":0},{"$f":"IF(E32=\"x\",-1,0)","v":0},{"$f":"IF(F32=\"x\",0,0)","v":0},{"$f":"IF(G32=\"x\",1,0)","v":0},{"$f":"IF(H32=\"x\",2,0)","v":0},null,"შეწონილი მნიშვნელობა"]
[null,2,"დაინტერესებული მხარის ინტერესი, უზრუნველყოს კონკრეტული კატეგორიის აქტორთა წარმომადგენლობა თემასთან მიმართებით",null,null,null,null,null,{"$f":"IF(D33=\"x\",-2,0)","v":0},{"$f":"IF(E33=\"x\",-1,0)","v":0},{"$f":"IF(F33=\"x\",0,0)","v":0},{"$f":"IF(G33=\"x\",1,0)","v":0},{"$f":"IF(H33=\"x\",2,0)","v":0},null,{"$f":"O31*'1_COMMUNITY EVALUATION'!N4","v":0.25}]
[null,3,"დაინტერესებული მხარის ინტერესი, ჩაერთოს  ადგილობრივ სამოქალაქო აქტივობებში თემასთან მიმართებით",null,null,null,null,null,{"$f":"IF(D34=\"x\",-2,0)","v":0},{"$f":"IF(E34=\"x\",-1,0)","v":0},{"$f":"IF(F34=\"x\",0,0)","v":0},{"$f":"IF(G34=\"x\",1,0)","v":0},{"$f":"IF(H34=\"x\",2,0)","v":0}]
[null,4,"დაინტერესებული მხარის ინტერესი, დაიწყოს ცვლილების განხორციელება/გავლენა იქონიოს მასზე      ",null,null,null,null,null,{"$f":"IF(D35=\"x\",-2,0)","v":0},{"$f":"IF(E35=\"x\",-1,0)","v":0},{"$f":"IF(F35=\"x\",0,0)","v":0},{"$f":"IF(G35=\"x\",1,0)","v":0},{"$f":"IF(H35=\"x\",2,0)","v":0}]
[null,5,"დაინტერესებული მხარის ინტერესი, გაზარდოს მისი აღიარება მოქალაქეთა მხრიდან",null,null,null,null,null,{"$f":"IF(D36=\"x\",-2,0)","v":0},{"$f":"IF(E36=\"x\",-1,0)","v":0},{"$f":"IF(F36=\"x\",0,0)","v":0},{"$f":"IF(G36=\"x\",1,0)","v":0},{"$f":"IF(H36=\"x\",2,0)","v":0}]
[null,null,"(2) ეკონომიკური კაპიტალი",null,null,null,null,null,null,null,null,null,null,{"$f":"SUM(I38:M42)","v":0},{"$f":"(((N37-(-10))*(1-0))/(10-(-10)))+0","v":0.5}]
[null,6,"დაინტერესებული მხარის პოტენციური ეკონომიკური სარგებელი",null,null,null,null,null,{"$f":"IF(D38=\"x\",-2,0)","v":0},{"$f":"IF(E38=\"x\",-1,0)","v":0},{"$f":"IF(F38=\"x\",0,0)","v":0},{"$f":"IF(G38=\"x\",1,0)","v":0},{"$f":"IF(H38=\"x\",2,0)","v":0},null,"შეწონილი მნიშვნელობა"]
[null,7,"დაინტერესებული მხარის სურვილი, თავი მოუყაროს რესურსებს",null,null,null,null,null,{"$f":"IF(D39=\"x\",-2,0)","v":0},{"$f":"IF(E39=\"x\",-1,0)","v":0},{"$f":"IF(F39=\"x\",0,0)","v":0},{"$f":"IF(G39=\"x\",1,0)","v":0},{"$f":"IF(H39=\"x\",2,0)","v":0},null,{"$f":"O37*'1_COMMUNITY EVALUATION'!N13","v":0.25}]
[null,8,"დაინტერესებული მხარის სურვილი, ხელი შეუწყოს წვდომას არსებულ ან დამატებით(გარე) რესურსებზე       ",null,null,null,null,null,{"$f":"IF(D40=\"x\",-2,0)","v":0},{"$f":"IF(E40=\"x\",-1,0)","v":0},{"$f":"IF(F40=\"x\",0,0)","v":0},{"$f":"IF(G40=\"x\",1,0)","v":0},{"$f":"IF(H40=\"x\",2,0)","v":0}]
[null,9,"დაინტერესებული მხარის მზაობა არამატერიალური მხარდაჭერის გასაწევად",null,null,null,null,null,{"$f":"IF(D41=\"x\",-2,0)","v":0},{"$f":"IF(E41=\"x\",-1,0)","v":0},{"$f":"IF(F41=\"x\",0,0)","v":0},{"$f":"IF(G41=\"x\",1,0)","v":0},{"$f":"IF(H41=\"x\",2,0)","v":0}]
[null,10,"დაინტერესებული მხარის ინტერესი, გაზარდოს თავისი გავლენა შრომის ბაზარზე",null,null,null,null,null,{"$f":"IF(D42=\"x\",-2,0)","v":0},{"$f":"IF(E42=\"x\",-1,0)","v":0},{"$f":"IF(F42=\"x\",0,0)","v":0},{"$f":"IF(G42=\"x\",1,0)","v":0},{"$f":"IF(H42=\"x\",2,0)","v":0}]
[null,null,"(3) ადამიანური კაპიტალი",null,null,null,null,null,null,null,null,null,null,{"$f":"SUM(I44:M48)","v":0},{"$f":"(((N43-(-10))*(1-0))/(10-(-10)))+0","v":0.5}]
[null,11,"დაინტერესებული მხარის ინტერესი, გააზიაროს/გააუმჯობესოს თავისი ცოდნა/უნარები კონკრეტულ თემასთან მიმართებით",null,null,null,null,null,{"$f":"IF(D44=\"x\",-2,0)","v":0},{"$f":"IF(E44=\"x\",-1,0)","v":0},{"$f":"IF(F44=\"x\",0,0)","v":0},{"$f":"IF(G44=\"x\",1,0)","v":0},{"$f":"IF(H44=\"x\",2,0)","v":0},null,"შეწონილი მნიშვნელობა"]
[null,12,"დაინტერესებული მხარის სურვილი გააზიაროს/გაზარდოს საკუთარი ინფორმირებულობა კონკრეტულ თემაზე",null,null,null,null,null,{"$f":"IF(D45=\"x\",-2,0)","v":0},{"$f":"IF(E45=\"x\",-1,0)","v":0},{"$f":"IF(F45=\"x\",0,0)","v":0},{"$f":"IF(G45=\"x\",1,0)","v":0},{"$f":"IF(H45=\"x\",2,0)","v":0},null,{"$f":"O43*'1_COMMUNITY EVALUATION'!N22","v":0.25}]
[null,13,"დაინტერესებული მხარის სურვილი, ჩაერთოს საზოგადოებრივ დებატებში",null,null,null,null,null,{"$f":"IF(D46=\"x\",-2,0)","v":0},{"$f":"IF(E46=\"x\",-1,0)","v":0},{"$f":"IF(F46=\"x\",0,0)","v":0},{"$f":"IF(G46=\"x\",1,0)","v":0},{"$f":"IF(H46=\"x\",2,0)","v":0}]
[null,14,"დაინტერესებული მხარის სურვილი კომუნიკაცია დაამყაროს სხვადასხვა მედიასაშუალების გამოყენებით ",null,null,null,null,null,{"$f":"IF(D47=\"x\",-2,0)","v":0},{"$f":"IF(E47=\"x\",-1,0)","v":0},{"$f":"IF(F47=\"x\",0,0)","v":0},{"$f":"IF(G47=\"x\",1,0)","v":0},{"$f":"IF(H47=\"x\",2,0)","v":0}]
[null,15,"დაინტერესებული მხარის სურვილი, ჰქონდეს წვდომა საჯარო სივრცეებზე",null,null,null,null,null,{"$f":"IF(D48=\"x\",-2,0)","v":0},{"$f":"IF(E48=\"x\",-1,0)","v":0},{"$f":"IF(F48=\"x\",0,0)","v":0},{"$f":"IF(G48=\"x\",1,0)","v":0},{"$f":"IF(H48=\"x\",2,0)","v":0}]
[null,null,"(4) პოლიტიკური კაპიტალი",null,null,null,null,null,null,null,null,null,null,{"$f":"SUM(I50:M54)","v":0},{"$f":"(((N49-(-10))*(1-0))/(10-(-10)))+0","v":0.5}]
[null,16,"დაინტერესებული მხარის ნდობა ადგილობრივი ადმინისტრაციის მიმართ",null,null,null,null,null,{"$f":"IF(D50=\"x\",-2,0)","v":0},{"$f":"IF(E50=\"x\",-1,0)","v":0},{"$f":"IF(F50=\"x\",0,0)","v":0},{"$f":"IF(G50=\"x\",1,0)","v":0},{"$f":"IF(H50=\"x\",2,0)","v":0},null,"შეწონილი მნიშვნელობა"]
[null,17,"დაინტერესებული მხარის პოლიტიკური ინტერესი კონკრეტული თემის მიმართ ",null,null,null,null,null,{"$f":"IF(D51=\"x\",-2,0)","v":0},{"$f":"IF(E51=\"x\",-1,0)","v":0},{"$f":"IF(F51=\"x\",0,0)","v":0},{"$f":"IF(G51=\"x\",1,0)","v":0},{"$f":"IF(H51=\"x\",2,0)","v":0},null,{"$f":"O49*'1_COMMUNITY EVALUATION'!N31","v":0.25}]
[null,18,"დაინტერესებული მხარის სურვილი, ითანამშრომლოს ადგილობრივი ხელისუფლების ორგანოებთან",null,null,null,null,null,{"$f":"IF(D52=\"x\",-2,0)","v":0},{"$f":"IF(E52=\"x\",-1,0)","v":0},{"$f":"IF(F52=\"x\",0,0)","v":0},{"$f":"IF(G52=\"x\",1,0)","v":0},{"$f":"IF(H52=\"x\",2,0)","v":0}]
[null,19,"დაინტერესებული მხარის ინტერესი, ხმა მიაწვდინოს/მოიცვას ფართო საზოგადოება",null,null,null,null,null,{"$f":"IF(D53=\"x\",-2,0)","v":0},{"$f":"IF(E53=\"x\",-1,0)","v":0},{"$f":"IF(F53=\"x\",0,0)","v":0},{"$f":"IF(G53=\"x\",1,0)","v":0},{"$f":"IF(H53=\"x\",2,0)","v":0}]
[null,20,"დაინტერესებული მხარის სურვილი, გააზიაროს/გაზარდოს თავისი ინფორმირებულობა პოლიტიკის საკითხებზე",null,null,null,null,null,{"$f":"IF(D54=\"x\",-2,0)","v":0},{"$f":"IF(E54=\"x\",-1,0)","v":0},{"$f":"IF(F54=\"x\",0,0)","v":0},{"$f":"IF(G54=\"x\",1,0)","v":0},{"$f":"IF(H54=\"x\",2,0)","v":0}]
[null,null,"ინტერესის ქულა",null,null,null,null,null,null,null,null,null,null,null,{"$f":"IF(D2=\"\",\"\",(SUM(O51+O45+O39+O33)/4))","v":""}]

{"sheet":"STAKEHOLDER (14)","index":18,"n_rows":55,"n_cols":15,"rows_kept":55,"cut":false,"hidden":false,"merged":[[0,1,0,14],[1,3,1,14],[27,2,27,7],[54,2,54,7]]}
[null,"კონკრეტული თემის გათვალისწინებით, გთხოვთ, დაინტერესებული მხარე შეაფასოთ თითოეულ პუნქტთან მიმართებით (უაღრესად უარყოფითიდან უაღრესად დადებითამდე) და შესაბამის გრაფაში მონიშნოთ „x“. "]
[null,null,"დაინტერესებული მხარე -მიუთითეთ დასახელება"]
[null,null,"განზომილებები","უაღრესად უარყოფითი","უარყოფითი","არ არის რელევანტური","დადებითი","უაღრესად დადებითი",-2,-1,0,1,2,null,"ქულა თითოეულ განზომილებაში"]
[null,null,"(1)სოციალური კაპიტალი",null,null,null,null,null,null,null,null,null,null,{"$f":"SUM(I5:M9)","v":0},{"$f":"(((N4-(-10))*(1-0))/(10-(-10)))+0","v":0.5}]
[null,1,"დაინტერესებული მხარის შესაძლებლობა, ჩართოს სხვა დაინტერესებული მხარეები ",null,null,null,null,null,{"$f":"IF(D5=\"x\",-2,0)","v":0},{"$f":"IF(E5=\"x\",-1,0)","v":0},{"$f":"IF(F5=\"x\",0,0)","v":0},{"$f":"IF(G5=\"x\",1,0)","v":0},{"$f":"IF(H5=\"x\",2,0)","v":0},null,"შეწონილი მნიშვნელობა"]
[null,2,"კონკრეტული კატეგორიის აქტორთა წარმომადგენლობითი დონე (მრავალი სხვა მოქალაქის ინტერესების წარმოდგენა)",null,null,null,null,null,{"$f":"IF(D6=\"x\",-2,0)","v":0},{"$f":"IF(E6=\"x\",-1,0)","v":0},{"$f":"IF(F6=\"x\",0,0)","v":0},{"$f":"IF(G6=\"x\",1,0)","v":0},{"$f":"IF(H6=\"x\",2,0)","v":0},null,{"$f":"O4*'1_COMMUNITY EVALUATION'!N4","v":0.25}]
[null,3,"დაინტერესებული მხარის მონაწილეობის დონე ადგილობრივ სამოქალაქო აქტივობებში",null,null,null,null,null,{"$f":"IF(D7=\"x\",-2,0)","v":0},{"$f":"IF(E7=\"x\",-1,0)","v":0},{"$f":"IF(F7=\"x\",0,0)","v":0},{"$f":"IF(G7=\"x\",1,0)","v":0},{"$f":"IF(H7=\"x\",2,0)","v":0}]
[null,4,"დაინტერესებული მხარის შესაძლებლობა, დაიწყოს ცვლილების განხორციელება/გავლენა იქონიოს მასზე",null,null,null,null,null,{"$f":"IF(D8=\"x\",-2,0)","v":0},{"$f":"IF(E8=\"x\",-1,0)","v":0},{"$f":"IF(F8=\"x\",0,0)","v":0},{"$f":"IF(G8=\"x\",1,0)","v":0},{"$f":"IF(H8=\"x\",2,0)","v":0}]
[null,5,"მოქალაქეთა მიერ დაინტერესებული მხარის აღიარების დონე ",null,null,null,null,null,{"$f":"IF(D9=\"x\",-2,0)","v":0},{"$f":"IF(E9=\"x\",-1,0)","v":0},{"$f":"IF(F9=\"x\",0,0)","v":0},{"$f":"IF(G9=\"x\",1,0)","v":0},{"$f":"IF(H9=\"x\",2,0)","v":0}]
[null,null,"(2) ეკონომიკური კაპიტალი",null,null,null,null,null,null,null,null,null,null,{"$f":"SUM(I11:M15)","v":0},{"$f":"(((N10-(-10))*(1-0))/(10-(-10)))+0","v":0.5}]
[null,6,"დაინტერესებული მხარის შესაძლებლობა, შეასრულოს დონორის ფუნქცია",null,null,null,null,null,{"$f":"IF(D11=\"x\",-2,0)","v":0},{"$f":"IF(E11=\"x\",-1,0)","v":0},{"$f":"IF(F11=\"x\",0,0)","v":0},{"$f":"IF(G11=\"x\",1,0)","v":0},{"$f":"IF(H11=\"x\",2,0)","v":0},null,"შეწონილი მნიშვნელობა"]
[null,7,"დაინტერესებული მხარის შესაძლებლობა, გავლენა მოახდინოს რესურსების განაწილებაზე ",null,null,null,null,null,{"$f":"IF(D12=\"x\",-2,0)","v":0},{"$f":"IF(E12=\"x\",-1,0)","v":0},{"$f":"IF(F12=\"x\",0,0)","v":0},{"$f":"IF(G12=\"x\",1,0)","v":0},{"$f":"IF(H12=\"x\",2,0)","v":0},null,{"$f":"O10*'1_COMMUNITY EVALUATION'!N13","v":0.25}]
[null,8,"დაინტერესებული მხარის შესაძლებლობა, ხელი შეუწყოს წვდომას არსებულ ან დამატებით (გარე) რესურსებზე ",null,null,null,null,null,{"$f":"IF(D13=\"x\",-2,0)","v":0},{"$f":"IF(E13=\"x\",-1,0)","v":0},{"$f":"IF(F13=\"x\",0,0)","v":0},{"$f":"IF(G13=\"x\",1,0)","v":0},{"$f":"IF(H13=\"x\",2,0)","v":0}]
[null,9,"დაინტერესებული მხარის შესაძლებლობა არამატერიალური მხარდაჭერის გასაწევად ",null,null,null,null,null,{"$f":"IF(D14=\"x\",-2,0)","v":0},{"$f":"IF(E14=\"x\",-1,0)","v":0},{"$f":"IF(F14=\"x\",0,0)","v":0},{"$f":"IF(G14=\"x\",1,0)","v":0},{"$f":"IF(H14=\"x\",2,0)","v":0}]
[null,10,"დაინტერესებული მხარის გავლენა შრომის ბაზარზე",null,null,null,null,null,{"$f":"IF(D15=\"x\",-2,0)","v":0},{"$f":"IF(E15=\"x\",-1,0)","v":0},{"$f":"IF(F15=\"x\",0,0)","v":0},{"$f":"IF(G15=\"x\",1,0)","v":0},{"$f":"IF(H15=\"x\",2,0)","v":0}]
[null,null,"(3) ადამიანური კაპიტალი",null,null,null,null,null,null,null,null,null,null,{"$f":"SUM(I17:M21)","v":0},{"$f":"(((N16-(-10))*(1-0))/(10-(-10)))+0","v":0.5}]
[null,11,"დაინტერესებული მხარის ცოდნა/უნარები კონკრეტულ თემასთან მიმართებით",null,null,null,null,null,{"$f":"IF(D17=\"x\",-2,0)","v":0},{"$f":"IF(E17=\"x\",-1,0)","v":0},{"$f":"IF(F17=\"x\",0,0)","v":0},{"$f":"IF(G17=\"x\",1,0)","v":0},{"$f":"IF(H17=\"x\",2,0)","v":0},null,"შეწონილი მნიშვნელობა"]
[null,12,"დაინტერესებული მხარის ინფორმირებულობა კონკრეტულ თემაზე",null,null,null,null,null,{"$f":"IF(D18=\"x\",-2,0)","v":0},{"$f":"IF(E18=\"x\",-1,0)","v":0},{"$f":"IF(F18=\"x\",0,0)","v":0},{"$f":"IF(G18=\"x\",1,0)","v":0},{"$f":"IF(H18=\"x\",2,0)","v":0},null,{"$f":"O16*'1_COMMUNITY EVALUATION'!N22","v":0.25}]
[null,13,"დაინტერესებული მხარის შესაძლებლობა, ჩაერთოს საზოგადოებრივ დებატებში",null,null,null,null,null,{"$f":"IF(D19=\"x\",-2,0)","v":0},{"$f":"IF(E19=\"x\",-1,0)","v":0},{"$f":"IF(F19=\"x\",0,0)","v":0},{"$f":"IF(G19=\"x\",1,0)","v":0},{"$f":"IF(H19=\"x\",2,0)","v":0}]
[null,14,"დაინტერესებული მხარის შესაძლებლობა, კომუნიკაცია დაამყაროს სხვადასხვა მედიასაშუალების გამოყენებით ",null,null,null,null,null,{"$f":"IF(D20=\"x\",-2,0)","v":0},{"$f":"IF(E20=\"x\",-1,0)","v":0},{"$f":"IF(F20=\"x\",0,0)","v":0},{"$f":"IF(G20=\"x\",1,0)","v":0},{"$f":"IF(H20=\"x\",2,0)","v":0}]
[null,15,"დაინტერესებული მხარის ხელმისაწვდომობა საჯარო სივრცეებზე  ",null,null,null,null,null,{"$f":"IF(D21=\"x\",-2,0)","v":0},{"$f":"IF(E21=\"x\",-1,0)","v":0},{"$f":"IF(F21=\"x\",0,0)","v":0},{"$f":"IF(G21=\"x\",1,0)","v":0},{"$f":"IF(H21=\"x\",2,0)","v":0}]
[null,null,"(4) პოლიტიკური კაპიტალი",null,null,null,null,null,null,null,null,null,null,{"$f":"SUM(I23:M27)","v":0},{"$f":"(((N22-(-10))*(1-0))/(10-(-10)))+0","v":0.5}]
[null,16,"ადგილობრივი ადმინისტრაციის ნდობა დაინტერესებული მხარის მიმართ",null,null,null,null,null,{"$f":"IF(D23=\"x\",-2,0)","v":0},{"$f":"IF(E23=\"x\",-1,0)","v":0},{"$f":"IF(F23=\"x\",0,0)","v":0},{"$f":"IF(G23=\"x\",1,0)","v":0},{"$f":"IF(H23=\"x\",2,0)","v":0},null,"შეწონილი მნიშვნელობა"]
[null,17,"დაინტერესებული მხარის შესაძლებლობა, ჩართოს სხვა პოლიტიკური აქტორები",null,null,null,null,null,{"$f":"IF(D24=\"x\",-2,0)","v":0},{"$f":"IF(E24=\"x\",-1,0)","v":0},{"$f":"IF(F24=\"x\",0,0)","v":0},{"$f":"IF(G24=\"x\",1,0)","v":0},{"$f":"IF(H24=\"x\",2,0)","v":0},null,{"$f":"O22*'1_COMMUNITY EVALUATION'!N31","v":0.25}]
[null,18,"დაინტერესებული მხარის შესაძლებლობა, ითანამშრომლოს ადგილობრივი ხელისუფლების ორგანოებთან/სხვა დაინტერესებულ მხარეებთან ",null,null,null,null,null,{"$f":"IF(D25=\"x\",-2,0)","v":0},{"$f":"IF(E25=\"x\",-1,0)","v":0},{"$f":"IF(F25=\"x\",0,0)","v":0},{"$f":"IF(G25=\"x\",1,0)","v":0},{"$f":"IF(H25=\"x\",2,0)","v":0}]
[null,19,"დაინტერესებული მხარის შესაძლებლობა, გავლენა იქონიოს საზოგადოებრივ აზრზე ",null,null,null,null,null,{"$f":"IF(D26=\"x\",-2,0)","v":0},{"$f":"IF(E26=\"x\",-1,0)","v":0},{"$f":"IF(F26=\"x\",0,0)","v":0},{"$f":"IF(G26=\"x\",1,0)","v":0},{"$f":"IF(H26=\"x\",2,0)","v":0}]
[null,20,"დაინტერესებული მხარის ინფორმირებულობა პოლიტიკის საკითხებზე",null,null,null,null,null,{"$f":"IF(D27=\"x\",-2,0)","v":0},{"$f":"IF(E27=\"x\",-1,0)","v":0},{"$f":"IF(F27=\"x\",0,0)","v":0},{"$f":"IF(G27=\"x\",1,0)","v":0},{"$f":"IF(H27=\"x\",2,0)","v":0}]
[null,null,"რელევანტურობის ქულა",null,null,null,null,null,null,null,null,null,null,null,{"$f":"IF(D2=\"\",\"\",(SUM(O24+O18+O12+O6)/4))","v":""}]
[]
[null,null,"განზომილებები","უაღრესად ნეგატიური","უარყოფითი","არ არის რელევანტური","დადებითი","უაღრესად დადებითი",-2,-1,0,1,2,null,"ქულა თითოეულ განზომილებაში"]
[null,null,"(1)სოციალური კაპიტალი",null,null,null,null,null,null,null,null,null,null,{"$f":"SUM(I32:M36)","v":0},{"$f":"(((N31-(-10))*(1-0))/(10-(-10)))+0","v":0.5}]
[null,1,"დაინტერესებული მხარის ინტერესი, დაამყაროს კონტაქტები კონკრეტულ თემასთან დაკავშირებით",null,null,null,null,null,{"$f":"IF(D32=\"x\",-2,0)","v":0},{"$f":"IF(E32=\"x\",-1,0)","v":0},{"$f":"IF(F32=\"x\",0,0)","v":0},{"$f":"IF(G32=\"x\",1,0)","v":0},{"$f":"IF(H32=\"x\",2,0)","v":0},null,"შეწონილი მნიშვნელობა"]
[null,2,"დაინტერესებული მხარის ინტერესი, უზრუნველყოს კონკრეტული კატეგორიის აქტორთა წარმომადგენლობა თემასთან მიმართებით",null,null,null,null,null,{"$f":"IF(D33=\"x\",-2,0)","v":0},{"$f":"IF(E33=\"x\",-1,0)","v":0},{"$f":"IF(F33=\"x\",0,0)","v":0},{"$f":"IF(G33=\"x\",1,0)","v":0},{"$f":"IF(H33=\"x\",2,0)","v":0},null,{"$f":"O31*'1_COMMUNITY EVALUATION'!N4","v":0.25}]
[null,3,"დაინტერესებული მხარის ინტერესი, ჩაერთოს  ადგილობრივ სამოქალაქო აქტივობებში თემასთან მიმართებით",null,null,null,null,null,{"$f":"IF(D34=\"x\",-2,0)","v":0},{"$f":"IF(E34=\"x\",-1,0)","v":0},{"$f":"IF(F34=\"x\",0,0)","v":0},{"$f":"IF(G34=\"x\",1,0)","v":0},{"$f":"IF(H34=\"x\",2,0)","v":0}]
[null,4,"დაინტერესებული მხარის ინტერესი, დაიწყოს ცვლილების განხორციელება/გავლენა იქონიოს მასზე      ",null,null,null,null,null,{"$f":"IF(D35=\"x\",-2,0)","v":0},{"$f":"IF(E35=\"x\",-1,0)","v":0},{"$f":"IF(F35=\"x\",0,0)","v":0},{"$f":"IF(G35=\"x\",1,0)","v":0},{"$f":"IF(H35=\"x\",2,0)","v":0}]
[null,5,"დაინტერესებული მხარის ინტერესი, გაზარდოს მისი აღიარება მოქალაქეთა მხრიდან",null,null,null,null,null,{"$f":"IF(D36=\"x\",-2,0)","v":0},{"$f":"IF(E36=\"x\",-1,0)","v":0},{"$f":"IF(F36=\"x\",0,0)","v":0},{"$f":"IF(G36=\"x\",1,0)","v":0},{"$f":"IF(H36=\"x\",2,0)","v":0}]
[null,null,"(2) ეკონომიკური კაპიტალი",null,null,null,null,null,null,null,null,null,null,{"$f":"SUM(I38:M42)","v":0},{"$f":"(((N37-(-10))*(1-0))/(10-(-10)))+0","v":0.5}]
[null,6,"დაინტერესებული მხარის პოტენციური ეკონომიკური სარგებელი",null,null,null,null,null,{"$f":"IF(D38=\"x\",-2,0)","v":0},{"$f":"IF(E38=\"x\",-1,0)","v":0},{"$f":"IF(F38=\"x\",0,0)","v":0},{"$f":"IF(G38=\"x\",1,0)","v":0},{"$f":"IF(H38=\"x\",2,0)","v":0},null,"შეწონილი მნიშვნელობა"]
[null,7,"დაინტერესებული მხარის სურვილი, თავი მოუყაროს რესურსებს",null,null,null,null,null,{"$f":"IF(D39=\"x\",-2,0)","v":0},{"$f":"IF(E39=\"x\",-1,0)","v":0},{"$f":"IF(F39=\"x\",0,0)","v":0},{"$f":"IF(G39=\"x\",1,0)","v":0},{"$f":"IF(H39=\"x\",2,0)","v":0},null,{"$f":"O37*'1_COMMUNITY EVALUATION'!N13","v":0.25}]
[null,8,"დაინტერესებული მხარის სურვილი, ხელი შეუწყოს წვდომას არსებულ ან დამატებით(გარე) რესურსებზე       ",null,null,null,null,null,{"$f":"IF(D40=\"x\",-2,0)","v":0},{"$f":"IF(E40=\"x\",-1,0)","v":0},{"$f":"IF(F40=\"x\",0,0)","v":0},{"$f":"IF(G40=\"x\",1,0)","v":0},{"$f":"IF(H40=\"x\",2,0)","v":0}]
[null,9,"დაინტერესებული მხარის მზაობა არამატერიალური მხარდაჭერის გასაწევად",null,null,null,null,null,{"$f":"IF(D41=\"x\",-2,0)","v":0},{"$f":"IF(E41=\"x\",-1,0)","v":0},{"$f":"IF(F41=\"x\",0,0)","v":0},{"$f":"IF(G41=\"x\",1,0)","v":0},{"$f":"IF(H41=\"x\",2,0)","v":0}]
[null,10,"დაინტერესებული მხარის ინტერესი, გაზარდოს თავისი გავლენა შრომის ბაზარზე",null,null,null,null,null,{"$f":"IF(D42=\"x\",-2,0)","v":0},{"$f":"IF(E42=\"x\",-1,0)","v":0},{"$f":"IF(F42=\"x\",0,0)","v":0},{"$f":"IF(G42=\"x\",1,0)","v":0},{"$f":"IF(H42=\"x\",2,0)","v":0}]
[null,null,"(3) ადამიანური კაპიტალი",null,null,null,null,null,null,null,null,null,null,{"$f":"SUM(I44:M48)","v":0},{"$f":"(((N43-(-10))*(1-0))/(10-(-10)))+0","v":0.5}]
[null,11,"დაინტერესებული მხარის ინტერესი, გააზიაროს/გააუმჯობესოს თავისი ცოდნა/უნარები კონკრეტულ თემასთან მიმართებით",null,null,null,null,null,{"$f":"IF(D44=\"x\",-2,0)","v":0},{"$f":"IF(E44=\"x\",-1,0)","v":0},{"$f":"IF(F44=\"x\",0,0)","v":0},{"$f":"IF(G44=\"x\",1,0)","v":0},{"$f":"IF(H44=\"x\",2,0)","v":0},null,"შეწონილი მნიშვნელობა"]
[null,12,"დაინტერესებული მხარის სურვილი გააზიაროს/გაზარდოს საკუთარი ინფორმირებულობა კონკრეტულ თემაზე",null,null,null,null,null,{"$f":"IF(D45=\"x\",-2,0)","v":0},{"$f":"IF(E45=\"x\",-1,0)","v":0},{"$f":"IF(F45=\"x\",0,0)","v":0},{"$f":"IF(G45=\"x\",1,0)","v":0},{"$f":"IF(H45=\"x\",2,0)","v":0},null,{"$f":"O43*'1_COMMUNITY EVALUATION'!N22","v":0.25}]
[null,13,"დაინტერესებული მხარის სურვილი, ჩაერთოს საზოგადოებრივ დებატებში",null,null,null,null,null,{"$f":"IF(D46=\"x\",-2,0)","v":0},{"$f":"IF(E46=\"x\",-1,0)","v":0},{"$f":"IF(F46=\"x\",0,0)","v":0},{"$f":"IF(G46=\"x\",1,0)","v":0},{"$f":"IF(H46=\"x\",2,0)","v":0}]
[null,14,"დაინტერესებული მხარის სურვილი, კომუნიკაცია დაამყაროს სხვადასხვა მედიასაშუალების გამოყენებით ",null,null,null,null,null,{"$f":"IF(D47=\"x\",-2,0)","v":0},{"$f":"IF(E47=\"x\",-1,0)","v":0},{"$f":"IF(F47=\"x\",0,0)","v":0},{"$f":"IF(G47=\"x\",1,0)","v":0},{"$f":"IF(H47=\"x\",2,0)","v":0}]
[null,15,"დაინტერესებული მხარის სურვილი, ჰქონდეს წვდომა საჯარო სივრცეებზე",null,null,null,null,null,{"$f":"IF(D48=\"x\",-2,0)","v":0},{"$f":"IF(E48=\"x\",-1,0)","v":0},{"$f":"IF(F48=\"x\",0,0)","v":0},{"$f":"IF(G48=\"x\",1,0)","v":0},{"$f":"IF(H48=\"x\",2,0)","v":0}]
[null,null,"(4) პოლიტიკური კაპიტალი",null,null,null,null,null,null,null,null,null,null,{"$f":"SUM(I50:M54)","v":0},{"$f":"(((N49-(-10))*(1-0))/(10-(-10)))+0","v":0.5}]
[null,16,"დაინტერესებული მხარის ნდობა ადგილობრივი ადმინისტრაციის მიმართ",null,null,null,null,null,{"$f":"IF(D50=\"x\",-2,0)","v":0},{"$f":"IF(E50=\"x\",-1,0)","v":0},{"$f":"IF(F50=\"x\",0,0)","v":0},{"$f":"IF(G50=\"x\",1,0)","v":0},{"$f":"IF(H50=\"x\",2,0)","v":0},null,"შეწონილი მნიშვნელობა"]
[null,17,"დაინტერესებული მხარის პოლიტიკური ინტერესი კონკრეტული თემის მიმართ ",null,null,null,null,null,{"$f":"IF(D51=\"x\",-2,0)","v":0},{"$f":"IF(E51=\"x\",-1,0)","v":0},{"$f":"IF(F51=\"x\",0,0)","v":0},{"$f":"IF(G51=\"x\",1,0)","v":0},{"$f":"IF(H51=\"x\",2,0)","v":0},null,{"$f":"O49*'1_COMMUNITY EVALUATION'!N31","v":0.25}]
[null,18,"დაინტერესებული მხარის სურვილი, ითანამშრომლოს ადგილობრივი ხელისუფლების ორგანოებთან",null,null,null,null,null,{"$f":"IF(D52=\"x\",-2,0)","v":0},{"$f":"IF(E52=\"x\",-1,0)","v":0},{"$f":"IF(F52=\"x\",0,0)","v":0},{"$f":"IF(G52=\"x\",1,0)","v":0},{"$f":"IF(H52=\"x\",2,0)","v":0}]
[null,19,"დაინტერესებული მხარის ინტერესი, ხმა მიაწვდინოს/მოიცვას ფართო საზოგადოება",null,null,null,null,null,{"$f":"IF(D53=\"x\",-2,0)","v":0},{"$f":"IF(E53=\"x\",-1,0)","v":0},{"$f":"IF(F53=\"x\",0,0)","v":0},{"$f":"IF(G53=\"x\",1,0)","v":0},{"$f":"IF(H53=\"x\",2,0)","v":0}]
[null,20,"დაინტერესებული მხარის სურვილი, გააზიაროს/გაზარდოს თავისი ინფორმირებულობა პოლიტიკის საკითხებზე",null,null,null,null,null,{"$f":"IF(D54=\"x\",-2,0)","v":0},{"$f":"IF(E54=\"x\",-1,0)","v":0},{"$f":"IF(F54=\"x\",0,0)","v":0},{"$f":"IF(G54=\"x\",1,0)","v":0},{"$f":"IF(H54=\"x\",2,0)","v":0}]
[null,null,"ინტერესის ქულა",null,null,null,null,null,null,null,null,null,null,null,{"$f":"IF(D2=\"\",\"\",(SUM(O51+O45+O39+O33)/4))","v":""}]

{"sheet":"STAKEHOLDER (15)","index":19,"n_rows":55,"n_cols":15,"rows_kept":55,"cut":false,"hidden":false,"merged":[[0,1,0,14],[1,3,1,14],[27,2,27,7],[54,2,54,7]]}
[null,"კონკრეტული თემის გათვალისწინებით, გთხოვთ, დაინტერესებული მხარე შეაფასოთ თითოეულ პუნქტთან მიმართებით (უაღრესად უარყოფითიდან უაღრესად დადებითამდე) და შესაბამის გრაფაში მონიშნოთ „x“. "]
[null,null,"დაინტერესებული მხარე -მიუთითეთ დასახელება"]
[null,null,"განზომილებები","უაღრესად უარყოფითი","უარყოფითი","არ არის რელევანტური","დადებითი","უაღრესად დადებითი",-2,-1,0,1,2,null,"ქულა თითოეულ განზომილებაში"]
[null,null,"(1)სოციალური კაპიტალი",null,null,null,null,null,null,null,null,null,null,{"$f":"SUM(I5:M9)","v":0},{"$f":"(((N4-(-10))*(1-0))/(10-(-10)))+0","v":0.5}]
[null,1,"დაინტერესებული მხარის შესაძლებლობა, ჩართოს სხვა დაინტერესებული მხარეები ",null,null,null,null,null,{"$f":"IF(D5=\"x\",-2,0)","v":0},{"$f":"IF(E5=\"x\",-1,0)","v":0},{"$f":"IF(F5=\"x\",0,0)","v":0},{"$f":"IF(G5=\"x\",1,0)","v":0},{"$f":"IF(H5=\"x\",2,0)","v":0},null,"შეწონილი მნიშვნელობა"]
[null,2,"კონკრეტული კატეგორიის აქტორთა წარმომადგენლობითი დონე (მრავალი სხვა მოქალაქის ინტერესების წარმოდგენა)",null,null,null,null,null,{"$f":"IF(D6=\"x\",-2,0)","v":0},{"$f":"IF(E6=\"x\",-1,0)","v":0},{"$f":"IF(F6=\"x\",0,0)","v":0},{"$f":"IF(G6=\"x\",1,0)","v":0},{"$f":"IF(H6=\"x\",2,0)","v":0},null,{"$f":"O4*'1_COMMUNITY EVALUATION'!N4","v":0.25}]
[null,3,"დაინტერესებული მხარის მონაწილეობის დონე ადგილობრივ სამოქალაქო აქტივობებში",null,null,null,null,null,{"$f":"IF(D7=\"x\",-2,0)","v":0},{"$f":"IF(E7=\"x\",-1,0)","v":0},{"$f":"IF(F7=\"x\",0,0)","v":0},{"$f":"IF(G7=\"x\",1,0)","v":0},{"$f":"IF(H7=\"x\",2,0)","v":0}]
[null,4,"დაინტერესებული მხარის შესაძლებლობა, დაიწყოს ცვლილების განხორციელება/გავლენა იქონიოს მასზე",null,null,null,null,null,{"$f":"IF(D8=\"x\",-2,0)","v":0},{"$f":"IF(E8=\"x\",-1,0)","v":0},{"$f":"IF(F8=\"x\",0,0)","v":0},{"$f":"IF(G8=\"x\",1,0)","v":0},{"$f":"IF(H8=\"x\",2,0)","v":0}]
[null,5,"მოქალაქეთა მიერ დაინტერესებული მხარის აღიარების დონე ",null,null,null,null,null,{"$f":"IF(D9=\"x\",-2,0)","v":0},{"$f":"IF(E9=\"x\",-1,0)","v":0},{"$f":"IF(F9=\"x\",0,0)","v":0},{"$f":"IF(G9=\"x\",1,0)","v":0},{"$f":"IF(H9=\"x\",2,0)","v":0}]
[null,null,"(2) ეკონომიკური კაპიტალი",null,null,null,null,null,null,null,null,null,null,{"$f":"SUM(I11:M15)","v":0},{"$f":"(((N10-(-10))*(1-0))/(10-(-10)))+0","v":0.5}]
[null,6,"დაინტერესებული მხარის შესაძლებლობა, შეასრულოს დონორის ფუნქცია",null,null,null,null,null,{"$f":"IF(D11=\"x\",-2,0)","v":0},{"$f":"IF(E11=\"x\",-1,0)","v":0},{"$f":"IF(F11=\"x\",0,0)","v":0},{"$f":"IF(G11=\"x\",1,0)","v":0},{"$f":"IF(H11=\"x\",2,0)","v":0},null,"შეწონილი მნიშვნელობა"]
[null,7,"დაინტერესებული მხარის შესაძლებლობა, გავლენა მოახდინოს რესურსების განაწილებაზე ",null,null,null,null,null,{"$f":"IF(D12=\"x\",-2,0)","v":0},{"$f":"IF(E12=\"x\",-1,0)","v":0},{"$f":"IF(F12=\"x\",0,0)","v":0},{"$f":"IF(G12=\"x\",1,0)","v":0},{"$f":"IF(H12=\"x\",2,0)","v":0},null,{"$f":"O10*'1_COMMUNITY EVALUATION'!N13","v":0.25}]
[null,8,"დაინტერესებული მხარის შესაძლებლობა, ხელი შეუწყოს წვდომას არსებულ ან დამატებით (გარე) რესურსებზე ",null,null,null,null,null,{"$f":"IF(D13=\"x\",-2,0)","v":0},{"$f":"IF(E13=\"x\",-1,0)","v":0},{"$f":"IF(F13=\"x\",0,0)","v":0},{"$f":"IF(G13=\"x\",1,0)","v":0},{"$f":"IF(H13=\"x\",2,0)","v":0}]
[null,9,"დაინტერესებული მხარის შესაძლებლობა არამატერიალური მხარდაჭერის გასაწევად ",null,null,null,null,null,{"$f":"IF(D14=\"x\",-2,0)","v":0},{"$f":"IF(E14=\"x\",-1,0)","v":0},{"$f":"IF(F14=\"x\",0,0)","v":0},{"$f":"IF(G14=\"x\",1,0)","v":0},{"$f":"IF(H14=\"x\",2,0)","v":0}]
[null,10,"დაინტერესებული მხარის გავლენა შრომის ბაზარზე",null,null,null,null,null,{"$f":"IF(D15=\"x\",-2,0)","v":0},{"$f":"IF(E15=\"x\",-1,0)","v":0},{"$f":"IF(F15=\"x\",0,0)","v":0},{"$f":"IF(G15=\"x\",1,0)","v":0},{"$f":"IF(H15=\"x\",2,0)","v":0}]
[null,null,"(3) ადამიანური კაპიტალი",null,null,null,null,null,null,null,null,null,null,{"$f":"SUM(I17:M21)","v":0},{"$f":"(((N16-(-10))*(1-0))/(10-(-10)))+0","v":0.5}]
[null,11,"დაინტერესებული მხარის ცოდნა/უნარები კონკრეტულ თემასთან მიმართებით",null,null,null,null,null,{"$f":"IF(D17=\"x\",-2,0)","v":0},{"$f":"IF(E17=\"x\",-1,0)","v":0},{"$f":"IF(F17=\"x\",0,0)","v":0},{"$f":"IF(G17=\"x\",1,0)","v":0},{"$f":"IF(H17=\"x\",2,0)","v":0},null,"შეწონილი მნიშვნელობა"]
[null,12,"დაინტერესებული მხარის ინფორმირებულობა კონკრეტულ თემაზე",null,null,null,null,null,{"$f":"IF(D18=\"x\",-2,0)","v":0},{"$f":"IF(E18=\"x\",-1,0)","v":0},{"$f":"IF(F18=\"x\",0,0)","v":0},{"$f":"IF(G18=\"x\",1,0)","v":0},{"$f":"IF(H18=\"x\",2,0)","v":0},null,{"$f":"O16*'1_COMMUNITY EVALUATION'!N22","v":0.25}]
[null,13,"დაინტერესებული მხარის შესაძლებლობა, ჩაერთოს საზოგადოებრივ დებატებში",null,null,null,null,null,{"$f":"IF(D19=\"x\",-2,0)","v":0},{"$f":"IF(E19=\"x\",-1,0)","v":0},{"$f":"IF(F19=\"x\",0,0)","v":0},{"$f":"IF(G19=\"x\",1,0)","v":0},{"$f":"IF(H19=\"x\",2,0)","v":0}]
[null,14,"დაინტერესებული მხარის შესაძლებლობა, კომუნიკაცია დაამყაროს სხვადასხვა მედიასაშუალების გამოყენებით ",null,null,null,null,null,{"$f":"IF(D20=\"x\",-2,0)","v":0},{"$f":"IF(E20=\"x\",-1,0)","v":0},{"$f":"IF(F20=\"x\",0,0)","v":0},{"$f":"IF(G20=\"x\",1,0)","v":0},{"$f":"IF(H20=\"x\",2,0)","v":0}]
[null,15,"დაინტერესებული მხარის ხელმისაწვდომობა საჯარო სივრცეებზე  ",null,null,null,null,null,{"$f":"IF(D21=\"x\",-2,0)","v":0},{"$f":"IF(E21=\"x\",-1,0)","v":0},{"$f":"IF(F21=\"x\",0,0)","v":0},{"$f":"IF(G21=\"x\",1,0)","v":0},{"$f":"IF(H21=\"x\",2,0)","v":0}]
[null,null,"(4) პოლიტიკური კაპიტალი",null,null,null,null,null,null,null,null,null,null,{"$f":"SUM(I23:M27)","v":0},{"$f":"(((N22-(-10))*(1-0))/(10-(-10)))+0","v":0.5}]
[null,16,"ადგილობრივი ადმინისტრაციის ნდობა დაინტერესებული მხარის მიმართ",null,null,null,null,null,{"$f":"IF(D23=\"x\",-2,0)","v":0},{"$f":"IF(E23=\"x\",-1,0)","v":0},{"$f":"IF(F23=\"x\",0,0)","v":0},{"$f":"IF(G23=\"x\",1,0)","v":0},{"$f":"IF(H23=\"x\",2,0)","v":0},null,"შეწონილი მნიშვნელობა"]
[null,17,"დაინტერესებული მხარის შესაძლებლობა, ჩართოს სხვა პოლიტიკური აქტორები",null,null,null,null,null,{"$f":"IF(D24=\"x\",-2,0)","v":0},{"$f":"IF(E24=\"x\",-1,0)","v":0},{"$f":"IF(F24=\"x\",0,0)","v":0},{"$f":"IF(G24=\"x\",1,0)","v":0},{"$f":"IF(H24=\"x\",2,0)","v":0},null,{"$f":"O22*'1_COMMUNITY EVALUATION'!N31","v":0.25}]
[null,18,"დაინტერესებული მხარის შესაძლებლობა, ითანამშრომლოს ადგილობრივი ხელისუფლების ორგანოებთან/სხვა დაინტერესებულ მხარეებთან ",null,null,null,null,null,{"$f":"IF(D25=\"x\",-2,0)","v":0},{"$f":"IF(E25=\"x\",-1,0)","v":0},{"$f":"IF(F25=\"x\",0,0)","v":0},{"$f":"IF(G25=\"x\",1,0)","v":0},{"$f":"IF(H25=\"x\",2,0)","v":0}]
[null,19,"დაინტერესებული მხარის შესაძლებლობა, გავლენა იქონიოს საზოგადოებრივ აზრზე ",null,null,null,null,null,{"$f":"IF(D26=\"x\",-2,0)","v":0},{"$f":"IF(E26=\"x\",-1,0)","v":0},{"$f":"IF(F26=\"x\",0,0)","v":0},{"$f":"IF(G26=\"x\",1,0)","v":0},{"$f":"IF(H26=\"x\",2,0)","v":0}]
[null,20,"დაინტერესებული მხარის ინფორმირებულობა პოლიტიკის საკითხებზე",null,null,null,null,null,{"$f":"IF(D27=\"x\",-2,0)","v":0},{"$f":"IF(E27=\"x\",-1,0)","v":0},{"$f":"IF(F27=\"x\",0,0)","v":0},{"$f":"IF(G27=\"x\",1,0)","v":0},{"$f":"IF(H27=\"x\",2,0)","v":0}]
[null,null,"რელევანტურობის ქულა",null,null,null,null,null,null,null,null,null,null,null,{"$f":"IF(D2=\"\",\"\",(SUM(O24+O18+O12+O6)/4))","v":""}]
[]
[null,null,"განზომილებები","უაღრესად უარყოფითი","უარყოფითი","არ არის რელევანტური","დადებითი","უაღრესად დადებითი",-2,-1,0,1,2,null,"ქულა თითოეულ განზომილებაში"]
[null,null,"(1)სოციალური კაპიტალი",null,null,null,null,null,null,null,null,null,null,{"$f":"SUM(I32:M36)","v":0},{"$f":"(((N31-(-10))*(1-0))/(10-(-10)))+0","v":0.5}]
[null,1,"დაინტერესებული მხარის ინტერესი, დაამყაროს კონტაქტები კონკრეტულ თემასთან დაკავშირებით",null,null,null,null,null,{"$f":"IF(D32=\"x\",-2,0)","v":0},{"$f":"IF(E32=\"x\",-1,0)","v":0},{"$f":"IF(F32=\"x\",0,0)","v":0},{"$f":"IF(G32=\"x\",1,0)","v":0},{"$f":"IF(H32=\"x\",2,0)","v":0},null,"შეწონილი მნიშვნელობა"]
[null,2,"დაინტერესებული მხარის ინტერესი, უზრუნველყოს კონკრეტული კატეგორიის აქტორთა წარმომადგენლობა თემასთან მიმართებით",null,null,null,null,null,{"$f":"IF(D33=\"x\",-2,0)","v":0},{"$f":"IF(E33=\"x\",-1,0)","v":0},{"$f":"IF(F33=\"x\",0,0)","v":0},{"$f":"IF(G33=\"x\",1,0)","v":0},{"$f":"IF(H33=\"x\",2,0)","v":0},null,{"$f":"O31*'1_COMMUNITY EVALUATION'!N4","v":0.25}]
[null,3,"დაინტერესებული მხარის ინტერესი, ჩაერთოს  ადგილობრივ სამოქალაქო აქტივობებში თემასთან მიმართებით",null,null,null,null,null,{"$f":"IF(D34=\"x\",-2,0)","v":0},{"$f":"IF(E34=\"x\",-1,0)","v":0},{"$f":"IF(F34=\"x\",0,0)","v":0},{"$f":"IF(G34=\"x\",1,0)","v":0},{"$f":"IF(H34=\"x\",2,0)","v":0}]
[null,4,"დაინტერესებული მხარის ინტერესი, დაიწყოს ცვლილების განხორციელება/გავლენა იქონიოს მასზე      ",null,null,null,null,null,{"$f":"IF(D35=\"x\",-2,0)","v":0},{"$f":"IF(E35=\"x\",-1,0)","v":0},{"$f":"IF(F35=\"x\",0,0)","v":0},{"$f":"IF(G35=\"x\",1,0)","v":0},{"$f":"IF(H35=\"x\",2,0)","v":0}]
[null,5,"დაინტერესებული მხარის ინტერესი, გაზარდოს მისი აღიარება მოქალაქეთა მხრიდან",null,null,null,null,null,{"$f":"IF(D36=\"x\",-2,0)","v":0},{"$f":"IF(E36=\"x\",-1,0)","v":0},{"$f":"IF(F36=\"x\",0,0)","v":0},{"$f":"IF(G36=\"x\",1,0)","v":0},{"$f":"IF(H36=\"x\",2,0)","v":0}]
[null,null,"(2) ეკონომიკური კაპიტალი",null,null,null,null,null,null,null,null,null,null,{"$f":"SUM(I38:M42)","v":0},{"$f":"(((N37-(-10))*(1-0))/(10-(-10)))+0","v":0.5}]
[null,6,"დაინტერესებული მხარის პოტენციური ეკონომიკური სარგებელი",null,null,null,null,null,{"$f":"IF(D38=\"x\",-2,0)","v":0},{"$f":"IF(E38=\"x\",-1,0)","v":0},{"$f":"IF(F38=\"x\",0,0)","v":0},{"$f":"IF(G38=\"x\",1,0)","v":0},{"$f":"IF(H38=\"x\",2,0)","v":0},null,"შეწონილი მნიშვნელობა"]
[null,7,"დაინტერესებული მხარის სურვილი, თავი მოუყაროს რესურსებს",null,null,null,null,null,{"$f":"IF(D39=\"x\",-2,0)","v":0},{"$f":"IF(E39=\"x\",-1,0)","v":0},{"$f":"IF(F39=\"x\",0,0)","v":0},{"$f":"IF(G39=\"x\",1,0)","v":0},{"$f":"IF(H39=\"x\",2,0)","v":0},null,{"$f":"O37*'1_COMMUNITY EVALUATION'!N13","v":0.25}]
[null,8,"დაინტერესებული მხარის სურვილი, ხელი შეუწყოს წვდომას არსებულ ან დამატებით(გარე) რესურსებზე       ",null,null,null,null,null,{"$f":"IF(D40=\"x\",-2,0)","v":0},{"$f":"IF(E40=\"x\",-1,0)","v":0},{"$f":"IF(F40=\"x\",0,0)","v":0},{"$f":"IF(G40=\"x\",1,0)","v":0},{"$f":"IF(H40=\"x\",2,0)","v":0}]
[null,9,"დაინტერესებული მხარის მზაობა არამატერიალური მხარდაჭერის გასაწევად",null,null,null,null,null,{"$f":"IF(D41=\"x\",-2,0)","v":0},{"$f":"IF(E41=\"x\",-1,0)","v":0},{"$f":"IF(F41=\"x\",0,0)","v":0},{"$f":"IF(G41=\"x\",1,0)","v":0},{"$f":"IF(H41=\"x\",2,0)","v":0}]
[null,10,"დაინტერესებული მხარის ინტერესი, გაზარდოს თავისი გავლენა შრომის ბაზარზე",null,null,null,null,null,{"$f":"IF(D42=\"x\",-2,0)","v":0},{"$f":"IF(E42=\"x\",-1,0)","v":0},{"$f":"IF(F42=\"x\",0,0)","v":0},{"$f":"IF(G42=\"x\",1,0)","v":0},{"$f":"IF(H42=\"x\",2,0)","v":0}]
[null,null,"(3) ადამიანური კაპიტალი",null,null,null,null,null,null,null,null,null,null,{"$f":"SUM(I44:M48)","v":0},{"$f":"(((N43-(-10))*(1-0))/(10-(-10)))+0","v":0.5}]
[null,11,"დაინტერესებული მხარის ინტერესი, გააზიაროს/გააუმჯობესოს თავისი ცოდნა/უნარები კონკრეტულ თემასთან მიმართებით",null,null,null,null,null,{"$f":"IF(D44=\"x\",-2,0)","v":0},{"$f":"IF(E44=\"x\",-1,0)","v":0},{"$f":"IF(F44=\"x\",0,0)","v":0},{"$f":"IF(G44=\"x\",1,0)","v":0},{"$f":"IF(H44=\"x\",2,0)","v":0},null,"შეწონილი მნიშვნელობა"]
[null,12,"დაინტერესებული მხარის სურვილი გააზიაროს/გაზარდოს საკუთარი ინფორმირებულობა კონკრეტულ თემაზე",null,null,null,null,null,{"$f":"IF(D45=\"x\",-2,0)","v":0},{"$f":"IF(E45=\"x\",-1,0)","v":0},{"$f":"IF(F45=\"x\",0,0)","v":0},{"$f":"IF(G45=\"x\",1,0)","v":0},{"$f":"IF(H45=\"x\",2,0)","v":0},null,{"$f":"O43*'1_COMMUNITY EVALUATION'!N22","v":0.25}]
[null,13,"დაინტერესებული მხარის სურვილი, ჩაერთოს საზოგადოებრივ დებატებში",null,null,null,null,null,{"$f":"IF(D46=\"x\",-2,0)","v":0},{"$f":"IF(E46=\"x\",-1,0)","v":0},{"$f":"IF(F46=\"x\",0,0)","v":0},{"$f":"IF(G46=\"x\",1,0)","v":0},{"$f":"IF(H46=\"x\",2,0)","v":0}]
[null,14,"დაინტერესებული მხარის სურვილი, კომუნიკაცია დაამყაროს სხვადასხვა მედიასაშუალების გამოყენებით ",null,null,null,null,null,{"$f":"IF(D47=\"x\",-2,0)","v":0},{"$f":"IF(E47=\"x\",-1,0)","v":0},{"$f":"IF(F47=\"x\",0,0)","v":0},{"$f":"IF(G47=\"x\",1,0)","v":0},{"$f":"IF(H47=\"x\",2,0)","v":0}]
[null,15,"დაინტერესებული მხარის სურვილი, ჰქონდეს წვდომა საჯარო სივრცეებზე",null,null,null,null,null,{"$f":"IF(D48=\"x\",-2,0)","v":0},{"$f":"IF(E48=\"x\",-1,0)","v":0},{"$f":"IF(F48=\"x\",0,0)","v":0},{"$f":"IF(G48=\"x\",1,0)","v":0},{"$f":"IF(H48=\"x\",2,0)","v":0}]
[null,null,"(4) პოლიტიკური კაპიტალი",null,null,null,null,null,null,null,null,null,null,{"$f":"SUM(I50:M54)","v":0},{"$f":"(((N49-(-10))*(1-0))/(10-(-10)))+0","v":0.5}]
[null,16,"დაინტერესებული მხარის ნდობა ადგილობრივი ადმინისტრაციის მიმართ",null,null,null,null,null,{"$f":"IF(D50=\"x\",-2,0)","v":0},{"$f":"IF(E50=\"x\",-1,0)","v":0},{"$f":"IF(F50=\"x\",0,0)","v":0},{"$f":"IF(G50=\"x\",1,0)","v":0},{"$f":"IF(H50=\"x\",2,0)","v":0},null,"შეწონილი მნიშვნელობა"]
[null,17,"დაინტერესებული მხარის პოლიტიკური ინტერესი კონკრეტული თემის მიმართ ",null,null,null,null,null,{"$f":"IF(D51=\"x\",-2,0)","v":0},{"$f":"IF(E51=\"x\",-1,0)","v":0},{"$f":"IF(F51=\"x\",0,0)","v":0},{"$f":"IF(G51=\"x\",1,0)","v":0},{"$f":"IF(H51=\"x\",2,0)","v":0},null,{"$f":"O49*'1_COMMUNITY EVALUATION'!N31","v":0.25}]
[null,18,"დაინტერესებული მხარის სურვილი, ითანამშრომლოს ადგილობრივი ხელისუფლების ორგანოებთან",null,null,null,null,null,{"$f":"IF(D52=\"x\",-2,0)","v":0},{"$f":"IF(E52=\"x\",-1,0)","v":0},{"$f":"IF(F52=\"x\",0,0)","v":0},{"$f":"IF(G52=\"x\",1,0)","v":0},{"$f":"IF(H52=\"x\",2,0)","v":0}]
[null,19,"დაინტერესებული მხარის ინტერესი, ხმა მიაწვდინოს/მოიცვას ფართო საზოგადოება",null,null,null,null,null,{"$f":"IF(D53=\"x\",-2,0)","v":0},{"$f":"IF(E53=\"x\",-1,0)","v":0},{"$f":"IF(F53=\"x\",0,0)","v":0},{"$f":"IF(G53=\"x\",1,0)","v":0},{"$f":"IF(H53=\"x\",2,0)","v":0}]
[null,20,"დაინტერესებული მხარის სურვილი, გააზიაროს/გაზარდოს თავისი ინფორმირებულობა პოლიტიკის საკითხებზე",null,null,null,null,null,{"$f":"IF(D54=\"x\",-2,0)","v":0},{"$f":"IF(E54=\"x\",-1,0)","v":0},{"$f":"IF(F54=\"x\",0,0)","v":0},{"$f":"IF(G54=\"x\",1,0)","v":0},{"$f":"IF(H54=\"x\",2,0)","v":0}]
[null,null,"ინტერესის ქულა",null,null,null,null,null,null,null,null,null,null,null,{"$f":"IF(D2=\"\",\"\",(SUM(O51+O45+O39+O33)/4))","v":""}]

{"sheet":"STAKEHOLDER (16)","index":20,"n_rows":55,"n_cols":15,"rows_kept":55,"cut":false,"hidden":false,"merged":[[0,1,0,14],[1,3,1,14],[27,2,27,7],[54,2,54,7]]}
[null,"კონკრეტული თემის გათვალისწინებით, გთხოვთ, დაინტერესებული მხარე შეაფასოთ თითოეულ პუნქტთან მიმართებით (უაღრესად უარყოფითიდან უაღრესად დადებითამდე) და შესაბამის გრაფაში მონიშნოთ „x“. "]
[null,null,"დაინტერესებული მხარე -მიუთითეთ დასახელება"]
[null,null,"განზომილებები","უაღრესად უარყოფითი","უარყოფითი","არ არის რელევანტური","დადებითი","უაღრესად დადებითი",-2,-1,0,1,2,null,"ქულა თითოეულ განზომილებაში"]
[null,null,"(1)სოციალური კაპიტალი",null,null,null,null,null,null,null,null,null,null,{"$f":"SUM(I5:M9)","v":0},{"$f":"(((N4-(-10))*(1-0))/(10-(-10)))+0","v":0.5}]
[null,1,"დაინტერესებული მხარის შესაძლებლობა, ჩართოს სხვა დაინტერესებული მხარეები ",null,null,null,null,null,{"$f":"IF(D5=\"x\",-2,0)","v":0},{"$f":"IF(E5=\"x\",-1,0)","v":0},{"$f":"IF(F5=\"x\",0,0)","v":0},{"$f":"IF(G5=\"x\",1,0)","v":0},{"$f":"IF(H5=\"x\",2,0)","v":0},null,"შეწონილი მნიშვნელობა"]
[null,2,"კონკრეტული კატეგორიის აქტორთა წარმომადგენლობითი დონე (მრავალი სხვა მოქალაქის ინტერესების წარმოდგენა)",null,null,null,null,null,{"$f":"IF(D6=\"x\",-2,0)","v":0},{"$f":"IF(E6=\"x\",-1,0)","v":0},{"$f":"IF(F6=\"x\",0,0)","v":0},{"$f":"IF(G6=\"x\",1,0)","v":0},{"$f":"IF(H6=\"x\",2,0)","v":0},null,{"$f":"O4*'1_COMMUNITY EVALUATION'!N4","v":0.25}]
[null,3,"დაინტერესებული მხარის მონაწილეობის დონე ადგილობრივ სამოქალაქო აქტივობებში",null,null,null,null,null,{"$f":"IF(D7=\"x\",-2,0)","v":0},{"$f":"IF(E7=\"x\",-1,0)","v":0},{"$f":"IF(F7=\"x\",0,0)","v":0},{"$f":"IF(G7=\"x\",1,0)","v":0},{"$f":"IF(H7=\"x\",2,0)","v":0}]
[null,4,"დაინტერესებული მხარის შესაძლებლობა, დაიწყოს ცვლილების განხორციელება/გავლენა იქონიოს მასზე",null,null,null,null,null,{"$f":"IF(D8=\"x\",-2,0)","v":0},{"$f":"IF(E8=\"x\",-1,0)","v":0},{"$f":"IF(F8=\"x\",0,0)","v":0},{"$f":"IF(G8=\"x\",1,0)","v":0},{"$f":"IF(H8=\"x\",2,0)","v":0}]
[null,5,"მოქალაქეთა მიერ დაინტერესებული მხარის აღიარების დონე ",null,null,null,null,null,{"$f":"IF(D9=\"x\",-2,0)","v":0},{"$f":"IF(E9=\"x\",-1,0)","v":0},{"$f":"IF(F9=\"x\",0,0)","v":0},{"$f":"IF(G9=\"x\",1,0)","v":0},{"$f":"IF(H9=\"x\",2,0)","v":0}]
[null,null,"(2) ეკონომიკური კაპიტალი",null,null,null,null,null,null,null,null,null,null,{"$f":"SUM(I11:M15)","v":0},{"$f":"(((N10-(-10))*(1-0))/(10-(-10)))+0","v":0.5}]
[null,6,"დაინტერესებული მხარის შესაძლებლობა, შეასრულოს დონორის ფუნქცია",null,null,null,null,null,{"$f":"IF(D11=\"x\",-2,0)","v":0},{"$f":"IF(E11=\"x\",-1,0)","v":0},{"$f":"IF(F11=\"x\",0,0)","v":0},{"$f":"IF(G11=\"x\",1,0)","v":0},{"$f":"IF(H11=\"x\",2,0)","v":0},null,"შეწონილი მნიშვნელობა"]
[null,7,"დაინტერესებული მხარის შესაძლებლობა, გავლენა მოახდინოს რესურსების განაწილებაზე ",null,null,null,null,null,{"$f":"IF(D12=\"x\",-2,0)","v":0},{"$f":"IF(E12=\"x\",-1,0)","v":0},{"$f":"IF(F12=\"x\",0,0)","v":0},{"$f":"IF(G12=\"x\",1,0)","v":0},{"$f":"IF(H12=\"x\",2,0)","v":0},null,{"$f":"O10*'1_COMMUNITY EVALUATION'!N13","v":0.25}]
[null,8,"ინტერესებული მხარის შესაძლებლობა, ხელი შეუწყოს წვდომას არსებულ ან დამატებით (გარე) რესურსებზე ",null,null,null,null,null,{"$f":"IF(D13=\"x\",-2,0)","v":0},{"$f":"IF(E13=\"x\",-1,0)","v":0},{"$f":"IF(F13=\"x\",0,0)","v":0},{"$f":"IF(G13=\"x\",1,0)","v":0},{"$f":"IF(H13=\"x\",2,0)","v":0}]
[null,9,"დაინტერესებული მხარის შესაძლებლობა არამატერიალური მხარდაჭერის გასაწევად ",null,null,null,null,null,{"$f":"IF(D14=\"x\",-2,0)","v":0},{"$f":"IF(E14=\"x\",-1,0)","v":0},{"$f":"IF(F14=\"x\",0,0)","v":0},{"$f":"IF(G14=\"x\",1,0)","v":0},{"$f":"IF(H14=\"x\",2,0)","v":0}]
[null,10,"დაინტერესებული მხარის გავლენა შრომის ბაზარზე",null,null,null,null,null,{"$f":"IF(D15=\"x\",-2,0)","v":0},{"$f":"IF(E15=\"x\",-1,0)","v":0},{"$f":"IF(F15=\"x\",0,0)","v":0},{"$f":"IF(G15=\"x\",1,0)","v":0},{"$f":"IF(H15=\"x\",2,0)","v":0}]
[null,null,"(3) ადამიანური კაპიტალი",null,null,null,null,null,null,null,null,null,null,{"$f":"SUM(I17:M21)","v":0},{"$f":"(((N16-(-10))*(1-0))/(10-(-10)))+0","v":0.5}]
[null,11,"დაინტერესებული მხარის ცოდნა/უნარები კონკრეტულ თემასთან მიმართებით",null,null,null,null,null,{"$f":"IF(D17=\"x\",-2,0)","v":0},{"$f":"IF(E17=\"x\",-1,0)","v":0},{"$f":"IF(F17=\"x\",0,0)","v":0},{"$f":"IF(G17=\"x\",1,0)","v":0},{"$f":"IF(H17=\"x\",2,0)","v":0},null,"შეწონილი მნიშვნელობა"]
[null,12,"დაინტერესებული მხარის ინფორმირებულობა კონკრეტულ თემაზე",null,null,null,null,null,{"$f":"IF(D18=\"x\",-2,0)","v":0},{"$f":"IF(E18=\"x\",-1,0)","v":0},{"$f":"IF(F18=\"x\",0,0)","v":0},{"$f":"IF(G18=\"x\",1,0)","v":0},{"$f":"IF(H18=\"x\",2,0)","v":0},null,{"$f":"O16*'1_COMMUNITY EVALUATION'!N22","v":0.25}]
[null,13,"დაინტერესებული მხარის შესაძლებლობა, ჩაერთოს საზოგადოებრივ დებატებში",null,null,null,null,null,{"$f":"IF(D19=\"x\",-2,0)","v":0},{"$f":"IF(E19=\"x\",-1,0)","v":0},{"$f":"IF(F19=\"x\",0,0)","v":0},{"$f":"IF(G19=\"x\",1,0)","v":0},{"$f":"IF(H19=\"x\",2,0)","v":0}]
[null,14,"დაინტერესებული მხარის შესაძლებლობა, კომუნიკაცია დაამყაროს სხვადასხვა მედიასაშუალების გამოყენებით ",null,null,null,null,null,{"$f":"IF(D20=\"x\",-2,0)","v":0},{"$f":"IF(E20=\"x\",-1,0)","v":0},{"$f":"IF(F20=\"x\",0,0)","v":0},{"$f":"IF(G20=\"x\",1,0)","v":0},{"$f":"IF(H20=\"x\",2,0)","v":0}]
[null,15,"დაინტერესებული მხარის ხელმისაწვდომობა საჯარო სივრცეებზე  ",null,null,null,null,null,{"$f":"IF(D21=\"x\",-2,0)","v":0},{"$f":"IF(E21=\"x\",-1,0)","v":0},{"$f":"IF(F21=\"x\",0,0)","v":0},{"$f":"IF(G21=\"x\",1,0)","v":0},{"$f":"IF(H21=\"x\",2,0)","v":0}]
[null,null,"(4)პოლიტიკური კაპიტალი",null,null,null,null,null,null,null,null,null,null,{"$f":"SUM(I23:M27)","v":0},{"$f":"(((N22-(-10))*(1-0))/(10-(-10)))+0","v":0.5}]
[null,16,"ადგილობრივი ადმინისტრაციის ნდობა დაინტერესებული მხარის მიმართ",null,null,null,null,null,{"$f":"IF(D23=\"x\",-2,0)","v":0},{"$f":"IF(E23=\"x\",-1,0)","v":0},{"$f":"IF(F23=\"x\",0,0)","v":0},{"$f":"IF(G23=\"x\",1,0)","v":0},{"$f":"IF(H23=\"x\",2,0)","v":0},null,"შეწონილი მნიშვნელობა"]
[null,17,"დაინტერესებული მხარის შესაძლებლობა, ჩართოს სხვა პოლიტიკური აქტორები",null,null,null,null,null,{"$f":"IF(D24=\"x\",-2,0)","v":0},{"$f":"IF(E24=\"x\",-1,0)","v":0},{"$f":"IF(F24=\"x\",0,0)","v":0},{"$f":"IF(G24=\"x\",1,0)","v":0},{"$f":"IF(H24=\"x\",2,0)","v":0},null,{"$f":"O22*'1_COMMUNITY EVALUATION'!N31","v":0.25}]
[null,18,"დაინტერესებული მხარის შესაძლებლობა, ითანამშრომლოს ადგილობრივი ხელისუფლების ორგანოებთან/სხვა დაინტერესებულ მხარეებთან ",null,null,null,null,null,{"$f":"IF(D25=\"x\",-2,0)","v":0},{"$f":"IF(E25=\"x\",-1,0)","v":0},{"$f":"IF(F25=\"x\",0,0)","v":0},{"$f":"IF(G25=\"x\",1,0)","v":0},{"$f":"IF(H25=\"x\",2,0)","v":0}]
[null,19,"დაინტერესებული მხარის შესაძლებლობა, გავლენა იქონიოს საზოგადოებრივ აზრზე ",null,null,null,null,null,{"$f":"IF(D26=\"x\",-2,0)","v":0},{"$f":"IF(E26=\"x\",-1,0)","v":0},{"$f":"IF(F26=\"x\",0,0)","v":0},{"$f":"IF(G26=\"x\",1,0)","v":0},{"$f":"IF(H26=\"x\",2,0)","v":0}]
[null,20,"დაინტერესებული მხარის ინფორმირებულობა პოლიტიკის საკითხებზე",null,null,null,null,null,{"$f":"IF(D27=\"x\",-2,0)","v":0},{"$f":"IF(E27=\"x\",-1,0)","v":0},{"$f":"IF(F27=\"x\",0,0)","v":0},{"$f":"IF(G27=\"x\",1,0)","v":0},{"$f":"IF(H27=\"x\",2,0)","v":0}]
[null,null,"რელევანტურობის ქულა",null,null,null,null,null,null,null,null,null,null,null,{"$f":"IF(D2=\"\",\"\",(SUM(O24+O18+O12+O6)/4))","v":""}]
[]
[null,null,"განზომილებები","უაღრესად უარყოფითი","უარყოფითი","არ არის რელევანტური","დადებითი","უაღრესად დადებითი",-2,-1,0,1,2,null,"ქულა თითოეულ განზომილებაში"]
[null,null,"(1)სოციალური კაპიტალი",null,null,null,null,null,null,null,null,null,null,{"$f":"SUM(I32:M36)","v":0},{"$f":"(((N31-(-10))*(1-0))/(10-(-10)))+0","v":0.5}]
[null,1,"დაინტერესებული მხარის ინტერესი, დაამყაროს კონტაქტები კონკრეტულ თემასთან დაკავშირებით",null,null,null,null,null,{"$f":"IF(D32=\"x\",-2,0)","v":0},{"$f":"IF(E32=\"x\",-1,0)","v":0},{"$f":"IF(F32=\"x\",0,0)","v":0},{"$f":"IF(G32=\"x\",1,0)","v":0},{"$f":"IF(H32=\"x\",2,0)","v":0},null,"შეწონილი მნიშვნელობა"]
[null,2,"დაინტერესებული მხარის ინტერესი, უზრუნველყოს კონკრეტული კატეგორიის აქტორთა წარმომადგენლობა თემასთან მიმართებით",null,null,null,null,null,{"$f":"IF(D33=\"x\",-2,0)","v":0},{"$f":"IF(E33=\"x\",-1,0)","v":0},{"$f":"IF(F33=\"x\",0,0)","v":0},{"$f":"IF(G33=\"x\",1,0)","v":0},{"$f":"IF(H33=\"x\",2,0)","v":0},null,{"$f":"O31*'1_COMMUNITY EVALUATION'!N4","v":0.25}]
[null,3,"დაინტერესებული მხარის ინტერესი, ჩაერთოს  ადგილობრივ სამოქალაქო აქტივობებში თემასთან მიმართებით",null,null,null,null,null,{"$f":"IF(D34=\"x\",-2,0)","v":0},{"$f":"IF(E34=\"x\",-1,0)","v":0},{"$f":"IF(F34=\"x\",0,0)","v":0},{"$f":"IF(G34=\"x\",1,0)","v":0},{"$f":"IF(H34=\"x\",2,0)","v":0}]
[null,4,"დაინტერესებული მხარის ინტერესი, დაიწყოს ცვლილების განხორციელება/გავლენა იქონიოს მასზე      ",null,null,null,null,null,{"$f":"IF(D35=\"x\",-2,0)","v":0},{"$f":"IF(E35=\"x\",-1,0)","v":0},{"$f":"IF(F35=\"x\",0,0)","v":0},{"$f":"IF(G35=\"x\",1,0)","v":0},{"$f":"IF(H35=\"x\",2,0)","v":0}]
[null,5,"დაინტერესებული მხარის ინტერესი, გაზარდოს მისი აღიარება მოქალაქეთა მხრიდან",null,null,null,null,null,{"$f":"IF(D36=\"x\",-2,0)","v":0},{"$f":"IF(E36=\"x\",-1,0)","v":0},{"$f":"IF(F36=\"x\",0,0)","v":0},{"$f":"IF(G36=\"x\",1,0)","v":0},{"$f":"IF(H36=\"x\",2,0)","v":0}]
[null,null,"(2) ეკონომიკური კაპიტალი",null,null,null,null,null,null,null,null,null,null,{"$f":"SUM(I38:M42)","v":0},{"$f":"(((N37-(-10))*(1-0))/(10-(-10)))+0","v":0.5}]
[null,6,"დაინტერესებული მხარის პოტენციური ეკონომიკური სარგებელი",null,null,null,null,null,{"$f":"IF(D38=\"x\",-2,0)","v":0},{"$f":"IF(E38=\"x\",-1,0)","v":0},{"$f":"IF(F38=\"x\",0,0)","v":0},{"$f":"IF(G38=\"x\",1,0)","v":0},{"$f":"IF(H38=\"x\",2,0)","v":0},null,"შეწონილი მნიშვნელობა"]
[null,7,"დაინტერესებული მხარის სურვილი, თავი მოუყაროს რესურსებს",null,null,null,null,null,{"$f":"IF(D39=\"x\",-2,0)","v":0},{"$f":"IF(E39=\"x\",-1,0)","v":0},{"$f":"IF(F39=\"x\",0,0)","v":0},{"$f":"IF(G39=\"x\",1,0)","v":0},{"$f":"IF(H39=\"x\",2,0)","v":0},null,{"$f":"O37*'1_COMMUNITY EVALUATION'!N13","v":0.25}]
[null,8,"დაინტერესებული მხარის სურვილი, ხელი შეუწყოს წვდომას არსებულ ან დამატებით(გარე) რესურსებზე      ",null,null,null,null,null,{"$f":"IF(D40=\"x\",-2,0)","v":0},{"$f":"IF(E40=\"x\",-1,0)","v":0},{"$f":"IF(F40=\"x\",0,0)","v":0},{"$f":"IF(G40=\"x\",1,0)","v":0},{"$f":"IF(H40=\"x\",2,0)","v":0}]
[null,9,"დაინტერესებული მხარის მზაობა არამატერიალური მხარდაჭერის გასაწევად",null,null,null,null,null,{"$f":"IF(D41=\"x\",-2,0)","v":0},{"$f":"IF(E41=\"x\",-1,0)","v":0},{"$f":"IF(F41=\"x\",0,0)","v":0},{"$f":"IF(G41=\"x\",1,0)","v":0},{"$f":"IF(H41=\"x\",2,0)","v":0}]
[null,10,"დაინტერესებული მხარის ინტერესი, გაზარდოს თავისი გავლენა შრომის ბაზარზე",null,null,null,null,null,{"$f":"IF(D42=\"x\",-2,0)","v":0},{"$f":"IF(E42=\"x\",-1,0)","v":0},{"$f":"IF(F42=\"x\",0,0)","v":0},{"$f":"IF(G42=\"x\",1,0)","v":0},{"$f":"IF(H42=\"x\",2,0)","v":0}]
[null,null,"(3) ადამიანური კაპიტალი",null,null,null,null,null,null,null,null,null,null,{"$f":"SUM(I44:M48)","v":0},{"$f":"(((N43-(-10))*(1-0))/(10-(-10)))+0","v":0.5}]
[null,11,"დაინტერესებული მხარის ინტერესი, გააზიაროს/გააუმჯობესოს თავისი ცოდნა/უნარები კონკრეტულ თემასთან მიმართებით",null,null,null,null,null,{"$f":"IF(D44=\"x\",-2,0)","v":0},{"$f":"IF(E44=\"x\",-1,0)","v":0},{"$f":"IF(F44=\"x\",0,0)","v":0},{"$f":"IF(G44=\"x\",1,0)","v":0},{"$f":"IF(H44=\"x\",2,0)","v":0},null,"შეწონილი მნიშვნელობა"]
[null,12,"დაინტერესებული მხარის სურვილი გააზიაროს/გაზარდოს საკუთარი ინფორმირებულობა კონკრეტულ თემაზე",null,null,null,null,null,{"$f":"IF(D45=\"x\",-2,0)","v":0},{"$f":"IF(E45=\"x\",-1,0)","v":0},{"$f":"IF(F45=\"x\",0,0)","v":0},{"$f":"IF(G45=\"x\",1,0)","v":0},{"$f":"IF(H45=\"x\",2,0)","v":0},null,{"$f":"O43*'1_COMMUNITY EVALUATION'!N22","v":0.25}]
[null,13,"დაინტერესებული მხარის სურვილი, ჩაერთოს საზოგადოებრივ დებატებში",null,null,null,null,null,{"$f":"IF(D46=\"x\",-2,0)","v":0},{"$f":"IF(E46=\"x\",-1,0)","v":0},{"$f":"IF(F46=\"x\",0,0)","v":0},{"$f":"IF(G46=\"x\",1,0)","v":0},{"$f":"IF(H46=\"x\",2,0)","v":0}]
[null,14,"დაინტერესებული მხარის სურვილი, კომუნიკაცია დაამყაროს სხვადასხვა მედიასაშუალების გამოყენებით",null,null,null,null,null,{"$f":"IF(D47=\"x\",-2,0)","v":0},{"$f":"IF(E47=\"x\",-1,0)","v":0},{"$f":"IF(F47=\"x\",0,0)","v":0},{"$f":"IF(G47=\"x\",1,0)","v":0},{"$f":"IF(H47=\"x\",2,0)","v":0}]
[null,15,"დაინტერესებული მხარის სურვილი, ჰქონდეს წვდომა საჯარო სივრცეებზე",null,null,null,null,null,{"$f":"IF(D48=\"x\",-2,0)","v":0},{"$f":"IF(E48=\"x\",-1,0)","v":0},{"$f":"IF(F48=\"x\",0,0)","v":0},{"$f":"IF(G48=\"x\",1,0)","v":0},{"$f":"IF(H48=\"x\",2,0)","v":0}]
[null,null,"(4) პოლიტიკური კაპიტალი",null,null,null,null,null,null,null,null,null,null,{"$f":"SUM(I50:M54)","v":0},{"$f":"(((N49-(-10))*(1-0))/(10-(-10)))+0","v":0.5}]
[null,16,"დაინტერესებული მხარის ნდობა ადგილობრივი ადმინისტრაციის მიმართ",null,null,null,null,null,{"$f":"IF(D50=\"x\",-2,0)","v":0},{"$f":"IF(E50=\"x\",-1,0)","v":0},{"$f":"IF(F50=\"x\",0,0)","v":0},{"$f":"IF(G50=\"x\",1,0)","v":0},{"$f":"IF(H50=\"x\",2,0)","v":0},null,"შეწონილი მნიშვნელობა"]
[null,17,"დაინტერესებული მხარის პოლიტიკური ინტერესი  კონკრეტული თემის მიმართ ",null,null,null,null,null,{"$f":"IF(D51=\"x\",-2,0)","v":0},{"$f":"IF(E51=\"x\",-1,0)","v":0},{"$f":"IF(F51=\"x\",0,0)","v":0},{"$f":"IF(G51=\"x\",1,0)","v":0},{"$f":"IF(H51=\"x\",2,0)","v":0},null,{"$f":"O49*'1_COMMUNITY EVALUATION'!N31","v":0.25}]
[null,18,"დაინტერესებული მხარის სურვილი, ითანამშრომლოს ადგილობრივი ხელისუფლების ორგანოებთან",null,null,null,null,null,{"$f":"IF(D52=\"x\",-2,0)","v":0},{"$f":"IF(E52=\"x\",-1,0)","v":0},{"$f":"IF(F52=\"x\",0,0)","v":0},{"$f":"IF(G52=\"x\",1,0)","v":0},{"$f":"IF(H52=\"x\",2,0)","v":0}]
[null,19,"დაინტერესებული მხარის ინტერესი, ხმა მიაწვდინოს/მოიცვას ფართო საზოგადოება",null,null,null,null,null,{"$f":"IF(D53=\"x\",-2,0)","v":0},{"$f":"IF(E53=\"x\",-1,0)","v":0},{"$f":"IF(F53=\"x\",0,0)","v":0},{"$f":"IF(G53=\"x\",1,0)","v":0},{"$f":"IF(H53=\"x\",2,0)","v":0}]
[null,20,"დაინტერესებული მხარის სურვილი, გააზიაროს/გაზარდოს თავისი ინფორმირებულობა პოლიტიკის საკითხებზე",null,null,null,null,null,{"$f":"IF(D54=\"x\",-2,0)","v":0},{"$f":"IF(E54=\"x\",-1,0)","v":0},{"$f":"IF(F54=\"x\",0,0)","v":0},{"$f":"IF(G54=\"x\",1,0)","v":0},{"$f":"IF(H54=\"x\",2,0)","v":0}]
[null,null,"ინტერესის ქულა",null,null,null,null,null,null,null,null,null,null,null,{"$f":"IF(D2=\"\",\"\",(SUM(O51+O45+O39+O33)/4))","v":""}]

{"sheet":"STAKEHOLDER (17)","index":21,"n_rows":55,"n_cols":15,"rows_kept":55,"cut":false,"hidden":false,"merged":[[0,1,0,14],[1,3,1,14],[27,2,27,7],[54,2,54,7]]}
[null,"კონკრეტული თემის გათვალისწინებით, გთხოვთ, დაინტერესებული მხარე შეაფასოთ თითოეულ პუნქტთან მიმართებით (უაღრესად უარყოფითიდან უაღრესად დადებითამდე) და შესაბამის გრაფაში მონიშნოთ „x“. "]
[null,null,"დაინტერესებული მხარე -მიუთითეთ დასახელება"]
[null,null,"განზომილებები","უაღრესად უარყოფითი","უარყოფითი","არ არის რელევანტური","დადებითი","უაღრესად დადებითი",-2,-1,0,1,2,null,"ქულა თითოეულ განზომილებაში"]
[null,null,"(1)სოციალური კაპიტალი",null,null,null,null,null,null,null,null,null,null,{"$f":"SUM(I5:M9)","v":0},{"$f":"(((N4-(-10))*(1-0))/(10-(-10)))+0","v":0.5}]
[null,1,"დაინტერესებული მხარის შესაძლებლობა, ჩართოს სხვა დაინტერესებული მხარეები ",null,null,null,null,null,{"$f":"IF(D5=\"x\",-2,0)","v":0},{"$f":"IF(E5=\"x\",-1,0)","v":0},{"$f":"IF(F5=\"x\",0,0)","v":0},{"$f":"IF(G5=\"x\",1,0)","v":0},{"$f":"IF(H5=\"x\",2,0)","v":0},null,"შეწონილი მნიშვნელობა"]
[null,2,"კონკრეტული კატეგორიის აქტორთა წარმომადგენლობითი დონე (მრავალი სხვა მოქალაქის ინტერესების წარმოდგენა)",null,null,null,null,null,{"$f":"IF(D6=\"x\",-2,0)","v":0},{"$f":"IF(E6=\"x\",-1,0)","v":0},{"$f":"IF(F6=\"x\",0,0)","v":0},{"$f":"IF(G6=\"x\",1,0)","v":0},{"$f":"IF(H6=\"x\",2,0)","v":0},null,{"$f":"O4*'1_COMMUNITY EVALUATION'!N4","v":0.25}]
[null,3,"დაინტერესებული მხარის მონაწილეობის დონე ადგილობრივ სამოქალაქო აქტივობებში",null,null,null,null,null,{"$f":"IF(D7=\"x\",-2,0)","v":0},{"$f":"IF(E7=\"x\",-1,0)","v":0},{"$f":"IF(F7=\"x\",0,0)","v":0},{"$f":"IF(G7=\"x\",1,0)","v":0},{"$f":"IF(H7=\"x\",2,0)","v":0}]
[null,4,"დაინტერესებული მხარის შესაძლებლობა, დაიწყოს ცვლილების განხორციელება/გავლენა იქონიოს მასზე",null,null,null,null,null,{"$f":"IF(D8=\"x\",-2,0)","v":0},{"$f":"IF(E8=\"x\",-1,0)","v":0},{"$f":"IF(F8=\"x\",0,0)","v":0},{"$f":"IF(G8=\"x\",1,0)","v":0},{"$f":"IF(H8=\"x\",2,0)","v":0}]
[null,5,"მოქალაქეთა მიერ დაინტერესებული მხარის აღიარების დონე ",null,null,null,null,null,{"$f":"IF(D9=\"x\",-2,0)","v":0},{"$f":"IF(E9=\"x\",-1,0)","v":0},{"$f":"IF(F9=\"x\",0,0)","v":0},{"$f":"IF(G9=\"x\",1,0)","v":0},{"$f":"IF(H9=\"x\",2,0)","v":0}]
[null,null,"(2) ეკონომიკური კაპიტალი",null,null,null,null,null,null,null,null,null,null,{"$f":"SUM(I11:M15)","v":0},{"$f":"(((N10-(-10))*(1-0))/(10-(-10)))+0","v":0.5}]
[null,6,"დაინტერესებული მხარის შესაძლებლობა, შეასრულოს დონორის ფუნქცია",null,null,null,null,null,{"$f":"IF(D11=\"x\",-2,0)","v":0},{"$f":"IF(E11=\"x\",-1,0)","v":0},{"$f":"IF(F11=\"x\",0,0)","v":0},{"$f":"IF(G11=\"x\",1,0)","v":0},{"$f":"IF(H11=\"x\",2,0)","v":0},null,"შეწონილი მნიშვნელობა"]
[null,7,"დაინტერესებული მხარის შესაძლებლობა, გავლენა მოახდინოს რესურსების განაწილებაზე ",null,null,null,null,null,{"$f":"IF(D12=\"x\",-2,0)","v":0},{"$f":"IF(E12=\"x\",-1,0)","v":0},{"$f":"IF(F12=\"x\",0,0)","v":0},{"$f":"IF(G12=\"x\",1,0)","v":0},{"$f":"IF(H12=\"x\",2,0)","v":0},null,{"$f":"O10*'1_COMMUNITY EVALUATION'!N13","v":0.25}]
[null,8,"ინტერესებული მხარის შესაძლებლობა, ხელი შეუწყოს წვდომას არსებულ ან დამატებით (გარე) რესურსებზე ",null,null,null,null,null,{"$f":"IF(D13=\"x\",-2,0)","v":0},{"$f":"IF(E13=\"x\",-1,0)","v":0},{"$f":"IF(F13=\"x\",0,0)","v":0},{"$f":"IF(G13=\"x\",1,0)","v":0},{"$f":"IF(H13=\"x\",2,0)","v":0}]
[null,9,"დაინტერესებული მხარის შესაძლებლობა არამატერიალური მხარდაჭერის გასაწევად ",null,null,null,null,null,{"$f":"IF(D14=\"x\",-2,0)","v":0},{"$f":"IF(E14=\"x\",-1,0)","v":0},{"$f":"IF(F14=\"x\",0,0)","v":0},{"$f":"IF(G14=\"x\",1,0)","v":0},{"$f":"IF(H14=\"x\",2,0)","v":0}]
[null,10,"დაინტერესებული მხარის გავლენა შრომის ბაზარზე",null,null,null,null,null,{"$f":"IF(D15=\"x\",-2,0)","v":0},{"$f":"IF(E15=\"x\",-1,0)","v":0},{"$f":"IF(F15=\"x\",0,0)","v":0},{"$f":"IF(G15=\"x\",1,0)","v":0},{"$f":"IF(H15=\"x\",2,0)","v":0}]
[null,null,"(3) ადამიანური კაპიტალი",null,null,null,null,null,null,null,null,null,null,{"$f":"SUM(I17:M21)","v":0},{"$f":"(((N16-(-10))*(1-0))/(10-(-10)))+0","v":0.5}]
[null,11,"დაინტერესებული მხარის ცოდნა/უნარები კონკრეტულ თემასთან მიმართებით",null,null,null,null,null,{"$f":"IF(D17=\"x\",-2,0)","v":0},{"$f":"IF(E17=\"x\",-1,0)","v":0},{"$f":"IF(F17=\"x\",0,0)","v":0},{"$f":"IF(G17=\"x\",1,0)","v":0},{"$f":"IF(H17=\"x\",2,0)","v":0},null,"შეწონილი მნიშვნელობა"]
[null,12,"დაინტერესებული მხარის ინფორმირებულობა კონკრეტულ თემაზე",null,null,null,null,null,{"$f":"IF(D18=\"x\",-2,0)","v":0},{"$f":"IF(E18=\"x\",-1,0)","v":0},{"$f":"IF(F18=\"x\",0,0)","v":0},{"$f":"IF(G18=\"x\",1,0)","v":0},{"$f":"IF(H18=\"x\",2,0)","v":0},null,{"$f":"O16*'1_COMMUNITY EVALUATION'!N22","v":0.25}]
[null,13,"დაინტერესებული მხარის შესაძლებლობა, ჩაერთოს საზოგადოებრივ დებატებში",null,null,null,null,null,{"$f":"IF(D19=\"x\",-2,0)","v":0},{"$f":"IF(E19=\"x\",-1,0)","v":0},{"$f":"IF(F19=\"x\",0,0)","v":0},{"$f":"IF(G19=\"x\",1,0)","v":0},{"$f":"IF(H19=\"x\",2,0)","v":0}]
[null,14,"დაინტერესებული მხარის შესაძლებლობა, კომუნიკაცია დაამყაროს სხვადასხვა მედიასაშუალების გამოყენებით ",null,null,null,null,null,{"$f":"IF(D20=\"x\",-2,0)","v":0},{"$f":"IF(E20=\"x\",-1,0)","v":0},{"$f":"IF(F20=\"x\",0,0)","v":0},{"$f":"IF(G20=\"x\",1,0)","v":0},{"$f":"IF(H20=\"x\",2,0)","v":0}]
[null,15,"დაინტერესებული მხარის ხელმისაწვდომობა საჯარო სივრცეებზე  ",null,null,null,null,null,{"$f":"IF(D21=\"x\",-2,0)","v":0},{"$f":"IF(E21=\"x\",-1,0)","v":0},{"$f":"IF(F21=\"x\",0,0)","v":0},{"$f":"IF(G21=\"x\",1,0)","v":0},{"$f":"IF(H21=\"x\",2,0)","v":0}]
[null,null,"(4)პოლიტიკური კაპიტალი",null,null,null,null,null,null,null,null,null,null,{"$f":"SUM(I23:M27)","v":0},{"$f":"(((N22-(-10))*(1-0))/(10-(-10)))+0","v":0.5}]
[null,16,"ადგილობრივი ადმინისტრაციის ნდობა დაინტერესებული მხარის მიმართ",null,null,null,null,null,{"$f":"IF(D23=\"x\",-2,0)","v":0},{"$f":"IF(E23=\"x\",-1,0)","v":0},{"$f":"IF(F23=\"x\",0,0)","v":0},{"$f":"IF(G23=\"x\",1,0)","v":0},{"$f":"IF(H23=\"x\",2,0)","v":0},null,"შეწონილი მნიშვნელობა"]
[null,17,"დაინტერესებული მხარის შესაძლებლობა, ჩართოს სხვა პოლიტიკური აქტორები",null,null,null,null,null,{"$f":"IF(D24=\"x\",-2,0)","v":0},{"$f":"IF(E24=\"x\",-1,0)","v":0},{"$f":"IF(F24=\"x\",0,0)","v":0},{"$f":"IF(G24=\"x\",1,0)","v":0},{"$f":"IF(H24=\"x\",2,0)","v":0},null,{"$f":"O22*'1_COMMUNITY EVALUATION'!N31","v":0.25}]
[null,18,"დაინტერესებული მხარის შესაძლებლობა, ითანამშრომლოს ადგილობრივი ხელისუფლების ორგანოებთან/სხვა დაინტერესებულ მხარეებთან ",null,null,null,null,null,{"$f":"IF(D25=\"x\",-2,0)","v":0},{"$f":"IF(E25=\"x\",-1,0)","v":0},{"$f":"IF(F25=\"x\",0,0)","v":0},{"$f":"IF(G25=\"x\",1,0)","v":0},{"$f":"IF(H25=\"x\",2,0)","v":0}]
[null,19,"დაინტერესებული მხარის შესაძლებლობა, გავლენა იქონიოს საზოგადოებრივ აზრზე ",null,null,null,null,null,{"$f":"IF(D26=\"x\",-2,0)","v":0},{"$f":"IF(E26=\"x\",-1,0)","v":0},{"$f":"IF(F26=\"x\",0,0)","v":0},{"$f":"IF(G26=\"x\",1,0)","v":0},{"$f":"IF(H26=\"x\",2,0)","v":0}]
[null,20,"დაინტერესებული მხარის ინფორმირებულობა პოლიტიკის საკითხებზე",null,null,null,null,null,{"$f":"IF(D27=\"x\",-2,0)","v":0},{"$f":"IF(E27=\"x\",-1,0)","v":0},{"$f":"IF(F27=\"x\",0,0)","v":0},{"$f":"IF(G27=\"x\",1,0)","v":0},{"$f":"IF(H27=\"x\",2,0)","v":0}]
[null,null,"რელევანტურობის ქულა",null,null,null,null,null,null,null,null,null,null,null,{"$f":"IF(D2=\"\",\"\",(SUM(O24+O18+O12+O6)/4))","v":""}]
[]
[null,null,"განზომილებები","უაღრესად უარყოფითი","უარყოფითი","არ არის რელევანტური","დადებითი","უაღრესად დადებითი",-2,-1,0,1,2,null,"ქულა თითოეულ განზომილებაში"]
[null,null,"(1) სოციალური კაპიტალი",null,null,null,null,null,null,null,null,null,null,{"$f":"SUM(I32:M36)","v":0},{"$f":"(((N31-(-10))*(1-0))/(10-(-10)))+0","v":0.5}]
[null,1,"დაინტერესებული მხარის ინტერესი, დაამყაროს კონტაქტები კონკრეტულ თემასთან დაკავშირებით",null,null,null,null,null,{"$f":"IF(D32=\"x\",-2,0)","v":0},{"$f":"IF(E32=\"x\",-1,0)","v":0},{"$f":"IF(F32=\"x\",0,0)","v":0},{"$f":"IF(G32=\"x\",1,0)","v":0},{"$f":"IF(H32=\"x\",2,0)","v":0},null,"შეწონილი მნიშვნელობა"]
[null,2,"დაინტერესებული მხარის ინტერესი, უზრუნველყოს კონკრეტული კატეგორიის აქტორთა წარმომადგენლობა თემასთან მიმართებით",null,null,null,null,null,{"$f":"IF(D33=\"x\",-2,0)","v":0},{"$f":"IF(E33=\"x\",-1,0)","v":0},{"$f":"IF(F33=\"x\",0,0)","v":0},{"$f":"IF(G33=\"x\",1,0)","v":0},{"$f":"IF(H33=\"x\",2,0)","v":0},null,{"$f":"O31*'1_COMMUNITY EVALUATION'!N4","v":0.25}]
[null,3,"დაინტერესებული მხარის ინტერესი, ჩაერთოს  ადგილობრივ სამოქალაქო აქტივობებში თემასთან მიმართებით",null,null,null,null,null,{"$f":"IF(D34=\"x\",-2,0)","v":0},{"$f":"IF(E34=\"x\",-1,0)","v":0},{"$f":"IF(F34=\"x\",0,0)","v":0},{"$f":"IF(G34=\"x\",1,0)","v":0},{"$f":"IF(H34=\"x\",2,0)","v":0}]
[null,4,"დაინტერესებული მხარის ინტერესი, დაიწყოს ცვლილების განხორციელება/გავლენა იქონიოს მასზე      ",null,null,null,null,null,{"$f":"IF(D35=\"x\",-2,0)","v":0},{"$f":"IF(E35=\"x\",-1,0)","v":0},{"$f":"IF(F35=\"x\",0,0)","v":0},{"$f":"IF(G35=\"x\",1,0)","v":0},{"$f":"IF(H35=\"x\",2,0)","v":0}]
[null,5,"დაინტერესებული მხარის ინტერესი, გაზარდოს მისი აღიარება მოქალაქეთა მხრიდან",null,null,null,null,null,{"$f":"IF(D36=\"x\",-2,0)","v":0},{"$f":"IF(E36=\"x\",-1,0)","v":0},{"$f":"IF(F36=\"x\",0,0)","v":0},{"$f":"IF(G36=\"x\",1,0)","v":0},{"$f":"IF(H36=\"x\",2,0)","v":0}]
[null,null,"(2) ეკონომიკური კაპიტალი",null,null,null,null,null,null,null,null,null,null,{"$f":"SUM(I38:M42)","v":0},{"$f":"(((N37-(-10))*(1-0))/(10-(-10)))+0","v":0.5}]
[null,6,"დაინტერესებული მხარის პოტენციური ეკონომიკური სარგებელი",null,null,null,null,null,{"$f":"IF(D38=\"x\",-2,0)","v":0},{"$f":"IF(E38=\"x\",-1,0)","v":0},{"$f":"IF(F38=\"x\",0,0)","v":0},{"$f":"IF(G38=\"x\",1,0)","v":0},{"$f":"IF(H38=\"x\",2,0)","v":0},null,"შეწონილი მნიშვნელობა"]
[null,7,"დაინტერესებული მხარის სურვილი, თავი მოუყაროს რესურსებს",null,null,null,null,null,{"$f":"IF(D39=\"x\",-2,0)","v":0},{"$f":"IF(E39=\"x\",-1,0)","v":0},{"$f":"IF(F39=\"x\",0,0)","v":0},{"$f":"IF(G39=\"x\",1,0)","v":0},{"$f":"IF(H39=\"x\",2,0)","v":0},null,{"$f":"O37*'1_COMMUNITY EVALUATION'!N13","v":0.25}]
[null,8,"დაინტერესებული მხარის სურვილი, ხელი შეუწყოს წვდომას არსებულ ან დამატებით(გარე) რესურსებზე      ",null,null,null,null,null,{"$f":"IF(D40=\"x\",-2,0)","v":0},{"$f":"IF(E40=\"x\",-1,0)","v":0},{"$f":"IF(F40=\"x\",0,0)","v":0},{"$f":"IF(G40=\"x\",1,0)","v":0},{"$f":"IF(H40=\"x\",2,0)","v":0}]
[null,9,"დაინტერესებული მხარის მზაობა       არამატერიალური მხარდაჭერის გასაწევად",null,null,null,null,null,{"$f":"IF(D41=\"x\",-2,0)","v":0},{"$f":"IF(E41=\"x\",-1,0)","v":0},{"$f":"IF(F41=\"x\",0,0)","v":0},{"$f":"IF(G41=\"x\",1,0)","v":0},{"$f":"IF(H41=\"x\",2,0)","v":0}]
[null,10,"დაინტერესებული მხარის ინტერესი, გაზარდოს თავისი გავლენა შრომის ბაზარზე",null,null,null,null,null,{"$f":"IF(D42=\"x\",-2,0)","v":0},{"$f":"IF(E42=\"x\",-1,0)","v":0},{"$f":"IF(F42=\"x\",0,0)","v":0},{"$f":"IF(G42=\"x\",1,0)","v":0},{"$f":"IF(H42=\"x\",2,0)","v":0}]
[null,null,"(3) ადამიანური კაპიტალი",null,null,null,null,null,null,null,null,null,null,{"$f":"SUM(I44:M48)","v":0},{"$f":"(((N43-(-10))*(1-0))/(10-(-10)))+0","v":0.5}]
[null,11,"დაინტერესებული მხარის ინტერესი, გააზიაროს/გააუმჯობესოს თავისი ცოდნა/უნარები  კონკრეტულ თემასთან მიმართებით",null,null,null,null,null,{"$f":"IF(D44=\"x\",-2,0)","v":0},{"$f":"IF(E44=\"x\",-1,0)","v":0},{"$f":"IF(F44=\"x\",0,0)","v":0},{"$f":"IF(G44=\"x\",1,0)","v":0},{"$f":"IF(H44=\"x\",2,0)","v":0},null,"შეწონილი მნიშვნელობა"]
[null,12,"დაინტერესებული მხარის სურვილი გააზიაროს/გაზარდოს საკუთარი ინფორმირებულობა კონკრეტულ თემაზე",null,null,null,null,null,{"$f":"IF(D45=\"x\",-2,0)","v":0},{"$f":"IF(E45=\"x\",-1,0)","v":0},{"$f":"IF(F45=\"x\",0,0)","v":0},{"$f":"IF(G45=\"x\",1,0)","v":0},{"$f":"IF(H45=\"x\",2,0)","v":0},null,{"$f":"O43*'1_COMMUNITY EVALUATION'!N22","v":0.25}]
[null,13,"დაინტერესებული მხარის სურვილი, ჩაერთოს საზოგადოებრივ დებატებში",null,null,null,null,null,{"$f":"IF(D46=\"x\",-2,0)","v":0},{"$f":"IF(E46=\"x\",-1,0)","v":0},{"$f":"IF(F46=\"x\",0,0)","v":0},{"$f":"IF(G46=\"x\",1,0)","v":0},{"$f":"IF(H46=\"x\",2,0)","v":0}]
[null,14,"დაინტერესებული მხარის სურვილი, კომუნიკაცია დაამყაროს სხვადასხვა მედიასაშუალების გამოყენებით",null,null,null,null,null,{"$f":"IF(D47=\"x\",-2,0)","v":0},{"$f":"IF(E47=\"x\",-1,0)","v":0},{"$f":"IF(F47=\"x\",0,0)","v":0},{"$f":"IF(G47=\"x\",1,0)","v":0},{"$f":"IF(H47=\"x\",2,0)","v":0}]
[null,15,"დაინტერესებული მხარის სურვილი, ჰქონდეს წვდომა საჯარო სივრცეებზე",null,null,null,null,null,{"$f":"IF(D48=\"x\",-2,0)","v":0},{"$f":"IF(E48=\"x\",-1,0)","v":0},{"$f":"IF(F48=\"x\",0,0)","v":0},{"$f":"IF(G48=\"x\",1,0)","v":0},{"$f":"IF(H48=\"x\",2,0)","v":0}]
[null,null,"(4) პოლიტიკური კაპიტალი",null,null,null,null,null,null,null,null,null,null,{"$f":"SUM(I50:M54)","v":0},{"$f":"(((N49-(-10))*(1-0))/(10-(-10)))+0","v":0.5}]
[null,16,"დაინტერესებული მხარის ნდობა ადგილობრივი ადმინისტრაციის მიმართ",null,null,null,null,null,{"$f":"IF(D50=\"x\",-2,0)","v":0},{"$f":"IF(E50=\"x\",-1,0)","v":0},{"$f":"IF(F50=\"x\",0,0)","v":0},{"$f":"IF(G50=\"x\",1,0)","v":0},{"$f":"IF(H50=\"x\",2,0)","v":0},null,"შეწონილი მნიშვნელობა"]
[null,17,"დაინტერესებული მხარის პოლიტიკური ინტერესი კონკრეტული თემის მიმართ ",null,null,null,null,null,{"$f":"IF(D51=\"x\",-2,0)","v":0},{"$f":"IF(E51=\"x\",-1,0)","v":0},{"$f":"IF(F51=\"x\",0,0)","v":0},{"$f":"IF(G51=\"x\",1,0)","v":0},{"$f":"IF(H51=\"x\",2,0)","v":0},null,{"$f":"O49*'1_COMMUNITY EVALUATION'!N31","v":0.25}]
[null,18,"დაინტერესებული მხარის სურვილი, ითანამშრომლოს ადგილობრივი ხელისუფლების ორგანოებთან",null,null,null,null,null,{"$f":"IF(D52=\"x\",-2,0)","v":0},{"$f":"IF(E52=\"x\",-1,0)","v":0},{"$f":"IF(F52=\"x\",0,0)","v":0},{"$f":"IF(G52=\"x\",1,0)","v":0},{"$f":"IF(H52=\"x\",2,0)","v":0}]
[null,19,"დაინტერესებული მხარის ინტერესი, ხმა მიაწვდინოს/მოიცვას ფართო საზოგადოება",null,null,null,null,null,{"$f":"IF(D53=\"x\",-2,0)","v":0},{"$f":"IF(E53=\"x\",-1,0)","v":0},{"$f":"IF(F53=\"x\",0,0)","v":0},{"$f":"IF(G53=\"x\",1,0)","v":0},{"$f":"IF(H53=\"x\",2,0)","v":0}]
[null,20,"დაინტერესებული მხარის სურვილი, გააზიაროს/გაზარდოს თავისი ინფორმირებულობა პოლიტიკის საკითხებზე",null,null,null,null,null,{"$f":"IF(D54=\"x\",-2,0)","v":0},{"$f":"IF(E54=\"x\",-1,0)","v":0},{"$f":"IF(F54=\"x\",0,0)","v":0},{"$f":"IF(G54=\"x\",1,0)","v":0},{"$f":"IF(H54=\"x\",2,0)","v":0}]
[null,null,"ინტერესის ქულა",null,null,null,null,null,null,null,null,null,null,null,{"$f":"IF(D2=\"\",\"\",(SUM(O51+O45+O39+O33)/4))","v":""}]

{"sheet":"STAKEHOLDER (18)","index":22,"n_rows":55,"n_cols":15,"rows_kept":55,"cut":false,"hidden":false,"merged":[[0,1,0,14],[1,3,1,14],[27,2,27,7],[54,2,54,7]]}
[null,"კონკრეტული თემის გათვალისწინებით, გთხოვთ, დაინტერესებული მხარე შეაფასოთ თითოეულ პუნქტთან მიმართებით (უაღრესად უარყოფითიდან უაღრესად დადებითამდე) და შესაბამის გრაფაში მონიშნოთ „x“. "]
[null,null,"დაინტერესებული მხარე -მიუთითეთ დასახელება"]
[null,null,"განზომილებები","უაღრესად უარყოფითი","უარყოფითი","არ არის რელევანტური","დადებითი","უაღრესად დადებითი",-2,-1,0,1,2,null,"ქულა თითოეულ განზომილებაში"]
[null,null,"(1)სოციალური კაპიტალი",null,null,null,null,null,null,null,null,null,null,{"$f":"SUM(I5:M9)","v":0},{"$f":"(((N4-(-10))*(1-0))/(10-(-10)))+0","v":0.5}]
[null,1,"დაინტერესებული მხარის შესაძლებლობა, ჩართოს სხვა დაინტერესებული მხარეები ",null,null,null,null,null,{"$f":"IF(D5=\"x\",-2,0)","v":0},{"$f":"IF(E5=\"x\",-1,0)","v":0},{"$f":"IF(F5=\"x\",0,0)","v":0},{"$f":"IF(G5=\"x\",1,0)","v":0},{"$f":"IF(H5=\"x\",2,0)","v":0},null,"შეწონილი მნიშვნელობა"]
[null,2,"კონკრეტული კატეგორიის აქტორთა წარმომადგენლობითი დონე (მრავალი სხვა მოქალაქის ინტერესების წარმოდგენა)",null,null,null,null,null,{"$f":"IF(D6=\"x\",-2,0)","v":0},{"$f":"IF(E6=\"x\",-1,0)","v":0},{"$f":"IF(F6=\"x\",0,0)","v":0},{"$f":"IF(G6=\"x\",1,0)","v":0},{"$f":"IF(H6=\"x\",2,0)","v":0},null,{"$f":"O4*'1_COMMUNITY EVALUATION'!N4","v":0.25}]
[null,3,"დაინტერესებული მხარის მონაწილეობის დონე ადგილობრივ სამოქალაქო აქტივობებში",null,null,null,null,null,{"$f":"IF(D7=\"x\",-2,0)","v":0},{"$f":"IF(E7=\"x\",-1,0)","v":0},{"$f":"IF(F7=\"x\",0,0)","v":0},{"$f":"IF(G7=\"x\",1,0)","v":0},{"$f":"IF(H7=\"x\",2,0)","v":0}]
[null,4,"დაინტერესებული მხარის შესაძლებლობა, დაიწყოს ცვლილების განხორციელება/გავლენა იქონიოს მასზე",null,null,null,null,null,{"$f":"IF(D8=\"x\",-2,0)","v":0},{"$f":"IF(E8=\"x\",-1,0)","v":0},{"$f":"IF(F8=\"x\",0,0)","v":0},{"$f":"IF(G8=\"x\",1,0)","v":0},{"$f":"IF(H8=\"x\",2,0)","v":0}]
[null,5,"მოქალაქეთა მიერ დაინტერესებული მხარის აღიარების დონე ",null,null,null,null,null,{"$f":"IF(D9=\"x\",-2,0)","v":0},{"$f":"IF(E9=\"x\",-1,0)","v":0},{"$f":"IF(F9=\"x\",0,0)","v":0},{"$f":"IF(G9=\"x\",1,0)","v":0},{"$f":"IF(H9=\"x\",2,0)","v":0}]
[null,null,"(2) ეკონომიკური კაპიტალი",null,null,null,null,null,null,null,null,null,null,{"$f":"SUM(I11:M15)","v":0},{"$f":"(((N10-(-10))*(1-0))/(10-(-10)))+0","v":0.5}]
[null,6,"დაინტერესებული მხარის შესაძლებლობა, შეასრულოს დონორის ფუნქცია",null,null,null,null,null,{"$f":"IF(D11=\"x\",-2,0)","v":0},{"$f":"IF(E11=\"x\",-1,0)","v":0},{"$f":"IF(F11=\"x\",0,0)","v":0},{"$f":"IF(G11=\"x\",1,0)","v":0},{"$f":"IF(H11=\"x\",2,0)","v":0},null,"შეწონილი მნიშვნელობა"]
[null,7,"დაინტერესებული მხარის შესაძლებლობა, გავლენა მოახდინოს რესურსების განაწილებაზე ",null,null,null,null,null,{"$f":"IF(D12=\"x\",-2,0)","v":0},{"$f":"IF(E12=\"x\",-1,0)","v":0},{"$f":"IF(F12=\"x\",0,0)","v":0},{"$f":"IF(G12=\"x\",1,0)","v":0},{"$f":"IF(H12=\"x\",2,0)","v":0},null,{"$f":"O10*'1_COMMUNITY EVALUATION'!N13","v":0.25}]
[null,8,"ინტერესებული მხარის შესაძლებლობა, ხელი შეუწყოს წვდომას არსებულ ან დამატებით (გარე) რესურსებზე ",null,null,null,null,null,{"$f":"IF(D13=\"x\",-2,0)","v":0},{"$f":"IF(E13=\"x\",-1,0)","v":0},{"$f":"IF(F13=\"x\",0,0)","v":0},{"$f":"IF(G13=\"x\",1,0)","v":0},{"$f":"IF(H13=\"x\",2,0)","v":0}]
[null,9,"დაინტერესებული მხარის შესაძლებლობა არამატერიალური მხარდაჭერის გასაწევად ",null,null,null,null,null,{"$f":"IF(D14=\"x\",-2,0)","v":0},{"$f":"IF(E14=\"x\",-1,0)","v":0},{"$f":"IF(F14=\"x\",0,0)","v":0},{"$f":"IF(G14=\"x\",1,0)","v":0},{"$f":"IF(H14=\"x\",2,0)","v":0}]
[null,10,"Iდაინტერესებული მხარის გავლენა შრომის ბაზარზე",null,null,null,null,null,{"$f":"IF(D15=\"x\",-2,0)","v":0},{"$f":"IF(E15=\"x\",-1,0)","v":0},{"$f":"IF(F15=\"x\",0,0)","v":0},{"$f":"IF(G15=\"x\",1,0)","v":0},{"$f":"IF(H15=\"x\",2,0)","v":0}]
[null,null,"(3) ადამიანური კაპიტალი",null,null,null,null,null,null,null,null,null,null,{"$f":"SUM(I17:M21)","v":0},{"$f":"(((N16-(-10))*(1-0))/(10-(-10)))+0","v":0.5}]
[null,11,"დაინტერესებული მხარის ცოდნა/უნარები კონკრეტულ თემასთან მიმართებით",null,null,null,null,null,{"$f":"IF(D17=\"x\",-2,0)","v":0},{"$f":"IF(E17=\"x\",-1,0)","v":0},{"$f":"IF(F17=\"x\",0,0)","v":0},{"$f":"IF(G17=\"x\",1,0)","v":0},{"$f":"IF(H17=\"x\",2,0)","v":0},null,"შეწონილი მნიშვნელობა"]
[null,12,"დაინტერესებული მხარის ინფორმირებულობა კონკრეტულ თემაზე",null,null,null,null,null,{"$f":"IF(D18=\"x\",-2,0)","v":0},{"$f":"IF(E18=\"x\",-1,0)","v":0},{"$f":"IF(F18=\"x\",0,0)","v":0},{"$f":"IF(G18=\"x\",1,0)","v":0},{"$f":"IF(H18=\"x\",2,0)","v":0},null,{"$f":"O16*'1_COMMUNITY EVALUATION'!N22","v":0.25}]
[null,13,"დაინტერესებული მხარის შესაძლებლობა, ჩაერთოს საზოგადოებრივ დებატებში",null,null,null,null,null,{"$f":"IF(D19=\"x\",-2,0)","v":0},{"$f":"IF(E19=\"x\",-1,0)","v":0},{"$f":"IF(F19=\"x\",0,0)","v":0},{"$f":"IF(G19=\"x\",1,0)","v":0},{"$f":"IF(H19=\"x\",2,0)","v":0}]
[null,14,"დაინტერესებული მხარის შესაძლებლობა, კომუნიკაცია დაამყაროს სხვადასხვა მედიასაშუალების გამოყენებით ",null,null,null,null,null,{"$f":"IF(D20=\"x\",-2,0)","v":0},{"$f":"IF(E20=\"x\",-1,0)","v":0},{"$f":"IF(F20=\"x\",0,0)","v":0},{"$f":"IF(G20=\"x\",1,0)","v":0},{"$f":"IF(H20=\"x\",2,0)","v":0}]
[null,15,"დაინტერესებული მხარის ხელმისაწვდომობა საჯარო სივრცეებზე  ",null,null,null,null,null,{"$f":"IF(D21=\"x\",-2,0)","v":0},{"$f":"IF(E21=\"x\",-1,0)","v":0},{"$f":"IF(F21=\"x\",0,0)","v":0},{"$f":"IF(G21=\"x\",1,0)","v":0},{"$f":"IF(H21=\"x\",2,0)","v":0}]
[null,null,"(4) პოლიტიკური კაპიტალი",null,null,null,null,null,null,null,null,null,null,{"$f":"SUM(I23:M27)","v":0},{"$f":"(((N22-(-10))*(1-0))/(10-(-10)))+0","v":0.5}]
[null,16,"ადგილობრივი ადმინისტრაციის ნდობა დაინტერესებული მხარის მიმართ",null,null,null,null,null,{"$f":"IF(D23=\"x\",-2,0)","v":0},{"$f":"IF(E23=\"x\",-1,0)","v":0},{"$f":"IF(F23=\"x\",0,0)","v":0},{"$f":"IF(G23=\"x\",1,0)","v":0},{"$f":"IF(H23=\"x\",2,0)","v":0},null,"შეწონილი მნიშვნელობა"]
[null,17,"დაინტერესებული მხარის შესაძლებლობა, ჩართოს სხვა პოლიტიკური აქტორები",null,null,null,null,null,{"$f":"IF(D24=\"x\",-2,0)","v":0},{"$f":"IF(E24=\"x\",-1,0)","v":0},{"$f":"IF(F24=\"x\",0,0)","v":0},{"$f":"IF(G24=\"x\",1,0)","v":0},{"$f":"IF(H24=\"x\",2,0)","v":0},null,{"$f":"O22*'1_COMMUNITY EVALUATION'!N31","v":0.25}]
[null,18,"დაინტერესებული მხარის შესაძლებლობა, ითანამშრომლოს ადგილობრივი ხელისუფლების ორგანოებთან/სხვა დაინტერესებულ მხარეებთან ",null,null,null,null,null,{"$f":"IF(D25=\"x\",-2,0)","v":0},{"$f":"IF(E25=\"x\",-1,0)","v":0},{"$f":"IF(F25=\"x\",0,0)","v":0},{"$f":"IF(G25=\"x\",1,0)","v":0},{"$f":"IF(H25=\"x\",2,0)","v":0}]
[null,19,"დაინტერესებული მხარის შესაძლებლობა, გავლენა იქონიოს საზოგადოებრივ აზრზე ",null,null,null,null,null,{"$f":"IF(D26=\"x\",-2,0)","v":0},{"$f":"IF(E26=\"x\",-1,0)","v":0},{"$f":"IF(F26=\"x\",0,0)","v":0},{"$f":"IF(G26=\"x\",1,0)","v":0},{"$f":"IF(H26=\"x\",2,0)","v":0}]
[null,20,"დაინტერესებული მხარის ინფორმირებულობა პოლიტიკის საკითხებზე",null,null,null,null,null,{"$f":"IF(D27=\"x\",-2,0)","v":0},{"$f":"IF(E27=\"x\",-1,0)","v":0},{"$f":"IF(F27=\"x\",0,0)","v":0},{"$f":"IF(G27=\"x\",1,0)","v":0},{"$f":"IF(H27=\"x\",2,0)","v":0}]
[null,null,"რელევანტურობის ქულა",null,null,null,null,null,null,null,null,null,null,null,{"$f":"IF(D2=\"\",\"\",(SUM(O24+O18+O12+O6)/4))","v":""}]
[]
[null,null,"განზომილებები","უაღრესად უარყოფითი","უარყოფითი","არ არის რელევანტური","დადებითი","უაღრესად დადებითი",-2,-1,0,1,2,null,"ქულა თითოეულ განზომილებაში"]
[null,null,"(1) სოციალური კაპიტალი",null,null,null,null,null,null,null,null,null,null,{"$f":"SUM(I32:M36)","v":0},{"$f":"(((N31-(-10))*(1-0))/(10-(-10)))+0","v":0.5}]
[null,1,"დაინტერესებული მხარის ინტერესი, დაამყაროს კონტაქტები კონკრეტულ თემასთან დაკავშირებით",null,null,null,null,null,{"$f":"IF(D32=\"x\",-2,0)","v":0},{"$f":"IF(E32=\"x\",-1,0)","v":0},{"$f":"IF(F32=\"x\",0,0)","v":0},{"$f":"IF(G32=\"x\",1,0)","v":0},{"$f":"IF(H32=\"x\",2,0)","v":0},null,"შეწონილი მნიშვნელობა"]
[null,2,"დაინტერესებული მხარის ინტერესი, უზრუნველყოს კონკრეტული კატეგორიის აქტორთა წარმომადგენლობა თემასთან მიმართებით",null,null,null,null,null,{"$f":"IF(D33=\"x\",-2,0)","v":0},{"$f":"IF(E33=\"x\",-1,0)","v":0},{"$f":"IF(F33=\"x\",0,0)","v":0},{"$f":"IF(G33=\"x\",1,0)","v":0},{"$f":"IF(H33=\"x\",2,0)","v":0},null,{"$f":"O31*'1_COMMUNITY EVALUATION'!N4","v":0.25}]
[null,3,"დაინტერესებული მხარის ინტერესი, ჩაერთოს  ადგილობრივ სამოქალაქო აქტივობებში თემასთან მიმართებით",null,null,null,null,null,{"$f":"IF(D34=\"x\",-2,0)","v":0},{"$f":"IF(E34=\"x\",-1,0)","v":0},{"$f":"IF(F34=\"x\",0,0)","v":0},{"$f":"IF(G34=\"x\",1,0)","v":0},{"$f":"IF(H34=\"x\",2,0)","v":0}]
[null,4,"დაინტერესებული მხარის ინტერესი, დაიწყოს ცვლილების განხორციელება/გავლენა იქონიოს მასზე      ",null,null,null,null,null,{"$f":"IF(D35=\"x\",-2,0)","v":0},{"$f":"IF(E35=\"x\",-1,0)","v":0},{"$f":"IF(F35=\"x\",0,0)","v":0},{"$f":"IF(G35=\"x\",1,0)","v":0},{"$f":"IF(H35=\"x\",2,0)","v":0}]
[null,5,"დაინტერესებული მხარის ინტერესი, გაზარდოს მისი აღიარება მოქალაქეთა მხრიდან",null,null,null,null,null,{"$f":"IF(D36=\"x\",-2,0)","v":0},{"$f":"IF(E36=\"x\",-1,0)","v":0},{"$f":"IF(F36=\"x\",0,0)","v":0},{"$f":"IF(G36=\"x\",1,0)","v":0},{"$f":"IF(H36=\"x\",2,0)","v":0}]
[null,null,"(2) ეკონომიკური კაპიტალი",null,null,null,null,null,null,null,null,null,null,{"$f":"SUM(I38:M42)","v":0},{"$f":"(((N37-(-10))*(1-0))/(10-(-10)))+0","v":0.5}]
[null,6,"დაინტერესებული მხარის პოტენციური ეკონომიკური სარგებელი",null,null,null,null,null,{"$f":"IF(D38=\"x\",-2,0)","v":0},{"$f":"IF(E38=\"x\",-1,0)","v":0},{"$f":"IF(F38=\"x\",0,0)","v":0},{"$f":"IF(G38=\"x\",1,0)","v":0},{"$f":"IF(H38=\"x\",2,0)","v":0},null,"შეწონილი მნიშვნელობა"]
[null,7,"დაინტერესებული მხარის სურვილი, თავი მოუყაროს რესურსებს",null,null,null,null,null,{"$f":"IF(D39=\"x\",-2,0)","v":0},{"$f":"IF(E39=\"x\",-1,0)","v":0},{"$f":"IF(F39=\"x\",0,0)","v":0},{"$f":"IF(G39=\"x\",1,0)","v":0},{"$f":"IF(H39=\"x\",2,0)","v":0},null,{"$f":"O37*'1_COMMUNITY EVALUATION'!N13","v":0.25}]
[null,8,"დაინტერესებული მხარის სურვილი, ხელი შეუწყოს წვდომას არსებულ ან დამატებით(გარე) რესურსებზე      ",null,null,null,null,null,{"$f":"IF(D40=\"x\",-2,0)","v":0},{"$f":"IF(E40=\"x\",-1,0)","v":0},{"$f":"IF(F40=\"x\",0,0)","v":0},{"$f":"IF(G40=\"x\",1,0)","v":0},{"$f":"IF(H40=\"x\",2,0)","v":0}]
[null,9,"დაინტერესებული მხარის მზაობა არამატერიალური მხარდაჭერის გასაწევად",null,null,null,null,null,{"$f":"IF(D41=\"x\",-2,0)","v":0},{"$f":"IF(E41=\"x\",-1,0)","v":0},{"$f":"IF(F41=\"x\",0,0)","v":0},{"$f":"IF(G41=\"x\",1,0)","v":0},{"$f":"IF(H41=\"x\",2,0)","v":0}]
[null,10,"დაინტერესებული მხარის ინტერესი, გაზარდოს თავისი გავლენა შრომის ბაზარზე",null,null,null,null,null,{"$f":"IF(D42=\"x\",-2,0)","v":0},{"$f":"IF(E42=\"x\",-1,0)","v":0},{"$f":"IF(F42=\"x\",0,0)","v":0},{"$f":"IF(G42=\"x\",1,0)","v":0},{"$f":"IF(H42=\"x\",2,0)","v":0}]
[null,null,"(3) ადამიანური კაპიტალი",null,null,null,null,null,null,null,null,null,null,{"$f":"SUM(I44:M48)","v":0},{"$f":"(((N43-(-10))*(1-0))/(10-(-10)))+0","v":0.5}]
[null,11,"დაინტერესებული მხარის ინტერესი, გააზიაროს/გააუმჯობესოს თავისი ცოდნა/უნარები  კონკრეტულ თემასთან მიმართებითic",null,null,null,null,null,{"$f":"IF(D44=\"x\",-2,0)","v":0},{"$f":"IF(E44=\"x\",-1,0)","v":0},{"$f":"IF(F44=\"x\",0,0)","v":0},{"$f":"IF(G44=\"x\",1,0)","v":0},{"$f":"IF(H44=\"x\",2,0)","v":0},null,"შეწონილი მნიშვნელობა"]
[null,12,"დაინტერესებული მხარის სურვილი გააზიაროს/გაზარდოს საკუთარი ინფორმირებულობა კონკრეტულ თემაზე",null,null,null,null,null,{"$f":"IF(D45=\"x\",-2,0)","v":0},{"$f":"IF(E45=\"x\",-1,0)","v":0},{"$f":"IF(F45=\"x\",0,0)","v":0},{"$f":"IF(G45=\"x\",1,0)","v":0},{"$f":"IF(H45=\"x\",2,0)","v":0},null,{"$f":"O43*'1_COMMUNITY EVALUATION'!N22","v":0.25}]
[null,13,"დაინტერესებული მხარის სურვილი, ჩაერთოს საზოგადოებრივ დებატებში",null,null,null,null,null,{"$f":"IF(D46=\"x\",-2,0)","v":0},{"$f":"IF(E46=\"x\",-1,0)","v":0},{"$f":"IF(F46=\"x\",0,0)","v":0},{"$f":"IF(G46=\"x\",1,0)","v":0},{"$f":"IF(H46=\"x\",2,0)","v":0}]
[null,14,"დაინტერესებული მხარის სურვილი კომუნიკაცია დაამყაროს სხვადასხვა მედიასაშუალების გამოყენებით",null,null,null,null,null,{"$f":"IF(D47=\"x\",-2,0)","v":0},{"$f":"IF(E47=\"x\",-1,0)","v":0},{"$f":"IF(F47=\"x\",0,0)","v":0},{"$f":"IF(G47=\"x\",1,0)","v":0},{"$f":"IF(H47=\"x\",2,0)","v":0}]
[null,15,"დაინტერესებული მხარის სურვილი, ჰქონდეს წვდომა საჯარო სივრცეებზე",null,null,null,null,null,{"$f":"IF(D48=\"x\",-2,0)","v":0},{"$f":"IF(E48=\"x\",-1,0)","v":0},{"$f":"IF(F48=\"x\",0,0)","v":0},{"$f":"IF(G48=\"x\",1,0)","v":0},{"$f":"IF(H48=\"x\",2,0)","v":0}]
[null,null,"(4) პოლიტიკური კაპიტალი",null,null,null,null,null,null,null,null,null,null,{"$f":"SUM(I50:M54)","v":0},{"$f":"(((N49-(-10))*(1-0))/(10-(-10)))+0","v":0.5}]
[null,16,"დაინტერესებული მხარის ნდობა ადგილობრივი ადმინისტრაციის მიმართ",null,null,null,null,null,{"$f":"IF(D50=\"x\",-2,0)","v":0},{"$f":"IF(E50=\"x\",-1,0)","v":0},{"$f":"IF(F50=\"x\",0,0)","v":0},{"$f":"IF(G50=\"x\",1,0)","v":0},{"$f":"IF(H50=\"x\",2,0)","v":0},null,"შეწონილი მნიშვნელობა"]
[null,17,"დაინტერესებული მხარის პოლიტიკური ინტერესი კონკრეტული თემის მიმართ ",null,null,null,null,null,{"$f":"IF(D51=\"x\",-2,0)","v":0},{"$f":"IF(E51=\"x\",-1,0)","v":0},{"$f":"IF(F51=\"x\",0,0)","v":0},{"$f":"IF(G51=\"x\",1,0)","v":0},{"$f":"IF(H51=\"x\",2,0)","v":0},null,{"$f":"O49*'1_COMMUNITY EVALUATION'!N31","v":0.25}]
[null,18,"დაინტერესებული მხარის სურვილი, ითანამშრომლოს ადგილობრივი ხელისუფლების ორგანოებთან",null,null,null,null,null,{"$f":"IF(D52=\"x\",-2,0)","v":0},{"$f":"IF(E52=\"x\",-1,0)","v":0},{"$f":"IF(F52=\"x\",0,0)","v":0},{"$f":"IF(G52=\"x\",1,0)","v":0},{"$f":"IF(H52=\"x\",2,0)","v":0}]
[null,19,"დაინტერესებული მხარის ინტერესი, ხმა მიაწვდინოს/მოიცვას ფართო საზოგადოება",null,null,null,null,null,{"$f":"IF(D53=\"x\",-2,0)","v":0},{"$f":"IF(E53=\"x\",-1,0)","v":0},{"$f":"IF(F53=\"x\",0,0)","v":0},{"$f":"IF(G53=\"x\",1,0)","v":0},{"$f":"IF(H53=\"x\",2,0)","v":0}]
[null,20,"დაინტერესებული მხარის სურვილი, გააზიაროს/გაზარდოს თავისი ინფორმირებულობა პოლიტიკის საკითხებზე",null,null,null,null,null,{"$f":"IF(D54=\"x\",-2,0)","v":0},{"$f":"IF(E54=\"x\",-1,0)","v":0},{"$f":"IF(F54=\"x\",0,0)","v":0},{"$f":"IF(G54=\"x\",1,0)","v":0},{"$f":"IF(H54=\"x\",2,0)","v":0}]
[null,null,"ინტერესის ქულა",null,null,null,null,null,null,null,null,null,null,null,{"$f":"IF(D2=\"\",\"\",(SUM(O51+O45+O39+O33)/4))","v":""}]

{"sheet":"STAKEHOLDER (19)","index":23,"n_rows":55,"n_cols":15,"rows_kept":55,"cut":false,"hidden":false,"merged":[[0,1,0,14],[1,3,1,14],[27,2,27,7],[54,2,54,7]]}
[null,"კონკრეტული თემის გათვალისწინებით, გთხოვთ, დაინტერესებული მხარე შეაფასოთ თითოეულ პუნქტთან მიმართებით (უაღრესად უარყოფითიდან უაღრესად დადებითამდე) და შესაბამის გრაფაში მონიშნოთ „x“. "]
[null,null,"დაინტერესებული მხარე -მიუთითეთ დასახელება"]
[null,null,"განზომილებები","უაღრესად უარყოფითი","უარყოფითი","არ არის რელევანტური","დადებითი","უაღრესად დადებითი",-2,-1,0,1,2,null,"ქულა თითოეულ განზომილებაში"]
[null,null,"(1)სოციალური კაპიტალი",null,null,null,null,null,null,null,null,null,null,{"$f":"SUM(I5:M9)","v":0},{"$f":"(((N4-(-10))*(1-0))/(10-(-10)))+0","v":0.5}]
[null,1,"დაინტერესებული მხარის შესაძლებლობა, ჩართოს სხვა დაინტერესებული მხარეები ",null,null,null,null,null,{"$f":"IF(D5=\"x\",-2,0)","v":0},{"$f":"IF(E5=\"x\",-1,0)","v":0},{"$f":"IF(F5=\"x\",0,0)","v":0},{"$f":"IF(G5=\"x\",1,0)","v":0},{"$f":"IF(H5=\"x\",2,0)","v":0},null,"შეწონილი მნიშვნელობა"]
[null,2,"კონკრეტული კატეგორიის აქტორთა წარმომადგენლობითი დონე (მრავალი სხვა მოქალაქის ინტერესების წარმოდგენა)",null,null,null,null,null,{"$f":"IF(D6=\"x\",-2,0)","v":0},{"$f":"IF(E6=\"x\",-1,0)","v":0},{"$f":"IF(F6=\"x\",0,0)","v":0},{"$f":"IF(G6=\"x\",1,0)","v":0},{"$f":"IF(H6=\"x\",2,0)","v":0},null,{"$f":"O4*'1_COMMUNITY EVALUATION'!N4","v":0.25}]
[null,3,"დაინტერესებული მხარის მონაწილეობის დონე ადგილობრივ სამოქალაქო აქტივობებში",null,null,null,null,null,{"$f":"IF(D7=\"x\",-2,0)","v":0},{"$f":"IF(E7=\"x\",-1,0)","v":0},{"$f":"IF(F7=\"x\",0,0)","v":0},{"$f":"IF(G7=\"x\",1,0)","v":0},{"$f":"IF(H7=\"x\",2,0)","v":0}]
[null,4,"დაინტერესებული მხარის შესაძლებლობა, დაიწყოს ცვლილების განხორციელება/გავლენა იქონიოს მასზე",null,null,null,null,null,{"$f":"IF(D8=\"x\",-2,0)","v":0},{"$f":"IF(E8=\"x\",-1,0)","v":0},{"$f":"IF(F8=\"x\",0,0)","v":0},{"$f":"IF(G8=\"x\",1,0)","v":0},{"$f":"IF(H8=\"x\",2,0)","v":0}]
[null,5,"მოქალაქეთა მიერ დაინტერესებული მხარის აღიარების დონე ",null,null,null,null,null,{"$f":"IF(D9=\"x\",-2,0)","v":0},{"$f":"IF(E9=\"x\",-1,0)","v":0},{"$f":"IF(F9=\"x\",0,0)","v":0},{"$f":"IF(G9=\"x\",1,0)","v":0},{"$f":"IF(H9=\"x\",2,0)","v":0}]
[null,null,"(2) ეკონომიკური კაპიტალი",null,null,null,null,null,null,null,null,null,null,{"$f":"SUM(I11:M15)","v":0},{"$f":"(((N10-(-10))*(1-0))/(10-(-10)))+0","v":0.5}]
[null,6,"დაინტერესებული მხარის შესაძლებლობა, შეასრულოს დონორის ფუნქცია",null,null,null,null,null,{"$f":"IF(D11=\"x\",-2,0)","v":0},{"$f":"IF(E11=\"x\",-1,0)","v":0},{"$f":"IF(F11=\"x\",0,0)","v":0},{"$f":"IF(G11=\"x\",1,0)","v":0},{"$f":"IF(H11=\"x\",2,0)","v":0},null,"შეწონილი მნიშვნელობა"]
[null,7,"დაინტერესებული მხარის შესაძლებლობა, გავლენა მოახდინოს რესურსების განაწილებაზე ",null,null,null,null,null,{"$f":"IF(D12=\"x\",-2,0)","v":0},{"$f":"IF(E12=\"x\",-1,0)","v":0},{"$f":"IF(F12=\"x\",0,0)","v":0},{"$f":"IF(G12=\"x\",1,0)","v":0},{"$f":"IF(H12=\"x\",2,0)","v":0},null,{"$f":"O10*'1_COMMUNITY EVALUATION'!N13","v":0.25}]
[null,8,"ინტერესებული მხარის შესაძლებლობა, ხელი შეუწყოს წვდომას არსებულ ან დამატებით (გარე) რესურსებზე ",null,null,null,null,null,{"$f":"IF(D13=\"x\",-2,0)","v":0},{"$f":"IF(E13=\"x\",-1,0)","v":0},{"$f":"IF(F13=\"x\",0,0)","v":0},{"$f":"IF(G13=\"x\",1,0)","v":0},{"$f":"IF(H13=\"x\",2,0)","v":0}]
[null,9,"დაინტერესებული მხარის შესაძლებლობა არამატერიალური მხარდაჭერის გასაწევად ",null,null,null,null,null,{"$f":"IF(D14=\"x\",-2,0)","v":0},{"$f":"IF(E14=\"x\",-1,0)","v":0},{"$f":"IF(F14=\"x\",0,0)","v":0},{"$f":"IF(G14=\"x\",1,0)","v":0},{"$f":"IF(H14=\"x\",2,0)","v":0}]
[null,10,"დაინტერესებული მხარის გავლენა შრომის ბაზარზე",null,null,null,null,null,{"$f":"IF(D15=\"x\",-2,0)","v":0},{"$f":"IF(E15=\"x\",-1,0)","v":0},{"$f":"IF(F15=\"x\",0,0)","v":0},{"$f":"IF(G15=\"x\",1,0)","v":0},{"$f":"IF(H15=\"x\",2,0)","v":0}]
[null,null,"(3) ადამიანური კაპიტალი",null,null,null,null,null,null,null,null,null,null,{"$f":"SUM(I17:M21)","v":0},{"$f":"(((N16-(-10))*(1-0))/(10-(-10)))+0","v":0.5}]
[null,11,"დაინტერესებული მხარის ცოდნა/უნარები კონკრეტულ თემასთან მიმართებით",null,null,null,null,null,{"$f":"IF(D17=\"x\",-2,0)","v":0},{"$f":"IF(E17=\"x\",-1,0)","v":0},{"$f":"IF(F17=\"x\",0,0)","v":0},{"$f":"IF(G17=\"x\",1,0)","v":0},{"$f":"IF(H17=\"x\",2,0)","v":0},null,"შეწონილი მნიშვნელობა"]
[null,12,"დაინტერესებული მხარის ინფორმირებულობა კონკრეტულ თემაზე",null,null,null,null,null,{"$f":"IF(D18=\"x\",-2,0)","v":0},{"$f":"IF(E18=\"x\",-1,0)","v":0},{"$f":"IF(F18=\"x\",0,0)","v":0},{"$f":"IF(G18=\"x\",1,0)","v":0},{"$f":"IF(H18=\"x\",2,0)","v":0},null,{"$f":"O16*'1_COMMUNITY EVALUATION'!N22","v":0.25}]
[null,13,"დაინტერესებული მხარის შესაძლებლობა, ჩაერთოს საზოგადოებრივ დებატებში",null,null,null,null,null,{"$f":"IF(D19=\"x\",-2,0)","v":0},{"$f":"IF(E19=\"x\",-1,0)","v":0},{"$f":"IF(F19=\"x\",0,0)","v":0},{"$f":"IF(G19=\"x\",1,0)","v":0},{"$f":"IF(H19=\"x\",2,0)","v":0}]
[null,14,"დაინტერესებული მხარის შესაძლებლობა, კომუნიკაცია დაამყაროს სხვადასხვა მედიასაშუალების გამოყენებით ",null,null,null,null,null,{"$f":"IF(D20=\"x\",-2,0)","v":0},{"$f":"IF(E20=\"x\",-1,0)","v":0},{"$f":"IF(F20=\"x\",0,0)","v":0},{"$f":"IF(G20=\"x\",1,0)","v":0},{"$f":"IF(H20=\"x\",2,0)","v":0}]
[null,15,"დაინტერესებული მხარის ხელმისაწვდომობა საჯარო სივრცეებზე",null,null,null,null,null,{"$f":"IF(D21=\"x\",-2,0)","v":0},{"$f":"IF(E21=\"x\",-1,0)","v":0},{"$f":"IF(F21=\"x\",0,0)","v":0},{"$f":"IF(G21=\"x\",1,0)","v":0},{"$f":"IF(H21=\"x\",2,0)","v":0}]
[null,null,"(4) პოლიტიკური კაპიტალი",null,null,null,null,null,null,null,null,null,null,{"$f":"SUM(I23:M27)","v":0},{"$f":"(((N22-(-10))*(1-0))/(10-(-10)))+0","v":0.5}]
[null,16,"ადგილობრივი ადმინისტრაციის ნდობა დაინტერესებული მხარის მიმართ",null,null,null,null,null,{"$f":"IF(D23=\"x\",-2,0)","v":0},{"$f":"IF(E23=\"x\",-1,0)","v":0},{"$f":"IF(F23=\"x\",0,0)","v":0},{"$f":"IF(G23=\"x\",1,0)","v":0},{"$f":"IF(H23=\"x\",2,0)","v":0},null,"შეწონილი მნიშვნელობა"]
[null,17,"დაინტერესებული მხარის შესაძლებლობა, ჩართოს სხვა პოლიტიკური აქტორები",null,null,null,null,null,{"$f":"IF(D24=\"x\",-2,0)","v":0},{"$f":"IF(E24=\"x\",-1,0)","v":0},{"$f":"IF(F24=\"x\",0,0)","v":0},{"$f":"IF(G24=\"x\",1,0)","v":0},{"$f":"IF(H24=\"x\",2,0)","v":0},null,{"$f":"O22*'1_COMMUNITY EVALUATION'!N31","v":0.25}]
[null,18,"დაინტერესებული მხარის შესაძლებლობა, ითანამშრომლოს ადგილობრივი ხელისუფლების ორგანოებთან/სხვა დაინტერესებულ მხარეებთან ",null,null,null,null,null,{"$f":"IF(D25=\"x\",-2,0)","v":0},{"$f":"IF(E25=\"x\",-1,0)","v":0},{"$f":"IF(F25=\"x\",0,0)","v":0},{"$f":"IF(G25=\"x\",1,0)","v":0},{"$f":"IF(H25=\"x\",2,0)","v":0}]
[null,19,"დაინტერესებული მხარის შესაძლებლობა, გავლენა იქონიოს საზოგადოებრივ აზრზე ",null,null,null,null,null,{"$f":"IF(D26=\"x\",-2,0)","v":0},{"$f":"IF(E26=\"x\",-1,0)","v":0},{"$f":"IF(F26=\"x\",0,0)","v":0},{"$f":"IF(G26=\"x\",1,0)","v":0},{"$f":"IF(H26=\"x\",2,0)","v":0}]
[null,20,"დაინტერესებული მხარის ინფორმირებულობა პოლიტიკის საკითხებზე",null,null,null,null,null,{"$f":"IF(D27=\"x\",-2,0)","v":0},{"$f":"IF(E27=\"x\",-1,0)","v":0},{"$f":"IF(F27=\"x\",0,0)","v":0},{"$f":"IF(G27=\"x\",1,0)","v":0},{"$f":"IF(H27=\"x\",2,0)","v":0}]
[null,null,"რელევანტურობის ქულა",null,null,null,null,null,null,null,null,null,null,null,{"$f":"IF(D2=\"\",\"\",(SUM(O24+O18+O12+O6)/4))","v":""}]
[]
[null,null,"განზომილებები","უარრესად უარყოფითი","უარყოფითი","არ არის რელევანტური","დადებითი","უაღრესად დადებითი",-2,-1,0,1,2,null,"ქულა თითოეულ განზომილებაში"]
[null,null,"(1) სოციალური კაპიტალი",null,null,null,null,null,null,null,null,null,null,{"$f":"SUM(I32:M36)","v":0},{"$f":"(((N31-(-10))*(1-0))/(10-(-10)))+0","v":0.5}]
[null,1,"დაინტერესებული მხარის ინტერესი, დაამყაროს კონტაქტები კონკრეტულ თემასთან დაკავშირებით",null,null,null,null,null,{"$f":"IF(D32=\"x\",-2,0)","v":0},{"$f":"IF(E32=\"x\",-1,0)","v":0},{"$f":"IF(F32=\"x\",0,0)","v":0},{"$f":"IF(G32=\"x\",1,0)","v":0},{"$f":"IF(H32=\"x\",2,0)","v":0},null,"შეწონილი მნიშვნელობა"]
[null,2,"დაინტერესებული მხარის ინტერესი, უზრუნველყოს კონკრეტული კატეგორიის აქტორთა წარმომადგენლობა თემასთან მიმართებით",null,null,null,null,null,{"$f":"IF(D33=\"x\",-2,0)","v":0},{"$f":"IF(E33=\"x\",-1,0)","v":0},{"$f":"IF(F33=\"x\",0,0)","v":0},{"$f":"IF(G33=\"x\",1,0)","v":0},{"$f":"IF(H33=\"x\",2,0)","v":0},null,{"$f":"O31*'1_COMMUNITY EVALUATION'!N4","v":0.25}]
[null,3,"დაინტერესებული მხარის ინტერესი, ჩაერთოს  ადგილობრივ სამოქალაქო აქტივობებში თემასთან მიმართებით",null,null,null,null,null,{"$f":"IF(D34=\"x\",-2,0)","v":0},{"$f":"IF(E34=\"x\",-1,0)","v":0},{"$f":"IF(F34=\"x\",0,0)","v":0},{"$f":"IF(G34=\"x\",1,0)","v":0},{"$f":"IF(H34=\"x\",2,0)","v":0}]
[null,4,"დაინტერესებული მხარის ინტერესი, დაიწყოს ცვლილების განხორციელება/გავლენა იქონიოს მასზე      ",null,null,null,null,null,{"$f":"IF(D35=\"x\",-2,0)","v":0},{"$f":"IF(E35=\"x\",-1,0)","v":0},{"$f":"IF(F35=\"x\",0,0)","v":0},{"$f":"IF(G35=\"x\",1,0)","v":0},{"$f":"IF(H35=\"x\",2,0)","v":0}]
[null,5,"დაინტერესებული მხარის ინტერესი, გაზარდოს მისი აღიარება მოქალაქეთა მხრიდან",null,null,null,null,null,{"$f":"IF(D36=\"x\",-2,0)","v":0},{"$f":"IF(E36=\"x\",-1,0)","v":0},{"$f":"IF(F36=\"x\",0,0)","v":0},{"$f":"IF(G36=\"x\",1,0)","v":0},{"$f":"IF(H36=\"x\",2,0)","v":0}]
[null,null,"(2) ეკონომიკური კაპიტალი",null,null,null,null,null,null,null,null,null,null,{"$f":"SUM(I38:M42)","v":0},{"$f":"(((N37-(-10))*(1-0))/(10-(-10)))+0","v":0.5}]
[null,6,"დაინტერესებული მხარის პოტენციური ეკონომიკური სარგებელი",null,null,null,null,null,{"$f":"IF(D38=\"x\",-2,0)","v":0},{"$f":"IF(E38=\"x\",-1,0)","v":0},{"$f":"IF(F38=\"x\",0,0)","v":0},{"$f":"IF(G38=\"x\",1,0)","v":0},{"$f":"IF(H38=\"x\",2,0)","v":0},null,"შეწონილი მნიშვნელობა"]
[null,7,"დაინტერესებული მხარის სურვილი, თავი მოუყაროს რესურსებს",null,null,null,null,null,{"$f":"IF(D39=\"x\",-2,0)","v":0},{"$f":"IF(E39=\"x\",-1,0)","v":0},{"$f":"IF(F39=\"x\",0,0)","v":0},{"$f":"IF(G39=\"x\",1,0)","v":0},{"$f":"IF(H39=\"x\",2,0)","v":0},null,{"$f":"O37*'1_COMMUNITY EVALUATION'!N13","v":0.25}]
[null,8,"დაინტერესებული მხარის სურვილი, ხელი შეუწყოს წვდომას არსებულ ან დამატებით(გარე) რესურსებზე      ",null,null,null,null,null,{"$f":"IF(D40=\"x\",-2,0)","v":0},{"$f":"IF(E40=\"x\",-1,0)","v":0},{"$f":"IF(F40=\"x\",0,0)","v":0},{"$f":"IF(G40=\"x\",1,0)","v":0},{"$f":"IF(H40=\"x\",2,0)","v":0}]
[null,9,"დაინტერესებული მხარის მზაობა არამატერიალური მხარდაჭერის გასაწევადt",null,null,null,null,null,{"$f":"IF(D41=\"x\",-2,0)","v":0},{"$f":"IF(E41=\"x\",-1,0)","v":0},{"$f":"IF(F41=\"x\",0,0)","v":0},{"$f":"IF(G41=\"x\",1,0)","v":0},{"$f":"IF(H41=\"x\",2,0)","v":0}]
[null,10,"დაინტერესებული მხარის ინტერესი, გაზარდოს თავისი გავლენა შრომის ბაზარზე",null,null,null,null,null,{"$f":"IF(D42=\"x\",-2,0)","v":0},{"$f":"IF(E42=\"x\",-1,0)","v":0},{"$f":"IF(F42=\"x\",0,0)","v":0},{"$f":"IF(G42=\"x\",1,0)","v":0},{"$f":"IF(H42=\"x\",2,0)","v":0}]
[null,null,"(3) ადამიანური კაპიტალი",null,null,null,null,null,null,null,null,null,null,{"$f":"SUM(I44:M48)","v":0},{"$f":"(((N43-(-10))*(1-0))/(10-(-10)))+0","v":0.5}]
[null,11,"დაინტერესებული მხარის ინტერესი, გააზიაროს/გააუმჯობესოს თავისი ცოდნა/უნარები  კონკრეტულ თემასთან მიმართებით",null,null,null,null,null,{"$f":"IF(D44=\"x\",-2,0)","v":0},{"$f":"IF(E44=\"x\",-1,0)","v":0},{"$f":"IF(F44=\"x\",0,0)","v":0},{"$f":"IF(G44=\"x\",1,0)","v":0},{"$f":"IF(H44=\"x\",2,0)","v":0},null,"შეწონილი მნიშვნელობა"]
[null,12,"დაინტერესებული მხარის სურვილი გააზიაროს/გაზარდოს საკუთარი ინფორმირებულობა კონკრეტულ თემაზე",null,null,null,null,null,{"$f":"IF(D45=\"x\",-2,0)","v":0},{"$f":"IF(E45=\"x\",-1,0)","v":0},{"$f":"IF(F45=\"x\",0,0)","v":0},{"$f":"IF(G45=\"x\",1,0)","v":0},{"$f":"IF(H45=\"x\",2,0)","v":0},null,{"$f":"O43*'1_COMMUNITY EVALUATION'!N22","v":0.25}]
[null,13,"დაინტერესებული მხარის სურვილი, ჩაერთოს საზოგადოებრივ დებატებში",null,null,null,null,null,{"$f":"IF(D46=\"x\",-2,0)","v":0},{"$f":"IF(E46=\"x\",-1,0)","v":0},{"$f":"IF(F46=\"x\",0,0)","v":0},{"$f":"IF(G46=\"x\",1,0)","v":0},{"$f":"IF(H46=\"x\",2,0)","v":0}]
[null,14,"დაინტერესებული მხარის სურვილი, კომუნიკაცია დაამყაროს სხვადასხვა მედიასაშუალების გამოყენებით",null,null,null,null,null,{"$f":"IF(D47=\"x\",-2,0)","v":0},{"$f":"IF(E47=\"x\",-1,0)","v":0},{"$f":"IF(F47=\"x\",0,0)","v":0},{"$f":"IF(G47=\"x\",1,0)","v":0},{"$f":"IF(H47=\"x\",2,0)","v":0}]
[null,15,"დაინტერესებული მხარის სურვილი, ჰქონდეს წვდომა საჯარო სივრცეებზე",null,null,null,null,null,{"$f":"IF(D48=\"x\",-2,0)","v":0},{"$f":"IF(E48=\"x\",-1,0)","v":0},{"$f":"IF(F48=\"x\",0,0)","v":0},{"$f":"IF(G48=\"x\",1,0)","v":0},{"$f":"IF(H48=\"x\",2,0)","v":0}]
[null,null,"(3) ადამიანური კაპიტალი",null,null,null,null,null,null,null,null,null,null,{"$f":"SUM(I50:M54)","v":0},{"$f":"(((N49-(-10))*(1-0))/(10-(-10)))+0","v":0.5}]
[null,16,"დაინტერესებული მხარის ნდობა ადგილობრივი ადმინისტრაციის მიმართ",null,null,null,null,null,{"$f":"IF(D50=\"x\",-2,0)","v":0},{"$f":"IF(E50=\"x\",-1,0)","v":0},{"$f":"IF(F50=\"x\",0,0)","v":0},{"$f":"IF(G50=\"x\",1,0)","v":0},{"$f":"IF(H50=\"x\",2,0)","v":0},null,"შეწონილი მნიშვნელობა"]
[null,17,"დაინტერესებული მხარის პოლიტიკური ინტერესი კონკრეტული თემის მიმართ ",null,null,null,null,null,{"$f":"IF(D51=\"x\",-2,0)","v":0},{"$f":"IF(E51=\"x\",-1,0)","v":0},{"$f":"IF(F51=\"x\",0,0)","v":0},{"$f":"IF(G51=\"x\",1,0)","v":0},{"$f":"IF(H51=\"x\",2,0)","v":0},null,{"$f":"O49*'1_COMMUNITY EVALUATION'!N31","v":0.25}]
[null,18,"დაინტერესებული მხარის სურვილი, ითანამშრომლოს ადგილობრივი ხელისუფლების ორგანოებთან",null,null,null,null,null,{"$f":"IF(D52=\"x\",-2,0)","v":0},{"$f":"IF(E52=\"x\",-1,0)","v":0},{"$f":"IF(F52=\"x\",0,0)","v":0},{"$f":"IF(G52=\"x\",1,0)","v":0},{"$f":"IF(H52=\"x\",2,0)","v":0}]
[null,19,"დაინტერესებული მხარის ინტერესი, ხმა მიაწვდინოს/მოიცვას ფართო საზოგადოება",null,null,null,null,null,{"$f":"IF(D53=\"x\",-2,0)","v":0},{"$f":"IF(E53=\"x\",-1,0)","v":0},{"$f":"IF(F53=\"x\",0,0)","v":0},{"$f":"IF(G53=\"x\",1,0)","v":0},{"$f":"IF(H53=\"x\",2,0)","v":0}]
[null,20,"დაინტერესებული მხარის სურვილი, გააზიაროს/გაზარდოს თავისი ინფორმირებულობა პოლიტიკის საკითხებზე",null,null,null,null,null,{"$f":"IF(D54=\"x\",-2,0)","v":0},{"$f":"IF(E54=\"x\",-1,0)","v":0},{"$f":"IF(F54=\"x\",0,0)","v":0},{"$f":"IF(G54=\"x\",1,0)","v":0},{"$f":"IF(H54=\"x\",2,0)","v":0}]
[null,null,"ინტერესის ქულა",null,null,null,null,null,null,null,null,null,null,null,{"$f":"IF(D2=\"\",\"\",(SUM(O51+O45+O39+O33)/4))","v":""}]

{"sheet":"STAKEHOLDER (20)","index":24,"n_rows":55,"n_cols":15,"rows_kept":55,"cut":false,"hidden":false,"merged":[[0,1,0,14],[1,3,1,14],[27,2,27,7],[54,2,54,7]]}
[null,"კონკრეტული თემის გათვალისწინებით, გთხოვთ, დაინტერესებული მხარე შეაფასოთ თითოეულ პუნქტთან მიმართებით (უაღრესად უარყოფითიდან უაღრესად დადებითამდე) და შესაბამის გრაფაში მონიშნოთ „x“. "]
[null,null,"დაინტერესებული მხარე -მიუთითეთ დასახელება"]
[null,null,"განზომილებები","უაღრესად უარყოფითი","უარყოფითი","არ არის რელევანტური","დადებითი","უაღრესად დადებითი",-2,-1,0,1,2,null,"ქულა თითოეულ განზომილებაში"]
[null,null,"(1)სოციალური კაპიტალი",null,null,null,null,null,null,null,null,null,null,{"$f":"SUM(I5:M9)","v":0},{"$f":"(((N4-(-10))*(1-0))/(10-(-10)))+0","v":0.5}]
[null,1,"დაინტერესებული მხარის შესაძლებლობა, ჩართოს სხვა დაინტერესებული მხარეები ",null,null,null,null,null,{"$f":"IF(D5=\"x\",-2,0)","v":0},{"$f":"IF(E5=\"x\",-1,0)","v":0},{"$f":"IF(F5=\"x\",0,0)","v":0},{"$f":"IF(G5=\"x\",1,0)","v":0},{"$f":"IF(H5=\"x\",2,0)","v":0},null,"შეწონილი მნიშვნელობა"]
[null,2,"კონკრეტული კატეგორიის აქტორთა წარმომადგენლობითი დონე (მრავალი სხვა მოქალაქის ინტერესების წარმოდგენა)",null,null,null,null,null,{"$f":"IF(D6=\"x\",-2,0)","v":0},{"$f":"IF(E6=\"x\",-1,0)","v":0},{"$f":"IF(F6=\"x\",0,0)","v":0},{"$f":"IF(G6=\"x\",1,0)","v":0},{"$f":"IF(H6=\"x\",2,0)","v":0},null,{"$f":"O4*'1_COMMUNITY EVALUATION'!N4","v":0.25}]
[null,3,"დაინტერესებული მხარის მონაწილეობის დონე ადგილობრივ სამოქალაქო აქტივობებში",null,null,null,null,null,{"$f":"IF(D7=\"x\",-2,0)","v":0},{"$f":"IF(E7=\"x\",-1,0)","v":0},{"$f":"IF(F7=\"x\",0,0)","v":0},{"$f":"IF(G7=\"x\",1,0)","v":0},{"$f":"IF(H7=\"x\",2,0)","v":0}]
[null,4,"დაინტერესებული მხარის შესაძლებლობა, დაიწყოს ცვლილების განხორციელება/გავლენა იქონიოს მასზე",null,null,null,null,null,{"$f":"IF(D8=\"x\",-2,0)","v":0},{"$f":"IF(E8=\"x\",-1,0)","v":0},{"$f":"IF(F8=\"x\",0,0)","v":0},{"$f":"IF(G8=\"x\",1,0)","v":0},{"$f":"IF(H8=\"x\",2,0)","v":0}]
[null,5,"მოქალაქეთა მიერ დაინტერესებული მხარის აღიარების დონე ",null,null,null,null,null,{"$f":"IF(D9=\"x\",-2,0)","v":0},{"$f":"IF(E9=\"x\",-1,0)","v":0},{"$f":"IF(F9=\"x\",0,0)","v":0},{"$f":"IF(G9=\"x\",1,0)","v":0},{"$f":"IF(H9=\"x\",2,0)","v":0}]
[null,null,"(2) ეკონომიკური კაპიტალი",null,null,null,null,null,null,null,null,null,null,{"$f":"SUM(I11:M15)","v":0},{"$f":"(((N10-(-10))*(1-0))/(10-(-10)))+0","v":0.5}]
[null,6,"დაინტერესებული მხარის შესაძლებლობა, შეასრულოს დონორის ფუნქცია",null,null,null,null,null,{"$f":"IF(D11=\"x\",-2,0)","v":0},{"$f":"IF(E11=\"x\",-1,0)","v":0},{"$f":"IF(F11=\"x\",0,0)","v":0},{"$f":"IF(G11=\"x\",1,0)","v":0},{"$f":"IF(H11=\"x\",2,0)","v":0},null,"შეწონილი მნიშვნელობა"]
[null,7,"დაინტერესებული მხარის შესაძლებლობა, გავლენა მოახდინოს რესურსების განაწილებაზე ",null,null,null,null,null,{"$f":"IF(D12=\"x\",-2,0)","v":0},{"$f":"IF(E12=\"x\",-1,0)","v":0},{"$f":"IF(F12=\"x\",0,0)","v":0},{"$f":"IF(G12=\"x\",1,0)","v":0},{"$f":"IF(H12=\"x\",2,0)","v":0},null,{"$f":"O10*'1_COMMUNITY EVALUATION'!N13","v":0.25}]
[null,8,"ინტერესებული მხარის შესაძლებლობა, ხელი შეუწყოს წვდომას არსებულ ან დამატებით (გარე) რესურსებზე ",null,null,null,null,null,{"$f":"IF(D13=\"x\",-2,0)","v":0},{"$f":"IF(E13=\"x\",-1,0)","v":0},{"$f":"IF(F13=\"x\",0,0)","v":0},{"$f":"IF(G13=\"x\",1,0)","v":0},{"$f":"IF(H13=\"x\",2,0)","v":0}]
[null,9,"დაინტერესებული მხარის შესაძლებლობა არამატერიალური მხარდაჭერის გასაწევად ",null,null,null,null,null,{"$f":"IF(D14=\"x\",-2,0)","v":0},{"$f":"IF(E14=\"x\",-1,0)","v":0},{"$f":"IF(F14=\"x\",0,0)","v":0},{"$f":"IF(G14=\"x\",1,0)","v":0},{"$f":"IF(H14=\"x\",2,0)","v":0}]
[null,10,"დაინტერესებული მხარის გავლენა შრომის ბაზარზე",null,null,null,null,null,{"$f":"IF(D15=\"x\",-2,0)","v":0},{"$f":"IF(E15=\"x\",-1,0)","v":0},{"$f":"IF(F15=\"x\",0,0)","v":0},{"$f":"IF(G15=\"x\",1,0)","v":0},{"$f":"IF(H15=\"x\",2,0)","v":0}]
[null,null,"(3) ადამიანური კაპიტალი",null,null,null,null,null,null,null,null,null,null,{"$f":"SUM(I17:M21)","v":0},{"$f":"(((N16-(-10))*(1-0))/(10-(-10)))+0","v":0.5}]
[null,11,"დაინტერესებული მხარის ცოდნა/უნარები კონკრეტულ თემასთან მიმართებით",null,null,null,null,null,{"$f":"IF(D17=\"x\",-2,0)","v":0},{"$f":"IF(E17=\"x\",-1,0)","v":0},{"$f":"IF(F17=\"x\",0,0)","v":0},{"$f":"IF(G17=\"x\",1,0)","v":0},{"$f":"IF(H17=\"x\",2,0)","v":0},null,"შეწონილი მნიშვნელობა"]
[null,12,"დაინტერესებული მხარის ინფორმირებულობა კონკრეტულ თემაზე",null,null,null,null,null,{"$f":"IF(D18=\"x\",-2,0)","v":0},{"$f":"IF(E18=\"x\",-1,0)","v":0},{"$f":"IF(F18=\"x\",0,0)","v":0},{"$f":"IF(G18=\"x\",1,0)","v":0},{"$f":"IF(H18=\"x\",2,0)","v":0},null,{"$f":"O16*'1_COMMUNITY EVALUATION'!N22","v":0.25}]
[null,13,"დაინტერესებული მხარის შესაძლებლობა, ჩაერთოს საზოგადოებრივ დებატებში",null,null,null,null,null,{"$f":"IF(D19=\"x\",-2,0)","v":0},{"$f":"IF(E19=\"x\",-1,0)","v":0},{"$f":"IF(F19=\"x\",0,0)","v":0},{"$f":"IF(G19=\"x\",1,0)","v":0},{"$f":"IF(H19=\"x\",2,0)","v":0}]
[null,14,"დაინტერესებული მხარის შესაძლებლობა, კომუნიკაცია დაამყაროს სხვადასხვა მედიასაშუალების გამოყენებით ",null,null,null,null,null,{"$f":"IF(D20=\"x\",-2,0)","v":0},{"$f":"IF(E20=\"x\",-1,0)","v":0},{"$f":"IF(F20=\"x\",0,0)","v":0},{"$f":"IF(G20=\"x\",1,0)","v":0},{"$f":"IF(H20=\"x\",2,0)","v":0}]
[null,15,"დაინტერესებული მხარის ხელმისაწვდომობა საჯარო სივრცეებზე  ",null,null,null,null,null,{"$f":"IF(D21=\"x\",-2,0)","v":0},{"$f":"IF(E21=\"x\",-1,0)","v":0},{"$f":"IF(F21=\"x\",0,0)","v":0},{"$f":"IF(G21=\"x\",1,0)","v":0},{"$f":"IF(H21=\"x\",2,0)","v":0}]
[null,null,"(4) პოლიტიკური კაპიტალი",null,null,null,null,null,null,null,null,null,null,{"$f":"SUM(I23:M27)","v":0},{"$f":"(((N22-(-10))*(1-0))/(10-(-10)))+0","v":0.5}]
[null,16,"ადგილობრივი ადმინისტრაციის ნდობა დაინტერესებული მხარის მიმართ",null,null,null,null,null,{"$f":"IF(D23=\"x\",-2,0)","v":0},{"$f":"IF(E23=\"x\",-1,0)","v":0},{"$f":"IF(F23=\"x\",0,0)","v":0},{"$f":"IF(G23=\"x\",1,0)","v":0},{"$f":"IF(H23=\"x\",2,0)","v":0},null,"შეწონილი მნიშვნელობა"]
[null,17,"დაინტერესებული მხარის შესაძლებლობა, ჩართოს სხვა პოლიტიკური აქტორები",null,null,null,null,null,{"$f":"IF(D24=\"x\",-2,0)","v":0},{"$f":"IF(E24=\"x\",-1,0)","v":0},{"$f":"IF(F24=\"x\",0,0)","v":0},{"$f":"IF(G24=\"x\",1,0)","v":0},{"$f":"IF(H24=\"x\",2,0)","v":0},null,{"$f":"O22*'1_COMMUNITY EVALUATION'!N31","v":0.25}]
[null,18,"დაინტერესებული მხარის შესაძლებლობა, ითანამშრომლოს ადგილობრივი ხელისუფლების ორგანოებთან/სხვა დაინტერესებულ მხარეებთან ",null,null,null,null,null,{"$f":"IF(D25=\"x\",-2,0)","v":0},{"$f":"IF(E25=\"x\",-1,0)","v":0},{"$f":"IF(F25=\"x\",0,0)","v":0},{"$f":"IF(G25=\"x\",1,0)","v":0},{"$f":"IF(H25=\"x\",2,0)","v":0}]
[null,19,"დაინტერესებული მხარის შესაძლებლობა, გავლენა იქონიოს საზოგადოებრივ აზრზე ",null,null,null,null,null,{"$f":"IF(D26=\"x\",-2,0)","v":0},{"$f":"IF(E26=\"x\",-1,0)","v":0},{"$f":"IF(F26=\"x\",0,0)","v":0},{"$f":"IF(G26=\"x\",1,0)","v":0},{"$f":"IF(H26=\"x\",2,0)","v":0}]
[null,20,"დაინტერესებული მხარის ინფორმირებულობა პოლიტიკის საკითხებზე",null,null,null,null,null,{"$f":"IF(D27=\"x\",-2,0)","v":0},{"$f":"IF(E27=\"x\",-1,0)","v":0},{"$f":"IF(F27=\"x\",0,0)","v":0},{"$f":"IF(G27=\"x\",1,0)","v":0},{"$f":"IF(H27=\"x\",2,0)","v":0}]
[null,null,"რელევანტურობის ქულა",null,null,null,null,null,null,null,null,null,null,null,{"$f":"IF(D2=\"\",\"\",(SUM(O24+O18+O12+O6)/4))","v":""}]
[]
[null,null,"განზომილებები","უა\\რრესად უარყოფითი","უარყოფითი","არ არის რელევანტური","დადებითი","უაღრესად დადებითი",-2,-1,0,1,2,null,"ქულა თითოეულ განზომილებაში"]
[null,null,"(1)სოციალური კაპიტალი",null,null,null,null,null,null,null,null,null,null,{"$f":"SUM(I32:M36)","v":0},{"$f":"(((N31-(-10))*(1-0))/(10-(-10)))+0","v":0.5}]
[null,1,"დაინტერესებული მხარის ინტერესი, დაამყაროს კონტაქტები კონკრეტულ თემასთან დაკავშირებით",null,null,null,null,null,{"$f":"IF(D32=\"x\",-2,0)","v":0},{"$f":"IF(E32=\"x\",-1,0)","v":0},{"$f":"IF(F32=\"x\",0,0)","v":0},{"$f":"IF(G32=\"x\",1,0)","v":0},{"$f":"IF(H32=\"x\",2,0)","v":0},null,"შეწონილი მნიშვნელობა"]
[null,2,"დაინტერესებული მხარის ინტერესი, უზრუნველყოს კონკრეტული კატეგორიის აქტორთა წარმომადგენლობა თემასთან მიმართებით",null,null,null,null,null,{"$f":"IF(D33=\"x\",-2,0)","v":0},{"$f":"IF(E33=\"x\",-1,0)","v":0},{"$f":"IF(F33=\"x\",0,0)","v":0},{"$f":"IF(G33=\"x\",1,0)","v":0},{"$f":"IF(H33=\"x\",2,0)","v":0},null,{"$f":"O31*'1_COMMUNITY EVALUATION'!N4","v":0.25}]
[null,3,"დაინტერესებული მხარის ინტერესი, ჩაერთოს  ადგილობრივ სამოქალაქო აქტივობებში თემასთან მიმართებით",null,null,null,null,null,{"$f":"IF(D34=\"x\",-2,0)","v":0},{"$f":"IF(E34=\"x\",-1,0)","v":0},{"$f":"IF(F34=\"x\",0,0)","v":0},{"$f":"IF(G34=\"x\",1,0)","v":0},{"$f":"IF(H34=\"x\",2,0)","v":0}]
[null,4,"დაინტერესებული მხარის ინტერესი, დაიწყოს ცვლილების განხორციელება/გავლენა იქონიოს მასზე      ",null,null,null,null,null,{"$f":"IF(D35=\"x\",-2,0)","v":0},{"$f":"IF(E35=\"x\",-1,0)","v":0},{"$f":"IF(F35=\"x\",0,0)","v":0},{"$f":"IF(G35=\"x\",1,0)","v":0},{"$f":"IF(H35=\"x\",2,0)","v":0}]
[null,5,"დაინტერესებული მხარის ინტერესი, გაზარდოს მისი აღიარება მოქალაქეთა მხრიდან",null,null,null,null,null,{"$f":"IF(D36=\"x\",-2,0)","v":0},{"$f":"IF(E36=\"x\",-1,0)","v":0},{"$f":"IF(F36=\"x\",0,0)","v":0},{"$f":"IF(G36=\"x\",1,0)","v":0},{"$f":"IF(H36=\"x\",2,0)","v":0}]
[null,null,"(2) ეკონომიკური კაპიტალი",null,null,null,null,null,null,null,null,null,null,{"$f":"SUM(I38:M42)","v":0},{"$f":"(((N37-(-10))*(1-0))/(10-(-10)))+0","v":0.5}]
[null,6,"დაინტერესებული მხარის პოტენციური ეკონომიკური სარგებელი",null,null,null,null,null,{"$f":"IF(D38=\"x\",-2,0)","v":0},{"$f":"IF(E38=\"x\",-1,0)","v":0},{"$f":"IF(F38=\"x\",0,0)","v":0},{"$f":"IF(G38=\"x\",1,0)","v":0},{"$f":"IF(H38=\"x\",2,0)","v":0},null,"შეწონილი მნიშვნელობა"]
[null,7,"დაინტერესებული მხარის სურვილი, თავი მოუყაროს რესურსებს",null,null,null,null,null,{"$f":"IF(D39=\"x\",-2,0)","v":0},{"$f":"IF(E39=\"x\",-1,0)","v":0},{"$f":"IF(F39=\"x\",0,0)","v":0},{"$f":"IF(G39=\"x\",1,0)","v":0},{"$f":"IF(H39=\"x\",2,0)","v":0},null,{"$f":"O37*'1_COMMUNITY EVALUATION'!N13","v":0.25}]
[null,8,"დაინტერესებული მხარის სურვილი, ხელი შეუწყოს წვდომას არსებულ ან დამატებით(გარე) რესურსებზე      ",null,null,null,null,null,{"$f":"IF(D40=\"x\",-2,0)","v":0},{"$f":"IF(E40=\"x\",-1,0)","v":0},{"$f":"IF(F40=\"x\",0,0)","v":0},{"$f":"IF(G40=\"x\",1,0)","v":0},{"$f":"IF(H40=\"x\",2,0)","v":0}]
[null,9,"დაინტერესებული მხარის მზაობა არამატერიალური მხარდაჭერის გასაწევად",null,null,null,null,null,{"$f":"IF(D41=\"x\",-2,0)","v":0},{"$f":"IF(E41=\"x\",-1,0)","v":0},{"$f":"IF(F41=\"x\",0,0)","v":0},{"$f":"IF(G41=\"x\",1,0)","v":0},{"$f":"IF(H41=\"x\",2,0)","v":0}]
[null,10,"დაინტერესებული მხარის ინტერესი, გაზარდოს თავისი გავლენა შრომის ბაზარზე",null,null,null,null,null,{"$f":"IF(D42=\"x\",-2,0)","v":0},{"$f":"IF(E42=\"x\",-1,0)","v":0},{"$f":"IF(F42=\"x\",0,0)","v":0},{"$f":"IF(G42=\"x\",1,0)","v":0},{"$f":"IF(H42=\"x\",2,0)","v":0}]
[null,null,"(3) ადამიანური კაპიტალი",null,null,null,null,null,null,null,null,null,null,{"$f":"SUM(I44:M48)","v":0},{"$f":"(((N43-(-10))*(1-0))/(10-(-10)))+0","v":0.5}]
[null,11,"დაინტერესებული მხარის ინტერესი, გააზიაროს/გააუმჯობესოს თავისი ცოდნა/უნარები  კონკრეტულ თემასთან მიმართებით",null,null,null,null,null,{"$f":"IF(D44=\"x\",-2,0)","v":0},{"$f":"IF(E44=\"x\",-1,0)","v":0},{"$f":"IF(F44=\"x\",0,0)","v":0},{"$f":"IF(G44=\"x\",1,0)","v":0},{"$f":"IF(H44=\"x\",2,0)","v":0},null,"შეწონილი მნიშვნელობა"]
[null,12,"დაინტერესებული მხარის სურვილი გააზიაროს/გაზარდოს საკუთარი ინფორმირებულობა კონკრეტულ თემაზე",null,null,null,null,null,{"$f":"IF(D45=\"x\",-2,0)","v":0},{"$f":"IF(E45=\"x\",-1,0)","v":0},{"$f":"IF(F45=\"x\",0,0)","v":0},{"$f":"IF(G45=\"x\",1,0)","v":0},{"$f":"IF(H45=\"x\",2,0)","v":0},null,{"$f":"O43*'1_COMMUNITY EVALUATION'!N22","v":0.25}]
[null,13,"დაინტერესებული მხარის სურვილი, ჩაერთოს საზოგადოებრივ დებატებში",null,null,null,null,null,{"$f":"IF(D46=\"x\",-2,0)","v":0},{"$f":"IF(E46=\"x\",-1,0)","v":0},{"$f":"IF(F46=\"x\",0,0)","v":0},{"$f":"IF(G46=\"x\",1,0)","v":0},{"$f":"IF(H46=\"x\",2,0)","v":0}]
[null,14,"დაინტერესებული მხარის სურვილი, კომუნიკაცია დაამყაროს სხვადასხვა მედიასაშუალების გამოყენებით ",null,null,null,null,null,{"$f":"IF(D47=\"x\",-2,0)","v":0},{"$f":"IF(E47=\"x\",-1,0)","v":0},{"$f":"IF(F47=\"x\",0,0)","v":0},{"$f":"IF(G47=\"x\",1,0)","v":0},{"$f":"IF(H47=\"x\",2,0)","v":0}]
[null,15,"დაინტერესებული მხარის სურვილი, ჰქონდეს წვდომა საჯარო სივრცეებზე",null,null,null,null,null,{"$f":"IF(D48=\"x\",-2,0)","v":0},{"$f":"IF(E48=\"x\",-1,0)","v":0},{"$f":"IF(F48=\"x\",0,0)","v":0},{"$f":"IF(G48=\"x\",1,0)","v":0},{"$f":"IF(H48=\"x\",2,0)","v":0}]
[null,null,"(4)პოლიტიკური კაპიტალი",null,null,null,null,null,null,null,null,null,null,{"$f":"SUM(I50:M54)","v":0},{"$f":"(((N49-(-10))*(1-0))/(10-(-10)))+0","v":0.5}]
[null,16,"დაინტერესებული მხარის ნდობა ადგილობრივი ადმინისტრაციის მიმართ",null,null,null,null,null,{"$f":"IF(D50=\"x\",-2,0)","v":0},{"$f":"IF(E50=\"x\",-1,0)","v":0},{"$f":"IF(F50=\"x\",0,0)","v":0},{"$f":"IF(G50=\"x\",1,0)","v":0},{"$f":"IF(H50=\"x\",2,0)","v":0},null,"შეწონილი მნიშვნელობა"]
[null,17,"დაინტერესებული მხარის პოლიტიკური ინტერესი კონკრეტული თემის მიმართ ",null,null,null,null,null,{"$f":"IF(D51=\"x\",-2,0)","v":0},{"$f":"IF(E51=\"x\",-1,0)","v":0},{"$f":"IF(F51=\"x\",0,0)","v":0},{"$f":"IF(G51=\"x\",1,0)","v":0},{"$f":"IF(H51=\"x\",2,0)","v":0},null,{"$f":"O49*'1_COMMUNITY EVALUATION'!N31","v":0.25}]
[null,18,"დაინტერესებული მხარის სურვილი, ითანამშრომლოს ადგილობრივი ხელისუფლების ორგანოებთან",null,null,null,null,null,{"$f":"IF(D52=\"x\",-2,0)","v":0},{"$f":"IF(E52=\"x\",-1,0)","v":0},{"$f":"IF(F52=\"x\",0,0)","v":0},{"$f":"IF(G52=\"x\",1,0)","v":0},{"$f":"IF(H52=\"x\",2,0)","v":0}]
[null,19,"დაინტერესებული მხარის ინტერესი, ხმა მიაწვდინოს/მოიცვას ფართო საზოგადოება",null,null,null,null,null,{"$f":"IF(D53=\"x\",-2,0)","v":0},{"$f":"IF(E53=\"x\",-1,0)","v":0},{"$f":"IF(F53=\"x\",0,0)","v":0},{"$f":"IF(G53=\"x\",1,0)","v":0},{"$f":"IF(H53=\"x\",2,0)","v":0}]
[null,20,"დაინტერესებული მხარის სურვილი, გააზიაროს/გაზარდოს თავისი ინფორმირებულობა პოლიტიკის საკითხებზე",null,null,null,null,null,{"$f":"IF(D54=\"x\",-2,0)","v":0},{"$f":"IF(E54=\"x\",-1,0)","v":0},{"$f":"IF(F54=\"x\",0,0)","v":0},{"$f":"IF(G54=\"x\",1,0)","v":0},{"$f":"IF(H54=\"x\",2,0)","v":0}]
[null,null,"ინტერესის ქულა",null,null,null,null,null,null,null,null,null,null,null,{"$f":"IF(D2=\"\",\"\",(SUM(O51+O45+O39+O33)/4))","v":""}]

{"sheet":"STAKEHOLDER (21)","index":25,"n_rows":55,"n_cols":15,"rows_kept":55,"cut":false,"hidden":false,"merged":[[0,1,0,14],[1,3,1,14],[27,2,27,7],[54,2,54,7]]}
[null,"კონკრეტული თემის გათვალისწინებით, გთხოვთ, დაინტერესებული მხარე შეაფასოთ თითოეულ პუნქტთან მიმართებით (უაღრესად უარყოფითიდან უაღრესად დადებითამდე) და შესაბამის გრაფაში მონიშნოთ „x“. "]
[null,null,"დაინტერესებული მხარე -მიუთითეთ დასახელება"]
[null,null,"განზომილებები","უაღრესად უარყოფითი","უარყოფითი","არ არის რელევანტური","დადებითი","უაღრესად დადებითი",-2,-1,0,1,2,null,"ქულა თითოეულ განზომილებაში"]
[null,null,"(1)სოციალური კაპიტალი",null,null,null,null,null,null,null,null,null,null,{"$f":"SUM(I5:M9)","v":0},{"$f":"(((N4-(-10))*(1-0))/(10-(-10)))+0","v":0.5}]
[null,1,"დაინტერესებული მხარის შესაძლებლობა, ჩართოს სხვა დაინტერესებული მხარეები ",null,null,null,null,null,{"$f":"IF(D5=\"x\",-2,0)","v":0},{"$f":"IF(E5=\"x\",-1,0)","v":0},{"$f":"IF(F5=\"x\",0,0)","v":0},{"$f":"IF(G5=\"x\",1,0)","v":0},{"$f":"IF(H5=\"x\",2,0)","v":0},null,"შეწონილი მნიშვნელობა"]
[null,2,"კონკრეტული კატეგორიის აქტორთა წარმომადგენლობითი დონე (მრავალი სხვა მოქალაქის ინტერესების წარმოდგენა)",null,null,null,null,null,{"$f":"IF(D6=\"x\",-2,0)","v":0},{"$f":"IF(E6=\"x\",-1,0)","v":0},{"$f":"IF(F6=\"x\",0,0)","v":0},{"$f":"IF(G6=\"x\",1,0)","v":0},{"$f":"IF(H6=\"x\",2,0)","v":0},null,{"$f":"O4*'1_COMMUNITY EVALUATION'!N4","v":0.25}]
[null,3,"დაინტერესებული მხარის მონაწილეობის დონე ადგილობრივ სამოქალაქო აქტივობებში",null,null,null,null,null,{"$f":"IF(D7=\"x\",-2,0)","v":0},{"$f":"IF(E7=\"x\",-1,0)","v":0},{"$f":"IF(F7=\"x\",0,0)","v":0},{"$f":"IF(G7=\"x\",1,0)","v":0},{"$f":"IF(H7=\"x\",2,0)","v":0}]
[null,4,"დაინტერესებული მხარის შესაძლებლობა, დაიწყოს ცვლილების განხორციელება/გავლენა იქონიოს მასზე",null,null,null,null,null,{"$f":"IF(D8=\"x\",-2,0)","v":0},{"$f":"IF(E8=\"x\",-1,0)","v":0},{"$f":"IF(F8=\"x\",0,0)","v":0},{"$f":"IF(G8=\"x\",1,0)","v":0},{"$f":"IF(H8=\"x\",2,0)","v":0}]
[null,5,"მოქალაქეთა მიერ დაინტერესებული მხარის აღიარების დონე ",null,null,null,null,null,{"$f":"IF(D9=\"x\",-2,0)","v":0},{"$f":"IF(E9=\"x\",-1,0)","v":0},{"$f":"IF(F9=\"x\",0,0)","v":0},{"$f":"IF(G9=\"x\",1,0)","v":0},{"$f":"IF(H9=\"x\",2,0)","v":0}]
[null,null,"(2) ეკონომიკური კაპიტალი",null,null,null,null,null,null,null,null,null,null,{"$f":"SUM(I11:M15)","v":0},{"$f":"(((N10-(-10))*(1-0))/(10-(-10)))+0","v":0.5}]
[null,6,"დაინტერესებული მხარის შესაძლებლობა, შეასრულოს დონორის ფუნქცია",null,null,null,null,null,{"$f":"IF(D11=\"x\",-2,0)","v":0},{"$f":"IF(E11=\"x\",-1,0)","v":0},{"$f":"IF(F11=\"x\",0,0)","v":0},{"$f":"IF(G11=\"x\",1,0)","v":0},{"$f":"IF(H11=\"x\",2,0)","v":0},null,"შეწონილი მნიშვნელობა"]
[null,7,"დაინტერესებული მხარის შესაძლებლობა, გავლენა მოახდინოს რესურსების განაწილებაზე ",null,null,null,null,null,{"$f":"IF(D12=\"x\",-2,0)","v":0},{"$f":"IF(E12=\"x\",-1,0)","v":0},{"$f":"IF(F12=\"x\",0,0)","v":0},{"$f":"IF(G12=\"x\",1,0)","v":0},{"$f":"IF(H12=\"x\",2,0)","v":0},null,{"$f":"O10*'1_COMMUNITY EVALUATION'!N13","v":0.25}]
[null,8,"დაინტერესებული მხარის შესაძლებლობა, ხელი შეუწყოს წვდომას არსებულ ან დამატებით (გარე) რესურსებზე ",null,null,null,null,null,{"$f":"IF(D13=\"x\",-2,0)","v":0},{"$f":"IF(E13=\"x\",-1,0)","v":0},{"$f":"IF(F13=\"x\",0,0)","v":0},{"$f":"IF(G13=\"x\",1,0)","v":0},{"$f":"IF(H13=\"x\",2,0)","v":0}]
[null,9,"დაინტერესებული მხარის შესაძლებლობა არამატერიალური მხარდაჭერის გასაწევად ",null,null,null,null,null,{"$f":"IF(D14=\"x\",-2,0)","v":0},{"$f":"IF(E14=\"x\",-1,0)","v":0},{"$f":"IF(F14=\"x\",0,0)","v":0},{"$f":"IF(G14=\"x\",1,0)","v":0},{"$f":"IF(H14=\"x\",2,0)","v":0}]
[null,10,"დაინტერესებული მხარის გავლენა შრომის ბაზარზე",null,null,null,null,null,{"$f":"IF(D15=\"x\",-2,0)","v":0},{"$f":"IF(E15=\"x\",-1,0)","v":0},{"$f":"IF(F15=\"x\",0,0)","v":0},{"$f":"IF(G15=\"x\",1,0)","v":0},{"$f":"IF(H15=\"x\",2,0)","v":0}]
[null,null,"(3) ადამიანური კაპიტალი",null,null,null,null,null,null,null,null,null,null,{"$f":"SUM(I17:M21)","v":0},{"$f":"(((N16-(-10))*(1-0))/(10-(-10)))+0","v":0.5}]
[null,11,"დაინტერესებული მხარის ცოდნა/უნარები კონკრეტულ თემასთან მიმართებით",null,null,null,null,null,{"$f":"IF(D17=\"x\",-2,0)","v":0},{"$f":"IF(E17=\"x\",-1,0)","v":0},{"$f":"IF(F17=\"x\",0,0)","v":0},{"$f":"IF(G17=\"x\",1,0)","v":0},{"$f":"IF(H17=\"x\",2,0)","v":0},null,"შეწონილი მნიშვნელობა"]
[null,12,"დაინტერესებული მხარის ინფორმირებულობა კონკრეტულ თემაზე",null,null,null,null,null,{"$f":"IF(D18=\"x\",-2,0)","v":0},{"$f":"IF(E18=\"x\",-1,0)","v":0},{"$f":"IF(F18=\"x\",0,0)","v":0},{"$f":"IF(G18=\"x\",1,0)","v":0},{"$f":"IF(H18=\"x\",2,0)","v":0},null,{"$f":"O16*'1_COMMUNITY EVALUATION'!N22","v":0.25}]
[null,13,"დაინტერესებული მხარის შესაძლებლობა, ჩაერთოს საზოგადოებრივ დებატებში",null,null,null,null,null,{"$f":"IF(D19=\"x\",-2,0)","v":0},{"$f":"IF(E19=\"x\",-1,0)","v":0},{"$f":"IF(F19=\"x\",0,0)","v":0},{"$f":"IF(G19=\"x\",1,0)","v":0},{"$f":"IF(H19=\"x\",2,0)","v":0}]
[null,14,"დაინტერესებული მხარის შესაძლებლობა, კომუნიკაცია დაამყაროს სხვადასხვა მედიასაშუალების გამოყენებით ",null,null,null,null,null,{"$f":"IF(D20=\"x\",-2,0)","v":0},{"$f":"IF(E20=\"x\",-1,0)","v":0},{"$f":"IF(F20=\"x\",0,0)","v":0},{"$f":"IF(G20=\"x\",1,0)","v":0},{"$f":"IF(H20=\"x\",2,0)","v":0}]
[null,15,"დაინტერესებული მხარის ხელმისაწვდომობა საჯარო სივრცეებზე  ",null,null,null,null,null,{"$f":"IF(D21=\"x\",-2,0)","v":0},{"$f":"IF(E21=\"x\",-1,0)","v":0},{"$f":"IF(F21=\"x\",0,0)","v":0},{"$f":"IF(G21=\"x\",1,0)","v":0},{"$f":"IF(H21=\"x\",2,0)","v":0}]
[null,null,"(4)პოლიტიკური კაპიტალი",null,null,null,null,null,null,null,null,null,null,{"$f":"SUM(I23:M27)","v":0},{"$f":"(((N22-(-10))*(1-0))/(10-(-10)))+0","v":0.5}]
[null,16,"ადგილობრივი ადმინისტრაციის ნდობა დაინტერესებული მხარის მიმართ",null,null,null,null,null,{"$f":"IF(D23=\"x\",-2,0)","v":0},{"$f":"IF(E23=\"x\",-1,0)","v":0},{"$f":"IF(F23=\"x\",0,0)","v":0},{"$f":"IF(G23=\"x\",1,0)","v":0},{"$f":"IF(H23=\"x\",2,0)","v":0},null,"შეწონილი მნიშვნელობა"]
[null,17,"დაინტერესებული მხარის შესაძლებლობა, ჩართოს სხვა პოლიტიკური აქტორები",null,null,null,null,null,{"$f":"IF(D24=\"x\",-2,0)","v":0},{"$f":"IF(E24=\"x\",-1,0)","v":0},{"$f":"IF(F24=\"x\",0,0)","v":0},{"$f":"IF(G24=\"x\",1,0)","v":0},{"$f":"IF(H24=\"x\",2,0)","v":0},null,{"$f":"O22*'1_COMMUNITY EVALUATION'!N31","v":0.25}]
[null,18,"დაინტერესებული მხარის შესაძლებლობა, ითანამშრომლოს ადგილობრივი ხელისუფლების ორგანოებთან/სხვა დაინტერესებულ მხარეებთან ",null,null,null,null,null,{"$f":"IF(D25=\"x\",-2,0)","v":0},{"$f":"IF(E25=\"x\",-1,0)","v":0},{"$f":"IF(F25=\"x\",0,0)","v":0},{"$f":"IF(G25=\"x\",1,0)","v":0},{"$f":"IF(H25=\"x\",2,0)","v":0}]
[null,19,"დაინტერესებული მხარის შესაძლებლობა, გავლენა იქონიოს საზოგადოებრივ აზრზე ",null,null,null,null,null,{"$f":"IF(D26=\"x\",-2,0)","v":0},{"$f":"IF(E26=\"x\",-1,0)","v":0},{"$f":"IF(F26=\"x\",0,0)","v":0},{"$f":"IF(G26=\"x\",1,0)","v":0},{"$f":"IF(H26=\"x\",2,0)","v":0}]
[null,20,"დაინტერესებული მხარის ინფორმირებულობა პოლიტიკის საკითხებზე",null,null,null,null,null,{"$f":"IF(D27=\"x\",-2,0)","v":0},{"$f":"IF(E27=\"x\",-1,0)","v":0},{"$f":"IF(F27=\"x\",0,0)","v":0},{"$f":"IF(G27=\"x\",1,0)","v":0},{"$f":"IF(H27=\"x\",2,0)","v":0}]
[null,null,"რელევანტურობის ქულა",null,null,null,null,null,null,null,null,null,null,null,{"$f":"IF(D2=\"\",\"\",(SUM(O24+O18+O12+O6)/4))","v":""}]
[]
[null,null,"განზომილებები","უარრესად უარყოფითი","უარყოფითი","არ არის რელევანტური","დადებითი","უაღრესად დადებითი",-2,-1,0,1,2,null,"ქულა თითოეულ განზომილებაში"]
[null,null,"(1)სოციალური კაპიტალი",null,null,null,null,null,null,null,null,null,null,{"$f":"SUM(I32:M36)","v":0},{"$f":"(((N31-(-10))*(1-0))/(10-(-10)))+0","v":0.5}]
[null,1,"დაინტერესებული მხარის ინტერესი, დაამყაროს კონტაქტები კონკრეტულ თემასთან დაკავშირებით",null,null,null,null,null,{"$f":"IF(D32=\"x\",-2,0)","v":0},{"$f":"IF(E32=\"x\",-1,0)","v":0},{"$f":"IF(F32=\"x\",0,0)","v":0},{"$f":"IF(G32=\"x\",1,0)","v":0},{"$f":"IF(H32=\"x\",2,0)","v":0},null,"შეწონილი მნიშვნელობა"]
[null,2,"დაინტერესებული მხარის ინტერესი, უზრუნველყოს კონკრეტული კატეგორიის აქტორთა წარმომადგენლობა თემასთან მიმართებით",null,null,null,null,null,{"$f":"IF(D33=\"x\",-2,0)","v":0},{"$f":"IF(E33=\"x\",-1,0)","v":0},{"$f":"IF(F33=\"x\",0,0)","v":0},{"$f":"IF(G33=\"x\",1,0)","v":0},{"$f":"IF(H33=\"x\",2,0)","v":0},null,{"$f":"O31*'1_COMMUNITY EVALUATION'!N4","v":0.25}]
[null,3,"დაინტერესებული მხარის ინტერესი, ჩაერთოს  ადგილობრივ სამოქალაქო აქტივობებში თემასთან მიმართებით",null,null,null,null,null,{"$f":"IF(D34=\"x\",-2,0)","v":0},{"$f":"IF(E34=\"x\",-1,0)","v":0},{"$f":"IF(F34=\"x\",0,0)","v":0},{"$f":"IF(G34=\"x\",1,0)","v":0},{"$f":"IF(H34=\"x\",2,0)","v":0}]
[null,4,"დაინტერესებული მხარის ინტერესი, დაიწყოს ცვლილების განხორციელება/გავლენა იქონიოს მასზე      ",null,null,null,null,null,{"$f":"IF(D35=\"x\",-2,0)","v":0},{"$f":"IF(E35=\"x\",-1,0)","v":0},{"$f":"IF(F35=\"x\",0,0)","v":0},{"$f":"IF(G35=\"x\",1,0)","v":0},{"$f":"IF(H35=\"x\",2,0)","v":0}]
[null,5,"დაინტერესებული მხარის ინტერესი, გაზარდოს მისი აღიარება მოქალაქეთა მხრიდან",null,null,null,null,null,{"$f":"IF(D36=\"x\",-2,0)","v":0},{"$f":"IF(E36=\"x\",-1,0)","v":0},{"$f":"IF(F36=\"x\",0,0)","v":0},{"$f":"IF(G36=\"x\",1,0)","v":0},{"$f":"IF(H36=\"x\",2,0)","v":0}]
[null,null,"(2) ეკონომიკური კაპიტალი",null,null,null,null,null,null,null,null,null,null,{"$f":"SUM(I38:M42)","v":0},{"$f":"(((N37-(-10))*(1-0))/(10-(-10)))+0","v":0.5}]
[null,6,"დაინტერესებული მხარის პოტენციური ეკონომიკური სარგებელი",null,null,null,null,null,{"$f":"IF(D38=\"x\",-2,0)","v":0},{"$f":"IF(E38=\"x\",-1,0)","v":0},{"$f":"IF(F38=\"x\",0,0)","v":0},{"$f":"IF(G38=\"x\",1,0)","v":0},{"$f":"IF(H38=\"x\",2,0)","v":0},null,"შეწონილი მნიშვნელობა"]
[null,7,"დაინტერესებული მხარის სურვილი, თავი მოუყაროს რესურსებს",null,null,null,null,null,{"$f":"IF(D39=\"x\",-2,0)","v":0},{"$f":"IF(E39=\"x\",-1,0)","v":0},{"$f":"IF(F39=\"x\",0,0)","v":0},{"$f":"IF(G39=\"x\",1,0)","v":0},{"$f":"IF(H39=\"x\",2,0)","v":0},null,{"$f":"O37*'1_COMMUNITY EVALUATION'!N13","v":0.25}]
[null,8,"დაინტერესებული მხარის სურვილი, ხელი შეუწყოს წვდომას არსებულ ან დამატებით(გარე) რესურსებზე       ",null,null,null,null,null,{"$f":"IF(D40=\"x\",-2,0)","v":0},{"$f":"IF(E40=\"x\",-1,0)","v":0},{"$f":"IF(F40=\"x\",0,0)","v":0},{"$f":"IF(G40=\"x\",1,0)","v":0},{"$f":"IF(H40=\"x\",2,0)","v":0}]
[null,9,"დაინტერესებული მხარის მზაობა არამატერიალური მხარდაჭერის გასაწევად",null,null,null,null,null,{"$f":"IF(D41=\"x\",-2,0)","v":0},{"$f":"IF(E41=\"x\",-1,0)","v":0},{"$f":"IF(F41=\"x\",0,0)","v":0},{"$f":"IF(G41=\"x\",1,0)","v":0},{"$f":"IF(H41=\"x\",2,0)","v":0}]
[null,10,"დაინტერესებული მხარის ინტერესი, გაზარდოს თავისი გავლენა შრომის ბაზარზე",null,null,null,null,null,{"$f":"IF(D42=\"x\",-2,0)","v":0},{"$f":"IF(E42=\"x\",-1,0)","v":0},{"$f":"IF(F42=\"x\",0,0)","v":0},{"$f":"IF(G42=\"x\",1,0)","v":0},{"$f":"IF(H42=\"x\",2,0)","v":0}]
[null,null,"(3) ადამიანური კაპიტალი",null,null,null,null,null,null,null,null,null,null,{"$f":"SUM(I44:M48)","v":0},{"$f":"(((N43-(-10))*(1-0))/(10-(-10)))+0","v":0.5}]
[null,11,"დაინტერესებული მხარის ინტერესი, გააზიაროს/გააუმჯობესოს თავისი ცოდნა/უნარები  კონკრეტულ თემასთან მიმართებით",null,null,null,null,null,{"$f":"IF(D44=\"x\",-2,0)","v":0},{"$f":"IF(E44=\"x\",-1,0)","v":0},{"$f":"IF(F44=\"x\",0,0)","v":0},{"$f":"IF(G44=\"x\",1,0)","v":0},{"$f":"IF(H44=\"x\",2,0)","v":0},null,"შეწონილი მნიშვნელობა"]
[null,12,"დაინტერესებული მხარის სურვილი გააზიაროს/გაზარდოს საკუთარი ინფორმირებულობა კონკრეტულ თემაზე",null,null,null,null,null,{"$f":"IF(D45=\"x\",-2,0)","v":0},{"$f":"IF(E45=\"x\",-1,0)","v":0},{"$f":"IF(F45=\"x\",0,0)","v":0},{"$f":"IF(G45=\"x\",1,0)","v":0},{"$f":"IF(H45=\"x\",2,0)","v":0},null,{"$f":"O43*'1_COMMUNITY EVALUATION'!N22","v":0.25}]
[null,13,"დაინტერესებული მხარის სურვილი, ჩაერთოს საზოგადოებრივ დებატებში",null,null,null,null,null,{"$f":"IF(D46=\"x\",-2,0)","v":0},{"$f":"IF(E46=\"x\",-1,0)","v":0},{"$f":"IF(F46=\"x\",0,0)","v":0},{"$f":"IF(G46=\"x\",1,0)","v":0},{"$f":"IF(H46=\"x\",2,0)","v":0}]
[null,14,"დაინტერესებული მხარის სურვილი, კომუნიკაცია დაამყაროს სხვადასხვა მედიასაშუალების გამოყენებით ",null,null,null,null,null,{"$f":"IF(D47=\"x\",-2,0)","v":0},{"$f":"IF(E47=\"x\",-1,0)","v":0},{"$f":"IF(F47=\"x\",0,0)","v":0},{"$f":"IF(G47=\"x\",1,0)","v":0},{"$f":"IF(H47=\"x\",2,0)","v":0}]
[null,15,"დაინტერესებული მხარის სურვილი, ჰქონდეს წვდომა საჯარო სივრცეებზე",null,null,null,null,null,{"$f":"IF(D48=\"x\",-2,0)","v":0},{"$f":"IF(E48=\"x\",-1,0)","v":0},{"$f":"IF(F48=\"x\",0,0)","v":0},{"$f":"IF(G48=\"x\",1,0)","v":0},{"$f":"IF(H48=\"x\",2,0)","v":0}]
[null,null,"(4)პოლიტიკური კაპიტალი",null,null,null,null,null,null,null,null,null,null,{"$f":"SUM(I50:M54)","v":0},{"$f":"(((N49-(-10))*(1-0))/(10-(-10)))+0","v":0.5}]
[null,16,"დაინტერესებული მხარის ნდობა ადგილობრივი ადმინისტრაციის მიმართ",null,null,null,null,null,{"$f":"IF(D50=\"x\",-2,0)","v":0},{"$f":"IF(E50=\"x\",-1,0)","v":0},{"$f":"IF(F50=\"x\",0,0)","v":0},{"$f":"IF(G50=\"x\",1,0)","v":0},{"$f":"IF(H50=\"x\",2,0)","v":0},null,"შეწონილი მნიშვნელობა"]
[null,17,"დაინტერესებული მხარის პოლიტიკური ინტერესი კონკრეტული თემის მიმართ ",null,null,null,null,null,{"$f":"IF(D51=\"x\",-2,0)","v":0},{"$f":"IF(E51=\"x\",-1,0)","v":0},{"$f":"IF(F51=\"x\",0,0)","v":0},{"$f":"IF(G51=\"x\",1,0)","v":0},{"$f":"IF(H51=\"x\",2,0)","v":0},null,{"$f":"O49*'1_COMMUNITY EVALUATION'!N31","v":0.25}]
[null,18,"დაინტერესებული მხარის სურვილი, ითანამშრომლოს ადგილობრივი ხელისუფლების ორგანოებთან",null,null,null,null,null,{"$f":"IF(D52=\"x\",-2,0)","v":0},{"$f":"IF(E52=\"x\",-1,0)","v":0},{"$f":"IF(F52=\"x\",0,0)","v":0},{"$f":"IF(G52=\"x\",1,0)","v":0},{"$f":"IF(H52=\"x\",2,0)","v":0}]
[null,19,"დაინტერესებული მხარის ინტერესი, ხმა მიაწვდინოს/მოიცვას ფართო საზოგადოება",null,null,null,null,null,{"$f":"IF(D53=\"x\",-2,0)","v":0},{"$f":"IF(E53=\"x\",-1,0)","v":0},{"$f":"IF(F53=\"x\",0,0)","v":0},{"$f":"IF(G53=\"x\",1,0)","v":0},{"$f":"IF(H53=\"x\",2,0)","v":0}]
[null,20,"დაინტერესებული მხარის სურვილი, გააზიაროს/გაზარდოს თავისი ინფორმირებულობა პოლიტიკის საკითხებზე",null,null,null,null,null,{"$f":"IF(D54=\"x\",-2,0)","v":0},{"$f":"IF(E54=\"x\",-1,0)","v":0},{"$f":"IF(F54=\"x\",0,0)","v":0},{"$f":"IF(G54=\"x\",1,0)","v":0},{"$f":"IF(H54=\"x\",2,0)","v":0}]
[null,null,"ინტერესის ქულა",null,null,null,null,null,null,null,null,null,null,null,{"$f":"IF(D2=\"\",\"\",(SUM(O51+O45+O39+O33)/4))","v":""}]

{"sheet":"STAKEHOLDER (22)","index":26,"n_rows":55,"n_cols":15,"rows_kept":55,"cut":false,"hidden":false,"merged":[[0,1,0,14],[1,3,1,14],[27,2,27,7],[54,2,54,7]]}
[null,"კონკრეტული თემის გათვალისწინებით, გთხოვთ, დაინტერესებული მხარე შეაფასოთ თითოეულ პუნქტთან მიმართებით (უაღრესად უარყოფითიდან უაღრესად დადებითამდე) და შესაბამის გრაფაში მონიშნოთ „x“. "]
[null,null,"დაინტერესებული მხარე -მიუთითეთ დასახელება"]
[null,null,"განზომილებები","უაღრესად უარყოფითი","უარყოფითი","არ არის რელევანტური","დადებითი","უაღრესად დადებითი",-2,-1,0,1,2,null,"ქულა თითოეულ განზომილებაში"]
[null,null,"(1)სოციალური კაპიტალი",null,null,null,null,null,null,null,null,null,null,{"$f":"SUM(I5:M9)","v":0},{"$f":"(((N4-(-10))*(1-0))/(10-(-10)))+0","v":0.5}]
[null,1,"დაინტერესებული მხარის შესაძლებლობა, ჩართოს სხვა დაინტერესებული მხარეები ",null,null,null,null,null,{"$f":"IF(D5=\"x\",-2,0)","v":0},{"$f":"IF(E5=\"x\",-1,0)","v":0},{"$f":"IF(F5=\"x\",0,0)","v":0},{"$f":"IF(G5=\"x\",1,0)","v":0},{"$f":"IF(H5=\"x\",2,0)","v":0},null,"შეწონილი მნიშვნელობა"]
[null,2,"კონკრეტული კატეგორიის აქტორთა წარმომადგენლობითი დონე (მრავალი სხვა მოქალაქის ინტერესების წარმოდგენა)",null,null,null,null,null,{"$f":"IF(D6=\"x\",-2,0)","v":0},{"$f":"IF(E6=\"x\",-1,0)","v":0},{"$f":"IF(F6=\"x\",0,0)","v":0},{"$f":"IF(G6=\"x\",1,0)","v":0},{"$f":"IF(H6=\"x\",2,0)","v":0},null,{"$f":"O4*'1_COMMUNITY EVALUATION'!N4","v":0.25}]
[null,3,"დაინტერესებული მხარის მონაწილეობის დონე ადგილობრივ სამოქალაქო აქტივობებში",null,null,null,null,null,{"$f":"IF(D7=\"x\",-2,0)","v":0},{"$f":"IF(E7=\"x\",-1,0)","v":0},{"$f":"IF(F7=\"x\",0,0)","v":0},{"$f":"IF(G7=\"x\",1,0)","v":0},{"$f":"IF(H7=\"x\",2,0)","v":0}]
[null,4,"დაინტერესებული მხარის შესაძლებლობა, დაიწყოს ცვლილების განხორციელება/გავლენა იქონიოს მასზე",null,null,null,null,null,{"$f":"IF(D8=\"x\",-2,0)","v":0},{"$f":"IF(E8=\"x\",-1,0)","v":0},{"$f":"IF(F8=\"x\",0,0)","v":0},{"$f":"IF(G8=\"x\",1,0)","v":0},{"$f":"IF(H8=\"x\",2,0)","v":0}]
[null,5,"მოქალაქეთა მიერ დაინტერესებული მხარის აღიარების დონე ",null,null,null,null,null,{"$f":"IF(D9=\"x\",-2,0)","v":0},{"$f":"IF(E9=\"x\",-1,0)","v":0},{"$f":"IF(F9=\"x\",0,0)","v":0},{"$f":"IF(G9=\"x\",1,0)","v":0},{"$f":"IF(H9=\"x\",2,0)","v":0}]
[null,null,"(2) ეკონომიკური კაპიტალი",null,null,null,null,null,null,null,null,null,null,{"$f":"SUM(I11:M15)","v":0},{"$f":"(((N10-(-10))*(1-0))/(10-(-10)))+0","v":0.5}]
[null,6,"დაინტერესებული მხარის შესაძლებლობა, შეასრულოს დონორის ფუნქცია",null,null,null,null,null,{"$f":"IF(D11=\"x\",-2,0)","v":0},{"$f":"IF(E11=\"x\",-1,0)","v":0},{"$f":"IF(F11=\"x\",0,0)","v":0},{"$f":"IF(G11=\"x\",1,0)","v":0},{"$f":"IF(H11=\"x\",2,0)","v":0},null,"შეწონილი მნიშვნელობა"]
[null,7,"დაინტერესებული მხარის შესაძლებლობა, გავლენა მოახდინოს რესურსების განაწილებაზე ",null,null,null,null,null,{"$f":"IF(D12=\"x\",-2,0)","v":0},{"$f":"IF(E12=\"x\",-1,0)","v":0},{"$f":"IF(F12=\"x\",0,0)","v":0},{"$f":"IF(G12=\"x\",1,0)","v":0},{"$f":"IF(H12=\"x\",2,0)","v":0},null,{"$f":"O10*'1_COMMUNITY EVALUATION'!N13","v":0.25}]
[null,8,"დაინტერესებული მხარის შესაძლებლობა, ხელი შეუწყოს წვდომას არსებულ ან დამატებით (გარე) რესურსებზე ",null,null,null,null,null,{"$f":"IF(D13=\"x\",-2,0)","v":0},{"$f":"IF(E13=\"x\",-1,0)","v":0},{"$f":"IF(F13=\"x\",0,0)","v":0},{"$f":"IF(G13=\"x\",1,0)","v":0},{"$f":"IF(H13=\"x\",2,0)","v":0}]
[null,9,"დაინტერესებული მხარის შესაძლებლობა არამატერიალური მხარდაჭერის გასაწევად ",null,null,null,null,null,{"$f":"IF(D14=\"x\",-2,0)","v":0},{"$f":"IF(E14=\"x\",-1,0)","v":0},{"$f":"IF(F14=\"x\",0,0)","v":0},{"$f":"IF(G14=\"x\",1,0)","v":0},{"$f":"IF(H14=\"x\",2,0)","v":0}]
[null,10,"დაინტერესებული მხარის გავლენა შრომის ბაზარზე",null,null,null,null,null,{"$f":"IF(D15=\"x\",-2,0)","v":0},{"$f":"IF(E15=\"x\",-1,0)","v":0},{"$f":"IF(F15=\"x\",0,0)","v":0},{"$f":"IF(G15=\"x\",1,0)","v":0},{"$f":"IF(H15=\"x\",2,0)","v":0}]
[null,null,"(3) ადამიანური კაპიტალი",null,null,null,null,null,null,null,null,null,null,{"$f":"SUM(I17:M21)","v":0},{"$f":"(((N16-(-10))*(1-0))/(10-(-10)))+0","v":0.5}]
[null,11,"დაინტერესებული მხარის ცოდნა/უნარები კონკრეტულ თემასთან მიმართებით",null,null,null,null,null,{"$f":"IF(D17=\"x\",-2,0)","v":0},{"$f":"IF(E17=\"x\",-1,0)","v":0},{"$f":"IF(F17=\"x\",0,0)","v":0},{"$f":"IF(G17=\"x\",1,0)","v":0},{"$f":"IF(H17=\"x\",2,0)","v":0},null,"შეწონილი მნიშვნელობა"]
[null,12,"დაინტერესებული მხარის ინფორმირებულობა კონკრეტულ თემაზე",null,null,null,null,null,{"$f":"IF(D18=\"x\",-2,0)","v":0},{"$f":"IF(E18=\"x\",-1,0)","v":0},{"$f":"IF(F18=\"x\",0,0)","v":0},{"$f":"IF(G18=\"x\",1,0)","v":0},{"$f":"IF(H18=\"x\",2,0)","v":0},null,{"$f":"O16*'1_COMMUNITY EVALUATION'!N22","v":0.25}]
[null,13,"დაინტერესებული მხარის შესაძლებლობა, ჩაერთოს საზოგადოებრივ დებატებში",null,null,null,null,null,{"$f":"IF(D19=\"x\",-2,0)","v":0},{"$f":"IF(E19=\"x\",-1,0)","v":0},{"$f":"IF(F19=\"x\",0,0)","v":0},{"$f":"IF(G19=\"x\",1,0)","v":0},{"$f":"IF(H19=\"x\",2,0)","v":0}]
[null,14,"დაინტერესებული მხარის სურვილი, კომუნიკაცია დაამყაროს სხვადასხვა მედიასაშუალების  გამოყენებით ",null,null,null,null,null,{"$f":"IF(D20=\"x\",-2,0)","v":0},{"$f":"IF(E20=\"x\",-1,0)","v":0},{"$f":"IF(F20=\"x\",0,0)","v":0},{"$f":"IF(G20=\"x\",1,0)","v":0},{"$f":"IF(H20=\"x\",2,0)","v":0}]
[null,15,"დაინტერესებული მხარის ხელმისაწვდომობა საჯარო სივრცეებზე  ",null,null,null,null,null,{"$f":"IF(D21=\"x\",-2,0)","v":0},{"$f":"IF(E21=\"x\",-1,0)","v":0},{"$f":"IF(F21=\"x\",0,0)","v":0},{"$f":"IF(G21=\"x\",1,0)","v":0},{"$f":"IF(H21=\"x\",2,0)","v":0}]
[null,null,"(4)პოლიტიკური კაპიტალი",null,null,null,null,null,null,null,null,null,null,{"$f":"SUM(I23:M27)","v":0},{"$f":"(((N22-(-10))*(1-0))/(10-(-10)))+0","v":0.5}]
[null,16,"ადგილობრივი ადმინისტრაციის ნდობა დაინტერესებული მხარის მიმართ",null,null,null,null,null,{"$f":"IF(D23=\"x\",-2,0)","v":0},{"$f":"IF(E23=\"x\",-1,0)","v":0},{"$f":"IF(F23=\"x\",0,0)","v":0},{"$f":"IF(G23=\"x\",1,0)","v":0},{"$f":"IF(H23=\"x\",2,0)","v":0},null,"შეწონილი მნიშვნელობა"]
[null,17,"დაინტერესებული მხარის შესაძლებლობა, ჩართოს სხვა პოლიტიკური აქტორები",null,null,null,null,null,{"$f":"IF(D24=\"x\",-2,0)","v":0},{"$f":"IF(E24=\"x\",-1,0)","v":0},{"$f":"IF(F24=\"x\",0,0)","v":0},{"$f":"IF(G24=\"x\",1,0)","v":0},{"$f":"IF(H24=\"x\",2,0)","v":0},null,{"$f":"O22*'1_COMMUNITY EVALUATION'!N31","v":0.25}]
[null,18,"დაინტერესებული მხარის შესაძლებლობა, ითანამშრომლოს ადგილობრივი ხელისუფლების ორგანოებთან/სხვა დაინტერესებულ მხარეებთან ",null,null,null,null,null,{"$f":"IF(D25=\"x\",-2,0)","v":0},{"$f":"IF(E25=\"x\",-1,0)","v":0},{"$f":"IF(F25=\"x\",0,0)","v":0},{"$f":"IF(G25=\"x\",1,0)","v":0},{"$f":"IF(H25=\"x\",2,0)","v":0}]
[null,19,"დაინტერესებული მხარის შესაძლებლობა, გავლენა იქონიოს საზოგადოებრივ აზრზე ",null,null,null,null,null,{"$f":"IF(D26=\"x\",-2,0)","v":0},{"$f":"IF(E26=\"x\",-1,0)","v":0},{"$f":"IF(F26=\"x\",0,0)","v":0},{"$f":"IF(G26=\"x\",1,0)","v":0},{"$f":"IF(H26=\"x\",2,0)","v":0}]
[null,20,"დაინტერესებული მხარის ინფორმირებულობა პოლიტიკის საკითხებზე",null,null,null,null,null,{"$f":"IF(D27=\"x\",-2,0)","v":0},{"$f":"IF(E27=\"x\",-1,0)","v":0},{"$f":"IF(F27=\"x\",0,0)","v":0},{"$f":"IF(G27=\"x\",1,0)","v":0},{"$f":"IF(H27=\"x\",2,0)","v":0}]
[null,null,"რელევანტურობის ქულა",null,null,null,null,null,null,null,null,null,null,null,{"$f":"IF(D2=\"\",\"\",(SUM(O24+O18+O12+O6)/4))","v":""}]
[]
[null,null,"განზომილებები","უაღრესად უარყოფითი","უარყოფითი","არ არის რელევანტური","დადებითი","უაღრესად დადებითი",-2,-1,0,1,2,null,"ქულა თითოეულ განზომილებაში"]
[null,null,"(1) სოციალური კაპიტალი",null,null,null,null,null,null,null,null,null,null,{"$f":"SUM(I32:M36)","v":0},{"$f":"(((N31-(-10))*(1-0))/(10-(-10)))+0","v":0.5}]
[null,1,"დაინტერესებული მხარის ინტერესი, დაამყაროს კონტაქტები კონკრეტულ თემასთან დაკავშირებით",null,null,null,null,null,{"$f":"IF(D32=\"x\",-2,0)","v":0},{"$f":"IF(E32=\"x\",-1,0)","v":0},{"$f":"IF(F32=\"x\",0,0)","v":0},{"$f":"IF(G32=\"x\",1,0)","v":0},{"$f":"IF(H32=\"x\",2,0)","v":0},null,"შეწონილი მნიშვნელობა"]
[null,2,"დაინტერესებული მხარის ინტერესი, უზრუნველყოს კონკრეტული კატეგორიის აქტორთა წარმომადგენლობა თემასთან მიმართებით",null,null,null,null,null,{"$f":"IF(D33=\"x\",-2,0)","v":0},{"$f":"IF(E33=\"x\",-1,0)","v":0},{"$f":"IF(F33=\"x\",0,0)","v":0},{"$f":"IF(G33=\"x\",1,0)","v":0},{"$f":"IF(H33=\"x\",2,0)","v":0},null,{"$f":"O31*'1_COMMUNITY EVALUATION'!N4","v":0.25}]
[null,3,"დაინტერესებული მხარის ინტერესი, ჩაერთოს  ადგილობრივ სამოქალაქო აქტივობებში თემასთან მიმართებით",null,null,null,null,null,{"$f":"IF(D34=\"x\",-2,0)","v":0},{"$f":"IF(E34=\"x\",-1,0)","v":0},{"$f":"IF(F34=\"x\",0,0)","v":0},{"$f":"IF(G34=\"x\",1,0)","v":0},{"$f":"IF(H34=\"x\",2,0)","v":0}]
[null,4,"დაინტერესებული მხარის ინტერესი, დაიწყოს ცვლილების განხორციელება/გავლენა იქონიოს მასზე      ",null,null,null,null,null,{"$f":"IF(D35=\"x\",-2,0)","v":0},{"$f":"IF(E35=\"x\",-1,0)","v":0},{"$f":"IF(F35=\"x\",0,0)","v":0},{"$f":"IF(G35=\"x\",1,0)","v":0},{"$f":"IF(H35=\"x\",2,0)","v":0}]
[null,5,"დაინტერესებული მხარის ინტერესი, გაზარდოს მისი აღიარება მოქალაქეთა მხრიდან",null,null,null,null,null,{"$f":"IF(D36=\"x\",-2,0)","v":0},{"$f":"IF(E36=\"x\",-1,0)","v":0},{"$f":"IF(F36=\"x\",0,0)","v":0},{"$f":"IF(G36=\"x\",1,0)","v":0},{"$f":"IF(H36=\"x\",2,0)","v":0}]
[null,null,"(2) ეკონომიკური კაპიტალი",null,null,null,null,null,null,null,null,null,null,{"$f":"SUM(I38:M42)","v":0},{"$f":"(((N37-(-10))*(1-0))/(10-(-10)))+0","v":0.5}]
[null,6,"დაინტერესებული მხარის პოტენციური ეკონომიკური სარგებელი",null,null,null,null,null,{"$f":"IF(D38=\"x\",-2,0)","v":0},{"$f":"IF(E38=\"x\",-1,0)","v":0},{"$f":"IF(F38=\"x\",0,0)","v":0},{"$f":"IF(G38=\"x\",1,0)","v":0},{"$f":"IF(H38=\"x\",2,0)","v":0},null,"შეწონილი მნიშვნელობა"]
[null,7,"დაინტერესებული მხარის სურვილი, თავი მოუყაროს რესურსებს",null,null,null,null,null,{"$f":"IF(D39=\"x\",-2,0)","v":0},{"$f":"IF(E39=\"x\",-1,0)","v":0},{"$f":"IF(F39=\"x\",0,0)","v":0},{"$f":"IF(G39=\"x\",1,0)","v":0},{"$f":"IF(H39=\"x\",2,0)","v":0},null,{"$f":"O37*'1_COMMUNITY EVALUATION'!N13","v":0.25}]
[null,8,"დაინტერესებული მხარის სურვილი, ხელი შეუწყოს წვდომას არსებულ ან დამატებით(გარე) რესურსებზე       ",null,null,null,null,null,{"$f":"IF(D40=\"x\",-2,0)","v":0},{"$f":"IF(E40=\"x\",-1,0)","v":0},{"$f":"IF(F40=\"x\",0,0)","v":0},{"$f":"IF(G40=\"x\",1,0)","v":0},{"$f":"IF(H40=\"x\",2,0)","v":0}]
[null,9,"დაინტერესებული მხარის მზაობა       არამატერიალური მხარდაჭერის გასაწევად",null,null,null,null,null,{"$f":"IF(D41=\"x\",-2,0)","v":0},{"$f":"IF(E41=\"x\",-1,0)","v":0},{"$f":"IF(F41=\"x\",0,0)","v":0},{"$f":"IF(G41=\"x\",1,0)","v":0},{"$f":"IF(H41=\"x\",2,0)","v":0}]
[null,10,"დაინტერესებული მხარის ინტერესი, გაზარდოს თავისი გავლენა შრომის ბაზარზე",null,null,null,null,null,{"$f":"IF(D42=\"x\",-2,0)","v":0},{"$f":"IF(E42=\"x\",-1,0)","v":0},{"$f":"IF(F42=\"x\",0,0)","v":0},{"$f":"IF(G42=\"x\",1,0)","v":0},{"$f":"IF(H42=\"x\",2,0)","v":0}]
[null,null,"(3) ადამიანური კაპიტალი",null,null,null,null,null,null,null,null,null,null,{"$f":"SUM(I44:M48)","v":0},{"$f":"(((N43-(-10))*(1-0))/(10-(-10)))+0","v":0.5}]
[null,11,"დაინტერესებული მხარის ინტერესი, გააზიაროს/გაუმჯობესოს თავისი ცოდნა/უნარები  კონკრეტულ თემასთან მიმართებით",null,null,null,null,null,{"$f":"IF(D44=\"x\",-2,0)","v":0},{"$f":"IF(E44=\"x\",-1,0)","v":0},{"$f":"IF(F44=\"x\",0,0)","v":0},{"$f":"IF(G44=\"x\",1,0)","v":0},{"$f":"IF(H44=\"x\",2,0)","v":0},null,"შეწონილი მნიშვნელობა"]
[null,12,"დაინტერესებული მხარის სურვილი გააზიაროს/გაზარდოს საკუთარი ინფორმირებულობა კონკრეტულ თემაზე",null,null,null,null,null,{"$f":"IF(D45=\"x\",-2,0)","v":0},{"$f":"IF(E45=\"x\",-1,0)","v":0},{"$f":"IF(F45=\"x\",0,0)","v":0},{"$f":"IF(G45=\"x\",1,0)","v":0},{"$f":"IF(H45=\"x\",2,0)","v":0},null,{"$f":"O43*'1_COMMUNITY EVALUATION'!N22","v":0.25}]
[null,13,"დაინტერესებული მხარის სურვილი, ჩაერთოს საზოგადოებრივ დებატებში",null,null,null,null,null,{"$f":"IF(D46=\"x\",-2,0)","v":0},{"$f":"IF(E46=\"x\",-1,0)","v":0},{"$f":"IF(F46=\"x\",0,0)","v":0},{"$f":"IF(G46=\"x\",1,0)","v":0},{"$f":"IF(H46=\"x\",2,0)","v":0}]
[null,14,"დაინტერესებული მხარის სურვილი, კომუნიკაცია დაამყაროს სხვადასხვა მედიასაშუალების გამოყენებით ",null,null,null,null,null,{"$f":"IF(D47=\"x\",-2,0)","v":0},{"$f":"IF(E47=\"x\",-1,0)","v":0},{"$f":"IF(F47=\"x\",0,0)","v":0},{"$f":"IF(G47=\"x\",1,0)","v":0},{"$f":"IF(H47=\"x\",2,0)","v":0}]
[null,15,"დაინტერესებული მხარის სურვილი, ჰქონდეს წვდომა საჯარო სივრცეებზე",null,null,null,null,null,{"$f":"IF(D48=\"x\",-2,0)","v":0},{"$f":"IF(E48=\"x\",-1,0)","v":0},{"$f":"IF(F48=\"x\",0,0)","v":0},{"$f":"IF(G48=\"x\",1,0)","v":0},{"$f":"IF(H48=\"x\",2,0)","v":0}]
[null,null,"(4)პოლიტიკური კაპიტალი",null,null,null,null,null,null,null,null,null,null,{"$f":"SUM(I50:M54)","v":0},{"$f":"(((N49-(-10))*(1-0))/(10-(-10)))+0","v":0.5}]
[null,16,"დაინტერესებული მხარის ნდობა ადგილობრივი ადმინისტრაციის მიმართ",null,null,null,null,null,{"$f":"IF(D50=\"x\",-2,0)","v":0},{"$f":"IF(E50=\"x\",-1,0)","v":0},{"$f":"IF(F50=\"x\",0,0)","v":0},{"$f":"IF(G50=\"x\",1,0)","v":0},{"$f":"IF(H50=\"x\",2,0)","v":0},null,"შეწონილი მნიშვნელობა"]
[null,17,"დაინტერესებული მხარის პოლიტიკური ინტერესი კონკრეტული თემის მიმართ ",null,null,null,null,null,{"$f":"IF(D51=\"x\",-2,0)","v":0},{"$f":"IF(E51=\"x\",-1,0)","v":0},{"$f":"IF(F51=\"x\",0,0)","v":0},{"$f":"IF(G51=\"x\",1,0)","v":0},{"$f":"IF(H51=\"x\",2,0)","v":0},null,{"$f":"O49*'1_COMMUNITY EVALUATION'!N31","v":0.25}]
[null,18,"დაინტერესებული მხარის სურვილი, ითანამშრომლოს ადგილობრივი ხელისუფლების ორგანოებთან",null,null,null,null,null,{"$f":"IF(D52=\"x\",-2,0)","v":0},{"$f":"IF(E52=\"x\",-1,0)","v":0},{"$f":"IF(F52=\"x\",0,0)","v":0},{"$f":"IF(G52=\"x\",1,0)","v":0},{"$f":"IF(H52=\"x\",2,0)","v":0}]
[null,19,"დაინტერესებული მხარის ინტერესი, ხმა მიაწვდინოს/მოიცვას ფართო საზოგადოება",null,null,null,null,null,{"$f":"IF(D53=\"x\",-2,0)","v":0},{"$f":"IF(E53=\"x\",-1,0)","v":0},{"$f":"IF(F53=\"x\",0,0)","v":0},{"$f":"IF(G53=\"x\",1,0)","v":0},{"$f":"IF(H53=\"x\",2,0)","v":0}]
[null,20,"დაინტერესებული მხარის სურვილი, გააზიაროს/გაზარდოს თავისი ინფორმირებულობა პოლიტიკის საკითხებზე",null,null,null,null,null,{"$f":"IF(D54=\"x\",-2,0)","v":0},{"$f":"IF(E54=\"x\",-1,0)","v":0},{"$f":"IF(F54=\"x\",0,0)","v":0},{"$f":"IF(G54=\"x\",1,0)","v":0},{"$f":"IF(H54=\"x\",2,0)","v":0}]
[null,null,"ინტერესის ქულა",null,null,null,null,null,null,null,null,null,null,null,{"$f":"IF(D2=\"\",\"\",(SUM(O51+O45+O39+O33)/4))","v":""}]

{"sheet":"STAKEHOLDER (23)","index":27,"n_rows":55,"n_cols":15,"rows_kept":55,"cut":false,"hidden":false,"merged":[[0,1,0,14],[1,3,1,14],[27,2,27,7],[54,2,54,7]]}
[null,"კონკრეტული თემის გათვალისწინებით, გთხოვთ, დაინტერესებული მხარე შეაფასოთ თითოეულ პუნქტთან მიმართებით (უაღრესად უარყოფითიდან უაღრესად დადებითამდე) და შესაბამის გრაფაში მონიშნოთ „x“. "]
[null,null,"დაინტერესებული მხარე -მიუთითეთ დასახელება"]
[null,null,"განზომილებები","უაღრესად უარყოფითი","უარყოფითი","არ არის რელევანტური","დადებითი","უაღრესად დადებითი",-2,-1,0,1,2,null,"ქულა თითოეულ განზომილებაში"]
[null,null,"(1)სოციალური კაპიტალი",null,null,null,null,null,null,null,null,null,null,{"$f":"SUM(I5:M9)","v":0},{"$f":"(((N4-(-10))*(1-0))/(10-(-10)))+0","v":0.5}]
[null,1,"დაინტერესებული მხარის შესაძლებლობა, ჩართოს სხვა დაინტერესებული მხარეები ",null,null,null,null,null,{"$f":"IF(D5=\"x\",-2,0)","v":0},{"$f":"IF(E5=\"x\",-1,0)","v":0},{"$f":"IF(F5=\"x\",0,0)","v":0},{"$f":"IF(G5=\"x\",1,0)","v":0},{"$f":"IF(H5=\"x\",2,0)","v":0},null,"შეწონილი მნიშვნელობა"]
[null,2,"კონკრეტული კატეგორიის აქტორთა წარმომადგენლობითი დონე (მრავალი სხვა მოქალაქის ინტერესების წარმოდგენა)",null,null,null,null,null,{"$f":"IF(D6=\"x\",-2,0)","v":0},{"$f":"IF(E6=\"x\",-1,0)","v":0},{"$f":"IF(F6=\"x\",0,0)","v":0},{"$f":"IF(G6=\"x\",1,0)","v":0},{"$f":"IF(H6=\"x\",2,0)","v":0},null,{"$f":"O4*'1_COMMUNITY EVALUATION'!N4","v":0.25}]
[null,3,"დაინტერესებული მხარის მონაწილეობის დონე ადგილობრივ სამოქალაქო აქტივობებში",null,null,null,null,null,{"$f":"IF(D7=\"x\",-2,0)","v":0},{"$f":"IF(E7=\"x\",-1,0)","v":0},{"$f":"IF(F7=\"x\",0,0)","v":0},{"$f":"IF(G7=\"x\",1,0)","v":0},{"$f":"IF(H7=\"x\",2,0)","v":0}]
[null,4,"დაინტერესებული მხარის შესაძლებლობა, დაიწყოს ცვლილების განხორციელება/გავლენა იქონიოს მასზე",null,null,null,null,null,{"$f":"IF(D8=\"x\",-2,0)","v":0},{"$f":"IF(E8=\"x\",-1,0)","v":0},{"$f":"IF(F8=\"x\",0,0)","v":0},{"$f":"IF(G8=\"x\",1,0)","v":0},{"$f":"IF(H8=\"x\",2,0)","v":0}]
[null,5,"მოქალაქეთა მიერ დაინტერესებული მხარის აღიარების დონე ",null,null,null,null,null,{"$f":"IF(D9=\"x\",-2,0)","v":0},{"$f":"IF(E9=\"x\",-1,0)","v":0},{"$f":"IF(F9=\"x\",0,0)","v":0},{"$f":"IF(G9=\"x\",1,0)","v":0},{"$f":"IF(H9=\"x\",2,0)","v":0}]
[null,null,"(2) ეკონომიკური კაპიტალი",null,null,null,null,null,null,null,null,null,null,{"$f":"SUM(I11:M15)","v":0},{"$f":"(((N10-(-10))*(1-0))/(10-(-10)))+0","v":0.5}]
[null,6,"დაინტერესებული მხარის შესაძლებლობა, შეასრულოს დონორის ფუნქცია",null,null,null,null,null,{"$f":"IF(D11=\"x\",-2,0)","v":0},{"$f":"IF(E11=\"x\",-1,0)","v":0},{"$f":"IF(F11=\"x\",0,0)","v":0},{"$f":"IF(G11=\"x\",1,0)","v":0},{"$f":"IF(H11=\"x\",2,0)","v":0},null,"შეწონილი მნიშვნელობა"]
[null,7,"დაინტერესებული მხარის შესაძლებლობა, გავლენა მოახდინოს რესურსების განაწილებაზე ",null,null,null,null,null,{"$f":"IF(D12=\"x\",-2,0)","v":0},{"$f":"IF(E12=\"x\",-1,0)","v":0},{"$f":"IF(F12=\"x\",0,0)","v":0},{"$f":"IF(G12=\"x\",1,0)","v":0},{"$f":"IF(H12=\"x\",2,0)","v":0},null,{"$f":"O10*'1_COMMUNITY EVALUATION'!N13","v":0.25}]
[null,8,"დაინტერესებული მხარის შესაძლებლობა, ხელი შეუწყოს წვდომას არსებულ ან დამატებით (გარე) რესურსებზე  ",null,null,null,null,null,{"$f":"IF(D13=\"x\",-2,0)","v":0},{"$f":"IF(E13=\"x\",-1,0)","v":0},{"$f":"IF(F13=\"x\",0,0)","v":0},{"$f":"IF(G13=\"x\",1,0)","v":0},{"$f":"IF(H13=\"x\",2,0)","v":0}]
[null,9,"დაინტერესებული მხარის შესაძლებლობა არამატერიალური მხარდაჭერის გასაწევად ",null,null,null,null,null,{"$f":"IF(D14=\"x\",-2,0)","v":0},{"$f":"IF(E14=\"x\",-1,0)","v":0},{"$f":"IF(F14=\"x\",0,0)","v":0},{"$f":"IF(G14=\"x\",1,0)","v":0},{"$f":"IF(H14=\"x\",2,0)","v":0}]
[null,10,"დაინტერესებული მხარის გავლენა შრომის ბაზარზე",null,null,null,null,null,{"$f":"IF(D15=\"x\",-2,0)","v":0},{"$f":"IF(E15=\"x\",-1,0)","v":0},{"$f":"IF(F15=\"x\",0,0)","v":0},{"$f":"IF(G15=\"x\",1,0)","v":0},{"$f":"IF(H15=\"x\",2,0)","v":0}]
[null,null,"(3) ადამიანური კაპიტალი",null,null,null,null,null,null,null,null,null,null,{"$f":"SUM(I17:M21)","v":0},{"$f":"(((N16-(-10))*(1-0))/(10-(-10)))+0","v":0.5}]
[null,11,"დაინტერესებული მხარის ცოდნა/უნარები კონკრეტულ თემასთან მიმართებით",null,null,null,null,null,{"$f":"IF(D17=\"x\",-2,0)","v":0},{"$f":"IF(E17=\"x\",-1,0)","v":0},{"$f":"IF(F17=\"x\",0,0)","v":0},{"$f":"IF(G17=\"x\",1,0)","v":0},{"$f":"IF(H17=\"x\",2,0)","v":0},null,"შეწონილი მნიშვნელობა"]
[null,12,"დაინტერესებული მხარის ინფორმირებულობა კონკრეტულ თემაზე",null,null,null,null,null,{"$f":"IF(D18=\"x\",-2,0)","v":0},{"$f":"IF(E18=\"x\",-1,0)","v":0},{"$f":"IF(F18=\"x\",0,0)","v":0},{"$f":"IF(G18=\"x\",1,0)","v":0},{"$f":"IF(H18=\"x\",2,0)","v":0},null,{"$f":"O16*'1_COMMUNITY EVALUATION'!N22","v":0.25}]
[null,13,"დაინტერესებული მხარის შესაძლებლობა, ჩაერთოს საზოგადოებრივ დებატებში",null,null,null,null,null,{"$f":"IF(D19=\"x\",-2,0)","v":0},{"$f":"IF(E19=\"x\",-1,0)","v":0},{"$f":"IF(F19=\"x\",0,0)","v":0},{"$f":"IF(G19=\"x\",1,0)","v":0},{"$f":"IF(H19=\"x\",2,0)","v":0}]
[null,14,"დაინტერესებული მხარის შესაძლებლობა, კომუნიკაცია დაამყაროს სხვადასხვა მედიასაშუალების გამოყენებით ",null,null,null,null,null,{"$f":"IF(D20=\"x\",-2,0)","v":0},{"$f":"IF(E20=\"x\",-1,0)","v":0},{"$f":"IF(F20=\"x\",0,0)","v":0},{"$f":"IF(G20=\"x\",1,0)","v":0},{"$f":"IF(H20=\"x\",2,0)","v":0}]
[null,15,"დაინტერესებული მხარის ხელმისაწვდომობა საჯარო სივრცეებზე  ",null,null,null,null,null,{"$f":"IF(D21=\"x\",-2,0)","v":0},{"$f":"IF(E21=\"x\",-1,0)","v":0},{"$f":"IF(F21=\"x\",0,0)","v":0},{"$f":"IF(G21=\"x\",1,0)","v":0},{"$f":"IF(H21=\"x\",2,0)","v":0}]
[null,null,"(4)პოლიტიკური კაპიტალი",null,null,null,null,null,null,null,null,null,null,{"$f":"SUM(I23:M27)","v":0},{"$f":"(((N22-(-10))*(1-0))/(10-(-10)))+0","v":0.5}]
[null,16,"ადგილობრივი ადმინისტრაციის ნდობა დაინტერესებული მხარის მიმართ",null,null,null,null,null,{"$f":"IF(D23=\"x\",-2,0)","v":0},{"$f":"IF(E23=\"x\",-1,0)","v":0},{"$f":"IF(F23=\"x\",0,0)","v":0},{"$f":"IF(G23=\"x\",1,0)","v":0},{"$f":"IF(H23=\"x\",2,0)","v":0},null,"შეწონილი მნიშვნელობა"]
[null,17,"დაინტერესებული მხარის შესაძლებლობა, ჩართოს სხვა პოლიტიკური აქტორები",null,null,null,null,null,{"$f":"IF(D24=\"x\",-2,0)","v":0},{"$f":"IF(E24=\"x\",-1,0)","v":0},{"$f":"IF(F24=\"x\",0,0)","v":0},{"$f":"IF(G24=\"x\",1,0)","v":0},{"$f":"IF(H24=\"x\",2,0)","v":0},null,{"$f":"O22*'1_COMMUNITY EVALUATION'!N31","v":0.25}]
[null,18,"დაინტერესებული მხარის შესაძლებლობა, ითანამშრომლოს ადგილობრივი ხელისუფლების ორგანოებთან/სხვა დაინტერესებულ მხარეებთან ",null,null,null,null,null,{"$f":"IF(D25=\"x\",-2,0)","v":0},{"$f":"IF(E25=\"x\",-1,0)","v":0},{"$f":"IF(F25=\"x\",0,0)","v":0},{"$f":"IF(G25=\"x\",1,0)","v":0},{"$f":"IF(H25=\"x\",2,0)","v":0}]
[null,19,"დაინტერესებული მხარის შესაძლებლობა, გავლენა იქონიოს საზოგადოებრივ აზრზე ",null,null,null,null,null,{"$f":"IF(D26=\"x\",-2,0)","v":0},{"$f":"IF(E26=\"x\",-1,0)","v":0},{"$f":"IF(F26=\"x\",0,0)","v":0},{"$f":"IF(G26=\"x\",1,0)","v":0},{"$f":"IF(H26=\"x\",2,0)","v":0}]
[null,20,"დაინტერესებული მხარის ინფორმირებულობა პოლიტიკის საკითხებზე",null,null,null,null,null,{"$f":"IF(D27=\"x\",-2,0)","v":0},{"$f":"IF(E27=\"x\",-1,0)","v":0},{"$f":"IF(F27=\"x\",0,0)","v":0},{"$f":"IF(G27=\"x\",1,0)","v":0},{"$f":"IF(H27=\"x\",2,0)","v":0}]
[null,null,"რელევანტურობის ქულა",null,null,null,null,null,null,null,null,null,null,null,{"$f":"IF(D2=\"\",\"\",(SUM(O24+O18+O12+O6)/4))","v":""}]
[]
[null,null,"განზომილებები","უაღრესად უარყოფითი","უარყოფითი","არ არის რელევანტური","დადებითი","უაღრესად დადებითი",-2,-1,0,1,2,null,"ქულა თითოეულ განზომილებაში"]
[null,null,"(1)სოციალური კაპიტალი",null,null,null,null,null,null,null,null,null,null,{"$f":"SUM(I32:M36)","v":0},{"$f":"(((N31-(-10))*(1-0))/(10-(-10)))+0","v":0.5}]
[null,1,"დაინტერესებული მხარის ინტერესი, დაამყაროს კონტაქტები კონკრეტულ თემასთან დაკავშირებით",null,null,null,null,null,{"$f":"IF(D32=\"x\",-2,0)","v":0},{"$f":"IF(E32=\"x\",-1,0)","v":0},{"$f":"IF(F32=\"x\",0,0)","v":0},{"$f":"IF(G32=\"x\",1,0)","v":0},{"$f":"IF(H32=\"x\",2,0)","v":0},null,"შეწონილი მნიშვნელობა"]
[null,2,"დაინტერესებული მხარის ინტერესი, უზრუნველყოს კონკრეტული კატეგორიის აქტორთა წარმომადგენლობა თემასთან მიმართებით",null,null,null,null,null,{"$f":"IF(D33=\"x\",-2,0)","v":0},{"$f":"IF(E33=\"x\",-1,0)","v":0},{"$f":"IF(F33=\"x\",0,0)","v":0},{"$f":"IF(G33=\"x\",1,0)","v":0},{"$f":"IF(H33=\"x\",2,0)","v":0},null,{"$f":"O31*'1_COMMUNITY EVALUATION'!N4","v":0.25}]
[null,3,"დაინტერესებული მხარის ინტერესი, ჩაერთოს  ადგილობრივ სამოქალაქო აქტივობებში თემასთან მიმართებით",null,null,null,null,null,{"$f":"IF(D34=\"x\",-2,0)","v":0},{"$f":"IF(E34=\"x\",-1,0)","v":0},{"$f":"IF(F34=\"x\",0,0)","v":0},{"$f":"IF(G34=\"x\",1,0)","v":0},{"$f":"IF(H34=\"x\",2,0)","v":0}]
[null,4,"დაინტერესებული მხარის ინტერესი, დაიწყოს ცვლილების განხორციელება/გავლენა იქონიოს მასზე      ",null,null,null,null,null,{"$f":"IF(D35=\"x\",-2,0)","v":0},{"$f":"IF(E35=\"x\",-1,0)","v":0},{"$f":"IF(F35=\"x\",0,0)","v":0},{"$f":"IF(G35=\"x\",1,0)","v":0},{"$f":"IF(H35=\"x\",2,0)","v":0}]
[null,5,"დაინტერესებული მხარის ინტერესი, გაზარდოს მისი აღიარება მოქალაქეთა მხრიდან",null,null,null,null,null,{"$f":"IF(D36=\"x\",-2,0)","v":0},{"$f":"IF(E36=\"x\",-1,0)","v":0},{"$f":"IF(F36=\"x\",0,0)","v":0},{"$f":"IF(G36=\"x\",1,0)","v":0},{"$f":"IF(H36=\"x\",2,0)","v":0}]
[null,null,"(2) ეკონომიკური კაპიტალი",null,null,null,null,null,null,null,null,null,null,{"$f":"SUM(I38:M42)","v":0},{"$f":"(((N37-(-10))*(1-0))/(10-(-10)))+0","v":0.5}]
[null,6,"დაინტერესებული მხარის პოტენციური ეკონომიკური სარგებელი",null,null,null,null,null,{"$f":"IF(D38=\"x\",-2,0)","v":0},{"$f":"IF(E38=\"x\",-1,0)","v":0},{"$f":"IF(F38=\"x\",0,0)","v":0},{"$f":"IF(G38=\"x\",1,0)","v":0},{"$f":"IF(H38=\"x\",2,0)","v":0},null,"შეწონილი მნიშვნელობა"]
[null,7,"დაინტერესებული მხარის სურვილი, თავი მოუყაროს რესურსებს",null,null,null,null,null,{"$f":"IF(D39=\"x\",-2,0)","v":0},{"$f":"IF(E39=\"x\",-1,0)","v":0},{"$f":"IF(F39=\"x\",0,0)","v":0},{"$f":"IF(G39=\"x\",1,0)","v":0},{"$f":"IF(H39=\"x\",2,0)","v":0},null,{"$f":"O37*'1_COMMUNITY EVALUATION'!N13","v":0.25}]
[null,8,"დაინტერესებული მხარის სურვილი, ხელი შეუწყოს წვდომას არსებულ ან დამატებით(გარე) რესურსებზე       ",null,null,null,null,null,{"$f":"IF(D40=\"x\",-2,0)","v":0},{"$f":"IF(E40=\"x\",-1,0)","v":0},{"$f":"IF(F40=\"x\",0,0)","v":0},{"$f":"IF(G40=\"x\",1,0)","v":0},{"$f":"IF(H40=\"x\",2,0)","v":0}]
[null,9,"დაინტერესებული მხარის მზაობა არამატერიალური მხარდაჭერის გასაწევად",null,null,null,null,null,{"$f":"IF(D41=\"x\",-2,0)","v":0},{"$f":"IF(E41=\"x\",-1,0)","v":0},{"$f":"IF(F41=\"x\",0,0)","v":0},{"$f":"IF(G41=\"x\",1,0)","v":0},{"$f":"IF(H41=\"x\",2,0)","v":0}]
[null,10,"დაინტერესებული მხარის ინტერესი, გაზარდოს თავისი გავლენა შრომის ბაზარზე",null,null,null,null,null,{"$f":"IF(D42=\"x\",-2,0)","v":0},{"$f":"IF(E42=\"x\",-1,0)","v":0},{"$f":"IF(F42=\"x\",0,0)","v":0},{"$f":"IF(G42=\"x\",1,0)","v":0},{"$f":"IF(H42=\"x\",2,0)","v":0}]
[null,null,"(3) ადამიანური კაპიტალი",null,null,null,null,null,null,null,null,null,null,{"$f":"SUM(I44:M48)","v":0},{"$f":"(((N43-(-10))*(1-0))/(10-(-10)))+0","v":0.5}]
[null,11,"დაინტერესებული მხარის ინტერესი, გააზიაროს/გააუმჯობესოს თავისი ცოდნა/უნარები კონკრეტულ თემასთან მიმართებით",null,null,null,null,null,{"$f":"IF(D44=\"x\",-2,0)","v":0},{"$f":"IF(E44=\"x\",-1,0)","v":0},{"$f":"IF(F44=\"x\",0,0)","v":0},{"$f":"IF(G44=\"x\",1,0)","v":0},{"$f":"IF(H44=\"x\",2,0)","v":0},null,"შეწონილი მნიშვნელობა"]
[null,12,"დაინტერესებული მხარის სურვილი გააზიაროს/გაზარდოს საკუთარი ინფორმირებულობა კონკრეტულ თემაზე",null,null,null,null,null,{"$f":"IF(D45=\"x\",-2,0)","v":0},{"$f":"IF(E45=\"x\",-1,0)","v":0},{"$f":"IF(F45=\"x\",0,0)","v":0},{"$f":"IF(G45=\"x\",1,0)","v":0},{"$f":"IF(H45=\"x\",2,0)","v":0},null,{"$f":"O43*'1_COMMUNITY EVALUATION'!N22","v":0.25}]
[null,13,"დაინტერესებული მხარის სურვილი, ჩაერთოს საზოგადოებრივ დებატებში",null,null,null,null,null,{"$f":"IF(D46=\"x\",-2,0)","v":0},{"$f":"IF(E46=\"x\",-1,0)","v":0},{"$f":"IF(F46=\"x\",0,0)","v":0},{"$f":"IF(G46=\"x\",1,0)","v":0},{"$f":"IF(H46=\"x\",2,0)","v":0}]
[null,14,"დაინტერესებული მხარის სურვილი,კომუნიკაცია დაამყაროს სხვადასხვა მედიასაშუალების გამოყენებით ",null,null,null,null,null,{"$f":"IF(D47=\"x\",-2,0)","v":0},{"$f":"IF(E47=\"x\",-1,0)","v":0},{"$f":"IF(F47=\"x\",0,0)","v":0},{"$f":"IF(G47=\"x\",1,0)","v":0},{"$f":"IF(H47=\"x\",2,0)","v":0}]
[null,15,"დაინტერესებული მხარის სურვილი, ჰქონდეს წვდომა საჯარო სივრცეებზე",null,null,null,null,null,{"$f":"IF(D48=\"x\",-2,0)","v":0},{"$f":"IF(E48=\"x\",-1,0)","v":0},{"$f":"IF(F48=\"x\",0,0)","v":0},{"$f":"IF(G48=\"x\",1,0)","v":0},{"$f":"IF(H48=\"x\",2,0)","v":0}]
[null,null,"(4)პოლიტიკური კაპიტალი",null,null,null,null,null,null,null,null,null,null,{"$f":"SUM(I50:M54)","v":0},{"$f":"(((N49-(-10))*(1-0))/(10-(-10)))+0","v":0.5}]
[null,16,"დაინტერესებული მხარის ნდობა ადგილობრივი ადმინისტრაციის მიმართ",null,null,null,null,null,{"$f":"IF(D50=\"x\",-2,0)","v":0},{"$f":"IF(E50=\"x\",-1,0)","v":0},{"$f":"IF(F50=\"x\",0,0)","v":0},{"$f":"IF(G50=\"x\",1,0)","v":0},{"$f":"IF(H50=\"x\",2,0)","v":0},null,"შეწონილი მნიშვნელობა"]
[null,17,"დაინტერესებული მხარის პოლიტიკური ინტერესი კონკრეტული თემის მიმართ ",null,null,null,null,null,{"$f":"IF(D51=\"x\",-2,0)","v":0},{"$f":"IF(E51=\"x\",-1,0)","v":0},{"$f":"IF(F51=\"x\",0,0)","v":0},{"$f":"IF(G51=\"x\",1,0)","v":0},{"$f":"IF(H51=\"x\",2,0)","v":0},null,{"$f":"O49*'1_COMMUNITY EVALUATION'!N31","v":0.25}]
[null,18,"დაინტერესებული მხარის სურვილი, ითანამშრომლოს ადგილობრივი ხელისუფლების ორგანოებთან",null,null,null,null,null,{"$f":"IF(D52=\"x\",-2,0)","v":0},{"$f":"IF(E52=\"x\",-1,0)","v":0},{"$f":"IF(F52=\"x\",0,0)","v":0},{"$f":"IF(G52=\"x\",1,0)","v":0},{"$f":"IF(H52=\"x\",2,0)","v":0}]
[null,19,"დაინტერესებული მხარის ინტერესი, ხმა მიაწვდინოს/მოიცვას ფართო საზოგადოება",null,null,null,null,null,{"$f":"IF(D53=\"x\",-2,0)","v":0},{"$f":"IF(E53=\"x\",-1,0)","v":0},{"$f":"IF(F53=\"x\",0,0)","v":0},{"$f":"IF(G53=\"x\",1,0)","v":0},{"$f":"IF(H53=\"x\",2,0)","v":0}]
[null,20,"დაინტერესებული მხარის სურვილი, გააზიაროს/გაზარდოს თავისი ინფორმირებულობა პოლიტიკის საკითხებზე",null,null,null,null,null,{"$f":"IF(D54=\"x\",-2,0)","v":0},{"$f":"IF(E54=\"x\",-1,0)","v":0},{"$f":"IF(F54=\"x\",0,0)","v":0},{"$f":"IF(G54=\"x\",1,0)","v":0},{"$f":"IF(H54=\"x\",2,0)","v":0}]
[null,null,"ინტერესის ქულა",null,null,null,null,null,null,null,null,null,null,null,{"$f":"IF(D2=\"\",\"\",(SUM(O51+O45+O39+O33)/4))","v":""}]

{"sheet":"STAKEHOLDER (24)","index":28,"n_rows":55,"n_cols":15,"rows_kept":55,"cut":false,"hidden":false,"merged":[[0,1,0,14],[1,3,1,14],[27,2,27,7],[54,2,54,7]]}
[null,"კონკრეტული თემის გათვალისწინებით, გთხოვთ, დაინტერესებული მხარე შეაფასოთ თითოეულ პუნქტთან მიმართებით (უაღრესად უარყოფითიდან უაღრესად დადებითამდე) და შესაბამის გრაფაში მონიშნოთ „x“. "]
[null,null,"დაინტერესებული მხარე -მიუთითეთ დასახელება"]
[null,null,"განზომილებები","უაღრესად უარყოფითი","უარყოფითი","არ არის რელევანტური","დადებითი","უაღრესად დადებითი",-2,-1,0,1,2,null,"ქულა თითოეულ განზომილებაში"]
[null,null,"(1)სოციალური კაპიტალი",null,null,null,null,null,null,null,null,null,null,{"$f":"SUM(I5:M9)","v":0},{"$f":"(((N4-(-10))*(1-0))/(10-(-10)))+0","v":0.5}]
[null,1,"დაინტერესებული მხარის შესაძლებლობა, ჩართოს სხვა დაინტერესებული მხარეები ",null,null,null,null,null,{"$f":"IF(D5=\"x\",-2,0)","v":0},{"$f":"IF(E5=\"x\",-1,0)","v":0},{"$f":"IF(F5=\"x\",0,0)","v":0},{"$f":"IF(G5=\"x\",1,0)","v":0},{"$f":"IF(H5=\"x\",2,0)","v":0},null,"შეწონილი მნიშვნელობა"]
[null,2,"კონკრეტული კატეგორიის აქტორთა წარმომადგენლობითი დონე (მრავალი სხვა მოქალაქის ინტერესების წარმოდგენა)",null,null,null,null,null,{"$f":"IF(D6=\"x\",-2,0)","v":0},{"$f":"IF(E6=\"x\",-1,0)","v":0},{"$f":"IF(F6=\"x\",0,0)","v":0},{"$f":"IF(G6=\"x\",1,0)","v":0},{"$f":"IF(H6=\"x\",2,0)","v":0},null,{"$f":"O4*'1_COMMUNITY EVALUATION'!N4","v":0.25}]
[null,3,"დაინტერესებული მხარის მონაწილეობის დონე ადგილობრივ სამოქალაქო აქტივობებში",null,null,null,null,null,{"$f":"IF(D7=\"x\",-2,0)","v":0},{"$f":"IF(E7=\"x\",-1,0)","v":0},{"$f":"IF(F7=\"x\",0,0)","v":0},{"$f":"IF(G7=\"x\",1,0)","v":0},{"$f":"IF(H7=\"x\",2,0)","v":0}]
[null,4,"დაინტერესებული მხარის შესაძლებლობა, დაიწყოს ცვლილების განხორციელება/გავლენა იქონიოს მასზე",null,null,null,null,null,{"$f":"IF(D8=\"x\",-2,0)","v":0},{"$f":"IF(E8=\"x\",-1,0)","v":0},{"$f":"IF(F8=\"x\",0,0)","v":0},{"$f":"IF(G8=\"x\",1,0)","v":0},{"$f":"IF(H8=\"x\",2,0)","v":0}]
[null,5,"მოქალაქეთა მიერ დაინტერესებული მხარის აღიარების დონე ",null,null,null,null,null,{"$f":"IF(D9=\"x\",-2,0)","v":0},{"$f":"IF(E9=\"x\",-1,0)","v":0},{"$f":"IF(F9=\"x\",0,0)","v":0},{"$f":"IF(G9=\"x\",1,0)","v":0},{"$f":"IF(H9=\"x\",2,0)","v":0}]
[null,null,"(2) ეკონომიკური კაპიტალი",null,null,null,null,null,null,null,null,null,null,{"$f":"SUM(I11:M15)","v":0},{"$f":"(((N10-(-10))*(1-0))/(10-(-10)))+0","v":0.5}]
[null,6,"დაინტერესებული მხარის შესაძლებლობა, შეასრულოს დონორის ფუნქცია",null,null,null,null,null,{"$f":"IF(D11=\"x\",-2,0)","v":0},{"$f":"IF(E11=\"x\",-1,0)","v":0},{"$f":"IF(F11=\"x\",0,0)","v":0},{"$f":"IF(G11=\"x\",1,0)","v":0},{"$f":"IF(H11=\"x\",2,0)","v":0},null,"შეწონილი მნიშვნელობა"]
[null,7,"დაინტერესებული მხარის შესაძლებლობა, გავლენა მოახდინოს რესურსების განაწილებაზე ",null,null,null,null,null,{"$f":"IF(D12=\"x\",-2,0)","v":0},{"$f":"IF(E12=\"x\",-1,0)","v":0},{"$f":"IF(F12=\"x\",0,0)","v":0},{"$f":"IF(G12=\"x\",1,0)","v":0},{"$f":"IF(H12=\"x\",2,0)","v":0},null,{"$f":"O10*'1_COMMUNITY EVALUATION'!N13","v":0.25}]
[null,8,"დაინტერესებული მხარის შესაძლებლობა, ხელი შეუწყოს წვდომას არსებულ ან დამატებით (გარე) რესურსებზე ",null,null,null,null,null,{"$f":"IF(D13=\"x\",-2,0)","v":0},{"$f":"IF(E13=\"x\",-1,0)","v":0},{"$f":"IF(F13=\"x\",0,0)","v":0},{"$f":"IF(G13=\"x\",1,0)","v":0},{"$f":"IF(H13=\"x\",2,0)","v":0}]
[null,9,"დაინტერესებული მხარის შესაძლებლობა არამატერიალური მხარდაჭერის გასაწევად ",null,null,null,null,null,{"$f":"IF(D14=\"x\",-2,0)","v":0},{"$f":"IF(E14=\"x\",-1,0)","v":0},{"$f":"IF(F14=\"x\",0,0)","v":0},{"$f":"IF(G14=\"x\",1,0)","v":0},{"$f":"IF(H14=\"x\",2,0)","v":0}]
[null,10,"დაინტერესებული მხარის გავლენა შრომის ბაზარზე",null,null,null,null,null,{"$f":"IF(D15=\"x\",-2,0)","v":0},{"$f":"IF(E15=\"x\",-1,0)","v":0},{"$f":"IF(F15=\"x\",0,0)","v":0},{"$f":"IF(G15=\"x\",1,0)","v":0},{"$f":"IF(H15=\"x\",2,0)","v":0}]
[null,null,"(3) ადამიანური კაპიტალი",null,null,null,null,null,null,null,null,null,null,{"$f":"SUM(I17:M21)","v":0},{"$f":"(((N16-(-10))*(1-0))/(10-(-10)))+0","v":0.5}]
[null,11,"დაინტერესებული მხარის ცოდნა/უნარები კონკრეტულ თემასთან მიმართებით",null,null,null,null,null,{"$f":"IF(D17=\"x\",-2,0)","v":0},{"$f":"IF(E17=\"x\",-1,0)","v":0},{"$f":"IF(F17=\"x\",0,0)","v":0},{"$f":"IF(G17=\"x\",1,0)","v":0},{"$f":"IF(H17=\"x\",2,0)","v":0},null,"შეწონილი მნიშვნელობა"]
[null,12,"დაინტერესებული მხარის ინფორმირებულობა კონკრეტულ თემაზე",null,null,null,null,null,{"$f":"IF(D18=\"x\",-2,0)","v":0},{"$f":"IF(E18=\"x\",-1,0)","v":0},{"$f":"IF(F18=\"x\",0,0)","v":0},{"$f":"IF(G18=\"x\",1,0)","v":0},{"$f":"IF(H18=\"x\",2,0)","v":0},null,{"$f":"O16*'1_COMMUNITY EVALUATION'!N22","v":0.25}]
[null,13,"დაინტერესებული მხარის შესაძლებლობა, ჩაერთოს საზოგადოებრივ დებატებში",null,null,null,null,null,{"$f":"IF(D19=\"x\",-2,0)","v":0},{"$f":"IF(E19=\"x\",-1,0)","v":0},{"$f":"IF(F19=\"x\",0,0)","v":0},{"$f":"IF(G19=\"x\",1,0)","v":0},{"$f":"IF(H19=\"x\",2,0)","v":0}]
[null,14,"დაინტერესებული მხარის შესაძლებლობა, კომუნიკაცია დაამყაროს სხვადასხვა მედიასაშუალების გამოყენებით ",null,null,null,null,null,{"$f":"IF(D20=\"x\",-2,0)","v":0},{"$f":"IF(E20=\"x\",-1,0)","v":0},{"$f":"IF(F20=\"x\",0,0)","v":0},{"$f":"IF(G20=\"x\",1,0)","v":0},{"$f":"IF(H20=\"x\",2,0)","v":0}]
[null,15,"დაინტერესებული მხარის ხელმისაწვდომობა საჯარო სივრცეებზე  ",null,null,null,null,null,{"$f":"IF(D21=\"x\",-2,0)","v":0},{"$f":"IF(E21=\"x\",-1,0)","v":0},{"$f":"IF(F21=\"x\",0,0)","v":0},{"$f":"IF(G21=\"x\",1,0)","v":0},{"$f":"IF(H21=\"x\",2,0)","v":0}]
[null,null,"(4) პოლიტიკური კაპიტალი",null,null,null,null,null,null,null,null,null,null,{"$f":"SUM(I23:M27)","v":0},{"$f":"(((N22-(-10))*(1-0))/(10-(-10)))+0","v":0.5}]
[null,16,"ადგილობრივი ადმინისტრაციის ნდობა დაინტერესებული მხარის მიმართ",null,null,null,null,null,{"$f":"IF(D23=\"x\",-2,0)","v":0},{"$f":"IF(E23=\"x\",-1,0)","v":0},{"$f":"IF(F23=\"x\",0,0)","v":0},{"$f":"IF(G23=\"x\",1,0)","v":0},{"$f":"IF(H23=\"x\",2,0)","v":0},null,"შეწონილი მნიშვნელობა"]
[null,17,"დაინტერესებული მხარის შესაძლებლობა, ჩართოს სხვა პოლიტიკური აქტორები",null,null,null,null,null,{"$f":"IF(D24=\"x\",-2,0)","v":0},{"$f":"IF(E24=\"x\",-1,0)","v":0},{"$f":"IF(F24=\"x\",0,0)","v":0},{"$f":"IF(G24=\"x\",1,0)","v":0},{"$f":"IF(H24=\"x\",2,0)","v":0},null,{"$f":"O22*'1_COMMUNITY EVALUATION'!N31","v":0.25}]
[null,18,"დაინტერესებული მხარის შესაძლებლობა, ითანამშრომლოს ადგილობრივი ხელისუფლების ორგანოებთან/სხვა დაინტერესებულ მხარეებთან ",null,null,null,null,null,{"$f":"IF(D25=\"x\",-2,0)","v":0},{"$f":"IF(E25=\"x\",-1,0)","v":0},{"$f":"IF(F25=\"x\",0,0)","v":0},{"$f":"IF(G25=\"x\",1,0)","v":0},{"$f":"IF(H25=\"x\",2,0)","v":0}]
[null,19,"დაინტერესებული მხარის შესაძლებლობა, გავლენა იქონიოს საზოგადოებრივ აზრზე ",null,null,null,null,null,{"$f":"IF(D26=\"x\",-2,0)","v":0},{"$f":"IF(E26=\"x\",-1,0)","v":0},{"$f":"IF(F26=\"x\",0,0)","v":0},{"$f":"IF(G26=\"x\",1,0)","v":0},{"$f":"IF(H26=\"x\",2,0)","v":0}]
[null,20,"დაინტერესებული მხარის ინფორმირებულობა პოლიტიკის საკითხებზე",null,null,null,null,null,{"$f":"IF(D27=\"x\",-2,0)","v":0},{"$f":"IF(E27=\"x\",-1,0)","v":0},{"$f":"IF(F27=\"x\",0,0)","v":0},{"$f":"IF(G27=\"x\",1,0)","v":0},{"$f":"IF(H27=\"x\",2,0)","v":0}]
[null,null,"რელევანტურობის ქულა",null,null,null,null,null,null,null,null,null,null,null,{"$f":"IF(D2=\"\",\"\",(SUM(O24+O18+O12+O6)/4))","v":""}]
[]
[null,null,"განზომილებები","უაღრესად უარყოფითი","უარყოფითი","არ არის რელევანტური","დადებითი","უაღრესად დადებითი",-2,-1,0,1,2,null,"ქულა თითოეულ განზომილებაში"]
[null,null,"(1)სოციალური კაპიტალი",null,null,null,null,null,null,null,null,null,null,{"$f":"SUM(I32:M36)","v":0},{"$f":"(((N31-(-10))*(1-0))/(10-(-10)))+0","v":0.5}]
[null,1,"დაინტერესებული მხარის ინტერესი, დაამყაროს კონტაქტები კონკრეტულ თემასთან დაკავშირებით",null,null,null,null,null,{"$f":"IF(D32=\"x\",-2,0)","v":0},{"$f":"IF(E32=\"x\",-1,0)","v":0},{"$f":"IF(F32=\"x\",0,0)","v":0},{"$f":"IF(G32=\"x\",1,0)","v":0},{"$f":"IF(H32=\"x\",2,0)","v":0},null,"შეწონილი მნიშვნელობა"]
[null,2,"დაინტერესებული მხარის ინტერესი, უზრუნველყოს კონკრეტული კატეგორიის აქტორთა წარმომადგენლობა თემასთან მიმართებით",null,null,null,null,null,{"$f":"IF(D33=\"x\",-2,0)","v":0},{"$f":"IF(E33=\"x\",-1,0)","v":0},{"$f":"IF(F33=\"x\",0,0)","v":0},{"$f":"IF(G33=\"x\",1,0)","v":0},{"$f":"IF(H33=\"x\",2,0)","v":0},null,{"$f":"O31*'1_COMMUNITY EVALUATION'!N4","v":0.25}]
[null,3,"დაინტერესებული მხარის ინტერესი, ჩაერთოს  ადგილობრივ სამოქალაქო აქტივობებში თემასთან მიმართებით",null,null,null,null,null,{"$f":"IF(D34=\"x\",-2,0)","v":0},{"$f":"IF(E34=\"x\",-1,0)","v":0},{"$f":"IF(F34=\"x\",0,0)","v":0},{"$f":"IF(G34=\"x\",1,0)","v":0},{"$f":"IF(H34=\"x\",2,0)","v":0}]
[null,4,"დაინტერესებული მხარის ინტერესი, დაიწყოს ცვლილების განხორციელება/გავლენა იქონიოს მასზე      ",null,null,null,null,null,{"$f":"IF(D35=\"x\",-2,0)","v":0},{"$f":"IF(E35=\"x\",-1,0)","v":0},{"$f":"IF(F35=\"x\",0,0)","v":0},{"$f":"IF(G35=\"x\",1,0)","v":0},{"$f":"IF(H35=\"x\",2,0)","v":0}]
[null,5,"დაინტერესებული მხარის ინტერესი, გაზარდოს მისი აღიარება მოქალაქეთა მხრიდან",null,null,null,null,null,{"$f":"IF(D36=\"x\",-2,0)","v":0},{"$f":"IF(E36=\"x\",-1,0)","v":0},{"$f":"IF(F36=\"x\",0,0)","v":0},{"$f":"IF(G36=\"x\",1,0)","v":0},{"$f":"IF(H36=\"x\",2,0)","v":0}]
[null,null,"(2) ეკონომიკური კაპიტალი",null,null,null,null,null,null,null,null,null,null,{"$f":"SUM(I38:M42)","v":0},{"$f":"(((N37-(-10))*(1-0))/(10-(-10)))+0","v":0.5}]
[null,6,"დაინტერესებული მხარის პოტენციური ეკონომიკური სარგებელი",null,null,null,null,null,{"$f":"IF(D38=\"x\",-2,0)","v":0},{"$f":"IF(E38=\"x\",-1,0)","v":0},{"$f":"IF(F38=\"x\",0,0)","v":0},{"$f":"IF(G38=\"x\",1,0)","v":0},{"$f":"IF(H38=\"x\",2,0)","v":0},null,"შეწონილი მნიშვნელობა"]
[null,7,"დაინტერესებული მხარის სურვილი, თავი მოუყაროს რესურსებს",null,null,null,null,null,{"$f":"IF(D39=\"x\",-2,0)","v":0},{"$f":"IF(E39=\"x\",-1,0)","v":0},{"$f":"IF(F39=\"x\",0,0)","v":0},{"$f":"IF(G39=\"x\",1,0)","v":0},{"$f":"IF(H39=\"x\",2,0)","v":0},null,{"$f":"O37*'1_COMMUNITY EVALUATION'!N13","v":0.25}]
[null,8,"დაინტერესებული მხარის სურვილი, ხელი შეუწყოს წვდომას არსებულ ან დამატებით(გარე) რესურსებზე       ",null,null,null,null,null,{"$f":"IF(D40=\"x\",-2,0)","v":0},{"$f":"IF(E40=\"x\",-1,0)","v":0},{"$f":"IF(F40=\"x\",0,0)","v":0},{"$f":"IF(G40=\"x\",1,0)","v":0},{"$f":"IF(H40=\"x\",2,0)","v":0}]
[null,9,"დაინტერესებული მხარის მზაობა არამატერიალური მხარდაჭერის გასაწევად",null,null,null,null,null,{"$f":"IF(D41=\"x\",-2,0)","v":0},{"$f":"IF(E41=\"x\",-1,0)","v":0},{"$f":"IF(F41=\"x\",0,0)","v":0},{"$f":"IF(G41=\"x\",1,0)","v":0},{"$f":"IF(H41=\"x\",2,0)","v":0}]
[null,10,"დაინტერესებული მხარის ინტერესი, გაზარდოს თავისი გავლენა შრომის ბაზარზე",null,null,null,null,null,{"$f":"IF(D42=\"x\",-2,0)","v":0},{"$f":"IF(E42=\"x\",-1,0)","v":0},{"$f":"IF(F42=\"x\",0,0)","v":0},{"$f":"IF(G42=\"x\",1,0)","v":0},{"$f":"IF(H42=\"x\",2,0)","v":0}]
[null,null,"(3) ადამიანური კაპიტალი",null,null,null,null,null,null,null,null,null,null,{"$f":"SUM(I44:M48)","v":0},{"$f":"(((N43-(-10))*(1-0))/(10-(-10)))+0","v":0.5}]
[null,11,"დაინტერესებული მხარის ინტერესი, გააზიაროს/გააუმჯობესოს თავისი ცოდნა/უნარები  კონკრეტულ თემასთან მიმართებით",null,null,null,null,null,{"$f":"IF(D44=\"x\",-2,0)","v":0},{"$f":"IF(E44=\"x\",-1,0)","v":0},{"$f":"IF(F44=\"x\",0,0)","v":0},{"$f":"IF(G44=\"x\",1,0)","v":0},{"$f":"IF(H44=\"x\",2,0)","v":0},null,"შეწონილი მნიშვნელობა"]
[null,12,"დაინტერესებული მხარის სურვილი გააზიაროს/გაზარდოს საკუთარი ინფორმირებულობა კონკრეტულ თემაზე",null,null,null,null,null,{"$f":"IF(D45=\"x\",-2,0)","v":0},{"$f":"IF(E45=\"x\",-1,0)","v":0},{"$f":"IF(F45=\"x\",0,0)","v":0},{"$f":"IF(G45=\"x\",1,0)","v":0},{"$f":"IF(H45=\"x\",2,0)","v":0},null,{"$f":"O43*'1_COMMUNITY EVALUATION'!N22","v":0.25}]
[null,13,"დაინტერესებული მხარის სურვილი, ჩაერთოს საზოგადოებრივ დებატებში",null,null,null,null,null,{"$f":"IF(D46=\"x\",-2,0)","v":0},{"$f":"IF(E46=\"x\",-1,0)","v":0},{"$f":"IF(F46=\"x\",0,0)","v":0},{"$f":"IF(G46=\"x\",1,0)","v":0},{"$f":"IF(H46=\"x\",2,0)","v":0}]
[null,14,"დაინტერესებული მხარის სურვილი, კომუნიკაცია დაამყაროს სხვადასხვა მედიასაშუალების  გამოყენებით ",null,null,null,null,null,{"$f":"IF(D47=\"x\",-2,0)","v":0},{"$f":"IF(E47=\"x\",-1,0)","v":0},{"$f":"IF(F47=\"x\",0,0)","v":0},{"$f":"IF(G47=\"x\",1,0)","v":0},{"$f":"IF(H47=\"x\",2,0)","v":0}]
[null,15,"დაინტერესებული მხარის სურვილი, ჰქონდეს წვდომა საჯარო სივრცეებზე",null,null,null,null,null,{"$f":"IF(D48=\"x\",-2,0)","v":0},{"$f":"IF(E48=\"x\",-1,0)","v":0},{"$f":"IF(F48=\"x\",0,0)","v":0},{"$f":"IF(G48=\"x\",1,0)","v":0},{"$f":"IF(H48=\"x\",2,0)","v":0}]
[null,null,"(4) პოლიტიკური კაპიტალი",null,null,null,null,null,null,null,null,null,null,{"$f":"SUM(I50:M54)","v":0},{"$f":"(((N49-(-10))*(1-0))/(10-(-10)))+0","v":0.5}]
[null,16,"დაინტერესებული მხარის ნდობა ადგილობრივი ადმინისტრაციის მიმართ",null,null,null,null,null,{"$f":"IF(D50=\"x\",-2,0)","v":0},{"$f":"IF(E50=\"x\",-1,0)","v":0},{"$f":"IF(F50=\"x\",0,0)","v":0},{"$f":"IF(G50=\"x\",1,0)","v":0},{"$f":"IF(H50=\"x\",2,0)","v":0},null,"შეწონილი მნიშვნელობა"]
[null,17,"დაინტერესებული მხარის პოლიტიკური ინტერესი კონკრეტული თემის მიმართ ",null,null,null,null,null,{"$f":"IF(D51=\"x\",-2,0)","v":0},{"$f":"IF(E51=\"x\",-1,0)","v":0},{"$f":"IF(F51=\"x\",0,0)","v":0},{"$f":"IF(G51=\"x\",1,0)","v":0},{"$f":"IF(H51=\"x\",2,0)","v":0},null,{"$f":"O49*'1_COMMUNITY EVALUATION'!N31","v":0.25}]
[null,18,"დაინტერესებული მხარის სურვილი, ითანამშრომლოს ადგილობრივი ხელისუფლების ორგანოებთან",null,null,null,null,null,{"$f":"IF(D52=\"x\",-2,0)","v":0},{"$f":"IF(E52=\"x\",-1,0)","v":0},{"$f":"IF(F52=\"x\",0,0)","v":0},{"$f":"IF(G52=\"x\",1,0)","v":0},{"$f":"IF(H52=\"x\",2,0)","v":0}]
[null,19,"დაინტერესებული მხარის ინტერესი, ხმა მიაწვდინოს/მოიცვას ფართო საზოგადოება",null,null,null,null,null,{"$f":"IF(D53=\"x\",-2,0)","v":0},{"$f":"IF(E53=\"x\",-1,0)","v":0},{"$f":"IF(F53=\"x\",0,0)","v":0},{"$f":"IF(G53=\"x\",1,0)","v":0},{"$f":"IF(H53=\"x\",2,0)","v":0}]
[null,20,"დაინტერესებული მხარის სურვილი, გააზიაროს/გაზარდოს თავისი ინფორმირებულობა პოლიტიკის საკითხებზე",null,null,null,null,null,{"$f":"IF(D54=\"x\",-2,0)","v":0},{"$f":"IF(E54=\"x\",-1,0)","v":0},{"$f":"IF(F54=\"x\",0,0)","v":0},{"$f":"IF(G54=\"x\",1,0)","v":0},{"$f":"IF(H54=\"x\",2,0)","v":0}]
[null,null,"ინტერესის ქულა",null,null,null,null,null,null,null,null,null,null,null,{"$f":"IF(D2=\"\",\"\",(SUM(O51+O45+O39+O33)/4))","v":""}]

{"sheet":"STAKEHOLDER (25)","index":29,"n_rows":55,"n_cols":15,"rows_kept":55,"cut":false,"hidden":false,"merged":[[0,1,0,14],[1,3,1,14],[27,2,27,7],[54,2,54,7]]}
[null,"კონკრეტული თემის გათვალისწინებით, გთხოვთ, დაინტერესებული მხარე შეაფასოთ თითოეულ პუნქტთან მიმართებით (უაღრესად უარყოფითიდან უაღრესად დადებითამდე) და შესაბამის გრაფაში მონიშნოთ „x“. "]
[null,null,"დაინტერესებული მხარე -მიუთითეთ დასახელება"]
[null,null,"განზომილებები","უაღრესად უარყოფითი","უარყოფითი","არ არის რელევანტური","დადებითი","უაღრესად დადებითი",-2,-1,0,1,2,null,"ქულა თითოეულ განზომილებაში"]
[null,null,"(1)სოციალური კაპიტალი",null,null,null,null,null,null,null,null,null,null,{"$f":"SUM(I5:M9)","v":0},{"$f":"(((N4-(-10))*(1-0))/(10-(-10)))+0","v":0.5}]
[null,1,"დაინტერესებული მხარის შესაძლებლობა, ჩართოს სხვა დაინტერესებული მხარეები ",null,null,null,null,null,{"$f":"IF(D5=\"x\",-2,0)","v":0},{"$f":"IF(E5=\"x\",-1,0)","v":0},{"$f":"IF(F5=\"x\",0,0)","v":0},{"$f":"IF(G5=\"x\",1,0)","v":0},{"$f":"IF(H5=\"x\",2,0)","v":0},null,"შეწონილი მნიშვნელობა"]
[null,2,"კონკრეტული კატეგორიის აქტორთა წარმომადგენლობითი დონე (მრავალი სხვა მოქალაქის ინტერესების წარმოდგენა)",null,null,null,null,null,{"$f":"IF(D6=\"x\",-2,0)","v":0},{"$f":"IF(E6=\"x\",-1,0)","v":0},{"$f":"IF(F6=\"x\",0,0)","v":0},{"$f":"IF(G6=\"x\",1,0)","v":0},{"$f":"IF(H6=\"x\",2,0)","v":0},null,{"$f":"O4*'1_COMMUNITY EVALUATION'!N4","v":0.25}]
[null,3,"დაინტერესებული მხარის მონაწილეობის დონე ადგილობრივ სამოქალაქო აქტივობებში",null,null,null,null,null,{"$f":"IF(D7=\"x\",-2,0)","v":0},{"$f":"IF(E7=\"x\",-1,0)","v":0},{"$f":"IF(F7=\"x\",0,0)","v":0},{"$f":"IF(G7=\"x\",1,0)","v":0},{"$f":"IF(H7=\"x\",2,0)","v":0}]
[null,4,"დაინტერესებული მხარის შესაძლებლობა, დაიწყოს ცვლილების განხორციელება/გავლენა იქონიოს მასზე",null,null,null,null,null,{"$f":"IF(D8=\"x\",-2,0)","v":0},{"$f":"IF(E8=\"x\",-1,0)","v":0},{"$f":"IF(F8=\"x\",0,0)","v":0},{"$f":"IF(G8=\"x\",1,0)","v":0},{"$f":"IF(H8=\"x\",2,0)","v":0}]
[null,5,"მოქალაქეთა მიერ დაინტერესებული მხარის აღიარების დონე ",null,null,null,null,null,{"$f":"IF(D9=\"x\",-2,0)","v":0},{"$f":"IF(E9=\"x\",-1,0)","v":0},{"$f":"IF(F9=\"x\",0,0)","v":0},{"$f":"IF(G9=\"x\",1,0)","v":0},{"$f":"IF(H9=\"x\",2,0)","v":0}]
[null,null,"(2) ეკონომიკური კაპიტალი",null,null,null,null,null,null,null,null,null,null,{"$f":"SUM(I11:M15)","v":0},{"$f":"(((N10-(-10))*(1-0))/(10-(-10)))+0","v":0.5}]
[null,6,"დაინტერესებული მხარის შესაძლებლობა, შეასრულოს დონორის ფუნქცია",null,null,null,null,null,{"$f":"IF(D11=\"x\",-2,0)","v":0},{"$f":"IF(E11=\"x\",-1,0)","v":0},{"$f":"IF(F11=\"x\",0,0)","v":0},{"$f":"IF(G11=\"x\",1,0)","v":0},{"$f":"IF(H11=\"x\",2,0)","v":0},null,"შეწონილი მნიშვნელობა"]
[null,7,"დაინტერესებული მხარის შესაძლებლობა, გავლენა მოახდინოს რესურსების განაწილებაზე ",null,null,null,null,null,{"$f":"IF(D12=\"x\",-2,0)","v":0},{"$f":"IF(E12=\"x\",-1,0)","v":0},{"$f":"IF(F12=\"x\",0,0)","v":0},{"$f":"IF(G12=\"x\",1,0)","v":0},{"$f":"IF(H12=\"x\",2,0)","v":0},null,{"$f":"O10*'1_COMMUNITY EVALUATION'!N13","v":0.25}]
[null,8,"დაინტერესებული მხარის შესაძლებლობა, ხელი შეუწყოს წვდომას არსებულ ან დამატებით (გარე) რესურსებზე ",null,null,null,null,null,{"$f":"IF(D13=\"x\",-2,0)","v":0},{"$f":"IF(E13=\"x\",-1,0)","v":0},{"$f":"IF(F13=\"x\",0,0)","v":0},{"$f":"IF(G13=\"x\",1,0)","v":0},{"$f":"IF(H13=\"x\",2,0)","v":0}]
[null,9,"დაინტერესებული მხარის შესაძლებლობა არამატერიალური მხარდაჭერის გასაწევად ",null,null,null,null,null,{"$f":"IF(D14=\"x\",-2,0)","v":0},{"$f":"IF(E14=\"x\",-1,0)","v":0},{"$f":"IF(F14=\"x\",0,0)","v":0},{"$f":"IF(G14=\"x\",1,0)","v":0},{"$f":"IF(H14=\"x\",2,0)","v":0}]
[null,10,"დაინტერესებული მხარის გავლენა შრომის ბაზარზე",null,null,null,null,null,{"$f":"IF(D15=\"x\",-2,0)","v":0},{"$f":"IF(E15=\"x\",-1,0)","v":0},{"$f":"IF(F15=\"x\",0,0)","v":0},{"$f":"IF(G15=\"x\",1,0)","v":0},{"$f":"IF(H15=\"x\",2,0)","v":0}]
[null,null,"(3) ადამიანური კაპიტალი",null,null,null,null,null,null,null,null,null,null,{"$f":"SUM(I17:M21)","v":0},{"$f":"(((N16-(-10))*(1-0))/(10-(-10)))+0","v":0.5}]
[null,11,"დაინტერესებული მხარის ცოდნა/უნარები კონკრეტულ თემასთან მიმართებით",null,null,null,null,null,{"$f":"IF(D17=\"x\",-2,0)","v":0},{"$f":"IF(E17=\"x\",-1,0)","v":0},{"$f":"IF(F17=\"x\",0,0)","v":0},{"$f":"IF(G17=\"x\",1,0)","v":0},{"$f":"IF(H17=\"x\",2,0)","v":0},null,"შეწონილი მნიშვნელობა"]
[null,12,"დაინტერესებული მხარის ინფორმირებულობა კონკრეტულ თემაზე",null,null,null,null,null,{"$f":"IF(D18=\"x\",-2,0)","v":0},{"$f":"IF(E18=\"x\",-1,0)","v":0},{"$f":"IF(F18=\"x\",0,0)","v":0},{"$f":"IF(G18=\"x\",1,0)","v":0},{"$f":"IF(H18=\"x\",2,0)","v":0},null,{"$f":"O16*'1_COMMUNITY EVALUATION'!N22","v":0.25}]
[null,13,"დაინტერესებული მხარის შესაძლებლობა, ჩაერთოს საზოგადოებრივ დებატებში",null,null,null,null,null,{"$f":"IF(D19=\"x\",-2,0)","v":0},{"$f":"IF(E19=\"x\",-1,0)","v":0},{"$f":"IF(F19=\"x\",0,0)","v":0},{"$f":"IF(G19=\"x\",1,0)","v":0},{"$f":"IF(H19=\"x\",2,0)","v":0}]
[null,14,"დაინტერესებული მხარის შესაძლებლობა, კომუნიკაცია დაამყაროს სხვადასხვა მედიასაშუალების გამოყენებით ",null,null,null,null,null,{"$f":"IF(D20=\"x\",-2,0)","v":0},{"$f":"IF(E20=\"x\",-1,0)","v":0},{"$f":"IF(F20=\"x\",0,0)","v":0},{"$f":"IF(G20=\"x\",1,0)","v":0},{"$f":"IF(H20=\"x\",2,0)","v":0}]
[null,15,"დაინტერესებული მხარის ხელმისაწვდომობა საჯარო სივრცეებზე  ",null,null,null,null,null,{"$f":"IF(D21=\"x\",-2,0)","v":0},{"$f":"IF(E21=\"x\",-1,0)","v":0},{"$f":"IF(F21=\"x\",0,0)","v":0},{"$f":"IF(G21=\"x\",1,0)","v":0},{"$f":"IF(H21=\"x\",2,0)","v":0}]
[null,null,"(4)პოლიტიკური კაპიტალი",null,null,null,null,null,null,null,null,null,null,{"$f":"SUM(I23:M27)","v":0},{"$f":"(((N22-(-10))*(1-0))/(10-(-10)))+0","v":0.5}]
[null,16,"ადგილობრივი ადმინისტრაციის ნდობა დაინტერესებული მხარის მიმართ",null,null,null,null,null,{"$f":"IF(D23=\"x\",-2,0)","v":0},{"$f":"IF(E23=\"x\",-1,0)","v":0},{"$f":"IF(F23=\"x\",0,0)","v":0},{"$f":"IF(G23=\"x\",1,0)","v":0},{"$f":"IF(H23=\"x\",2,0)","v":0},null,"შეწონილი მნიშვნელობა"]
[null,17,"დაინტერესებული მხარის შესაძლებლობა, ჩართოს სხვა პოლიტიკური აქტორები",null,null,null,null,null,{"$f":"IF(D24=\"x\",-2,0)","v":0},{"$f":"IF(E24=\"x\",-1,0)","v":0},{"$f":"IF(F24=\"x\",0,0)","v":0},{"$f":"IF(G24=\"x\",1,0)","v":0},{"$f":"IF(H24=\"x\",2,0)","v":0},null,{"$f":"O22*'1_COMMUNITY EVALUATION'!N31","v":0.25}]
[null,18,"დაინტერესებული მხარის შესაძლებლობა, ითანამშრომლოს ადგილობრივი ხელისუფლების ორგანოებთან/სხვა დაინტერესებულ მხარეებთან ",null,null,null,null,null,{"$f":"IF(D25=\"x\",-2,0)","v":0},{"$f":"IF(E25=\"x\",-1,0)","v":0},{"$f":"IF(F25=\"x\",0,0)","v":0},{"$f":"IF(G25=\"x\",1,0)","v":0},{"$f":"IF(H25=\"x\",2,0)","v":0}]
[null,19,"დაინტერესებული მხარის შესაძლებლობა, გავლენა იქონიოს საზოგადოებრივ აზრზე ",null,null,null,null,null,{"$f":"IF(D26=\"x\",-2,0)","v":0},{"$f":"IF(E26=\"x\",-1,0)","v":0},{"$f":"IF(F26=\"x\",0,0)","v":0},{"$f":"IF(G26=\"x\",1,0)","v":0},{"$f":"IF(H26=\"x\",2,0)","v":0}]
[null,20,"დაინტერესებული მხარის ინფორმირებულობა პოლიტიკის საკითხებზე",null,null,null,null,null,{"$f":"IF(D27=\"x\",-2,0)","v":0},{"$f":"IF(E27=\"x\",-1,0)","v":0},{"$f":"IF(F27=\"x\",0,0)","v":0},{"$f":"IF(G27=\"x\",1,0)","v":0},{"$f":"IF(H27=\"x\",2,0)","v":0}]
[null,null,"რელევანტურობის ქულა",null,null,null,null,null,null,null,null,null,null,null,{"$f":"IF(D2=\"\",\"\",(SUM(O24+O18+O12+O6)/4))","v":""}]
[]
[null,null,"განზომილებები","უაღრესად უარყოფითი","უარყოფითი","არ არის რელევანტური","დადებითი","უაღრესად დადებითი",-2,-1,0,1,2,null,"ქულა თითოეულ განზომილებაში"]
[null,null,"(1)სოციალური კაპიტალი",null,null,null,null,null,null,null,null,null,null,{"$f":"SUM(I32:M36)","v":0},{"$f":"(((N31-(-10))*(1-0))/(10-(-10)))+0","v":0.5}]
[null,1,"დაინტერესებული მხარის ინტერესი, დაამყაროს კონტაქტები კონკრეტულ თემასთან დაკავშირებით",null,null,null,null,null,{"$f":"IF(D32=\"x\",-2,0)","v":0},{"$f":"IF(E32=\"x\",-1,0)","v":0},{"$f":"IF(F32=\"x\",0,0)","v":0},{"$f":"IF(G32=\"x\",1,0)","v":0},{"$f":"IF(H32=\"x\",2,0)","v":0},null,"შეწონილი მნიშვნელობა"]
[null,2,"დაინტერესებული მხარის ინტერესი, უზრუნველყოს კონკრეტული კატეგორიის აქტორთა წარმომადგენლობა თემასთან მიმართებით",null,null,null,null,null,{"$f":"IF(D33=\"x\",-2,0)","v":0},{"$f":"IF(E33=\"x\",-1,0)","v":0},{"$f":"IF(F33=\"x\",0,0)","v":0},{"$f":"IF(G33=\"x\",1,0)","v":0},{"$f":"IF(H33=\"x\",2,0)","v":0},null,{"$f":"O31*'1_COMMUNITY EVALUATION'!N4","v":0.25}]
[null,3,"დაინტერესებული მხარის ინტერესი, ჩაერთოს  ადგილობრივ სამოქალაქო აქტივობებში თემასთან მიმართებით",null,null,null,null,null,{"$f":"IF(D34=\"x\",-2,0)","v":0},{"$f":"IF(E34=\"x\",-1,0)","v":0},{"$f":"IF(F34=\"x\",0,0)","v":0},{"$f":"IF(G34=\"x\",1,0)","v":0},{"$f":"IF(H34=\"x\",2,0)","v":0}]
[null,4,"დაინტერესებული მხარის ინტერესი, დაიწყოს ცვლილების განხორციელება/გავლენა იქონიოს მასზე      ",null,null,null,null,null,{"$f":"IF(D35=\"x\",-2,0)","v":0},{"$f":"IF(E35=\"x\",-1,0)","v":0},{"$f":"IF(F35=\"x\",0,0)","v":0},{"$f":"IF(G35=\"x\",1,0)","v":0},{"$f":"IF(H35=\"x\",2,0)","v":0}]
[null,5,"დაინტერესებული მხარის ინტერესი, გაზარდოს მისი აღიარება მოქალაქეთა მხრიდან",null,null,null,null,null,{"$f":"IF(D36=\"x\",-2,0)","v":0},{"$f":"IF(E36=\"x\",-1,0)","v":0},{"$f":"IF(F36=\"x\",0,0)","v":0},{"$f":"IF(G36=\"x\",1,0)","v":0},{"$f":"IF(H36=\"x\",2,0)","v":0}]
[null,null,"(2) ეკონომიკური კაპიტალი",null,null,null,null,null,null,null,null,null,null,{"$f":"SUM(I38:M42)","v":0},{"$f":"(((N37-(-10))*(1-0))/(10-(-10)))+0","v":0.5}]
[null,6,"დაინტერესებული მხარის პოტენციური ეკონომიკური სარგებელი",null,null,null,null,null,{"$f":"IF(D38=\"x\",-2,0)","v":0},{"$f":"IF(E38=\"x\",-1,0)","v":0},{"$f":"IF(F38=\"x\",0,0)","v":0},{"$f":"IF(G38=\"x\",1,0)","v":0},{"$f":"IF(H38=\"x\",2,0)","v":0},null,"შეწონილი მნიშვნელობა"]
[null,7,"დაინტერესებული მხარის სურვილი, თავი მოუყაროს რესურსებს",null,null,null,null,null,{"$f":"IF(D39=\"x\",-2,0)","v":0},{"$f":"IF(E39=\"x\",-1,0)","v":0},{"$f":"IF(F39=\"x\",0,0)","v":0},{"$f":"IF(G39=\"x\",1,0)","v":0},{"$f":"IF(H39=\"x\",2,0)","v":0},null,{"$f":"O37*'1_COMMUNITY EVALUATION'!N13","v":0.25}]
[null,8,"დაინტერესებული მხარის სურვილი, ხელი შეუწყოს წვდომას არსებულ ან დამატებით(გარე) რესურსებზე       ",null,null,null,null,null,{"$f":"IF(D40=\"x\",-2,0)","v":0},{"$f":"IF(E40=\"x\",-1,0)","v":0},{"$f":"IF(F40=\"x\",0,0)","v":0},{"$f":"IF(G40=\"x\",1,0)","v":0},{"$f":"IF(H40=\"x\",2,0)","v":0}]
[null,9,"დაინტერესებული მხარის მზაობა არამატერიალური მხარდაჭერის გასაწევად",null,null,null,null,null,{"$f":"IF(D41=\"x\",-2,0)","v":0},{"$f":"IF(E41=\"x\",-1,0)","v":0},{"$f":"IF(F41=\"x\",0,0)","v":0},{"$f":"IF(G41=\"x\",1,0)","v":0},{"$f":"IF(H41=\"x\",2,0)","v":0}]
[null,10,"დაინტერესებული მხარის ინტერესი, გაზარდოს თავისი გავლენა შრომის ბაზარზე",null,null,null,null,null,{"$f":"IF(D42=\"x\",-2,0)","v":0},{"$f":"IF(E42=\"x\",-1,0)","v":0},{"$f":"IF(F42=\"x\",0,0)","v":0},{"$f":"IF(G42=\"x\",1,0)","v":0},{"$f":"IF(H42=\"x\",2,0)","v":0}]
[null,null,"(3) ადამიანური კაპიტალი",null,null,null,null,null,null,null,null,null,null,{"$f":"SUM(I44:M48)","v":0},{"$f":"(((N43-(-10))*(1-0))/(10-(-10)))+0","v":0.5}]
[null,11,"დაინტერესებული მხარის ინტერესი, გააზიაროს/გააუმჯობესოს თავისი ცოდნა/უნარები კონკრეტულ თემასთან მიმართებით",null,null,null,null,null,{"$f":"IF(D44=\"x\",-2,0)","v":0},{"$f":"IF(E44=\"x\",-1,0)","v":0},{"$f":"IF(F44=\"x\",0,0)","v":0},{"$f":"IF(G44=\"x\",1,0)","v":0},{"$f":"IF(H44=\"x\",2,0)","v":0},null,"შეწონილი მნიშვნელობა"]
[null,12,"დაინტერესებული მხარის სურვილი გააზიაროს/გაზარდოს საკუთარი ინფორმირებულობა კონკრეტულ თემაზე",null,null,null,null,null,{"$f":"IF(D45=\"x\",-2,0)","v":0},{"$f":"IF(E45=\"x\",-1,0)","v":0},{"$f":"IF(F45=\"x\",0,0)","v":0},{"$f":"IF(G45=\"x\",1,0)","v":0},{"$f":"IF(H45=\"x\",2,0)","v":0},null,{"$f":"O43*'1_COMMUNITY EVALUATION'!N22","v":0.25}]
[null,13,"დაინტერესებული მხარის სურვილი, ჩაერთოს საზოგადოებრივ დებატებში",null,null,null,null,null,{"$f":"IF(D46=\"x\",-2,0)","v":0},{"$f":"IF(E46=\"x\",-1,0)","v":0},{"$f":"IF(F46=\"x\",0,0)","v":0},{"$f":"IF(G46=\"x\",1,0)","v":0},{"$f":"IF(H46=\"x\",2,0)","v":0}]
[null,14,"დაინტერესებული მხარის სურვილი, კომუნიკაცია დაამყაროს სხვადასხვა მედიასაშუალების გამოყენებით",null,null,null,null,null,{"$f":"IF(D47=\"x\",-2,0)","v":0},{"$f":"IF(E47=\"x\",-1,0)","v":0},{"$f":"IF(F47=\"x\",0,0)","v":0},{"$f":"IF(G47=\"x\",1,0)","v":0},{"$f":"IF(H47=\"x\",2,0)","v":0}]
[null,15,"დაინტერესებული მხარის სურვილი, ჰქონდეს წვდომა საჯარო სივრცეებზე",null,null,null,null,null,{"$f":"IF(D48=\"x\",-2,0)","v":0},{"$f":"IF(E48=\"x\",-1,0)","v":0},{"$f":"IF(F48=\"x\",0,0)","v":0},{"$f":"IF(G48=\"x\",1,0)","v":0},{"$f":"IF(H48=\"x\",2,0)","v":0}]
[null,null,"(4)პოლიტიკური კაპიტალი",null,null,null,null,null,null,null,null,null,null,{"$f":"SUM(I50:M54)","v":0},{"$f":"(((N49-(-10))*(1-0))/(10-(-10)))+0","v":0.5}]
[null,16,"დაინტერესებული მხარის ნდობა ადგილობრივი ადმინისტრაციის მიმართ",null,null,null,null,null,{"$f":"IF(D50=\"x\",-2,0)","v":0},{"$f":"IF(E50=\"x\",-1,0)","v":0},{"$f":"IF(F50=\"x\",0,0)","v":0},{"$f":"IF(G50=\"x\",1,0)","v":0},{"$f":"IF(H50=\"x\",2,0)","v":0},null,"შეწონილი მნიშვნელობა"]
[null,17,"დაინტერესებული მხარის პოლიტიკური ინტერესი კონკრეტული თემის მიმართ ",null,null,null,null,null,{"$f":"IF(D51=\"x\",-2,0)","v":0},{"$f":"IF(E51=\"x\",-1,0)","v":0},{"$f":"IF(F51=\"x\",0,0)","v":0},{"$f":"IF(G51=\"x\",1,0)","v":0},{"$f":"IF(H51=\"x\",2,0)","v":0},null,{"$f":"O49*'1_COMMUNITY EVALUATION'!N31","v":0.25}]
[null,18,"დაინტერესებული მხარის სურვილი, ითანამშრომლოს ადგილობრივი ხელისუფლების ორგანოებთან",null,null,null,null,null,{"$f":"IF(D52=\"x\",-2,0)","v":0},{"$f":"IF(E52=\"x\",-1,0)","v":0},{"$f":"IF(F52=\"x\",0,0)","v":0},{"$f":"IF(G52=\"x\",1,0)","v":0},{"$f":"IF(H52=\"x\",2,0)","v":0}]
[null,19,"დაინტერესებული მხარის ინტერესი, ხმა მიაწვდინოს/მოიცვას ფართო საზოგადოება",null,null,null,null,null,{"$f":"IF(D53=\"x\",-2,0)","v":0},{"$f":"IF(E53=\"x\",-1,0)","v":0},{"$f":"IF(F53=\"x\",0,0)","v":0},{"$f":"IF(G53=\"x\",1,0)","v":0},{"$f":"IF(H53=\"x\",2,0)","v":0}]
[null,20,"დაინტერესებული მხარის სურვილი, გააზიაროს/გაზარდოს თავისი ინფორმირებულობა პოლიტიკის საკითხებზე",null,null,null,null,null,{"$f":"IF(D54=\"x\",-2,0)","v":0},{"$f":"IF(E54=\"x\",-1,0)","v":0},{"$f":"IF(F54=\"x\",0,0)","v":0},{"$f":"IF(G54=\"x\",1,0)","v":0},{"$f":"IF(H54=\"x\",2,0)","v":0}]
[null,null,"ინტერესის ქულა",null,null,null,null,null,null,null,null,null,null,null,{"$f":"IF(D2=\"\",\"\",(SUM(O51+O45+O39+O33)/4))","v":""}]

{"sheet":"STAKEHOLDER (26)","index":30,"n_rows":55,"n_cols":15,"rows_kept":55,"cut":false,"hidden":false,"merged":[[0,1,0,14],[1,3,1,14],[27,2,27,7],[54,2,54,7]]}
[null,"კონკრეტული თემის გათვალისწინებით, გთხოვთ, დაინტერესებული მხარე შეაფასოთ თითოეულ პუნქტთან მიმართებით (უაღრესად უარყოფითიდან უაღრესად დადებითამდე) და შესაბამის გრაფაში მონიშნოთ „x“. "]
[null,null,"დაინტერესებული მხარე -მიუთითეთ დასახელება"]
[null,null,"განზომილებები","უაღრესად უარყოფითი","უარყოფითი","არ არის რელევანტური","დადებითი","უარრესად დადებითი",-2,-1,0,1,2,null,"ქულა თითოეულ განზომილებაში"]
[null,null,"(1)სოციალური კაპიტალი",null,null,null,null,null,null,null,null,null,null,{"$f":"SUM(I5:M9)","v":0},{"$f":"(((N4-(-10))*(1-0))/(10-(-10)))+0","v":0.5}]
[null,1,"დაინტერესებული მხარის შესაძლებლობა, ჩართოს სხვა დაინტერესებული მხარეები ",null,null,null,null,null,{"$f":"IF(D5=\"x\",-2,0)","v":0},{"$f":"IF(E5=\"x\",-1,0)","v":0},{"$f":"IF(F5=\"x\",0,0)","v":0},{"$f":"IF(G5=\"x\",1,0)","v":0},{"$f":"IF(H5=\"x\",2,0)","v":0},null,"შეწონილი მნიშვნელობა"]
[null,2,"კონკრეტული კატეგორიის აქტორთა წარმომადგენლობითი დონე (მრავალი სხვა მოქალაქის ინტერესების წარმოდგენა)",null,null,null,null,null,{"$f":"IF(D6=\"x\",-2,0)","v":0},{"$f":"IF(E6=\"x\",-1,0)","v":0},{"$f":"IF(F6=\"x\",0,0)","v":0},{"$f":"IF(G6=\"x\",1,0)","v":0},{"$f":"IF(H6=\"x\",2,0)","v":0},null,{"$f":"O4*'1_COMMUNITY EVALUATION'!N4","v":0.25}]
[null,3,"დაინტერესებული მხარის მონაწილეობის დონე ადგილობრივ სამოქალაქო აქტივობებში",null,null,null,null,null,{"$f":"IF(D7=\"x\",-2,0)","v":0},{"$f":"IF(E7=\"x\",-1,0)","v":0},{"$f":"IF(F7=\"x\",0,0)","v":0},{"$f":"IF(G7=\"x\",1,0)","v":0},{"$f":"IF(H7=\"x\",2,0)","v":0}]
[null,4,"დაინტერესებული მხარის შესაძლებლობა, დაიწყოს ცვლილების განხორციელება/გავლენა იქონიოს მასზე",null,null,null,null,null,{"$f":"IF(D8=\"x\",-2,0)","v":0},{"$f":"IF(E8=\"x\",-1,0)","v":0},{"$f":"IF(F8=\"x\",0,0)","v":0},{"$f":"IF(G8=\"x\",1,0)","v":0},{"$f":"IF(H8=\"x\",2,0)","v":0}]
[null,5,"მოქალაქეთა მიერ დაინტერესებული მხარის აღიარების დონე ",null,null,null,null,null,{"$f":"IF(D9=\"x\",-2,0)","v":0},{"$f":"IF(E9=\"x\",-1,0)","v":0},{"$f":"IF(F9=\"x\",0,0)","v":0},{"$f":"IF(G9=\"x\",1,0)","v":0},{"$f":"IF(H9=\"x\",2,0)","v":0}]
[null,null,"(2) ეკონომიკური კაპიტალი",null,null,null,null,null,null,null,null,null,null,{"$f":"SUM(I11:M15)","v":0},{"$f":"(((N10-(-10))*(1-0))/(10-(-10)))+0","v":0.5}]
[null,6,"დაინტერესებული მხარის შესაძლებლობა, შეასრულოს დონორის ფუნქცია",null,null,null,null,null,{"$f":"IF(D11=\"x\",-2,0)","v":0},{"$f":"IF(E11=\"x\",-1,0)","v":0},{"$f":"IF(F11=\"x\",0,0)","v":0},{"$f":"IF(G11=\"x\",1,0)","v":0},{"$f":"IF(H11=\"x\",2,0)","v":0},null,"შეწონილი მნიშვნელობა"]
[null,7,"დაინტერესებული მხარის შესაძლებლობა, გავლენა მოახდინოს რესურსების განაწილებაზე ",null,null,null,null,null,{"$f":"IF(D12=\"x\",-2,0)","v":0},{"$f":"IF(E12=\"x\",-1,0)","v":0},{"$f":"IF(F12=\"x\",0,0)","v":0},{"$f":"IF(G12=\"x\",1,0)","v":0},{"$f":"IF(H12=\"x\",2,0)","v":0},null,{"$f":"O10*'1_COMMUNITY EVALUATION'!N13","v":0.25}]
[null,8,"დაინტერესებული მხარის შესაძლებლობა, ხელი შეუწყოს წვდომას არსებულ ან დამატებით (გარე) რესურსებზე ",null,null,null,null,null,{"$f":"IF(D13=\"x\",-2,0)","v":0},{"$f":"IF(E13=\"x\",-1,0)","v":0},{"$f":"IF(F13=\"x\",0,0)","v":0},{"$f":"IF(G13=\"x\",1,0)","v":0},{"$f":"IF(H13=\"x\",2,0)","v":0}]
[null,9,"დაინტერესებული მხარის შესაძლებლობა არამატერიალური მხარდაჭერის გასაწევად ",null,null,null,null,null,{"$f":"IF(D14=\"x\",-2,0)","v":0},{"$f":"IF(E14=\"x\",-1,0)","v":0},{"$f":"IF(F14=\"x\",0,0)","v":0},{"$f":"IF(G14=\"x\",1,0)","v":0},{"$f":"IF(H14=\"x\",2,0)","v":0}]
[null,10,"დაინტერესებული მხარის გავლენა შრომის ბაზარზე",null,null,null,null,null,{"$f":"IF(D15=\"x\",-2,0)","v":0},{"$f":"IF(E15=\"x\",-1,0)","v":0},{"$f":"IF(F15=\"x\",0,0)","v":0},{"$f":"IF(G15=\"x\",1,0)","v":0},{"$f":"IF(H15=\"x\",2,0)","v":0}]
[null,null,"(3) ადამიანური კაპიტალი",null,null,null,null,null,null,null,null,null,null,{"$f":"SUM(I17:M21)","v":0},{"$f":"(((N16-(-10))*(1-0))/(10-(-10)))+0","v":0.5}]
[null,11,"დაინტერესებული მხარის ცოდნა/უნარები კონკრეტულ თემასთან მიმართებით",null,null,null,null,null,{"$f":"IF(D17=\"x\",-2,0)","v":0},{"$f":"IF(E17=\"x\",-1,0)","v":0},{"$f":"IF(F17=\"x\",0,0)","v":0},{"$f":"IF(G17=\"x\",1,0)","v":0},{"$f":"IF(H17=\"x\",2,0)","v":0},null,"შეწონილი მნიშვნელობა"]
[null,12,"დაინტერესებული მხარის ინფორმირებულობა კონკრეტულ თემაზე",null,null,null,null,null,{"$f":"IF(D18=\"x\",-2,0)","v":0},{"$f":"IF(E18=\"x\",-1,0)","v":0},{"$f":"IF(F18=\"x\",0,0)","v":0},{"$f":"IF(G18=\"x\",1,0)","v":0},{"$f":"IF(H18=\"x\",2,0)","v":0},null,{"$f":"O16*'1_COMMUNITY EVALUATION'!N22","v":0.25}]
[null,13,"დაინტერესებული მხარის შესაძლებლობა, ჩაერთოს საზოგადოებრივ დებატებში",null,null,null,null,null,{"$f":"IF(D19=\"x\",-2,0)","v":0},{"$f":"IF(E19=\"x\",-1,0)","v":0},{"$f":"IF(F19=\"x\",0,0)","v":0},{"$f":"IF(G19=\"x\",1,0)","v":0},{"$f":"IF(H19=\"x\",2,0)","v":0}]
[null,14,"დაინტერესებული მხარის შესაძლებლობა, კომუნიკაცია დაამყაროს სხვადასხვა მედიასაშუალების გამოყენებით ",null,null,null,null,null,{"$f":"IF(D20=\"x\",-2,0)","v":0},{"$f":"IF(E20=\"x\",-1,0)","v":0},{"$f":"IF(F20=\"x\",0,0)","v":0},{"$f":"IF(G20=\"x\",1,0)","v":0},{"$f":"IF(H20=\"x\",2,0)","v":0}]
[null,15,"დაინტერესებული მხარის ხელმისაწვდომობა საჯარო სივრცეებზე  ",null,null,null,null,null,{"$f":"IF(D21=\"x\",-2,0)","v":0},{"$f":"IF(E21=\"x\",-1,0)","v":0},{"$f":"IF(F21=\"x\",0,0)","v":0},{"$f":"IF(G21=\"x\",1,0)","v":0},{"$f":"IF(H21=\"x\",2,0)","v":0}]
[null,null,"(4)პოლიტიკური კაპიტალი",null,null,null,null,null,null,null,null,null,null,{"$f":"SUM(I23:M27)","v":0},{"$f":"(((N22-(-10))*(1-0))/(10-(-10)))+0","v":0.5}]
[null,16,"ადგილობრივი ადმინისტრაციის ნდობა დაინტერესებული მხარის მიმართ",null,null,null,null,null,{"$f":"IF(D23=\"x\",-2,0)","v":0},{"$f":"IF(E23=\"x\",-1,0)","v":0},{"$f":"IF(F23=\"x\",0,0)","v":0},{"$f":"IF(G23=\"x\",1,0)","v":0},{"$f":"IF(H23=\"x\",2,0)","v":0},null,"შეწონილი მნიშვნელობა"]
[null,17,"დაინტერესებული მხარის შესაძლებლობა, ჩართოს სხვა პოლიტიკური აქტორები",null,null,null,null,null,{"$f":"IF(D24=\"x\",-2,0)","v":0},{"$f":"IF(E24=\"x\",-1,0)","v":0},{"$f":"IF(F24=\"x\",0,0)","v":0},{"$f":"IF(G24=\"x\",1,0)","v":0},{"$f":"IF(H24=\"x\",2,0)","v":0},null,{"$f":"O22*'1_COMMUNITY EVALUATION'!N31","v":0.25}]
[null,18,"დაინტერესებული მხარის შესაძლებლობა, ითანამშრომლოს ადგილობრივი ხელისუფლების ორგანოებთან/სხვა დაინტერესებულ მხარეებთან ",null,null,null,null,null,{"$f":"IF(D25=\"x\",-2,0)","v":0},{"$f":"IF(E25=\"x\",-1,0)","v":0},{"$f":"IF(F25=\"x\",0,0)","v":0},{"$f":"IF(G25=\"x\",1,0)","v":0},{"$f":"IF(H25=\"x\",2,0)","v":0}]
[null,19,"დაინტერესებული მხარის შესაძლებლობა, გავლენა იქონიოს საზოგადოებრივ აზრზე ",null,null,null,null,null,{"$f":"IF(D26=\"x\",-2,0)","v":0},{"$f":"IF(E26=\"x\",-1,0)","v":0},{"$f":"IF(F26=\"x\",0,0)","v":0},{"$f":"IF(G26=\"x\",1,0)","v":0},{"$f":"IF(H26=\"x\",2,0)","v":0}]
[null,20,"დაინტერესებული მხარის ინფორმირებულობა პოლიტიკის საკითხებზე",null,null,null,null,null,{"$f":"IF(D27=\"x\",-2,0)","v":0},{"$f":"IF(E27=\"x\",-1,0)","v":0},{"$f":"IF(F27=\"x\",0,0)","v":0},{"$f":"IF(G27=\"x\",1,0)","v":0},{"$f":"IF(H27=\"x\",2,0)","v":0}]
[null,null,"რელევანტურობის ქულა",null,null,null,null,null,null,null,null,null,null,null,{"$f":"IF(D2=\"\",\"\",(SUM(O24+O18+O12+O6)/4))","v":""}]
[]
[null,null,"განზომილებები","უარღესად უარყოფითი","უარყოფითი","არ არის რელევანტური","დადებითი","უაღრესად დადებითი",-2,-1,0,1,2,null,"ქულა თითოეულ განზომილებაში"]
[null,null,"(1)სოციალური კაპიტალი",null,null,null,null,null,null,null,null,null,null,{"$f":"SUM(I32:M36)","v":0},{"$f":"(((N31-(-10))*(1-0))/(10-(-10)))+0","v":0.5}]
[null,1,"დაინტერესებული მხარის ინტერესი, დაამყაროს კონტაქტები კონკრეტულ თემასთან დაკავშირებით",null,null,null,null,null,{"$f":"IF(D32=\"x\",-2,0)","v":0},{"$f":"IF(E32=\"x\",-1,0)","v":0},{"$f":"IF(F32=\"x\",0,0)","v":0},{"$f":"IF(G32=\"x\",1,0)","v":0},{"$f":"IF(H32=\"x\",2,0)","v":0},null,"შეწონილი მნიშვნელობა"]
[null,2,"დაინტერესებული მხარის ინტერესი, უზრუნველყოს კონკრეტული კატეგორიის აქტორთა წარმომადგენლობა თემასთან მიმართებით",null,null,null,null,null,{"$f":"IF(D33=\"x\",-2,0)","v":0},{"$f":"IF(E33=\"x\",-1,0)","v":0},{"$f":"IF(F33=\"x\",0,0)","v":0},{"$f":"IF(G33=\"x\",1,0)","v":0},{"$f":"IF(H33=\"x\",2,0)","v":0},null,{"$f":"O31*'1_COMMUNITY EVALUATION'!N4","v":0.25}]
[null,3,"დაინტერესებული მხარის ინტერესი, ჩაერთოს  ადგილობრივ სამოქალაქო აქტივობებში თემასთან მიმართებით",null,null,null,null,null,{"$f":"IF(D34=\"x\",-2,0)","v":0},{"$f":"IF(E34=\"x\",-1,0)","v":0},{"$f":"IF(F34=\"x\",0,0)","v":0},{"$f":"IF(G34=\"x\",1,0)","v":0},{"$f":"IF(H34=\"x\",2,0)","v":0}]
[null,4,"დაინტერესებული მხარის ინტერესი, დაიწყოს ცვლილების განხორციელება/გავლენა იქონიოს მასზე      ",null,null,null,null,null,{"$f":"IF(D35=\"x\",-2,0)","v":0},{"$f":"IF(E35=\"x\",-1,0)","v":0},{"$f":"IF(F35=\"x\",0,0)","v":0},{"$f":"IF(G35=\"x\",1,0)","v":0},{"$f":"IF(H35=\"x\",2,0)","v":0}]
[null,5,"დაინტერესებული მხარის ინტერესი, გაზარდოს მისი აღიარება მოქალაქეთა მხრიდან",null,null,null,null,null,{"$f":"IF(D36=\"x\",-2,0)","v":0},{"$f":"IF(E36=\"x\",-1,0)","v":0},{"$f":"IF(F36=\"x\",0,0)","v":0},{"$f":"IF(G36=\"x\",1,0)","v":0},{"$f":"IF(H36=\"x\",2,0)","v":0}]
[null,null,"(2) ეკონომიკური კაპიტალი",null,null,null,null,null,null,null,null,null,null,{"$f":"SUM(I38:M42)","v":0},{"$f":"(((N37-(-10))*(1-0))/(10-(-10)))+0","v":0.5}]
[null,6,"დაინტერესებული მხარის პოტენციური ეკონომიკური სარგებელი",null,null,null,null,null,{"$f":"IF(D38=\"x\",-2,0)","v":0},{"$f":"IF(E38=\"x\",-1,0)","v":0},{"$f":"IF(F38=\"x\",0,0)","v":0},{"$f":"IF(G38=\"x\",1,0)","v":0},{"$f":"IF(H38=\"x\",2,0)","v":0},null,"შეწონილი მნიშვნელობა"]
[null,7,"დაინტერესებული მხარის სურვილი, თავი მოუყაროს რესურსებს",null,null,null,null,null,{"$f":"IF(D39=\"x\",-2,0)","v":0},{"$f":"IF(E39=\"x\",-1,0)","v":0},{"$f":"IF(F39=\"x\",0,0)","v":0},{"$f":"IF(G39=\"x\",1,0)","v":0},{"$f":"IF(H39=\"x\",2,0)","v":0},null,{"$f":"O37*'1_COMMUNITY EVALUATION'!N13","v":0.25}]
[null,8,"დაინტერესებული მხარის სურვილი, ხელი შეუწყოს წვდომას არსებულ ან დამატებით(გარე) რესურსებზე       ",null,null,null,null,null,{"$f":"IF(D40=\"x\",-2,0)","v":0},{"$f":"IF(E40=\"x\",-1,0)","v":0},{"$f":"IF(F40=\"x\",0,0)","v":0},{"$f":"IF(G40=\"x\",1,0)","v":0},{"$f":"IF(H40=\"x\",2,0)","v":0}]
[null,9,"დაინტერესებული მხარის მზაობა  არამატერიალური მხარდაჭერის გასაწევად",null,null,null,null,null,{"$f":"IF(D41=\"x\",-2,0)","v":0},{"$f":"IF(E41=\"x\",-1,0)","v":0},{"$f":"IF(F41=\"x\",0,0)","v":0},{"$f":"IF(G41=\"x\",1,0)","v":0},{"$f":"IF(H41=\"x\",2,0)","v":0}]
[null,10,"დაინტერესებული მხარის ინტერესი, გაზარდოს თავისი გავლენა შრომის ბაზარზე",null,null,null,null,null,{"$f":"IF(D42=\"x\",-2,0)","v":0},{"$f":"IF(E42=\"x\",-1,0)","v":0},{"$f":"IF(F42=\"x\",0,0)","v":0},{"$f":"IF(G42=\"x\",1,0)","v":0},{"$f":"IF(H42=\"x\",2,0)","v":0}]
[null,null,"(3) ადამიანური კაპიტალი",null,null,null,null,null,null,null,null,null,null,{"$f":"SUM(I44:M48)","v":0},{"$f":"(((N43-(-10))*(1-0))/(10-(-10)))+0","v":0.5}]
[null,11,"დაინტერესებული მხარის ინტერესი, გააზიაროს/გააუმჯობესოს თავისი ცოდნა/უნარები  კონკრეტულ თემასთან მიმართებით",null,null,null,null,null,{"$f":"IF(D44=\"x\",-2,0)","v":0},{"$f":"IF(E44=\"x\",-1,0)","v":0},{"$f":"IF(F44=\"x\",0,0)","v":0},{"$f":"IF(G44=\"x\",1,0)","v":0},{"$f":"IF(H44=\"x\",2,0)","v":0},null,"შეწონილი მნიშვნელობა"]
[null,12,"დაინტერესებული მხარის სურვილი გააზიაროს/გაზარდოს საკუთარი ინფორმირებულობა კონკრეტულ თემაზე",null,null,null,null,null,{"$f":"IF(D45=\"x\",-2,0)","v":0},{"$f":"IF(E45=\"x\",-1,0)","v":0},{"$f":"IF(F45=\"x\",0,0)","v":0},{"$f":"IF(G45=\"x\",1,0)","v":0},{"$f":"IF(H45=\"x\",2,0)","v":0},null,{"$f":"O43*'1_COMMUNITY EVALUATION'!N22","v":0.25}]
[null,13,"დაინტერესებული მხარის სურვილი, ჩაერთოს საზოგადოებრივ დებატებში",null,null,null,null,null,{"$f":"IF(D46=\"x\",-2,0)","v":0},{"$f":"IF(E46=\"x\",-1,0)","v":0},{"$f":"IF(F46=\"x\",0,0)","v":0},{"$f":"IF(G46=\"x\",1,0)","v":0},{"$f":"IF(H46=\"x\",2,0)","v":0}]
[null,14,"დაინტერესებული მხარის სურვილი, კომუნიკაცია დაამყაროს სხვადასხვა მედიასაშუალების გამოყენებით ",null,null,null,null,null,{"$f":"IF(D47=\"x\",-2,0)","v":0},{"$f":"IF(E47=\"x\",-1,0)","v":0},{"$f":"IF(F47=\"x\",0,0)","v":0},{"$f":"IF(G47=\"x\",1,0)","v":0},{"$f":"IF(H47=\"x\",2,0)","v":0}]
[null,15,"დაინტერესებული მხარის სურვილი, ჰქონდეს წვდომა საჯარო სივრცეებზე",null,null,null,null,null,{"$f":"IF(D48=\"x\",-2,0)","v":0},{"$f":"IF(E48=\"x\",-1,0)","v":0},{"$f":"IF(F48=\"x\",0,0)","v":0},{"$f":"IF(G48=\"x\",1,0)","v":0},{"$f":"IF(H48=\"x\",2,0)","v":0}]
[null,null,"(4) პოლიტიკური კაპიტალი",null,null,null,null,null,null,null,null,null,null,{"$f":"SUM(I50:M54)","v":0},{"$f":"(((N49-(-10))*(1-0))/(10-(-10)))+0","v":0.5}]
[null,16,"დაინტერესებული მხარის ნდობა ადგილობრივი ადმინისტრაციის მიმართ",null,null,null,null,null,{"$f":"IF(D50=\"x\",-2,0)","v":0},{"$f":"IF(E50=\"x\",-1,0)","v":0},{"$f":"IF(F50=\"x\",0,0)","v":0},{"$f":"IF(G50=\"x\",1,0)","v":0},{"$f":"IF(H50=\"x\",2,0)","v":0},null,"შეწონილი მნიშვნელობა"]
[null,17,"დაინტერესებული მხარის პოლიტიკური ინტერესი კონკრეტული თემის მიმართ ",null,null,null,null,null,{"$f":"IF(D51=\"x\",-2,0)","v":0},{"$f":"IF(E51=\"x\",-1,0)","v":0},{"$f":"IF(F51=\"x\",0,0)","v":0},{"$f":"IF(G51=\"x\",1,0)","v":0},{"$f":"IF(H51=\"x\",2,0)","v":0},null,{"$f":"O49*'1_COMMUNITY EVALUATION'!N31","v":0.25}]
[null,18,"დაინტერესებული მხარის სურვილი, ითანამშრომლოს ადგილობრივი ხელისუფლების ორგანოებთან",null,null,null,null,null,{"$f":"IF(D52=\"x\",-2,0)","v":0},{"$f":"IF(E52=\"x\",-1,0)","v":0},{"$f":"IF(F52=\"x\",0,0)","v":0},{"$f":"IF(G52=\"x\",1,0)","v":0},{"$f":"IF(H52=\"x\",2,0)","v":0}]
[null,19,"დაინტერესებული მხარის ინტერესი, ხმა მიაწვდინოს/მოიცვას ფართო საზოგადოება",null,null,null,null,null,{"$f":"IF(D53=\"x\",-2,0)","v":0},{"$f":"IF(E53=\"x\",-1,0)","v":0},{"$f":"IF(F53=\"x\",0,0)","v":0},{"$f":"IF(G53=\"x\",1,0)","v":0},{"$f":"IF(H53=\"x\",2,0)","v":0}]
[null,20,"დაინტერესებული მხარის სურვილი, გააზიაროს/გაზარდოს თავისი ინფორმირებულობა პოლიტიკის საკითხებზე",null,null,null,null,null,{"$f":"IF(D54=\"x\",-2,0)","v":0},{"$f":"IF(E54=\"x\",-1,0)","v":0},{"$f":"IF(F54=\"x\",0,0)","v":0},{"$f":"IF(G54=\"x\",1,0)","v":0},{"$f":"IF(H54=\"x\",2,0)","v":0}]
[null,null,"ინტერესის ქულა",null,null,null,null,null,null,null,null,null,null,null,{"$f":"IF(D2=\"\",\"\",(SUM(O51+O45+O39+O33)/4))","v":""}]

{"sheet":"STAKEHOLDER (27)","index":31,"n_rows":55,"n_cols":15,"rows_kept":55,"cut":false,"hidden":false,"merged":[[0,1,0,14],[1,3,1,14],[27,2,27,7],[54,2,54,7]]}
[null,"კონკრეტული თემის გათვალისწინებით, გთხოვთ, დაინტერესებული მხარე შეაფასოთ თითოეულ პუნქტთან მიმართებით (უაღრესად უარყოფითიდან უაღრესად დადებითამდე) და შესაბამის გრაფაში მონიშნოთ „x“. "]
[null,null,"დაინტერესებული მხარე -მიუთითეთ დასახელება"]
[null,null,"განზომილებები","უაღრესად უარყოფითი","უარყოფითი","არ არის რელევანტური","დადებითი","უაღრესად დადებითი",-2,-1,0,1,2,null,"ქულა თითოეულ განზომილებაში"]
[null,null,"(1) სოციალური კაპიტალი",null,null,null,null,null,null,null,null,null,null,{"$f":"SUM(I5:M9)","v":0},{"$f":"(((N4-(-10))*(1-0))/(10-(-10)))+0","v":0.5}]
[null,1,"დაინტერესებული მხარის შესაძლებლობა, ჩართოს სხვა დაინტერესებული მხარეები ",null,null,null,null,null,{"$f":"IF(D5=\"x\",-2,0)","v":0},{"$f":"IF(E5=\"x\",-1,0)","v":0},{"$f":"IF(F5=\"x\",0,0)","v":0},{"$f":"IF(G5=\"x\",1,0)","v":0},{"$f":"IF(H5=\"x\",2,0)","v":0},null,"შეწონილი მნიშვნელობა"]
[null,2,"კონკრეტული კატეგორიის აქტორთა წარმომადგენლობითი დონე (მრავალი სხვა მოქალაქის ინტერესების წარმოდგენა)",null,null,null,null,null,{"$f":"IF(D6=\"x\",-2,0)","v":0},{"$f":"IF(E6=\"x\",-1,0)","v":0},{"$f":"IF(F6=\"x\",0,0)","v":0},{"$f":"IF(G6=\"x\",1,0)","v":0},{"$f":"IF(H6=\"x\",2,0)","v":0},null,{"$f":"O4*'1_COMMUNITY EVALUATION'!N4","v":0.25}]
[null,3,"დაინტერესებული მხარის მონაწილეობის დონე ადგილობრივ სამოქალაქო აქტივობებში",null,null,null,null,null,{"$f":"IF(D7=\"x\",-2,0)","v":0},{"$f":"IF(E7=\"x\",-1,0)","v":0},{"$f":"IF(F7=\"x\",0,0)","v":0},{"$f":"IF(G7=\"x\",1,0)","v":0},{"$f":"IF(H7=\"x\",2,0)","v":0}]
[null,4,"დაინტერესებული მხარის შესაძლებლობა, დაიწყოს ცვლილების განხორციელება/გავლენა იქონიოს მასზე",null,null,null,null,null,{"$f":"IF(D8=\"x\",-2,0)","v":0},{"$f":"IF(E8=\"x\",-1,0)","v":0},{"$f":"IF(F8=\"x\",0,0)","v":0},{"$f":"IF(G8=\"x\",1,0)","v":0},{"$f":"IF(H8=\"x\",2,0)","v":0}]
[null,5,"მოქალაქეთა მიერ დაინტერესებული მხარის აღიარების დონე ",null,null,null,null,null,{"$f":"IF(D9=\"x\",-2,0)","v":0},{"$f":"IF(E9=\"x\",-1,0)","v":0},{"$f":"IF(F9=\"x\",0,0)","v":0},{"$f":"IF(G9=\"x\",1,0)","v":0},{"$f":"IF(H9=\"x\",2,0)","v":0}]
[null,null,"(2) ეკონომიკური კაპიტალი",null,null,null,null,null,null,null,null,null,null,{"$f":"SUM(I11:M15)","v":0},{"$f":"(((N10-(-10))*(1-0))/(10-(-10)))+0","v":0.5}]
[null,6,"დაინტერესებული მხარის შესაძლებლობა, შეასრულოს დონორის ფუნქცია",null,null,null,null,null,{"$f":"IF(D11=\"x\",-2,0)","v":0},{"$f":"IF(E11=\"x\",-1,0)","v":0},{"$f":"IF(F11=\"x\",0,0)","v":0},{"$f":"IF(G11=\"x\",1,0)","v":0},{"$f":"IF(H11=\"x\",2,0)","v":0},null,"შეწონილი მნიშვნელობა"]
[null,7,"დაინტერესებული მხარის შესაძლებლობა, გავლენა მოახდინოს რესურსების განაწილებაზე ",null,null,null,null,null,{"$f":"IF(D12=\"x\",-2,0)","v":0},{"$f":"IF(E12=\"x\",-1,0)","v":0},{"$f":"IF(F12=\"x\",0,0)","v":0},{"$f":"IF(G12=\"x\",1,0)","v":0},{"$f":"IF(H12=\"x\",2,0)","v":0},null,{"$f":"O10*'1_COMMUNITY EVALUATION'!N13","v":0.25}]
[null,8,"დაინტერესებული მხარის შესაძლებლობა, ხელი შეუწყოს წვდომას არსებულ ან დამატებით (გარე) რესურსებზე ",null,null,null,null,null,{"$f":"IF(D13=\"x\",-2,0)","v":0},{"$f":"IF(E13=\"x\",-1,0)","v":0},{"$f":"IF(F13=\"x\",0,0)","v":0},{"$f":"IF(G13=\"x\",1,0)","v":0},{"$f":"IF(H13=\"x\",2,0)","v":0}]
[null,9,"დაინტერესებული მხარის შესაძლებლობა არამატერიალური მხარდაჭერის გასაწევად ",null,null,null,null,null,{"$f":"IF(D14=\"x\",-2,0)","v":0},{"$f":"IF(E14=\"x\",-1,0)","v":0},{"$f":"IF(F14=\"x\",0,0)","v":0},{"$f":"IF(G14=\"x\",1,0)","v":0},{"$f":"IF(H14=\"x\",2,0)","v":0}]
[null,10,"დაინტერესებული მხარის გავლენა შრომის ბაზარზე",null,null,null,null,null,{"$f":"IF(D15=\"x\",-2,0)","v":0},{"$f":"IF(E15=\"x\",-1,0)","v":0},{"$f":"IF(F15=\"x\",0,0)","v":0},{"$f":"IF(G15=\"x\",1,0)","v":0},{"$f":"IF(H15=\"x\",2,0)","v":0}]
[null,null,"(3) ადამიანური კაპიტალი",null,null,null,null,null,null,null,null,null,null,{"$f":"SUM(I17:M21)","v":0},{"$f":"(((N16-(-10))*(1-0))/(10-(-10)))+0","v":0.5}]
[null,11,"დაინტერესებული მხარის ცოდნა/უნარები კონკრეტულ თემასთან მიმართებით",null,null,null,null,null,{"$f":"IF(D17=\"x\",-2,0)","v":0},{"$f":"IF(E17=\"x\",-1,0)","v":0},{"$f":"IF(F17=\"x\",0,0)","v":0},{"$f":"IF(G17=\"x\",1,0)","v":0},{"$f":"IF(H17=\"x\",2,0)","v":0},null,"შეწონილი მნიშვნელობა"]
[null,12,"დაინტერესებული მხარის ინფორმირებულობა კონკრეტულ თემაზე",null,null,null,null,null,{"$f":"IF(D18=\"x\",-2,0)","v":0},{"$f":"IF(E18=\"x\",-1,0)","v":0},{"$f":"IF(F18=\"x\",0,0)","v":0},{"$f":"IF(G18=\"x\",1,0)","v":0},{"$f":"IF(H18=\"x\",2,0)","v":0},null,{"$f":"O16*'1_COMMUNITY EVALUATION'!N22","v":0.25}]
[null,13,"დაინტერესებული მხარის შესაძლებლობა, ჩაერთოს საზოგადოებრივ დებატებში",null,null,null,null,null,{"$f":"IF(D19=\"x\",-2,0)","v":0},{"$f":"IF(E19=\"x\",-1,0)","v":0},{"$f":"IF(F19=\"x\",0,0)","v":0},{"$f":"IF(G19=\"x\",1,0)","v":0},{"$f":"IF(H19=\"x\",2,0)","v":0}]
[null,14,"დაინტერესებული მხარის შესაძლებლობა, კომუნიკაცია დაამყაროს სხვადასხვა მედიასაშუალების გამოყენებით ",null,null,null,null,null,{"$f":"IF(D20=\"x\",-2,0)","v":0},{"$f":"IF(E20=\"x\",-1,0)","v":0},{"$f":"IF(F20=\"x\",0,0)","v":0},{"$f":"IF(G20=\"x\",1,0)","v":0},{"$f":"IF(H20=\"x\",2,0)","v":0}]
[null,15,"დაინტერესებული მხარის ხელმისაწვდომობა საჯარო სივრცეებზე  ",null,null,null,null,null,{"$f":"IF(D21=\"x\",-2,0)","v":0},{"$f":"IF(E21=\"x\",-1,0)","v":0},{"$f":"IF(F21=\"x\",0,0)","v":0},{"$f":"IF(G21=\"x\",1,0)","v":0},{"$f":"IF(H21=\"x\",2,0)","v":0}]
[null,null,"(4) პოლიტიკური კაპიტალი",null,null,null,null,null,null,null,null,null,null,{"$f":"SUM(I23:M27)","v":0},{"$f":"(((N22-(-10))*(1-0))/(10-(-10)))+0","v":0.5}]
[null,16,"ადგილობრივი ადმინისტრაციის ნდობა დაინტერესებული მხარის მიმართ",null,null,null,null,null,{"$f":"IF(D23=\"x\",-2,0)","v":0},{"$f":"IF(E23=\"x\",-1,0)","v":0},{"$f":"IF(F23=\"x\",0,0)","v":0},{"$f":"IF(G23=\"x\",1,0)","v":0},{"$f":"IF(H23=\"x\",2,0)","v":0},null,"შეწონილი მნიშვნელობა"]
[null,17,"დაინტერესებული მხარის შესაძლებლობა, ჩართოს სხვა პოლიტიკური აქტორები",null,null,null,null,null,{"$f":"IF(D24=\"x\",-2,0)","v":0},{"$f":"IF(E24=\"x\",-1,0)","v":0},{"$f":"IF(F24=\"x\",0,0)","v":0},{"$f":"IF(G24=\"x\",1,0)","v":0},{"$f":"IF(H24=\"x\",2,0)","v":0},null,{"$f":"O22*'1_COMMUNITY EVALUATION'!N31","v":0.25}]
[null,18,"დაინტერესებული მხარის შესაძლებლობა, ითანამშრომლოს ადგილობრივი ხელისუფლების ორგანოებთან/სხვა დაინტერესებულ მხარეებთან ",null,null,null,null,null,{"$f":"IF(D25=\"x\",-2,0)","v":0},{"$f":"IF(E25=\"x\",-1,0)","v":0},{"$f":"IF(F25=\"x\",0,0)","v":0},{"$f":"IF(G25=\"x\",1,0)","v":0},{"$f":"IF(H25=\"x\",2,0)","v":0}]
[null,19,"დაინტერესებული მხარის შესაძლებლობა, გავლენა იქონიოს საზოგადოებრივ აზრზე ",null,null,null,null,null,{"$f":"IF(D26=\"x\",-2,0)","v":0},{"$f":"IF(E26=\"x\",-1,0)","v":0},{"$f":"IF(F26=\"x\",0,0)","v":0},{"$f":"IF(G26=\"x\",1,0)","v":0},{"$f":"IF(H26=\"x\",2,0)","v":0}]
[null,20,"დაინტერესებული მხარის ინფორმირებულობა პოლიტიკის საკითხებზე",null,null,null,null,null,{"$f":"IF(D27=\"x\",-2,0)","v":0},{"$f":"IF(E27=\"x\",-1,0)","v":0},{"$f":"IF(F27=\"x\",0,0)","v":0},{"$f":"IF(G27=\"x\",1,0)","v":0},{"$f":"IF(H27=\"x\",2,0)","v":0}]
[null,null,"რელევანტურობის ქულა",null,null,null,null,null,null,null,null,null,null,null,{"$f":"IF(D2=\"\",\"\",(SUM(O24+O18+O12+O6)/4))","v":""}]
[]
[null,null,"განზომილებები","უაღრესად უარყოფიოთი","უარყოფითი","არ არის რელევანტური","დადებითი","უაღრესად დადებითი",-2,-1,0,1,2,null,"ქულა თითოეულ განზომილებაში"]
[null,null,"(1)სოციალური კაპიტალი",null,null,null,null,null,null,null,null,null,null,{"$f":"SUM(I32:M36)","v":0},{"$f":"(((N31-(-10))*(1-0))/(10-(-10)))+0","v":0.5}]
[null,1,"დაინტერესებული მხარის ინტერესი, დაამყაროს კონტაქტები კონკრეტულ თემასთან დაკავშირებით",null,null,null,null,null,{"$f":"IF(D32=\"x\",-2,0)","v":0},{"$f":"IF(E32=\"x\",-1,0)","v":0},{"$f":"IF(F32=\"x\",0,0)","v":0},{"$f":"IF(G32=\"x\",1,0)","v":0},{"$f":"IF(H32=\"x\",2,0)","v":0},null,"შეწონილი მნიშვნელობა"]
[null,2,"დაინტერესებული მხარის ინტერესი, უზრუნველყოს კონკრეტული კატეგორიის აქტორთა წარმომადგენლობა თემასთან მიმართებით",null,null,null,null,null,{"$f":"IF(D33=\"x\",-2,0)","v":0},{"$f":"IF(E33=\"x\",-1,0)","v":0},{"$f":"IF(F33=\"x\",0,0)","v":0},{"$f":"IF(G33=\"x\",1,0)","v":0},{"$f":"IF(H33=\"x\",2,0)","v":0},null,{"$f":"O31*'1_COMMUNITY EVALUATION'!N4","v":0.25}]
[null,3,"დაინტერესებული მხარის ინტერესი, ჩაერთოს  ადგილობრივ სამოქალაქო აქტივობებში თემასთან მიმართებით",null,null,null,null,null,{"$f":"IF(D34=\"x\",-2,0)","v":0},{"$f":"IF(E34=\"x\",-1,0)","v":0},{"$f":"IF(F34=\"x\",0,0)","v":0},{"$f":"IF(G34=\"x\",1,0)","v":0},{"$f":"IF(H34=\"x\",2,0)","v":0}]
[null,4,"დაინტერესებული მხარის ინტერესი, დაიწყოს ცვლილების განხორციელება/გავლენა იქონიოს მასზე      ",null,null,null,null,null,{"$f":"IF(D35=\"x\",-2,0)","v":0},{"$f":"IF(E35=\"x\",-1,0)","v":0},{"$f":"IF(F35=\"x\",0,0)","v":0},{"$f":"IF(G35=\"x\",1,0)","v":0},{"$f":"IF(H35=\"x\",2,0)","v":0}]
[null,5,"დაინტერესებული მხარის ინტერესი, გაზარდოს მისი აღიარება მოქალაქეთა მხრიდან",null,null,null,null,null,{"$f":"IF(D36=\"x\",-2,0)","v":0},{"$f":"IF(E36=\"x\",-1,0)","v":0},{"$f":"IF(F36=\"x\",0,0)","v":0},{"$f":"IF(G36=\"x\",1,0)","v":0},{"$f":"IF(H36=\"x\",2,0)","v":0}]
[null,null,"(2) ეკონომიკური კაპიტალი",null,null,null,null,null,null,null,null,null,null,{"$f":"SUM(I38:M42)","v":0},{"$f":"(((N37-(-10))*(1-0))/(10-(-10)))+0","v":0.5}]
[null,6,"დაინტერესებული მხარის პოტენციური ეკონომიკური სარგებელი",null,null,null,null,null,{"$f":"IF(D38=\"x\",-2,0)","v":0},{"$f":"IF(E38=\"x\",-1,0)","v":0},{"$f":"IF(F38=\"x\",0,0)","v":0},{"$f":"IF(G38=\"x\",1,0)","v":0},{"$f":"IF(H38=\"x\",2,0)","v":0},null,"შეწონილი მნიშვნელობა"]
[null,7,"დაინტერესებული მხარის სურვილი, თავი მოუყაროს რესურსებს",null,null,null,null,null,{"$f":"IF(D39=\"x\",-2,0)","v":0},{"$f":"IF(E39=\"x\",-1,0)","v":0},{"$f":"IF(F39=\"x\",0,0)","v":0},{"$f":"IF(G39=\"x\",1,0)","v":0},{"$f":"IF(H39=\"x\",2,0)","v":0},null,{"$f":"O37*'1_COMMUNITY EVALUATION'!N13","v":0.25}]
[null,8,"დაინტერესებული მხარის სურვილი, ხელი შეუწყოს წვდომას არსებულ ან დამატებით(გარე) რესურსებზე       ",null,null,null,null,null,{"$f":"IF(D40=\"x\",-2,0)","v":0},{"$f":"IF(E40=\"x\",-1,0)","v":0},{"$f":"IF(F40=\"x\",0,0)","v":0},{"$f":"IF(G40=\"x\",1,0)","v":0},{"$f":"IF(H40=\"x\",2,0)","v":0}]
[null,9,"დაინტერესებული მხარის მზაობა არამატერიალური მხარდაჭერის გასაწევად",null,null,null,null,null,{"$f":"IF(D41=\"x\",-2,0)","v":0},{"$f":"IF(E41=\"x\",-1,0)","v":0},{"$f":"IF(F41=\"x\",0,0)","v":0},{"$f":"IF(G41=\"x\",1,0)","v":0},{"$f":"IF(H41=\"x\",2,0)","v":0}]
[null,10,"დაინტერესებული მხარის ინტერესი, გაზარდოს თავისი გავლენა შრომის ბაზარზე",null,null,null,null,null,{"$f":"IF(D42=\"x\",-2,0)","v":0},{"$f":"IF(E42=\"x\",-1,0)","v":0},{"$f":"IF(F42=\"x\",0,0)","v":0},{"$f":"IF(G42=\"x\",1,0)","v":0},{"$f":"IF(H42=\"x\",2,0)","v":0}]
[null,null,"(3) ადამიანური კაპიტალი",null,null,null,null,null,null,null,null,null,null,{"$f":"SUM(I44:M48)","v":0},{"$f":"(((N43-(-10))*(1-0))/(10-(-10)))+0","v":0.5}]
[null,11,"დაინტერესებული მხარის ინტერესი, გააზიაროს/გააუმჯობესოს თავისი ცოდნა/უნარები  კონკრეტულ თემასთან მიმართებით",null,null,null,null,null,{"$f":"IF(D44=\"x\",-2,0)","v":0},{"$f":"IF(E44=\"x\",-1,0)","v":0},{"$f":"IF(F44=\"x\",0,0)","v":0},{"$f":"IF(G44=\"x\",1,0)","v":0},{"$f":"IF(H44=\"x\",2,0)","v":0},null,"შეწონილი მნიშვნელობა"]
[null,12,"დაინტერესებული მხარის სურვილი გააზიაროს/გაზარდოს საკუთარი ინფორმირებულობა კონკრეტულ თემაზე",null,null,null,null,null,{"$f":"IF(D45=\"x\",-2,0)","v":0},{"$f":"IF(E45=\"x\",-1,0)","v":0},{"$f":"IF(F45=\"x\",0,0)","v":0},{"$f":"IF(G45=\"x\",1,0)","v":0},{"$f":"IF(H45=\"x\",2,0)","v":0},null,{"$f":"O43*'1_COMMUNITY EVALUATION'!N22","v":0.25}]
[null,13,"დაინტერესებული მხარის სურვილი, ჩაერთოს საზოგადოებრივ დებატებში",null,null,null,null,null,{"$f":"IF(D46=\"x\",-2,0)","v":0},{"$f":"IF(E46=\"x\",-1,0)","v":0},{"$f":"IF(F46=\"x\",0,0)","v":0},{"$f":"IF(G46=\"x\",1,0)","v":0},{"$f":"IF(H46=\"x\",2,0)","v":0}]
[null,14,"დაინტერესებული მხარის სურვილი, კომუნიკაცია დაამყაროს სხვადასხვა მედიასაშუალების  გამოყენებით ",null,null,null,null,null,{"$f":"IF(D47=\"x\",-2,0)","v":0},{"$f":"IF(E47=\"x\",-1,0)","v":0},{"$f":"IF(F47=\"x\",0,0)","v":0},{"$f":"IF(G47=\"x\",1,0)","v":0},{"$f":"IF(H47=\"x\",2,0)","v":0}]
[null,15,"დაინტერესებული მხარის სურვილი, ჰქონდეს წვდომა საჯარო სივრცეებზე",null,null,null,null,null,{"$f":"IF(D48=\"x\",-2,0)","v":0},{"$f":"IF(E48=\"x\",-1,0)","v":0},{"$f":"IF(F48=\"x\",0,0)","v":0},{"$f":"IF(G48=\"x\",1,0)","v":0},{"$f":"IF(H48=\"x\",2,0)","v":0}]
[null,null,"(4)პოლიტიკური კაპიტალი",null,null,null,null,null,null,null,null,null,null,{"$f":"SUM(I50:M54)","v":0},{"$f":"(((N49-(-10))*(1-0))/(10-(-10)))+0","v":0.5}]
[null,16,"დაინტერესებული მხარის ნდობა ადგილობრივი ადმინისტრაციის მიმართ",null,null,null,null,null,{"$f":"IF(D50=\"x\",-2,0)","v":0},{"$f":"IF(E50=\"x\",-1,0)","v":0},{"$f":"IF(F50=\"x\",0,0)","v":0},{"$f":"IF(G50=\"x\",1,0)","v":0},{"$f":"IF(H50=\"x\",2,0)","v":0},null,"შეწონილი მნიშვნელობა"]
[null,17,"დაინტერესებული მხარის პოლიტიკური ინტერესი კონკრეტული თემის მიმართ ",null,null,null,null,null,{"$f":"IF(D51=\"x\",-2,0)","v":0},{"$f":"IF(E51=\"x\",-1,0)","v":0},{"$f":"IF(F51=\"x\",0,0)","v":0},{"$f":"IF(G51=\"x\",1,0)","v":0},{"$f":"IF(H51=\"x\",2,0)","v":0},null,{"$f":"O49*'1_COMMUNITY EVALUATION'!N31","v":0.25}]
[null,18,"დაინტერესებული მხარის სურვილი, ითანამშრომლოს ადგილობრივი ხელისუფლების ორგანოებთან",null,null,null,null,null,{"$f":"IF(D52=\"x\",-2,0)","v":0},{"$f":"IF(E52=\"x\",-1,0)","v":0},{"$f":"IF(F52=\"x\",0,0)","v":0},{"$f":"IF(G52=\"x\",1,0)","v":0},{"$f":"IF(H52=\"x\",2,0)","v":0}]
[null,19,"დაინტერესებული მხარის ინტერესი, ხმა მიაწვდინოს/მოიცვას ფართო საზოგადოება",null,null,null,null,null,{"$f":"IF(D53=\"x\",-2,0)","v":0},{"$f":"IF(E53=\"x\",-1,0)","v":0},{"$f":"IF(F53=\"x\",0,0)","v":0},{"$f":"IF(G53=\"x\",1,0)","v":0},{"$f":"IF(H53=\"x\",2,0)","v":0}]
[null,20,"დაინტერესებული მხარის სურვილი, გააზიაროს/გაზარდოს თავისი ინფორმირებულობა პოლიტიკის საკითხებზე",null,null,null,null,null,{"$f":"IF(D54=\"x\",-2,0)","v":0},{"$f":"IF(E54=\"x\",-1,0)","v":0},{"$f":"IF(F54=\"x\",0,0)","v":0},{"$f":"IF(G54=\"x\",1,0)","v":0},{"$f":"IF(H54=\"x\",2,0)","v":0}]
[null,null,"ინტერესის ქულა",null,null,null,null,null,null,null,null,null,null,null,{"$f":"IF(D2=\"\",\"\",(SUM(O51+O45+O39+O33)/4))","v":""}]

{"sheet":"STAKEHOLDER (28)","index":32,"n_rows":55,"n_cols":15,"rows_kept":55,"cut":false,"hidden":false,"merged":[[0,1,0,14],[1,3,1,14],[27,2,27,7],[54,2,54,7]]}
[null,"კონკრეტული თემის გათვალისწინებით, გთხოვთ, დაინტერესებული მხარე შეაფასოთ თითოეულ პუნქტთან მიმართებით (უაღრესად უარყოფითიდან უაღრესად დადებითამდე) და შესაბამის გრაფაში მონიშნოთ „x“. "]
[null,null,"დაინტერესებული მხარე -მიუთითეთ დასახელება"]
[null,null,"განზომილებები","უაღრესად უარყოფითი","უარყოფითი","არ არის რელევანტური","დადებითი","უაღრესად დადებითი",-2,-1,0,1,2,null,"ქულა თითოეულ განზომილებაში"]
[null,null,"(1)სოციალური კაპიტალი",null,null,null,null,null,null,null,null,null,null,{"$f":"SUM(I5:M9)","v":0},{"$f":"(((N4-(-10))*(1-0))/(10-(-10)))+0","v":0.5}]
[null,1,"დაინტერესებული მხარის შესაძლებლობა, ჩართოს სხვა დაინტერესებული მხარეები ",null,null,null,null,null,{"$f":"IF(D5=\"x\",-2,0)","v":0},{"$f":"IF(E5=\"x\",-1,0)","v":0},{"$f":"IF(F5=\"x\",0,0)","v":0},{"$f":"IF(G5=\"x\",1,0)","v":0},{"$f":"IF(H5=\"x\",2,0)","v":0},null,"შეწონილი მნიშვნელობა"]
[null,2,"კონკრეტული კატეგორიის აქტორთა წარმომადგენლობითი დონე (მრავალი სხვა მოქალაქის ინტერესების წარმოდგენა)",null,null,null,null,null,{"$f":"IF(D6=\"x\",-2,0)","v":0},{"$f":"IF(E6=\"x\",-1,0)","v":0},{"$f":"IF(F6=\"x\",0,0)","v":0},{"$f":"IF(G6=\"x\",1,0)","v":0},{"$f":"IF(H6=\"x\",2,0)","v":0},null,{"$f":"O4*'1_COMMUNITY EVALUATION'!N4","v":0.25}]
[null,3,"დაინტერესებული მხარის მონაწილეობის დონე ადგილობრივ სამოქალაქო აქტივობებში",null,null,null,null,null,{"$f":"IF(D7=\"x\",-2,0)","v":0},{"$f":"IF(E7=\"x\",-1,0)","v":0},{"$f":"IF(F7=\"x\",0,0)","v":0},{"$f":"IF(G7=\"x\",1,0)","v":0},{"$f":"IF(H7=\"x\",2,0)","v":0}]
[null,4,"დაინტერესებული მხარის შესაძლებლობა, დაიწყოს ცვლილების განხორციელება/გავლენა იქონიოს მასზე",null,null,null,null,null,{"$f":"IF(D8=\"x\",-2,0)","v":0},{"$f":"IF(E8=\"x\",-1,0)","v":0},{"$f":"IF(F8=\"x\",0,0)","v":0},{"$f":"IF(G8=\"x\",1,0)","v":0},{"$f":"IF(H8=\"x\",2,0)","v":0}]
[null,5,"მოქალაქეთა მიერ დაინტერესებული მხარის აღიარების დონე ",null,null,null,null,null,{"$f":"IF(D9=\"x\",-2,0)","v":0},{"$f":"IF(E9=\"x\",-1,0)","v":0},{"$f":"IF(F9=\"x\",0,0)","v":0},{"$f":"IF(G9=\"x\",1,0)","v":0},{"$f":"IF(H9=\"x\",2,0)","v":0}]
[null,null,"(2) ეკონომიკური კაპიტალი",null,null,null,null,null,null,null,null,null,null,{"$f":"SUM(I11:M15)","v":0},{"$f":"(((N10-(-10))*(1-0))/(10-(-10)))+0","v":0.5}]
[null,6,"დაინტერესებული მხარის შესაძლებლობა, შეასრულოს დონორის ფუნქცია",null,null,null,null,null,{"$f":"IF(D11=\"x\",-2,0)","v":0},{"$f":"IF(E11=\"x\",-1,0)","v":0},{"$f":"IF(F11=\"x\",0,0)","v":0},{"$f":"IF(G11=\"x\",1,0)","v":0},{"$f":"IF(H11=\"x\",2,0)","v":0},null,"შეწონილი მნიშვნელობა"]
[null,7,"დაინტერესებული მხარის შესაძლებლობა, გავლენა მოახდინოს რესურსების განაწილებაზე ",null,null,null,null,null,{"$f":"IF(D12=\"x\",-2,0)","v":0},{"$f":"IF(E12=\"x\",-1,0)","v":0},{"$f":"IF(F12=\"x\",0,0)","v":0},{"$f":"IF(G12=\"x\",1,0)","v":0},{"$f":"IF(H12=\"x\",2,0)","v":0},null,{"$f":"O10*'1_COMMUNITY EVALUATION'!N13","v":0.25}]
[null,8,"დაინტერესებული მხარის შესაძლებლობა, ხელი შეუწყოს წვდომას არსებულ ან დამატებით (გარე) რესურსებზე ",null,null,null,null,null,{"$f":"IF(D13=\"x\",-2,0)","v":0},{"$f":"IF(E13=\"x\",-1,0)","v":0},{"$f":"IF(F13=\"x\",0,0)","v":0},{"$f":"IF(G13=\"x\",1,0)","v":0},{"$f":"IF(H13=\"x\",2,0)","v":0}]
[null,9,"დაინტერესებული მხარის შესაძლებლობა არამატერიალური მხარდაჭერის გასაწევად ",null,null,null,null,null,{"$f":"IF(D14=\"x\",-2,0)","v":0},{"$f":"IF(E14=\"x\",-1,0)","v":0},{"$f":"IF(F14=\"x\",0,0)","v":0},{"$f":"IF(G14=\"x\",1,0)","v":0},{"$f":"IF(H14=\"x\",2,0)","v":0}]
[null,10,"დაინტერესებული მხარის გავლენა შრომის ბაზარზე",null,null,null,null,null,{"$f":"IF(D15=\"x\",-2,0)","v":0},{"$f":"IF(E15=\"x\",-1,0)","v":0},{"$f":"IF(F15=\"x\",0,0)","v":0},{"$f":"IF(G15=\"x\",1,0)","v":0},{"$f":"IF(H15=\"x\",2,0)","v":0}]
[null,null,"(3) ადამიანური კაპიტალი",null,null,null,null,null,null,null,null,null,null,{"$f":"SUM(I17:M21)","v":0},{"$f":"(((N16-(-10))*(1-0))/(10-(-10)))+0","v":0.5}]
[null,11,"დაინტერესებული მხარის ცოდნა/უნარები კონკრეტულ თემასთან მიმართებით",null,null,null,null,null,{"$f":"IF(D17=\"x\",-2,0)","v":0},{"$f":"IF(E17=\"x\",-1,0)","v":0},{"$f":"IF(F17=\"x\",0,0)","v":0},{"$f":"IF(G17=\"x\",1,0)","v":0},{"$f":"IF(H17=\"x\",2,0)","v":0},null,"შეწონილი მნიშვნელობა"]
[null,12,"დაინტერესებული მხარის ინფორმირებულობა კონკრეტულ თემაზე",null,null,null,null,null,{"$f":"IF(D18=\"x\",-2,0)","v":0},{"$f":"IF(E18=\"x\",-1,0)","v":0},{"$f":"IF(F18=\"x\",0,0)","v":0},{"$f":"IF(G18=\"x\",1,0)","v":0},{"$f":"IF(H18=\"x\",2,0)","v":0},null,{"$f":"O16*'1_COMMUNITY EVALUATION'!N22","v":0.25}]
[null,13,"დაინტერესებული მხარის შესაძლებლობა, ჩაერთოს საზოგადოებრივ დებატებში",null,null,null,null,null,{"$f":"IF(D19=\"x\",-2,0)","v":0},{"$f":"IF(E19=\"x\",-1,0)","v":0},{"$f":"IF(F19=\"x\",0,0)","v":0},{"$f":"IF(G19=\"x\",1,0)","v":0},{"$f":"IF(H19=\"x\",2,0)","v":0}]
[null,14,"დაინტერესებული მხარის შესაძლებლობა, კომუნიკაცია დაამყაროს სხვადასხვა მედიასაშუალების გამოყენებით ",null,null,null,null,null,{"$f":"IF(D20=\"x\",-2,0)","v":0},{"$f":"IF(E20=\"x\",-1,0)","v":0},{"$f":"IF(F20=\"x\",0,0)","v":0},{"$f":"IF(G20=\"x\",1,0)","v":0},{"$f":"IF(H20=\"x\",2,0)","v":0}]
[null,15,"დაინტერესებული მხარის ხელმისაწვდომობა საჯარო სივრცეებზე  ",null,null,null,null,null,{"$f":"IF(D21=\"x\",-2,0)","v":0},{"$f":"IF(E21=\"x\",-1,0)","v":0},{"$f":"IF(F21=\"x\",0,0)","v":0},{"$f":"IF(G21=\"x\",1,0)","v":0},{"$f":"IF(H21=\"x\",2,0)","v":0}]
[null,null,"(4)პოლიტიკური კაპიტალი",null,null,null,null,null,null,null,null,null,null,{"$f":"SUM(I23:M27)","v":0},{"$f":"(((N22-(-10))*(1-0))/(10-(-10)))+0","v":0.5}]
[null,16,"ადგილობრივი ადმინისტრაციის ნდობა დაინტერესებული მხარის მიმართ",null,null,null,null,null,{"$f":"IF(D23=\"x\",-2,0)","v":0},{"$f":"IF(E23=\"x\",-1,0)","v":0},{"$f":"IF(F23=\"x\",0,0)","v":0},{"$f":"IF(G23=\"x\",1,0)","v":0},{"$f":"IF(H23=\"x\",2,0)","v":0},null,"შეწონილი მნიშვნელობა"]
[null,17,"დაინტერესებული მხარის შესაძლებლობა, ჩართოს სხვა პოლიტიკური აქტორები",null,null,null,null,null,{"$f":"IF(D24=\"x\",-2,0)","v":0},{"$f":"IF(E24=\"x\",-1,0)","v":0},{"$f":"IF(F24=\"x\",0,0)","v":0},{"$f":"IF(G24=\"x\",1,0)","v":0},{"$f":"IF(H24=\"x\",2,0)","v":0},null,{"$f":"O22*'1_COMMUNITY EVALUATION'!N31","v":0.25}]
[null,18,"დაინტერესებული მხარის შესაძლებლობა, ითანამშრომლოს ადგილობრივი ხელისუფლების ორგანოებთან/სხვა დაინტერესებულ მხარეებთან ",null,null,null,null,null,{"$f":"IF(D25=\"x\",-2,0)","v":0},{"$f":"IF(E25=\"x\",-1,0)","v":0},{"$f":"IF(F25=\"x\",0,0)","v":0},{"$f":"IF(G25=\"x\",1,0)","v":0},{"$f":"IF(H25=\"x\",2,0)","v":0}]
[null,19,"დაინტერესებული მხარის შესაძლებლობა, გავლენა იქონიოს საზოგადოებრივ აზრზე ",null,null,null,null,null,{"$f":"IF(D26=\"x\",-2,0)","v":0},{"$f":"IF(E26=\"x\",-1,0)","v":0},{"$f":"IF(F26=\"x\",0,0)","v":0},{"$f":"IF(G26=\"x\",1,0)","v":0},{"$f":"IF(H26=\"x\",2,0)","v":0}]
[null,20,"დაინტერესებული მხარის ინფორმირებულობა პოლიტიკის საკითხებზე",null,null,null,null,null,{"$f":"IF(D27=\"x\",-2,0)","v":0},{"$f":"IF(E27=\"x\",-1,0)","v":0},{"$f":"IF(F27=\"x\",0,0)","v":0},{"$f":"IF(G27=\"x\",1,0)","v":0},{"$f":"IF(H27=\"x\",2,0)","v":0}]
[null,null,"რელევანტურობის ქულა",null,null,null,null,null,null,null,null,null,null,null,{"$f":"IF(D2=\"\",\"\",(SUM(O24+O18+O12+O6)/4))","v":""}]
[]
[null,null,"განზომილებები","უაღრესად უარყოფითი","უარყოფითი","არ არის რელევანტური","დადებითი","უაღრესად დადებითი",-2,-1,0,1,2,null,"ქულა თითოეულ განზომილებაში"]
[null,null,"(1) სოციალური კაპიტალი",null,null,null,null,null,null,null,null,null,null,{"$f":"SUM(I32:M36)","v":0},{"$f":"(((N31-(-10))*(1-0))/(10-(-10)))+0","v":0.5}]
[null,1,"დაინტერესებული მხარის ინტერესი, დაამყაროს კონტაქტები კონკრეტულ თემასთან დაკავშირებით",null,null,null,null,null,{"$f":"IF(D32=\"x\",-2,0)","v":0},{"$f":"IF(E32=\"x\",-1,0)","v":0},{"$f":"IF(F32=\"x\",0,0)","v":0},{"$f":"IF(G32=\"x\",1,0)","v":0},{"$f":"IF(H32=\"x\",2,0)","v":0},null,"შეწონილი მნიშვნელობა"]
[null,2,"დაინტერესებული მხარის ინტერესი, უზრუნველყოს კონკრეტული კატეგორიის აქტორთა წარმომადგენლობა თემასთან მიმართებით",null,null,null,null,null,{"$f":"IF(D33=\"x\",-2,0)","v":0},{"$f":"IF(E33=\"x\",-1,0)","v":0},{"$f":"IF(F33=\"x\",0,0)","v":0},{"$f":"IF(G33=\"x\",1,0)","v":0},{"$f":"IF(H33=\"x\",2,0)","v":0},null,{"$f":"O31*'1_COMMUNITY EVALUATION'!N4","v":0.25}]
[null,3,"დაინტერესებული მხარის ინტერესი, ჩაერთოს  ადგილობრივ სამოქალაქო აქტივობებში თემასთან მიმართებით",null,null,null,null,null,{"$f":"IF(D34=\"x\",-2,0)","v":0},{"$f":"IF(E34=\"x\",-1,0)","v":0},{"$f":"IF(F34=\"x\",0,0)","v":0},{"$f":"IF(G34=\"x\",1,0)","v":0},{"$f":"IF(H34=\"x\",2,0)","v":0}]
[null,4,"დაინტერესებული მხარის ინტერესი, დაიწყოს ცვლილების განხორციელება/გავლენა იქონიოს მასზე      ",null,null,null,null,null,{"$f":"IF(D35=\"x\",-2,0)","v":0},{"$f":"IF(E35=\"x\",-1,0)","v":0},{"$f":"IF(F35=\"x\",0,0)","v":0},{"$f":"IF(G35=\"x\",1,0)","v":0},{"$f":"IF(H35=\"x\",2,0)","v":0}]
[null,5,"დაინტერესებული მხარის ინტერესი, გაზარდოს მისი აღიარება მოქალაქეთა მხრიდან",null,null,null,null,null,{"$f":"IF(D36=\"x\",-2,0)","v":0},{"$f":"IF(E36=\"x\",-1,0)","v":0},{"$f":"IF(F36=\"x\",0,0)","v":0},{"$f":"IF(G36=\"x\",1,0)","v":0},{"$f":"IF(H36=\"x\",2,0)","v":0}]
[null,null,"(2) ეკონომიკური კაპიტალი",null,null,null,null,null,null,null,null,null,null,{"$f":"SUM(I38:M42)","v":0},{"$f":"(((N37-(-10))*(1-0))/(10-(-10)))+0","v":0.5}]
[null,6,"დაინტერესებული მხარის პოტენციური ეკონომიკური სარგებელი",null,null,null,null,null,{"$f":"IF(D38=\"x\",-2,0)","v":0},{"$f":"IF(E38=\"x\",-1,0)","v":0},{"$f":"IF(F38=\"x\",0,0)","v":0},{"$f":"IF(G38=\"x\",1,0)","v":0},{"$f":"IF(H38=\"x\",2,0)","v":0},null,"შეწონილი მნიშვნელობა"]
[null,7,"დაინტერესებული მხარის სურვილი, თავი მოუყაროს რესურსებს",null,null,null,null,null,{"$f":"IF(D39=\"x\",-2,0)","v":0},{"$f":"IF(E39=\"x\",-1,0)","v":0},{"$f":"IF(F39=\"x\",0,0)","v":0},{"$f":"IF(G39=\"x\",1,0)","v":0},{"$f":"IF(H39=\"x\",2,0)","v":0},null,{"$f":"O37*'1_COMMUNITY EVALUATION'!N13","v":0.25}]
[null,8,"დაინტერესებული მხარის სურვილი, ხელი შეუწყოს წვდომას არსებულ ან დამატებით(გარე) რესურსებზე       ",null,null,null,null,null,{"$f":"IF(D40=\"x\",-2,0)","v":0},{"$f":"IF(E40=\"x\",-1,0)","v":0},{"$f":"IF(F40=\"x\",0,0)","v":0},{"$f":"IF(G40=\"x\",1,0)","v":0},{"$f":"IF(H40=\"x\",2,0)","v":0}]
[null,9,"დაინტერესებული მხარის მზაობა არამატერიალური მხარდაჭერის გასაწევად",null,null,null,null,null,{"$f":"IF(D41=\"x\",-2,0)","v":0},{"$f":"IF(E41=\"x\",-1,0)","v":0},{"$f":"IF(F41=\"x\",0,0)","v":0},{"$f":"IF(G41=\"x\",1,0)","v":0},{"$f":"IF(H41=\"x\",2,0)","v":0}]
[null,10,"დაინტერესებული მხარის ინტერესი, გაზარდოს თავისი გავლენა შრომის ბაზარზე",null,null,null,null,null,{"$f":"IF(D42=\"x\",-2,0)","v":0},{"$f":"IF(E42=\"x\",-1,0)","v":0},{"$f":"IF(F42=\"x\",0,0)","v":0},{"$f":"IF(G42=\"x\",1,0)","v":0},{"$f":"IF(H42=\"x\",2,0)","v":0}]
[null,null,"(3) ადამიანური კაპიტალი",null,null,null,null,null,null,null,null,null,null,{"$f":"SUM(I44:M48)","v":0},{"$f":"(((N43-(-10))*(1-0))/(10-(-10)))+0","v":0.5}]
[null,11,"დაინტერესებული მხარის ინტერესი, გააზიაროს/გააუმჯობესოს თავისი ცოდნა/უნარები კონკრეტულ თემასთან მიმართებით",null,null,null,null,null,{"$f":"IF(D44=\"x\",-2,0)","v":0},{"$f":"IF(E44=\"x\",-1,0)","v":0},{"$f":"IF(F44=\"x\",0,0)","v":0},{"$f":"IF(G44=\"x\",1,0)","v":0},{"$f":"IF(H44=\"x\",2,0)","v":0},null,"შეწონილი მნიშვნელობა"]
[null,12,"დაინტერესებული მხარის სურვილი გააზიაროს/გაზარდოს საკუთარი ინფორმირებულობა კონკრეტულ თემაზე",null,null,null,null,null,{"$f":"IF(D45=\"x\",-2,0)","v":0},{"$f":"IF(E45=\"x\",-1,0)","v":0},{"$f":"IF(F45=\"x\",0,0)","v":0},{"$f":"IF(G45=\"x\",1,0)","v":0},{"$f":"IF(H45=\"x\",2,0)","v":0},null,{"$f":"O43*'1_COMMUNITY EVALUATION'!N22","v":0.25}]
[null,13,"დაინტერესებული მხარის სურვილი, ჩაერთოს საზოგადოებრივ დებატებში",null,null,null,null,null,{"$f":"IF(D46=\"x\",-2,0)","v":0},{"$f":"IF(E46=\"x\",-1,0)","v":0},{"$f":"IF(F46=\"x\",0,0)","v":0},{"$f":"IF(G46=\"x\",1,0)","v":0},{"$f":"IF(H46=\"x\",2,0)","v":0}]
[null,14,"დაინტერესებული მხარის სურვილი, კომუნიკაცია დაამყაროს სხვადასხვა მედიასაშუალების გამოყენებით",null,null,null,null,null,{"$f":"IF(D47=\"x\",-2,0)","v":0},{"$f":"IF(E47=\"x\",-1,0)","v":0},{"$f":"IF(F47=\"x\",0,0)","v":0},{"$f":"IF(G47=\"x\",1,0)","v":0},{"$f":"IF(H47=\"x\",2,0)","v":0}]
[null,15,"დაინტერესებული მხარის სურვილი, ჰქონდეს წვდომა საჯარო სივრცეებზე",null,null,null,null,null,{"$f":"IF(D48=\"x\",-2,0)","v":0},{"$f":"IF(E48=\"x\",-1,0)","v":0},{"$f":"IF(F48=\"x\",0,0)","v":0},{"$f":"IF(G48=\"x\",1,0)","v":0},{"$f":"IF(H48=\"x\",2,0)","v":0}]
[null,null,"(4) პოლიტიკური კაპიტალი",null,null,null,null,null,null,null,null,null,null,{"$f":"SUM(I50:M54)","v":0},{"$f":"(((N49-(-10))*(1-0))/(10-(-10)))+0","v":0.5}]
[null,16,"დაინტერესებული მხარის ნდობა ადგილობრივი ადმინისტრაციის მიმართ",null,null,null,null,null,{"$f":"IF(D50=\"x\",-2,0)","v":0},{"$f":"IF(E50=\"x\",-1,0)","v":0},{"$f":"IF(F50=\"x\",0,0)","v":0},{"$f":"IF(G50=\"x\",1,0)","v":0},{"$f":"IF(H50=\"x\",2,0)","v":0},null,"შეწონილი მნიშვნელობა"]
[null,17,"დაინტერესებული მხარის პოლიტიკური ინტერესი კონკრეტული თემის მიმართ ",null,null,null,null,null,{"$f":"IF(D51=\"x\",-2,0)","v":0},{"$f":"IF(E51=\"x\",-1,0)","v":0},{"$f":"IF(F51=\"x\",0,0)","v":0},{"$f":"IF(G51=\"x\",1,0)","v":0},{"$f":"IF(H51=\"x\",2,0)","v":0},null,{"$f":"O49*'1_COMMUNITY EVALUATION'!N31","v":0.25}]
[null,18,"დაინტერესებული მხარის სურვილი, ითანამშრომლოს ადგილობრივი ხელისუფლების ორგანოებთან",null,null,null,null,null,{"$f":"IF(D52=\"x\",-2,0)","v":0},{"$f":"IF(E52=\"x\",-1,0)","v":0},{"$f":"IF(F52=\"x\",0,0)","v":0},{"$f":"IF(G52=\"x\",1,0)","v":0},{"$f":"IF(H52=\"x\",2,0)","v":0}]
[null,19,"დაინტერესებული მხარის ინტერესი, ხმა მიაწვდინოს/მოიცვას ფართო საზოგადოება",null,null,null,null,null,{"$f":"IF(D53=\"x\",-2,0)","v":0},{"$f":"IF(E53=\"x\",-1,0)","v":0},{"$f":"IF(F53=\"x\",0,0)","v":0},{"$f":"IF(G53=\"x\",1,0)","v":0},{"$f":"IF(H53=\"x\",2,0)","v":0}]
[null,20,"დაინტერესებული მხარის სურვილი, გააზიაროს/გაზარდოს თავისი ინფორმირებულობა პოლიტიკის საკითხებზე",null,null,null,null,null,{"$f":"IF(D54=\"x\",-2,0)","v":0},{"$f":"IF(E54=\"x\",-1,0)","v":0},{"$f":"IF(F54=\"x\",0,0)","v":0},{"$f":"IF(G54=\"x\",1,0)","v":0},{"$f":"IF(H54=\"x\",2,0)","v":0}]
[null,null,"ინტერესის ქულა",null,null,null,null,null,null,null,null,null,null,null,{"$f":"IF(D2=\"\",\"\",(SUM(O51+O45+O39+O33)/4))","v":""}]

{"sheet":"STAKEHOLDER (29)","index":33,"n_rows":55,"n_cols":15,"rows_kept":55,"cut":false,"hidden":false,"merged":[[0,1,0,14],[1,3,1,14],[27,2,27,7],[54,2,54,7]]}
[null,"კონკრეტული თემის გათვალისწინებით, გთხოვთ, დაინტერესებული მხარე შეაფასოთ თითოეულ პუნქტთან მიმართებით (უაღრესად უარყოფითიდან უაღრესად დადებითამდე) და შესაბამის გრაფაში მონიშნოთ „x“. "]
[null,null,"დაინტერესებული მხარე -მიუთითეთ დასახელება"]
[null,null,"განზომილებები","უაღრესად უარყოფითი","უარყოფითი","არ არის რელევანტური","დადებითი","უაღრესად დადებითი",-2,-1,0,1,2,null,"ქულა თითოეულ განზომილებაში"]
[null,null,"(1) სოციალური კაპიტალი",null,null,null,null,null,null,null,null,null,null,{"$f":"SUM(I5:M9)","v":0},{"$f":"(((N4-(-10))*(1-0))/(10-(-10)))+0","v":0.5}]
[null,1,"დაინტერესებული მხარის შესაძლებლობა, ჩართოს სხვა დაინტერესებული მხარეები ",null,null,null,null,null,{"$f":"IF(D5=\"x\",-2,0)","v":0},{"$f":"IF(E5=\"x\",-1,0)","v":0},{"$f":"IF(F5=\"x\",0,0)","v":0},{"$f":"IF(G5=\"x\",1,0)","v":0},{"$f":"IF(H5=\"x\",2,0)","v":0},null,"შეწონილი მნიშვნელობა"]
[null,2,"კონკრეტული კატეგორიის აქტორთა წარმომადგენლობითი დონე (მრავალი სხვა მოქალაქის ინტერესების წარმოდგენა)",null,null,null,null,null,{"$f":"IF(D6=\"x\",-2,0)","v":0},{"$f":"IF(E6=\"x\",-1,0)","v":0},{"$f":"IF(F6=\"x\",0,0)","v":0},{"$f":"IF(G6=\"x\",1,0)","v":0},{"$f":"IF(H6=\"x\",2,0)","v":0},null,{"$f":"O4*'1_COMMUNITY EVALUATION'!N4","v":0.25}]
[null,3,"დაინტერესებული მხარის მონაწილეობის დონე ადგილობრივ სამოქალაქო აქტივობებში",null,null,null,null,null,{"$f":"IF(D7=\"x\",-2,0)","v":0},{"$f":"IF(E7=\"x\",-1,0)","v":0},{"$f":"IF(F7=\"x\",0,0)","v":0},{"$f":"IF(G7=\"x\",1,0)","v":0},{"$f":"IF(H7=\"x\",2,0)","v":0}]
[null,4,"დაინტერესებული მხარის შესაძლებლობა, დაიწყოს ცვლილების განხორციელება/გავლენა იქონიოს მასზე",null,null,null,null,null,{"$f":"IF(D8=\"x\",-2,0)","v":0},{"$f":"IF(E8=\"x\",-1,0)","v":0},{"$f":"IF(F8=\"x\",0,0)","v":0},{"$f":"IF(G8=\"x\",1,0)","v":0},{"$f":"IF(H8=\"x\",2,0)","v":0}]
[null,5,"მოქალაქეთა მიერ დაინტერესებული მხარის აღიარების დონე ",null,null,null,null,null,{"$f":"IF(D9=\"x\",-2,0)","v":0},{"$f":"IF(E9=\"x\",-1,0)","v":0},{"$f":"IF(F9=\"x\",0,0)","v":0},{"$f":"IF(G9=\"x\",1,0)","v":0},{"$f":"IF(H9=\"x\",2,0)","v":0}]
[null,null,"(2) ეკონომიკური კაპიტალი",null,null,null,null,null,null,null,null,null,null,{"$f":"SUM(I11:M15)","v":0},{"$f":"(((N10-(-10))*(1-0))/(10-(-10)))+0","v":0.5}]
[null,6,"დაინტერესებული მხარის შესაძლებლობა, შეასრულოს დონორის ფუნქცია",null,null,null,null,null,{"$f":"IF(D11=\"x\",-2,0)","v":0},{"$f":"IF(E11=\"x\",-1,0)","v":0},{"$f":"IF(F11=\"x\",0,0)","v":0},{"$f":"IF(G11=\"x\",1,0)","v":0},{"$f":"IF(H11=\"x\",2,0)","v":0},null,"შეწონილი მნიშვნელობა"]
[null,7,"დაინტერესებული მხარის შესაძლებლობა, გავლენა მოახდინოს რესურსების განაწილებაზე ",null,null,null,null,null,{"$f":"IF(D12=\"x\",-2,0)","v":0},{"$f":"IF(E12=\"x\",-1,0)","v":0},{"$f":"IF(F12=\"x\",0,0)","v":0},{"$f":"IF(G12=\"x\",1,0)","v":0},{"$f":"IF(H12=\"x\",2,0)","v":0},null,{"$f":"O10*'1_COMMUNITY EVALUATION'!N13","v":0.25}]
[null,8,"დაინტერესებული მხარის შესაძლებლობა, ხელი შეუწყოს წვდომას არსებულ ან დამატებით (გარე) რესურსებზე ",null,null,null,null,null,{"$f":"IF(D13=\"x\",-2,0)","v":0},{"$f":"IF(E13=\"x\",-1,0)","v":0},{"$f":"IF(F13=\"x\",0,0)","v":0},{"$f":"IF(G13=\"x\",1,0)","v":0},{"$f":"IF(H13=\"x\",2,0)","v":0}]
[null,9,"დაინტერესებული მხარის შესაძლებლობა არამატერიალური მხარდაჭერის გასაწევად ",null,null,null,null,null,{"$f":"IF(D14=\"x\",-2,0)","v":0},{"$f":"IF(E14=\"x\",-1,0)","v":0},{"$f":"IF(F14=\"x\",0,0)","v":0},{"$f":"IF(G14=\"x\",1,0)","v":0},{"$f":"IF(H14=\"x\",2,0)","v":0}]
[null,10,"დაინტერესებული მხარის გავლენა შრომის ბაზარზე",null,null,null,null,null,{"$f":"IF(D15=\"x\",-2,0)","v":0},{"$f":"IF(E15=\"x\",-1,0)","v":0},{"$f":"IF(F15=\"x\",0,0)","v":0},{"$f":"IF(G15=\"x\",1,0)","v":0},{"$f":"IF(H15=\"x\",2,0)","v":0}]
[null,null,"(3) ადამიანური კაპიტალი",null,null,null,null,null,null,null,null,null,null,{"$f":"SUM(I17:M21)","v":0},{"$f":"(((N16-(-10))*(1-0))/(10-(-10)))+0","v":0.5}]
[null,11,"დაინტერესებული მხარის ცოდნა/უნარები კონკრეტულ თემასთან მიმართებით",null,null,null,null,null,{"$f":"IF(D17=\"x\",-2,0)","v":0},{"$f":"IF(E17=\"x\",-1,0)","v":0},{"$f":"IF(F17=\"x\",0,0)","v":0},{"$f":"IF(G17=\"x\",1,0)","v":0},{"$f":"IF(H17=\"x\",2,0)","v":0},null,"შეწონილი მნიშვნელობა"]
[null,12,"დაინტერესებული მხარის ინფორმირებულობა კონკრეტულ თემაზე",null,null,null,null,null,{"$f":"IF(D18=\"x\",-2,0)","v":0},{"$f":"IF(E18=\"x\",-1,0)","v":0},{"$f":"IF(F18=\"x\",0,0)","v":0},{"$f":"IF(G18=\"x\",1,0)","v":0},{"$f":"IF(H18=\"x\",2,0)","v":0},null,{"$f":"O16*'1_COMMUNITY EVALUATION'!N22","v":0.25}]
[null,13,"დაინტერესებული მხარის შესაძლებლობა, ჩაერთოს საზოგადოებრივ დებატებში",null,null,null,null,null,{"$f":"IF(D19=\"x\",-2,0)","v":0},{"$f":"IF(E19=\"x\",-1,0)","v":0},{"$f":"IF(F19=\"x\",0,0)","v":0},{"$f":"IF(G19=\"x\",1,0)","v":0},{"$f":"IF(H19=\"x\",2,0)","v":0}]
[null,14,"დაინტერესებული მხარის შესაძლებლობა, კომუნიკაცია დაამყაროს სხვადასხვა მედიასაშუალების გამოყენებით ",null,null,null,null,null,{"$f":"IF(D20=\"x\",-2,0)","v":0},{"$f":"IF(E20=\"x\",-1,0)","v":0},{"$f":"IF(F20=\"x\",0,0)","v":0},{"$f":"IF(G20=\"x\",1,0)","v":0},{"$f":"IF(H20=\"x\",2,0)","v":0}]
[null,15,"დაინტერესებული მხარის ხელმისაწვდომობა საჯარო სივრცეებზე  ",null,null,null,null,null,{"$f":"IF(D21=\"x\",-2,0)","v":0},{"$f":"IF(E21=\"x\",-1,0)","v":0},{"$f":"IF(F21=\"x\",0,0)","v":0},{"$f":"IF(G21=\"x\",1,0)","v":0},{"$f":"IF(H21=\"x\",2,0)","v":0}]
[null,null,"(4) პოლიტიკური კაპიტალი",null,null,null,null,null,null,null,null,null,null,{"$f":"SUM(I23:M27)","v":0},{"$f":"(((N22-(-10))*(1-0))/(10-(-10)))+0","v":0.5}]
[null,16,"ადგილობრივი ადმინისტრაციის ნდობა დაინტერესებული მხარის მიმართ",null,null,null,null,null,{"$f":"IF(D23=\"x\",-2,0)","v":0},{"$f":"IF(E23=\"x\",-1,0)","v":0},{"$f":"IF(F23=\"x\",0,0)","v":0},{"$f":"IF(G23=\"x\",1,0)","v":0},{"$f":"IF(H23=\"x\",2,0)","v":0},null,"შეწონილი მნიშვნელობა"]
[null,17,"დაინტერესებული მხარის შესაძლებლობა, ჩართოს სხვა პოლიტიკური აქტორები",null,null,null,null,null,{"$f":"IF(D24=\"x\",-2,0)","v":0},{"$f":"IF(E24=\"x\",-1,0)","v":0},{"$f":"IF(F24=\"x\",0,0)","v":0},{"$f":"IF(G24=\"x\",1,0)","v":0},{"$f":"IF(H24=\"x\",2,0)","v":0},null,{"$f":"O22*'1_COMMUNITY EVALUATION'!N31","v":0.25}]
[null,18,"დაინტერესებული მხარის შესაძლებლობა, ითანამშრომლოს ადგილობრივი ხელისუფლების ორგანოებთან/სხვა დაინტერესებულ მხარეებთან ",null,null,null,null,null,{"$f":"IF(D25=\"x\",-2,0)","v":0},{"$f":"IF(E25=\"x\",-1,0)","v":0},{"$f":"IF(F25=\"x\",0,0)","v":0},{"$f":"IF(G25=\"x\",1,0)","v":0},{"$f":"IF(H25=\"x\",2,0)","v":0}]
[null,19,"დაინტერესებული მხარის შესაძლებლობა, გავლენა იქონიოს საზოგადოებრივ აზრზე ",null,null,null,null,null,{"$f":"IF(D26=\"x\",-2,0)","v":0},{"$f":"IF(E26=\"x\",-1,0)","v":0},{"$f":"IF(F26=\"x\",0,0)","v":0},{"$f":"IF(G26=\"x\",1,0)","v":0},{"$f":"IF(H26=\"x\",2,0)","v":0}]
[null,20,"დაინტერესებული მხარის ინფორმირებულობა პოლიტიკის საკითხებზე",null,null,null,null,null,{"$f":"IF(D27=\"x\",-2,0)","v":0},{"$f":"IF(E27=\"x\",-1,0)","v":0},{"$f":"IF(F27=\"x\",0,0)","v":0},{"$f":"IF(G27=\"x\",1,0)","v":0},{"$f":"IF(H27=\"x\",2,0)","v":0}]
[null,null,"რელევანტურობის ქულა",null,null,null,null,null,null,null,null,null,null,null,{"$f":"IF(D2=\"\",\"\",(SUM(O24+O18+O12+O6)/4))","v":""}]
[]
[null,null,"განზომილებები","უაღრესად უარყოფითი","უარყოფითი","არ არის რელევანტური","დადებითი","უაღრესად დადებითი",-2,-1,0,1,2,null,"ქულა თითოეულ განზომილებაში"]
[null,null,"(1) სოციალური კაპიტალი",null,null,null,null,null,null,null,null,null,null,{"$f":"SUM(I32:M36)","v":0},{"$f":"(((N31-(-10))*(1-0))/(10-(-10)))+0","v":0.5}]
[null,1,"დაინტერესებული მხარის ინტერესი, დაამყაროს კონტაქტები კონკრეტულ თემასთან დაკავშირებით",null,null,null,null,null,{"$f":"IF(D32=\"x\",-2,0)","v":0},{"$f":"IF(E32=\"x\",-1,0)","v":0},{"$f":"IF(F32=\"x\",0,0)","v":0},{"$f":"IF(G32=\"x\",1,0)","v":0},{"$f":"IF(H32=\"x\",2,0)","v":0},null,"შეწონილი მნიშვნელობა"]
[null,2,"დაინტერესებული მხარის ინტერესი, უზრუნველყოს კონკრეტული კატეგორიის აქტორთა წარმომადგენლობა თემასთან მიმართებით",null,null,null,null,null,{"$f":"IF(D33=\"x\",-2,0)","v":0},{"$f":"IF(E33=\"x\",-1,0)","v":0},{"$f":"IF(F33=\"x\",0,0)","v":0},{"$f":"IF(G33=\"x\",1,0)","v":0},{"$f":"IF(H33=\"x\",2,0)","v":0},null,{"$f":"O31*'1_COMMUNITY EVALUATION'!N4","v":0.25}]
[null,3,"დაინტერესებული მხარის ინტერესი, ჩაერთოს  ადგილობრივ სამოქალაქო აქტივობებში თემასთან მიმართებით",null,null,null,null,null,{"$f":"IF(D34=\"x\",-2,0)","v":0},{"$f":"IF(E34=\"x\",-1,0)","v":0},{"$f":"IF(F34=\"x\",0,0)","v":0},{"$f":"IF(G34=\"x\",1,0)","v":0},{"$f":"IF(H34=\"x\",2,0)","v":0}]
[null,4,"დაინტერესებული მხარის ინტერესი, დაიწყოს ცვლილების განხორციელება/გავლენა იქონიოს მასზე      ",null,null,null,null,null,{"$f":"IF(D35=\"x\",-2,0)","v":0},{"$f":"IF(E35=\"x\",-1,0)","v":0},{"$f":"IF(F35=\"x\",0,0)","v":0},{"$f":"IF(G35=\"x\",1,0)","v":0},{"$f":"IF(H35=\"x\",2,0)","v":0}]
[null,5,"დაინტერესებული მხარის ინტერესი, გაზარდოს მისი აღიარება მოქალაქეთა მხრიდან",null,null,null,null,null,{"$f":"IF(D36=\"x\",-2,0)","v":0},{"$f":"IF(E36=\"x\",-1,0)","v":0},{"$f":"IF(F36=\"x\",0,0)","v":0},{"$f":"IF(G36=\"x\",1,0)","v":0},{"$f":"IF(H36=\"x\",2,0)","v":0}]
[null,null,"(2) ეკონომიკური კაპიტალი",null,null,null,null,null,null,null,null,null,null,{"$f":"SUM(I38:M42)","v":0},{"$f":"(((N37-(-10))*(1-0))/(10-(-10)))+0","v":0.5}]
[null,6,"დაინტერესებული მხარის პოტენციური ეკონომიკური სარგებელი",null,null,null,null,null,{"$f":"IF(D38=\"x\",-2,0)","v":0},{"$f":"IF(E38=\"x\",-1,0)","v":0},{"$f":"IF(F38=\"x\",0,0)","v":0},{"$f":"IF(G38=\"x\",1,0)","v":0},{"$f":"IF(H38=\"x\",2,0)","v":0},null,"შეწონილი მნიშვნელობა"]
[null,7,"დაინტერესებული მხარის სურვილი, თავი მოუყაროს რესურსებს",null,null,null,null,null,{"$f":"IF(D39=\"x\",-2,0)","v":0},{"$f":"IF(E39=\"x\",-1,0)","v":0},{"$f":"IF(F39=\"x\",0,0)","v":0},{"$f":"IF(G39=\"x\",1,0)","v":0},{"$f":"IF(H39=\"x\",2,0)","v":0},null,{"$f":"O37*'1_COMMUNITY EVALUATION'!N13","v":0.25}]
[null,8,"დაინტერესებული მხარის სურვილი, ხელი შეუწყოს წვდომას არსებულ ან დამატებით(გარე) რესურსებზე       ",null,null,null,null,null,{"$f":"IF(D40=\"x\",-2,0)","v":0},{"$f":"IF(E40=\"x\",-1,0)","v":0},{"$f":"IF(F40=\"x\",0,0)","v":0},{"$f":"IF(G40=\"x\",1,0)","v":0},{"$f":"IF(H40=\"x\",2,0)","v":0}]
[null,9,"დაინტერესებული მხარის მზაობა არამატერიალური მხარდაჭერის გასაწევად",null,null,null,null,null,{"$f":"IF(D41=\"x\",-2,0)","v":0},{"$f":"IF(E41=\"x\",-1,0)","v":0},{"$f":"IF(F41=\"x\",0,0)","v":0},{"$f":"IF(G41=\"x\",1,0)","v":0},{"$f":"IF(H41=\"x\",2,0)","v":0}]
[null,10,"დაინტერესებული მხარის ინტერესი, გაზარდოს თავისი გავლენა შრომის ბაზარზე",null,null,null,null,null,{"$f":"IF(D42=\"x\",-2,0)","v":0},{"$f":"IF(E42=\"x\",-1,0)","v":0},{"$f":"IF(F42=\"x\",0,0)","v":0},{"$f":"IF(G42=\"x\",1,0)","v":0},{"$f":"IF(H42=\"x\",2,0)","v":0}]
[null,null,"(3) ადამიანური კაპიტალი",null,null,null,null,null,null,null,null,null,null,{"$f":"SUM(I44:M48)","v":0},{"$f":"(((N43-(-10))*(1-0))/(10-(-10)))+0","v":0.5}]
[null,11,"დაინტერესებული მხარის ინტერესი, გააზიაროს/გააუმჯობესოს თავისი ცოდნა/უნარები  კონკრეტულ თემასთან მიმართებით",null,null,null,null,null,{"$f":"IF(D44=\"x\",-2,0)","v":0},{"$f":"IF(E44=\"x\",-1,0)","v":0},{"$f":"IF(F44=\"x\",0,0)","v":0},{"$f":"IF(G44=\"x\",1,0)","v":0},{"$f":"IF(H44=\"x\",2,0)","v":0},null,"შეწონილი მნიშვნელობა"]
[null,12,"დაინტერესებული მხარის სურვილი გააზიაროს/გაზარდოს საკუთარი ინფორმირებულობა კონკრეტულ თემაზე",null,null,null,null,null,{"$f":"IF(D45=\"x\",-2,0)","v":0},{"$f":"IF(E45=\"x\",-1,0)","v":0},{"$f":"IF(F45=\"x\",0,0)","v":0},{"$f":"IF(G45=\"x\",1,0)","v":0},{"$f":"IF(H45=\"x\",2,0)","v":0},null,{"$f":"O43*'1_COMMUNITY EVALUATION'!N22","v":0.25}]
[null,13,"დაინტერესებული მხარის სურვილი, ჩაერთოს საზოგადოებრივ დებატებში",null,null,null,null,null,{"$f":"IF(D46=\"x\",-2,0)","v":0},{"$f":"IF(E46=\"x\",-1,0)","v":0},{"$f":"IF(F46=\"x\",0,0)","v":0},{"$f":"IF(G46=\"x\",1,0)","v":0},{"$f":"IF(H46=\"x\",2,0)","v":0}]
[null,14,"დაინტერესებული მხარის სურვილი, კომუნიკაცია დაამყაროს სხვადასხვა მედიასაშუალების გამოყენებით ",null,null,null,null,null,{"$f":"IF(D47=\"x\",-2,0)","v":0},{"$f":"IF(E47=\"x\",-1,0)","v":0},{"$f":"IF(F47=\"x\",0,0)","v":0},{"$f":"IF(G47=\"x\",1,0)","v":0},{"$f":"IF(H47=\"x\",2,0)","v":0}]
[null,15,"დაინტერესებული მხარის სურვილი, ჰქონდეს წვდომა საჯარო სივრცეებზე",null,null,null,null,null,{"$f":"IF(D48=\"x\",-2,0)","v":0},{"$f":"IF(E48=\"x\",-1,0)","v":0},{"$f":"IF(F48=\"x\",0,0)","v":0},{"$f":"IF(G48=\"x\",1,0)","v":0},{"$f":"IF(H48=\"x\",2,0)","v":0}]
[null,null,"(4) პოლიტიკური კაპიტალი",null,null,null,null,null,null,null,null,null,null,{"$f":"SUM(I50:M54)","v":0},{"$f":"(((N49-(-10))*(1-0))/(10-(-10)))+0","v":0.5}]
[null,16,"დაინტერესებული მხარის ნდობა ადგილობრივი ადმინისტრაციის მიმართ",null,null,null,null,null,{"$f":"IF(D50=\"x\",-2,0)","v":0},{"$f":"IF(E50=\"x\",-1,0)","v":0},{"$f":"IF(F50=\"x\",0,0)","v":0},{"$f":"IF(G50=\"x\",1,0)","v":0},{"$f":"IF(H50=\"x\",2,0)","v":0},null,"შეწონილი მნიშვნელობა"]
[null,17,"დაინტერესებული მხარის პოლიტიკური ინტერესი კონკრეტული თემის მიმართ ",null,null,null,null,null,{"$f":"IF(D51=\"x\",-2,0)","v":0},{"$f":"IF(E51=\"x\",-1,0)","v":0},{"$f":"IF(F51=\"x\",0,0)","v":0},{"$f":"IF(G51=\"x\",1,0)","v":0},{"$f":"IF(H51=\"x\",2,0)","v":0},null,{"$f":"O49*'1_COMMUNITY EVALUATION'!N31","v":0.25}]
[null,18,"დაინტერესებული მხარის სურვილი, ითანამშრომლოს ადგილობრივი ხელისუფლების ორგანოებთან",null,null,null,null,null,{"$f":"IF(D52=\"x\",-2,0)","v":0},{"$f":"IF(E52=\"x\",-1,0)","v":0},{"$f":"IF(F52=\"x\",0,0)","v":0},{"$f":"IF(G52=\"x\",1,0)","v":0},{"$f":"IF(H52=\"x\",2,0)","v":0}]
[null,19,"დაინტერესებული მხარის ინტერესი, ხმა მიაწვდინოს/მოიცვას ფართო საზოგადოება",null,null,null,null,null,{"$f":"IF(D53=\"x\",-2,0)","v":0},{"$f":"IF(E53=\"x\",-1,0)","v":0},{"$f":"IF(F53=\"x\",0,0)","v":0},{"$f":"IF(G53=\"x\",1,0)","v":0},{"$f":"IF(H53=\"x\",2,0)","v":0}]
[null,20,"დაინტერესებული მხარის სურვილი, გააზიაროს/გაზარდოს თავისი ინფორმირებულობა პოლიტიკის საკითხებზე",null,null,null,null,null,{"$f":"IF(D54=\"x\",-2,0)","v":0},{"$f":"IF(E54=\"x\",-1,0)","v":0},{"$f":"IF(F54=\"x\",0,0)","v":0},{"$f":"IF(G54=\"x\",1,0)","v":0},{"$f":"IF(H54=\"x\",2,0)","v":0}]
[null,null,"ინტერესის ქულა",null,null,null,null,null,null,null,null,null,null,null,{"$f":"IF(D2=\"\",\"\",(SUM(O51+O45+O39+O33)/4))","v":""}]

{"sheet":"STAKEHOLDER (30)","index":34,"n_rows":55,"n_cols":15,"rows_kept":55,"cut":false,"hidden":false,"merged":[[0,1,0,14],[1,3,1,14],[27,2,27,7],[54,2,54,7]]}
[null,"კონკრეტული თემის გათვალისწინებით, გთხოვთ, დაინტერესებული მხარე შეაფასოთ თითოეულ პუნქტთან მიმართებით (უაღრესად უარყოფითიდან უაღრესად დადებითამდე) და შესაბამის გრაფაში მონიშნოთ „x“. "]
[null,null,"დაინტერესებული მხარე -მიუთითეთ დასახელება"]
[null,null,"განზომილებები","უაღრესად უარყოფითი","უარყოფითი","არ არის რელევანტური","დადებითი","უაღრესად დადებითი",-2,-1,0,1,2,null,"ქულა თითოეულ განზომილებაში"]
[null,null,"(1) სოციალური კაპიტალი",null,null,null,null,null,null,null,null,null,null,{"$f":"SUM(I5:M9)","v":0},{"$f":"(((N4-(-10))*(1-0))/(10-(-10)))+0","v":0.5}]
[null,1,"დაინტერესებული მხარის შესაძლებლობა, ჩართოს სხვა დაინტერესებული მხარეები ",null,null,null,null,null,{"$f":"IF(D5=\"x\",-2,0)","v":0},{"$f":"IF(E5=\"x\",-1,0)","v":0},{"$f":"IF(F5=\"x\",0,0)","v":0},{"$f":"IF(G5=\"x\",1,0)","v":0},{"$f":"IF(H5=\"x\",2,0)","v":0},null,"შეწონილი მნიშვნელობა"]
[null,2,"კონკრეტული კატეგორიის აქტორთა წარმომადგენლობითი დონე (მრავალი სხვა მოქალაქის ინტერესების წარმოდგენა)",null,null,null,null,null,{"$f":"IF(D6=\"x\",-2,0)","v":0},{"$f":"IF(E6=\"x\",-1,0)","v":0},{"$f":"IF(F6=\"x\",0,0)","v":0},{"$f":"IF(G6=\"x\",1,0)","v":0},{"$f":"IF(H6=\"x\",2,0)","v":0},null,{"$f":"O4*'1_COMMUNITY EVALUATION'!N4","v":0.25}]
[null,3,"დაინტერესებული მხარის მონაწილეობის დონე ადგილობრივ სამოქალაქო აქტივობებში",null,null,null,null,null,{"$f":"IF(D7=\"x\",-2,0)","v":0},{"$f":"IF(E7=\"x\",-1,0)","v":0},{"$f":"IF(F7=\"x\",0,0)","v":0},{"$f":"IF(G7=\"x\",1,0)","v":0},{"$f":"IF(H7=\"x\",2,0)","v":0}]
[null,4,"დაინტერესებული მხარის შესაძლებლობა, დაიწყოს ცვლილების განხორციელება/გავლენა იქონიოს მასზე",null,null,null,null,null,{"$f":"IF(D8=\"x\",-2,0)","v":0},{"$f":"IF(E8=\"x\",-1,0)","v":0},{"$f":"IF(F8=\"x\",0,0)","v":0},{"$f":"IF(G8=\"x\",1,0)","v":0},{"$f":"IF(H8=\"x\",2,0)","v":0}]
[null,5,"მოქალაქეთა მიერ დაინტერესებული მხარის აღიარების დონე ",null,null,null,null,null,{"$f":"IF(D9=\"x\",-2,0)","v":0},{"$f":"IF(E9=\"x\",-1,0)","v":0},{"$f":"IF(F9=\"x\",0,0)","v":0},{"$f":"IF(G9=\"x\",1,0)","v":0},{"$f":"IF(H9=\"x\",2,0)","v":0}]
[null,null,"(2) ეკონომიკური კაპიტალი",null,null,null,null,null,null,null,null,null,null,{"$f":"SUM(I11:M15)","v":0},{"$f":"(((N10-(-10))*(1-0))/(10-(-10)))+0","v":0.5}]
[null,6,"დაინტერესებული მხარის შესაძლებლობა, შეასრულოს დონორის ფუნქცია",null,null,null,null,null,{"$f":"IF(D11=\"x\",-2,0)","v":0},{"$f":"IF(E11=\"x\",-1,0)","v":0},{"$f":"IF(F11=\"x\",0,0)","v":0},{"$f":"IF(G11=\"x\",1,0)","v":0},{"$f":"IF(H11=\"x\",2,0)","v":0},null,"შეწონილი მნიშვნელობა"]
[null,7,"დაინტერესებული მხარის შესაძლებლობა, გავლენა მოახდინოს რესურსების განაწილებაზე ",null,null,null,null,null,{"$f":"IF(D12=\"x\",-2,0)","v":0},{"$f":"IF(E12=\"x\",-1,0)","v":0},{"$f":"IF(F12=\"x\",0,0)","v":0},{"$f":"IF(G12=\"x\",1,0)","v":0},{"$f":"IF(H12=\"x\",2,0)","v":0},null,{"$f":"O10*'1_COMMUNITY EVALUATION'!N13","v":0.25}]
[null,8,"დაინტერესებული მხარის შესაძლებლობა, ხელი შეუწყოს წვდომას არსებულ ან დამატებით (გარე) რესურსებზე ces ",null,null,null,null,null,{"$f":"IF(D13=\"x\",-2,0)","v":0},{"$f":"IF(E13=\"x\",-1,0)","v":0},{"$f":"IF(F13=\"x\",0,0)","v":0},{"$f":"IF(G13=\"x\",1,0)","v":0},{"$f":"IF(H13=\"x\",2,0)","v":0}]
[null,9,"დაინტერესებული მხარის შესაძლებლობა არამატერიალური მხარდაჭერის გასაწევად ",null,null,null,null,null,{"$f":"IF(D14=\"x\",-2,0)","v":0},{"$f":"IF(E14=\"x\",-1,0)","v":0},{"$f":"IF(F14=\"x\",0,0)","v":0},{"$f":"IF(G14=\"x\",1,0)","v":0},{"$f":"IF(H14=\"x\",2,0)","v":0}]
[null,10,"დაინტერესებული მხარის გავლენა შრომის ბაზარზე",null,null,null,null,null,{"$f":"IF(D15=\"x\",-2,0)","v":0},{"$f":"IF(E15=\"x\",-1,0)","v":0},{"$f":"IF(F15=\"x\",0,0)","v":0},{"$f":"IF(G15=\"x\",1,0)","v":0},{"$f":"IF(H15=\"x\",2,0)","v":0}]
[null,null,"(3) ადამიანური კაპიტალი",null,null,null,null,null,null,null,null,null,null,{"$f":"SUM(I17:M21)","v":0},{"$f":"(((N16-(-10))*(1-0))/(10-(-10)))+0","v":0.5}]
[null,11,"დაინტერესებული მხარის ცოდნა/უნარები კონკრეტულ თემასთან მიმართებით",null,null,null,null,null,{"$f":"IF(D17=\"x\",-2,0)","v":0},{"$f":"IF(E17=\"x\",-1,0)","v":0},{"$f":"IF(F17=\"x\",0,0)","v":0},{"$f":"IF(G17=\"x\",1,0)","v":0},{"$f":"IF(H17=\"x\",2,0)","v":0},null,"შეწონილი მნიშვნელობა"]
[null,12,"დაინტერესებული მხარის ინფორმირებულობა კონკრეტულ თემაზე",null,null,null,null,null,{"$f":"IF(D18=\"x\",-2,0)","v":0},{"$f":"IF(E18=\"x\",-1,0)","v":0},{"$f":"IF(F18=\"x\",0,0)","v":0},{"$f":"IF(G18=\"x\",1,0)","v":0},{"$f":"IF(H18=\"x\",2,0)","v":0},null,{"$f":"O16*'1_COMMUNITY EVALUATION'!N22","v":0.25}]
[null,13,"დაინტერესებული მხარის შესაძლებლობა, ჩაერთოს საზოგადოებრივ დებატებში",null,null,null,null,null,{"$f":"IF(D19=\"x\",-2,0)","v":0},{"$f":"IF(E19=\"x\",-1,0)","v":0},{"$f":"IF(F19=\"x\",0,0)","v":0},{"$f":"IF(G19=\"x\",1,0)","v":0},{"$f":"IF(H19=\"x\",2,0)","v":0}]
[null,14,"დაინტერესებული მხარის შესაძლებლობა, კომუნიკაცია დაამყაროს სხვადასხვა მედიასაშუალების გამოყენებით ",null,null,null,null,null,{"$f":"IF(D20=\"x\",-2,0)","v":0},{"$f":"IF(E20=\"x\",-1,0)","v":0},{"$f":"IF(F20=\"x\",0,0)","v":0},{"$f":"IF(G20=\"x\",1,0)","v":0},{"$f":"IF(H20=\"x\",2,0)","v":0}]
[null,15,"დაინტერესებული მხარის ხელმისაწვდომობა საჯარო სივრცეებზე  ",null,null,null,null,null,{"$f":"IF(D21=\"x\",-2,0)","v":0},{"$f":"IF(E21=\"x\",-1,0)","v":0},{"$f":"IF(F21=\"x\",0,0)","v":0},{"$f":"IF(G21=\"x\",1,0)","v":0},{"$f":"IF(H21=\"x\",2,0)","v":0}]
[null,null,"(4) პოლიტიკური კაპიტალი",null,null,null,null,null,null,null,null,null,null,{"$f":"SUM(I23:M27)","v":0},{"$f":"(((N22-(-10))*(1-0))/(10-(-10)))+0","v":0.5}]
[null,16,"ადგილობრივი ადმინისტრაციის ნდობა დაინტერესებული მხარის მიმართ",null,null,null,null,null,{"$f":"IF(D23=\"x\",-2,0)","v":0},{"$f":"IF(E23=\"x\",-1,0)","v":0},{"$f":"IF(F23=\"x\",0,0)","v":0},{"$f":"IF(G23=\"x\",1,0)","v":0},{"$f":"IF(H23=\"x\",2,0)","v":0},null,"შეწონილი მნიშვნელობა"]
[null,17,"დაინტერესებული მხარის შესაძლებლობა, ჩართოს სხვა პოლიტიკური აქტორები",null,null,null,null,null,{"$f":"IF(D24=\"x\",-2,0)","v":0},{"$f":"IF(E24=\"x\",-1,0)","v":0},{"$f":"IF(F24=\"x\",0,0)","v":0},{"$f":"IF(G24=\"x\",1,0)","v":0},{"$f":"IF(H24=\"x\",2,0)","v":0},null,{"$f":"O22*'1_COMMUNITY EVALUATION'!N31","v":0.25}]
[null,18,"დაინტერესებული მხარის შესაძლებლობა, ითანამშრომლოს ადგილობრივი ხელისუფლების ორგანოებთან/სხვა დაინტერესებულ მხარეებთან ",null,null,null,null,null,{"$f":"IF(D25=\"x\",-2,0)","v":0},{"$f":"IF(E25=\"x\",-1,0)","v":0},{"$f":"IF(F25=\"x\",0,0)","v":0},{"$f":"IF(G25=\"x\",1,0)","v":0},{"$f":"IF(H25=\"x\",2,0)","v":0}]
[null,19,"დაინტერესებული მხარის შესაძლებლობა, გავლენა იქონიოს საზოგადოებრივ აზრზე ",null,null,null,null,null,{"$f":"IF(D26=\"x\",-2,0)","v":0},{"$f":"IF(E26=\"x\",-1,0)","v":0},{"$f":"IF(F26=\"x\",0,0)","v":0},{"$f":"IF(G26=\"x\",1,0)","v":0},{"$f":"IF(H26=\"x\",2,0)","v":0}]
[null,20,"დაინტერესებული მხარის ინფორმირებულობა პოლიტიკის საკითხებზე",null,null,null,null,null,{"$f":"IF(D27=\"x\",-2,0)","v":0},{"$f":"IF(E27=\"x\",-1,0)","v":0},{"$f":"IF(F27=\"x\",0,0)","v":0},{"$f":"IF(G27=\"x\",1,0)","v":0},{"$f":"IF(H27=\"x\",2,0)","v":0}]
[null,null,"რელევანტურობის ქულა",null,null,null,null,null,null,null,null,null,null,null,{"$f":"IF(D2=\"\",\"\",(SUM(O24+O18+O12+O6)/4))","v":""}]
[]
[null,null,"განზომილებები","უაღრესად უარყოფითი","უარყოფითი","არ არის რელევანტური","დადებითი","უაღრესად დადებითი",-2,-1,0,1,2,null,"ქულა თითოეულ განზომილებაში"]
[null,null,"(1)სოციალური კაპიტალი",null,null,null,null,null,null,null,null,null,null,{"$f":"SUM(I32:M36)","v":0},{"$f":"(((N31-(-10))*(1-0))/(10-(-10)))+0","v":0.5}]
[null,1,"დაინტერესებული მხარის ინტერესი, დაამყაროს კონტაქტები კონკრეტულ თემასთან დაკავშირებით",null,null,null,null,null,{"$f":"IF(D32=\"x\",-2,0)","v":0},{"$f":"IF(E32=\"x\",-1,0)","v":0},{"$f":"IF(F32=\"x\",0,0)","v":0},{"$f":"IF(G32=\"x\",1,0)","v":0},{"$f":"IF(H32=\"x\",2,0)","v":0},null,"შეწონილი მნიშვნელობა"]
[null,2,"დაინტერესებული მხარის ინტერესი, უზრუნველყოს კონკრეტული კატეგორიის აქტორთა წარმომადგენლობა თემასთან მიმართებით",null,null,null,null,null,{"$f":"IF(D33=\"x\",-2,0)","v":0},{"$f":"IF(E33=\"x\",-1,0)","v":0},{"$f":"IF(F33=\"x\",0,0)","v":0},{"$f":"IF(G33=\"x\",1,0)","v":0},{"$f":"IF(H33=\"x\",2,0)","v":0},null,{"$f":"O31*'1_COMMUNITY EVALUATION'!N4","v":0.25}]
[null,3,"დაინტერესებული მხარის ინტერესი, ჩაერთოს  ადგილობრივ სამოქალაქო აქტივობებში თემასთან მიმართებით",null,null,null,null,null,{"$f":"IF(D34=\"x\",-2,0)","v":0},{"$f":"IF(E34=\"x\",-1,0)","v":0},{"$f":"IF(F34=\"x\",0,0)","v":0},{"$f":"IF(G34=\"x\",1,0)","v":0},{"$f":"IF(H34=\"x\",2,0)","v":0}]
[null,4,"დაინტერესებული მხარის ინტერესი, დაიწყოს ცვლილების განხორციელება/გავლენა იქონიოს მასზე      ",null,null,null,null,null,{"$f":"IF(D35=\"x\",-2,0)","v":0},{"$f":"IF(E35=\"x\",-1,0)","v":0},{"$f":"IF(F35=\"x\",0,0)","v":0},{"$f":"IF(G35=\"x\",1,0)","v":0},{"$f":"IF(H35=\"x\",2,0)","v":0}]
[null,5,"დაინტერესებული მხარის ინტერესი, გაზარდოს მისი აღიარება მოქალაქეთა მხრიდან",null,null,null,null,null,{"$f":"IF(D36=\"x\",-2,0)","v":0},{"$f":"IF(E36=\"x\",-1,0)","v":0},{"$f":"IF(F36=\"x\",0,0)","v":0},{"$f":"IF(G36=\"x\",1,0)","v":0},{"$f":"IF(H36=\"x\",2,0)","v":0}]
[null,null,"(2) ეკონომიკური კაპიტალი",null,null,null,null,null,null,null,null,null,null,{"$f":"SUM(I38:M42)","v":0},{"$f":"(((N37-(-10))*(1-0))/(10-(-10)))+0","v":0.5}]
[null,6,"დაინტერესებული მხარის პოტენციური ეკონომიკური სარგებელი",null,null,null,null,null,{"$f":"IF(D38=\"x\",-2,0)","v":0},{"$f":"IF(E38=\"x\",-1,0)","v":0},{"$f":"IF(F38=\"x\",0,0)","v":0},{"$f":"IF(G38=\"x\",1,0)","v":0},{"$f":"IF(H38=\"x\",2,0)","v":0},null,"შეწონილი მნიშვნელობა"]
[null,7,"დაინტერესებული მხარის სურვილი, თავი მოუყაროს რესურსებს",null,null,null,null,null,{"$f":"IF(D39=\"x\",-2,0)","v":0},{"$f":"IF(E39=\"x\",-1,0)","v":0},{"$f":"IF(F39=\"x\",0,0)","v":0},{"$f":"IF(G39=\"x\",1,0)","v":0},{"$f":"IF(H39=\"x\",2,0)","v":0},null,{"$f":"O37*'1_COMMUNITY EVALUATION'!N13","v":0.25}]
[null,8,"დაინტერესებული მხარის სურვილი, ხელი შეუწყოს წვდომას არსებულ ან დამატებით(გარე) რესურსებზე       ",null,null,null,null,null,{"$f":"IF(D40=\"x\",-2,0)","v":0},{"$f":"IF(E40=\"x\",-1,0)","v":0},{"$f":"IF(F40=\"x\",0,0)","v":0},{"$f":"IF(G40=\"x\",1,0)","v":0},{"$f":"IF(H40=\"x\",2,0)","v":0}]
[null,9,"დაინტერესებული მხარის მზაობა არამატერიალური მხარდაჭერის გასაწევად",null,null,null,null,null,{"$f":"IF(D41=\"x\",-2,0)","v":0},{"$f":"IF(E41=\"x\",-1,0)","v":0},{"$f":"IF(F41=\"x\",0,0)","v":0},{"$f":"IF(G41=\"x\",1,0)","v":0},{"$f":"IF(H41=\"x\",2,0)","v":0}]
[null,10,"დაინტერესებული მხარის ინტერესი, გაზარდოს თავისი გავლენა შრომის ბაზარზე",null,null,null,null,null,{"$f":"IF(D42=\"x\",-2,0)","v":0},{"$f":"IF(E42=\"x\",-1,0)","v":0},{"$f":"IF(F42=\"x\",0,0)","v":0},{"$f":"IF(G42=\"x\",1,0)","v":0},{"$f":"IF(H42=\"x\",2,0)","v":0}]
[null,null,"(3) ადამიანური კაპიტალი",null,null,null,null,null,null,null,null,null,null,{"$f":"SUM(I44:M48)","v":0},{"$f":"(((N43-(-10))*(1-0))/(10-(-10)))+0","v":0.5}]
[null,11,"\nდაინტერესებული მხარის ინტერესი, გააზიაროს/გააუმჯობესოს თავისი ცოდნა/უნარები  კონკრეტულ თემასთან მიმართებით",null,null,null,null,null,{"$f":"IF(D44=\"x\",-2,0)","v":0},{"$f":"IF(E44=\"x\",-1,0)","v":0},{"$f":"IF(F44=\"x\",0,0)","v":0},{"$f":"IF(G44=\"x\",1,0)","v":0},{"$f":"IF(H44=\"x\",2,0)","v":0},null,"შეწონილი მნიშვნელობა"]
[null,12,"დაინტერესებული მხარის სურვილი გააზიაროს/გაზარდოს საკუთარი ინფორმირებულობა კონკრეტულ თემაზე",null,null,null,null,null,{"$f":"IF(D45=\"x\",-2,0)","v":0},{"$f":"IF(E45=\"x\",-1,0)","v":0},{"$f":"IF(F45=\"x\",0,0)","v":0},{"$f":"IF(G45=\"x\",1,0)","v":0},{"$f":"IF(H45=\"x\",2,0)","v":0},null,{"$f":"O43*'1_COMMUNITY EVALUATION'!N22","v":0.25}]
[null,13,"დაინტერესებული მხარის სურვილი, ჩაერთოს საზოგადოებრივ დებატებში",null,null,null,null,null,{"$f":"IF(D46=\"x\",-2,0)","v":0},{"$f":"IF(E46=\"x\",-1,0)","v":0},{"$f":"IF(F46=\"x\",0,0)","v":0},{"$f":"IF(G46=\"x\",1,0)","v":0},{"$f":"IF(H46=\"x\",2,0)","v":0}]
[null,14,"დაინტერესებული მხარის სურვილი, კომუნიკაცია დაამყაროს სხვადასხვა მედიასაშუალების გამოყენებით ",null,null,null,null,null,{"$f":"IF(D47=\"x\",-2,0)","v":0},{"$f":"IF(E47=\"x\",-1,0)","v":0},{"$f":"IF(F47=\"x\",0,0)","v":0},{"$f":"IF(G47=\"x\",1,0)","v":0},{"$f":"IF(H47=\"x\",2,0)","v":0}]
[null,15,"დაინტერესებული მხარის სურვილი, ჰქონდეს წვდომა საჯარო სივრცეებზე",null,null,null,null,null,{"$f":"IF(D48=\"x\",-2,0)","v":0},{"$f":"IF(E48=\"x\",-1,0)","v":0},{"$f":"IF(F48=\"x\",0,0)","v":0},{"$f":"IF(G48=\"x\",1,0)","v":0},{"$f":"IF(H48=\"x\",2,0)","v":0}]
[null,null,"(4)პოლიტიკური კაპიტალი",null,null,null,null,null,null,null,null,null,null,{"$f":"SUM(I50:M54)","v":0},{"$f":"(((N49-(-10))*(1-0))/(10-(-10)))+0","v":0.5}]
[null,16,"დაინტერესებული მხარის ნდობა ადგილობრივი ადმინისტრაციის მიმართ",null,null,null,null,null,{"$f":"IF(D50=\"x\",-2,0)","v":0},{"$f":"IF(E50=\"x\",-1,0)","v":0},{"$f":"IF(F50=\"x\",0,0)","v":0},{"$f":"IF(G50=\"x\",1,0)","v":0},{"$f":"IF(H50=\"x\",2,0)","v":0},null,"შეწონილი მნიშვნელობა"]
[null,17,"დაინტერესებული მხარის პოლიტიკური ინტერესი კონკრეტული თემის მიმართ ",null,null,null,null,null,{"$f":"IF(D51=\"x\",-2,0)","v":0},{"$f":"IF(E51=\"x\",-1,0)","v":0},{"$f":"IF(F51=\"x\",0,0)","v":0},{"$f":"IF(G51=\"x\",1,0)","v":0},{"$f":"IF(H51=\"x\",2,0)","v":0},null,{"$f":"O49*'1_COMMUNITY EVALUATION'!N31","v":0.25}]
[null,18,"დაინტერესებული მხარის სურვილი, ითანამშრომლოს ადგილობრივი ხელისუფლების ორგანოებთან",null,null,null,null,null,{"$f":"IF(D52=\"x\",-2,0)","v":0},{"$f":"IF(E52=\"x\",-1,0)","v":0},{"$f":"IF(F52=\"x\",0,0)","v":0},{"$f":"IF(G52=\"x\",1,0)","v":0},{"$f":"IF(H52=\"x\",2,0)","v":0}]
[null,19,"დაინტერესებული მხარის ინტერესი, ხმა მიაწვდინოს/მოიცვას ფართო საზოგადოება",null,null,null,null,null,{"$f":"IF(D53=\"x\",-2,0)","v":0},{"$f":"IF(E53=\"x\",-1,0)","v":0},{"$f":"IF(F53=\"x\",0,0)","v":0},{"$f":"IF(G53=\"x\",1,0)","v":0},{"$f":"IF(H53=\"x\",2,0)","v":0}]
[null,20,"დაინტერესებული მხარის სურვილი, გააზიაროს/გაზარდოს თავისი ინფორმირებულობა პოლიტიკის საკითხებზე",null,null,null,null,null,{"$f":"IF(D54=\"x\",-2,0)","v":0},{"$f":"IF(E54=\"x\",-1,0)","v":0},{"$f":"IF(F54=\"x\",0,0)","v":0},{"$f":"IF(G54=\"x\",1,0)","v":0},{"$f":"IF(H54=\"x\",2,0)","v":0}]
[null,null,"ინტერესის ქულა",null,null,null,null,null,null,null,null,null,null,null,{"$f":"IF(D2=\"\",\"\",(SUM(O51+O45+O39+O33)/4))","v":""}]

{"sheet":"STEP_3","index":35,"n_rows":17,"n_cols":1,"rows_kept":17,"cut":false,"hidden":false,"merged":[[0,0,5,2],[0,3,5,8],[6,5,8,8],[11,5,13,8],[16,0,50,8]]}
[]
[]
[]
[]
[]
[]
[]
[]
[]
[]
[]
[]
[]
[]
[]
[]
["საფეხური 3 - დაინტერესებულ მხარეთა დიაგრამაზე დატანა\n„დაინტერესებული მხარეების“ შეფასებისას მხარეს ენიჭება 2 სხვადასხვა ქულა (რელევანტურობის და ინტერესის), 0-დან 1-მდე. ინსტრუმენტს ავტომატურად გადააქვს ეს ქულები დიაგრამაზე, რომელიც 4 კვადრატად არის დაყოფილი. თითეული კვადრატი ასახავს დაინტერესებულ მხარეთა პოტენციური ჩართულობის სხვადასხვა დონეს. იმის მიხედვით, თუ რომელ კვადრატში ხვდება დაინტერესებული მხარე, ადგილობრივ ხელისუფლებას ექნება შესაძლებლობა, განახორციელოს სხვადასხვა სტრატეგიები ამ დაინტერესებული მხარის ჩართულობის უზრუნველსაყოფად, მე-4 სექციის შესაბამისად.\n\n"]

{"sheet":"Stakeholders' Scores","index":36,"n_rows":32,"n_cols":4,"rows_kept":32,"cut":false,"hidden":false,"merged":[]}
[]
[null,"დაინტერესებული მხარე","რელევანტურობა","ინტერესი"]
[1,{"$f":"IF(STAKEHOLDER!$D$2=\"\",\"\",STAKEHOLDER!$D$2)","v":""},{"$f":"STAKEHOLDER!$O$28","v":""},{"$f":"STAKEHOLDER!$O$55","v":""}]
[2,{"$f":"IF('STAKEHOLDER (2)'!$D$2=\"\",\"\",'STAKEHOLDER (2)'!$D$2)","v":""},{"$f":"'STAKEHOLDER (2)'!$O$28","v":""},{"$f":"'STAKEHOLDER (2)'!$O$55","v":""}]
[3,{"$f":"IF('STAKEHOLDER (3)'!$D$2=\"\",\"\",'STAKEHOLDER (3)'!$D$2)","v":""},{"$f":"'STAKEHOLDER (3)'!$O$28","v":""},{"$f":"'STAKEHOLDER (3)'!$O$55","v":""}]
[4,{"$f":"IF('STAKEHOLDER (4)'!$D$2=\"\",\"\",'STAKEHOLDER (4)'!$D$2)","v":""},{"$f":"'STAKEHOLDER (4)'!$O$28","v":""},{"$f":"'STAKEHOLDER (4)'!$O$55","v":""}]
[5,{"$f":"IF('STAKEHOLDER (5)'!$D$2=\"\",\"\",'STAKEHOLDER (5)'!$D$2)","v":""},{"$f":"'STAKEHOLDER (5)'!$O$28","v":""},{"$f":"'STAKEHOLDER (5)'!$O$55","v":""}]
[6,{"$f":"IF('STAKEHOLDER (6)'!$D$2=\"\",\"\",'STAKEHOLDER (6)'!$D$2)","v":""},{"$f":"'STAKEHOLDER (6)'!$O$28","v":""},{"$f":"'STAKEHOLDER (6)'!$O$55","v":""}]
[7,{"$f":"IF('STAKEHOLDER (7)'!$D$2=\"\",\"\",'STAKEHOLDER (7)'!$D$2)","v":""},{"$f":"'STAKEHOLDER (7)'!$O$28","v":""},{"$f":"'STAKEHOLDER (7)'!$O$55","v":""}]
[8,{"$f":"IF('STAKEHOLDER (8)'!$D$2=\"\",\"\",'STAKEHOLDER (8)'!$D$2)","v":""},{"$f":"'STAKEHOLDER (8)'!$O$28","v":""},{"$f":"'STAKEHOLDER (8)'!$O$55","v":""}]
[9,{"$f":"IF('STAKEHOLDER (9)'!$D$2=\"\",\"\",'STAKEHOLDER (9)'!$D$2)","v":""},{"$f":"'STAKEHOLDER (9)'!$O$28","v":""},{"$f":"'STAKEHOLDER (9)'!$O$55","v":""}]
[10,{"$f":"IF('STAKEHOLDER (10)'!$D$2=\"\",\"\",'STAKEHOLDER (10)'!$D$2)","v":""},{"$f":"'STAKEHOLDER (10)'!$O$28","v":""},{"$f":"'STAKEHOLDER (10)'!$O$55","v":""}]
[11,{"$f":"IF('STAKEHOLDER (11)'!$D$2=\"\",\"\",'STAKEHOLDER (11)'!$D$2)","v":""},{"$f":"'STAKEHOLDER (11)'!$O$28","v":""},{"$f":"'STAKEHOLDER (11)'!$O$55","v":""}]
[12,{"$f":"IF('STAKEHOLDER (12)'!$D$2=\"\",\"\",'STAKEHOLDER (12)'!$D$2)","v":""},{"$f":"'STAKEHOLDER (12)'!$O$28","v":""},{"$f":"'STAKEHOLDER (12)'!$O$55","v":""}]
[13,{"$f":"IF('STAKEHOLDER (13)'!$D$2=\"\",\"\",'STAKEHOLDER (13)'!$D$2)","v":""},{"$f":"'STAKEHOLDER (13)'!$O$28","v":""},{"$f":"'STAKEHOLDER (13)'!$O$55","v":""}]
[14,{"$f":"IF('STAKEHOLDER (14)'!$D$2=\"\",\"\",'STAKEHOLDER (14)'!$D$2)","v":""},{"$f":"'STAKEHOLDER (14)'!$O$28","v":""},{"$f":"'STAKEHOLDER (14)'!$O$55","v":""}]
[15,{"$f":"IF('STAKEHOLDER (15)'!$D$2=\"\",\"\",'STAKEHOLDER (15)'!$D$2)","v":""},{"$f":"'STAKEHOLDER (15)'!$O$28","v":""},{"$f":"'STAKEHOLDER (15)'!$O$55","v":""}]
[16,{"$f":"IF('STAKEHOLDER (16)'!$D$2=\"\",\"\",'STAKEHOLDER (16)'!$D$2)","v":""},{"$f":"'STAKEHOLDER (16)'!$O$28","v":""},{"$f":"'STAKEHOLDER (16)'!$O$55","v":""}]
[17,{"$f":"IF('STAKEHOLDER (17)'!$D$2=\"\",\"\",'STAKEHOLDER (17)'!$D$2)","v":""},{"$f":"'STAKEHOLDER (17)'!$O$28","v":""},{"$f":"'STAKEHOLDER (17)'!$O$55","v":""}]
[18,{"$f":"IF('STAKEHOLDER (18)'!$D$2=\"\",\"\",'STAKEHOLDER (18)'!$D$2)","v":""},{"$f":"'STAKEHOLDER (18)'!$O$28","v":""},{"$f":"'STAKEHOLDER (18)'!$O$55","v":""}]
[19,{"$f":"IF('STAKEHOLDER (19)'!$D$2=\"\",\"\",'STAKEHOLDER (19)'!$D$2)","v":""},{"$f":"'STAKEHOLDER (19)'!$O$28","v":""},{"$f":"'STAKEHOLDER (19)'!$O$55","v":""}]
[20,{"$f":"IF('STAKEHOLDER (20)'!$D$2=\"\",\"\",'STAKEHOLDER (20)'!$D$2)","v":""},{"$f":"'STAKEHOLDER (20)'!$O$28","v":""},{"$f":"'STAKEHOLDER (20)'!$O$55","v":""}]
[21,{"$f":"IF('STAKEHOLDER (21)'!$D$2=\"\",\"\",'STAKEHOLDER (21)'!$D$2)","v":""},{"$f":"'STAKEHOLDER (21)'!$O$28","v":""},{"$f":"'STAKEHOLDER (21)'!$O$55","v":""}]
[22,{"$f":"IF('STAKEHOLDER (22)'!$D$2=\"\",\"\",'STAKEHOLDER (22)'!$D$2)","v":""},{"$f":"'STAKEHOLDER (22)'!$O$28","v":""},{"$f":"'STAKEHOLDER (22)'!$O$55","v":""}]
[23,{"$f":"IF('STAKEHOLDER (23)'!$D$2=\"\",\"\",'STAKEHOLDER (23)'!$D$2)","v":""},{"$f":"'STAKEHOLDER (23)'!$O$28","v":""},{"$f":"'STAKEHOLDER (23)'!$O$55","v":""}]
[24,{"$f":"IF('STAKEHOLDER (24)'!$D$2=\"\",\"\",'STAKEHOLDER (24)'!$D$2)","v":""},{"$f":"'STAKEHOLDER (24)'!$O$28","v":""},{"$f":"'STAKEHOLDER (24)'!$O$55","v":""}]
[25,{"$f":"IF('STAKEHOLDER (25)'!$D$2=\"\",\"\",'STAKEHOLDER (25)'!$D$2)","v":""},{"$f":"'STAKEHOLDER (25)'!$O$28","v":""},{"$f":"'STAKEHOLDER (25)'!$O$55","v":""}]
[26,{"$f":"IF('STAKEHOLDER (26)'!$D$2=\"\",\"\",'STAKEHOLDER (26)'!$D$2)","v":""},{"$f":"'STAKEHOLDER (26)'!$O$28","v":""},{"$f":"'STAKEHOLDER (26)'!$O$55","v":""}]
[27,{"$f":"IF('STAKEHOLDER (27)'!$D$2=\"\",\"\",'STAKEHOLDER (27)'!$D$2)","v":""},{"$f":"'STAKEHOLDER (27)'!$O$28","v":""},{"$f":"'STAKEHOLDER (27)'!$O$55","v":""}]
[28,{"$f":"IF('STAKEHOLDER (28)'!$D$2=\"\",\"\",'STAKEHOLDER (28)'!$D$2)","v":""},{"$f":"'STAKEHOLDER (28)'!$O$28","v":""},{"$f":"'STAKEHOLDER (28)'!$O$55","v":""}]
[29,{"$f":"IF('STAKEHOLDER (29)'!$D$2=\"\",\"\",'STAKEHOLDER (29)'!$D$2)","v":""},{"$f":"'STAKEHOLDER (29)'!$O$28","v":""},{"$f":"'STAKEHOLDER (29)'!$O$55","v":""}]
[30,{"$f":"IF('STAKEHOLDER (30)'!$D$2=\"\",\"\",'STAKEHOLDER (30)'!$D$2)","v":""},{"$f":"'STAKEHOLDER (30)'!$O$28","v":""},{"$f":"'STAKEHOLDER (30)'!$O$55","v":""}]