{"text_format":"1","workbook":"xlsx","n_sheets":37,"sheets":["INTRODUCTION","STEP_1","1_COMMUNITY EVALUATION","2_COMMUNITY EVALUATION","STEP_2","STAKEHOLDER","STAKEHOLDER (2)","STAKEHOLDER (3)","STAKEHOLDER (4)","STAKEHOLDER (5)","STAKEHOLDER (6)","STAKEHOLDER (7)","STAKEHOLDER (8)","STAKEHOLDER (9)","STAKEHOLDER (10)","STAKEHOLDER (11)","STAKEHOLDER (12)","STAKEHOLDER (13)","STAKEHOLDER (14)","STAKEHOLDER (15)","STAKEHOLDER (16)","STAKEHOLDER (17)","STAKEHOLDER (18)","STAKEHOLDER (19)","STAKEHOLDER (20)","STAKEHOLDER (21)","STAKEHOLDER (22)","STAKEHOLDER (23)","STAKEHOLDER (24)","STAKEHOLDER (25)","STAKEHOLDER (26)","STAKEHOLDER (27)","STAKEHOLDER (28)","STAKEHOLDER (29)","STAKEHOLDER (30)","STEP_3","Stakeholders' Scores"],"not_rendered":{"charts":31,"images":1,"macros":1,"external_links":0,"defined_names":32,"comments":0,"pivot_tables":0},"unopened":[],"bounds":{"document_bytes":16777216,"sheet_cells":100000,"rows_first":2000,"rows_last":500,"rows_between":2000,"halvings":0,"cell_chars":16384,"cell_head_chars":4096},"cells_cut":0,"cells_raw":0,"read":"whole","date_system":"1900"}

{"sheet":"INTRODUCTION","index":0,"n_rows":17,"n_cols":6,"rows_kept":17,"cut":false,"hidden":false,"merged":[[0,0,5,2],[11,5,13,8],[16,0,50,8],[0,3,8,8]]}
[null,null,null,"\nCIVIL PARTICIPATION \nIN DECISION-MAKING"]
[]
[]
[]
[]
[]
[]
[]
[]
[]
[]
[null,null,null,null,null,"OPERATIONAL TOOLKIT \n"]
[]
[]
[]
[]
["INTRODUCTION\nThe present tool is intended as a companion to local policy makers to identify the local stakeholders to be engaged in a participatory processes to foster citizens engagement in local decision making processes.\n\nThe tool is a three steps process:\nSTEP 1 - Community Evaluation - aiming at effectively contextualise a participatory decision-making process. \n\nSTEP 2 - Stakeholder Identification and Evaluation - to identify stakeholders'capacities and willingness to engage.\n\nSTEP 3 - Stakeholder Plotting\nThe \"Stakeholder Evaluation\" results in 2 scores (one for Relevance, one for Interest), ranging from 0 to 1. These scores are automatically plotted by the tool on a graph, divided in four quadrants. Each quadrant represents a different level of potential involvement of the stakeholder. Based on the quadrant where the stakeholder is located, the Local Authority will have the possibility to implement different strategies to allow its engagement, based on what described in Section 4. \n"]

{"sheet":"STEP_1","index":1,"n_rows":17,"n_cols":1,"rows_kept":17,"cut":false,"hidden":false,"merged":[[0,0,5,2],[0,3,5,8],[6,5,8,8],[11,5,13,8],[16,0,50,8]]}
[]
[]
[]
[]
[]
[]
[]
[]
[]
[]
[]
[]
[]
[]
[]
[]
["STEP 1 - Community Evaluation\n\nIn order to effectively contextualise a participatory decision-making process, it is important to assess the overall attitude of the community involved towards participation. A community is shaped by social variables (average age of the population, level of civil society activism, access to information, etc.), economic variables (average income, distribution of resources, employment possibilities, etc.), human variables (skills and knowledge that the community members possess and can use/share) and political variables (political involvement in the community, level of engagement of the community in decision making, etc.).  In order to start an effective participatory process, the forst step is thus to understand how the following variables in a given community affect the propensity towards participation. There are no given true or false assumptions in this assessment. For a given community, a high unemplyoment rate might \"very positely\" affect the propensity of the population to engage, as their problem might become a stimulus towards sharing of ideas and committment in public life. In another community, the same issue might be a deterrent to participation, as people who lost their job might have lost their trust in any public effort. In this sense, when filling in the \"Community Evaluation Table\", please consider carefully the impact of each aspect on your own community, regardless of any theoretical assumption on the variables. Once the evaluation is complete, each dimension (Social, Economic, Human and Political) will have a score (ranging from 0 to 1, where 0 is \"extremely negative\" and 1 is \"extremely positive\"). The dimension with the higher score is the one that especially affects the context of participation at stake. Thus, the \"Stakeholder Evaluation\" that follows will stem from a different weighting of dimensions (that the tool performs automatically), based on the outcome of the \"Community Evaluation\". \n"]

{"sheet":"1_COMMUNITY EVALUATION","index":2,"n_rows":39,"n_cols":14,"rows_kept":39,"cut":false,"hidden":false,"merged":[[22,13,29,13],[31,13,38,13],[0,0,0,13],[4,13,11,13],[13,13,20,13]]}
["Please assess how the following influence the level of participation of the populaton in public life by marking with an 'x' the level of influence (from extremely negative to extremely positive for each item (row)."]
[null,"COMMUNITY:"]
[null,"DIMENSIONS","Extremely Negative","Negative","not applicable","Positive","Extremely positive",-2,-1,0,1,2,null,"score per dimension"]
[null,"(1) Social capital",null,null,null,null,null,null,null,null,null,null,{"$f":"SUM(H5:L12)","v":0},{"$f":"(((M4-(-16))*(1-0))/(16-(-16)))+0","v":0.5}]
[1,"Population that has recently moved to the city/town (last 5 years)",null,null,null,null,null,{"$f":"IF(C5=\"x\",-2,0)","v":0},{"$f":"IF(D5=\"x\",-1,0)","v":0},{"$f":"IF(E5=\"x\",0,0)","v":0},{"$f":"IF(F5=\"x\",1,0)","v":0},{"$f":"IF(G5=\"x\",2,0)","v":0}]
[2,"Population that has recently moved out of the city/town (last 5 years)",null,null,null,null,null,{"$f":"IF(C6=\"x\",-2,0)","v":0},{"$f":"IF(D6=\"x\",-1,0)","v":0},{"$f":"IF(E6=\"x\",0,0)","v":0},{"$f":"IF(F6=\"x\",1,0)","v":0},{"$f":"IF(G6=\"x\",2,0)","v":0}]
[3,"Work commuters to other cities/towns among the population aged 30-60",null,null,null,null,null,0,0,0,0,0]
[4,"Population that is a minority ",null,null,null,null,null,0,0,0,0,0]
[5,"Population that is below 30 yrs. of age",null,null,null,null,null,0,0,0,0,0]
[6,"Population with internet access",null,null,null,null,null,0,0,0,0,0]
[7,"Active CSOs",null,null,null,null,null,0,0,0,0,0]
[8,"Annual variation of local CSOs' membership ",null,null,null,null,null,0,0,0,0,0]
[null,"(2) Economic capital",null,null,null,null,null,null,null,null,null,null,{"$f":"SUM(H14:L21)","v":0},{"$f":"(((M13-(-16))*(1-0))/(16-(-16)))+0","v":0.5}]
[9,"Per capita average income ",null,null,null,null,null,{"$f":"IF(C14=\"x\",-2,0)","v":0},{"$f":"IF(D14=\"x\",-1,0)","v":0},{"$f":"IF(E14=\"x\",0,0)","v":0},{"$f":"IF(F14=\"x\",1,0)","v":0},{"$f":"IF(G14=\"x\",2,0)","v":0}]
[10,"Unemployment rate",null,null,null,null,null,{"$f":"IF(C15=\"x\",-2,0)","v":0},{"$f":"IF(D15=\"x\",-1,0)","v":0},{"$f":"IF(E15=\"x\",0,0)","v":0},{"$f":"IF(F15=\"x\",1,0)","v":0},{"$f":"IF(G15=\"x\",2,0)","v":0}]
[11,"Youth unemployment rate (= or below 30 years of age)",null,null,null,null,null,0,0,0,0,0]
[12,"Female labour force",null,null,null,null,null,0,0,0,0,0]
[13,"Households in potential economic difficulty",null,null,null,null,null,0,0,0,0,0]
[14,"Households in absolute poverty",null,null,null,null,null,0,0,0,0,0]
[15,"Self-employed workers that are women",null,null,null,null,null,0,0,0,0,0]
[16,"Self-employed workers that are below 30 yrs. of age",null,null,null,null,null,0,0,0,0,0]
[null,"(3) Human capital",null,null,null,null,null,null,null,null,null,null,{"$f":"SUM(H23:L30)","v":0},{"$f":"(((M22-(-16))*(1-0))/(16-(-16)))+0","v":0.5}]
[17,"Population (25-64) with high school diploma",null,null,null,null,null,{"$f":"IF(C23=\"x\",-2,0)","v":0},{"$f":"IF(D23=\"x\",-1,0)","v":0},{"$f":"IF(E23=\"x\",0,0)","v":0},{"$f":"IF(F23=\"x\",1,0)","v":0},{"$f":"IF(G23=\"x\",2,0)","v":0}]
[18,"Women (25-64) with high school diploma ",null,null,null,null,null,{"$f":"IF(C24=\"x\",-2,0)","v":0},{"$f":"IF(D24=\"x\",-1,0)","v":0},{"$f":"IF(E24=\"x\",0,0)","v":0},{"$f":"IF(F24=\"x\",1,0)","v":0},{"$f":"IF(G24=\"x\",2,0)","v":0}]
[19,"Presence of civic education courses within compulsory school curricula in the last 15 years",null,null,null,null,null,0,0,0,0,0]
[20,"Professionalism",null,null,null,null,null,0,0,0,0,0]
[21,"Population with digital competences",null,null,null,null,null,0,0,0,0,0]
[22,"Population actively engaged in volunteering activities ",null,null,null,null,null,0,0,0,0,0]
[23,"Presence of Life-Long Learning (LLL) possibilities",null,null,null,null,null,0,0,0,0,0]
[24,"Accessibility of Life-Long Learning (LLL) possibilities",null,null,null,null,null,0,0,0,0,0]
[null,"(4) Political capital",null,null,null,null,null,null,null,null,null,null,{"$f":"SUM(H32:L39)","v":0},{"$f":"(((M31-(-16))*(1-0))/(16-(-16)))+0","v":0.5}]
[25,"Citizens voting in the last municipal election",null,null,null,null,null,{"$f":"IF(C32=\"x\",-2,0)","v":0},{"$f":"IF(D32=\"x\",-1,0)","v":0},{"$f":"IF(E32=\"x\",0,0)","v":0},{"$f":"IF(F32=\"x\",1,0)","v":0},{"$f":"IF(G32=\"x\",2,0)","v":0}]
[26,"Population actively involved in political life",null,null,null,null,null,{"$f":"IF(C33=\"x\",-2,0)","v":0},{"$f":"IF(D33=\"x\",-1,0)","v":0},{"$f":"IF(E33=\"x\",0,0)","v":0},{"$f":"IF(F33=\"x\",1,0)","v":0},{"$f":"IF(G33=\"x\",2,0)","v":0}]
[27,"Women actively involved in political life",null,null,null,null,null,0,0,0,0,0]
[28,"Representatives of minorities involved in political life",null,null,null,null,null,0,0,0,0,0]
[29,"Women councillors in the local administration",null,null,null,null,null,0,0,0,0,0]
[30,"Affluence of citizens to public political debates/events",null,null,null,null,null,0,0,0,0,0]
[31,"Representativeness of interest of vulnerable group in the local policy-making process",null,null,null,null,null,0,0,0,0,0]
[32,"Level of participation in previous participatory decision-making processes ",null,null,null,null,null,0,0,0,0,0]

{"sheet":"2_COMMUNITY EVALUATION","index":3,"n_rows":12,"n_cols":11,"rows_kept":12,"cut":false,"hidden":false,"merged":[[0,0,0,13],[1,2,1,13],[11,4,15,6],[11,1,15,3],[4,10,8,12],[4,8,8,9],[4,1,4,3],[4,4,4,6],[10,4,10,6],[10,1,10,3],[5,1,9,3],[5,4,9,6]]}
["STEP 1 - Community Evaluation\nPlease, find below the scores for the four dimensions defining your Community Evaluation for the participatory process at hand. Negative scores are represented in red, positive scores in green. \nYou may now proceed with Step 2, by clicking on the button below."]
[null,"COMMUNITY:",{"$f":"'1_COMMUNITY EVALUATION'!C2","v":0}]
[]
[]
[null,"Social Capital",null,null,"Economic Capital",null,null,null,"Average Community Evaluation Score",null,{"$f":"(SUM(B6:G10,B12:G16))/4","v":0.5}]
[null,{"$f":"'1_COMMUNITY EVALUATION'!N4","v":0.5},null,null,{"$f":"'1_COMMUNITY EVALUATION'!N13","v":0.5}]
[]
[]
[]
[]
[null,"Human Capital",null,null,"Political Capital"]
[null,{"$f":"'1_COMMUNITY EVALUATION'!N22","v":0.5},null,null,{"$f":"'1_COMMUNITY EVALUATION'!N31","v":0.5}]

{"sheet":"STEP_2","index":4,"n_rows":17,"n_cols":1,"rows_kept":17,"cut":false,"hidden":false,"merged":[[0,0,5,2],[0,3,5,8],[6,5,8,8],[11,5,13,8],[16,0,50,8]]}
[]
[]
[]
[]
[]
[]
[]
[]
[]
[]
[]
[]
[]
[]
[]
[]
["STEP 2 - Stakeholder Identification and Evaluation\n\nOnce the propensity of the community towards engagement has been assessed, the second step implies the evaluation of each identified stakeholder, based on the Relevance of its potential contribution to the decision-making process, and on the perceived Interest it might have in engaging on the topic at stake. The stakeholder evaluation proceeds for each identified stakeholder individually. The dimensions for its evaluation are the same as those of the \"Community Evaluation\". The variables instead are divided into: a) variables related to Relevance (i.e. how important it is for the Local Authority to have the stakeholder on board, based on its capacity to reach out to other stakeholders, to economically contribute to the process, to share its own knowledge/skills to the benefit of the community and to have a political stand in the topic at hand) and b) variables related to Interest (i.e. what might be the willingness of the stakeholder to effectively exercise its capacities for the decision-making process at hand). As the stakeholder is assessed for each variable, the overall dimension scores are automatically weighted so to mirror the relevance of the dimension identified as most relevant in the \"Community Evaluation\". Thus, each stakeholder is evaluated not only based on its own capacities and willingness to engage, but also against the actual context in which it is called to engage.\n"]

{"sheet":"STAKEHOLDER","index":5,"n_rows":55,"n_cols":14,"rows_kept":55,"cut":false,"hidden":false,"merged":[[0,0,0,13],[27,1,27,6],[54,1,54,6],[1,2,1,13]]}
["Bearing in mind the topic at hand, please evaluate the stakeholder for each proposed item (row) by it marking with an 'x' (from extremely negative to extremely positive)."]
[null,"STAKEHOLDER - insert name ->"]
[null,"DIMENSIONS","Extremely Negative","Negative","not applicable","Positive","Extremely positive",-2,-1,0,1,2,null,"score per dimension"]
[null,"(1) Social capital",null,null,null,null,null,null,null,null,null,null,{"$f":"SUM(H5:L9)","v":0},{"$f":"(((M4-(-10))*(1-0))/(10-(-10)))+0","v":0.5}]
[1,"Capacity of the stakeholder to involve other stakeholders ",null,null,null,null,null,{"$f":"IF(C5=\"x\",-2,0)","v":0},{"$f":"IF(D5=\"x\",-1,0)","v":0},{"$f":"IF(E5=\"x\",0,0)","v":0},{"$f":"IF(F5=\"x\",1,0)","v":0},{"$f":"IF(G5=\"x\",2,0)","v":0},null,"Weighted value"]
[2,"Level of representativeness of the stakeholder of a specific category",null,null,null,null,null,{"$f":"IF(C6=\"x\",-2,0)","v":0},{"$f":"IF(D6=\"x\",-1,0)","v":0},{"$f":"IF(E6=\"x\",0,0)","v":0},{"$f":"IF(F6=\"x\",1,0)","v":0},{"$f":"IF(G6=\"x\",2,0)","v":0},null,{"$f":"N4*'1_COMMUNITY EVALUATION'!N4","v":0.25}]
[3,"Level of participation of the stakeholder to local civil society activities",null,null,null,null,null,{"$f":"IF(C7=\"x\",-2,0)","v":0},{"$f":"IF(D7=\"x\",-1,0)","v":0},{"$f":"IF(E7=\"x\",0,0)","v":0},{"$f":"IF(F7=\"x\",1,0)","v":0},{"$f":"IF(G7=\"x\",2,0)","v":0}]
[4,"Capacity of the stakeholder to start/influence change",null,null,null,null,null,{"$f":"IF(C8=\"x\",-2,0)","v":0},{"$f":"IF(D8=\"x\",-1,0)","v":0},{"$f":"IF(E8=\"x\",0,0)","v":0},{"$f":"IF(F8=\"x\",1,0)","v":0},{"$f":"IF(G8=\"x\",2,0)","v":0}]
[5,"Level of acknowledgment of the stakeholder among citizens",null,null,null,null,null,{"$f":"IF(C9=\"x\",-2,0)","v":0},{"$f":"IF(D9=\"x\",-1,0)","v":0},{"$f":"IF(E9=\"x\",0,0)","v":0},{"$f":"IF(F9=\"x\",1,0)","v":0},{"$f":"IF(G9=\"x\",2,0)","v":0}]
[null,"(2) Economic capital",null,null,null,null,null,null,null,null,null,null,{"$f":"SUM(H11:L15)","v":0},{"$f":"(((M10-(-10))*(1-0))/(10-(-10)))+0","v":0.5}]
[6,"Capacity of the stakeholder to act as donor",null,null,null,null,null,{"$f":"IF(C11=\"x\",-2,0)","v":0},{"$f":"IF(D11=\"x\",-1,0)","v":0},{"$f":"IF(E11=\"x\",0,0)","v":0},{"$f":"IF(F11=\"x\",1,0)","v":0},{"$f":"IF(G11=\"x\",2,0)","v":0},null,"Weighted value"]
[7,"Capacity of the stakeholder to influence resources' allocation",null,null,null,null,null,{"$f":"IF(C12=\"x\",-2,0)","v":0},{"$f":"IF(D12=\"x\",-1,0)","v":0},{"$f":"IF(E12=\"x\",0,0)","v":0},{"$f":"IF(F12=\"x\",1,0)","v":0},{"$f":"IF(G12=\"x\",2,0)","v":0},null,{"$f":"N10*'1_COMMUNITY EVALUATION'!N13","v":0.25}]
[8,"Capacity to facilitate access to existing exogenous resources ",null,null,null,null,null,{"$f":"IF(C13=\"x\",-2,0)","v":0},{"$f":"IF(D13=\"x\",-1,0)","v":0},{"$f":"IF(E13=\"x\",0,0)","v":0},{"$f":"IF(F13=\"x\",1,0)","v":0},{"$f":"IF(G13=\"x\",2,0)","v":0}]
[9,"Capacity of the stakeholder to provide in-kind support",null,null,null,null,null,{"$f":"IF(C14=\"x\",-2,0)","v":0},{"$f":"IF(D14=\"x\",-1,0)","v":0},{"$f":"IF(E14=\"x\",0,0)","v":0},{"$f":"IF(F14=\"x\",1,0)","v":0},{"$f":"IF(G14=\"x\",2,0)","v":0}]
[10,"Influence of the stakeholder on the job market",null,null,null,null,null,{"$f":"IF(C15=\"x\",-2,0)","v":0},{"$f":"IF(D15=\"x\",-1,0)","v":0},{"$f":"IF(E15=\"x\",0,0)","v":0},{"$f":"IF(F15=\"x\",1,0)","v":0},{"$f":"IF(G15=\"x\",2,0)","v":0}]
[null,"(3) Human capital",null,null,null,null,null,null,null,null,null,null,{"$f":"SUM(H17:L21)","v":0},{"$f":"(((M16-(-10))*(1-0))/(10-(-10)))+0","v":0.5}]
[11,"Knowledge/skills of the stakeholder on the topic",null,null,null,null,null,{"$f":"IF(C17=\"x\",-2,0)","v":0},{"$f":"IF(D17=\"x\",-1,0)","v":0},{"$f":"IF(E17=\"x\",0,0)","v":0},{"$f":"IF(F17=\"x\",1,0)","v":0},{"$f":"IF(G17=\"x\",2,0)","v":0},null,"Weighted value"]
[12,"Awareness of the stakeholder on the topic",null,null,null,null,null,{"$f":"IF(C18=\"x\",-2,0)","v":0},{"$f":"IF(D18=\"x\",-1,0)","v":0},{"$f":"IF(E18=\"x\",0,0)","v":0},{"$f":"IF(F18=\"x\",1,0)","v":0},{"$f":"IF(G18=\"x\",2,0)","v":0},null,{"$f":"N16*'1_COMMUNITY EVALUATION'!N22","v":0.25}]
[13,"Capacity of the stakeholder to engage in public debate",null,null,null,null,null,{"$f":"IF(C19=\"x\",-2,0)","v":0},{"$f":"IF(D19=\"x\",-1,0)","v":0},{"$f":"IF(E19=\"x\",0,0)","v":0},{"$f":"IF(F19=\"x\",1,0)","v":0},{"$f":"IF(G19=\"x\",2,0)","v":0}]
[14,"Capacity of the stakeholder to communicate through a range of different media",null,null,null,null,null,{"$f":"IF(C20=\"x\",-2,0)","v":0},{"$f":"IF(D20=\"x\",-1,0)","v":0},{"$f":"IF(E20=\"x\",0,0)","v":0},{"$f":"IF(F20=\"x\",1,0)","v":0},{"$f":"IF(G20=\"x\",2,0)","v":0}]
[15,"Capacity of the stakeholder to access public venues",null,null,null,null,null,{"$f":"IF(C21=\"x\",-2,0)","v":0},{"$f":"IF(D21=\"x\",-1,0)","v":0},{"$f":"IF(E21=\"x\",0,0)","v":0},{"$f":"IF(F21=\"x\",1,0)","v":0},{"$f":"IF(G21=\"x\",2,0)","v":0}]
[null,"(4) Political capital",null,null,null,null,null,null,null,null,null,null,{"$f":"SUM(H23:L27)","v":0},{"$f":"(((M22-(-10))*(1-0))/(10-(-10)))+0","v":0.5}]
[16,"Trust of the local administration towards the stakeholder ",null,null,null,null,null,{"$f":"IF(C23=\"x\",-2,0)","v":0},{"$f":"IF(D23=\"x\",-1,0)","v":0},{"$f":"IF(E23=\"x\",0,0)","v":0},{"$f":"IF(F23=\"x\",1,0)","v":0},{"$f":"IF(G23=\"x\",2,0)","v":0},null,"Weighted value"]
[17,"Capacity of the stakeholder to engage further political actors",null,null,null,null,null,{"$f":"IF(C24=\"x\",-2,0)","v":0},{"$f":"IF(D24=\"x\",-1,0)","v":0},{"$f":"IF(E24=\"x\",0,0)","v":0},{"$f":"IF(F24=\"x\",1,0)","v":0},{"$f":"IF(G24=\"x\",2,0)","v":0},null,{"$f":"N22*'1_COMMUNITY EVALUATION'!N31","v":0.25}]
[18,"Capacity of the stakeholder to engage with local authorities/other stakeholders",null,null,null,null,null,{"$f":"IF(C25=\"x\",-2,0)","v":0},{"$f":"IF(D25=\"x\",-1,0)","v":0},{"$f":"IF(E25=\"x\",0,0)","v":0},{"$f":"IF(F25=\"x\",1,0)","v":0},{"$f":"IF(G25=\"x\",2,0)","v":0}]
[19,"Capacity of the stakeholder to influence public opinion",null,null,null,null,null,{"$f":"IF(C26=\"x\",-2,0)","v":0},{"$f":"IF(D26=\"x\",-1,0)","v":0},{"$f":"IF(E26=\"x\",0,0)","v":0},{"$f":"IF(F26=\"x\",1,0)","v":0},{"$f":"IF(G26=\"x\",2,0)","v":0}]
[20,"Political awareness of the stakeholder",null,null,null,null,null,{"$f":"IF(C27=\"x\",-2,0)","v":0},{"$f":"IF(D27=\"x\",-1,0)","v":0},{"$f":"IF(E27=\"x\",0,0)","v":0},{"$f":"IF(F27=\"x\",1,0)","v":0},{"$f":"IF(G27=\"x\",2,0)","v":0}]
[null,"RELEVANCE SCORE",null,null,null,null,null,null,null,null,null,null,null,{"$f":"IF(C2=\"\",\"\",(SUM(N24+N18+N12+N6)/4))","v":""}]
[]
[null,"DIMENSIONS","Extremely Negative","Negative","not applicable","Positive","Extremely positive",-2,-1,0,1,2,null,"score per dimension"]
[null,"(1) Social capital",null,null,null,null,null,null,null,null,null,null,{"$f":"SUM(H32:L36)","v":0},{"$f":"(((M31-(-10))*(1-0))/(10-(-10)))+0","v":0.5}]
[1,"Interest for the stakeholder to engage in networking for the topic at stake ",null,null,null,null,null,{"$f":"IF(C32=\"x\",-2,0)","v":0},{"$f":"IF(D32=\"x\",-1,0)","v":0},{"$f":"IF(E32=\"x\",0,0)","v":0},{"$f":"IF(F32=\"x\",1,0)","v":0},{"$f":"IF(G32=\"x\",2,0)","v":0},null,"Weighted value"]
[2,"Interest of the stakeholder to represent a specific category for the topic at stake",null,null,null,null,null,{"$f":"IF(C33=\"x\",-2,0)","v":0},{"$f":"IF(D33=\"x\",-1,0)","v":0},{"$f":"IF(E33=\"x\",0,0)","v":0},{"$f":"IF(F33=\"x\",1,0)","v":0},{"$f":"IF(G33=\"x\",2,0)","v":0},null,{"$f":"N31*'1_COMMUNITY EVALUATION'!N4","v":0.25}]
[3,"Interest of the stakeholder to be involved further in civil society activism for the topic at stake",null,null,null,null,null,{"$f":"IF(C34=\"x\",-2,0)","v":0},{"$f":"IF(D34=\"x\",-1,0)","v":0},{"$f":"IF(E34=\"x\",0,0)","v":0},{"$f":"IF(F34=\"x\",1,0)","v":0},{"$f":"IF(G34=\"x\",2,0)","v":0}]
[4,"interest of the stakeholder to start/influence change",null,null,null,null,null,{"$f":"IF(C35=\"x\",-2,0)","v":0},{"$f":"IF(D35=\"x\",-1,0)","v":0},{"$f":"IF(E35=\"x\",0,0)","v":0},{"$f":"IF(F35=\"x\",1,0)","v":0},{"$f":"IF(G35=\"x\",2,0)","v":0}]
[5,"Interest of the stakeholder to increase its own acknowledgement among citizens",null,null,null,null,null,{"$f":"IF(C36=\"x\",-2,0)","v":0},{"$f":"IF(D36=\"x\",-1,0)","v":0},{"$f":"IF(E36=\"x\",0,0)","v":0},{"$f":"IF(F36=\"x\",1,0)","v":0},{"$f":"IF(G36=\"x\",2,0)","v":0}]
[null,"(2) Economic capital",null,null,null,null,null,null,null,null,null,null,{"$f":"SUM(H38:L42)","v":0},{"$f":"(((M37-(-10))*(1-0))/(10-(-10)))+0","v":0.5}]
[6,"Potential economic benefit for the stakeholder ",null,null,null,null,null,{"$f":"IF(C38=\"x\",-2,0)","v":0},{"$f":"IF(D38=\"x\",-1,0)","v":0},{"$f":"IF(E38=\"x\",0,0)","v":0},{"$f":"IF(F38=\"x\",1,0)","v":0},{"$f":"IF(G38=\"x\",2,0)","v":0},null,"Weighted value"]
[7,"Willingness of the stakeholder to mobilise resources ",null,null,null,null,null,{"$f":"IF(C39=\"x\",-2,0)","v":0},{"$f":"IF(D39=\"x\",-1,0)","v":0},{"$f":"IF(E39=\"x\",0,0)","v":0},{"$f":"IF(F39=\"x\",1,0)","v":0},{"$f":"IF(G39=\"x\",2,0)","v":0},null,{"$f":"N37*'1_COMMUNITY EVALUATION'!N13","v":0.25}]
[8,"Willingness of the stakeholder to support access to existing exogenous resources",null,null,null,null,null,{"$f":"IF(C40=\"x\",-2,0)","v":0},{"$f":"IF(D40=\"x\",-1,0)","v":0},{"$f":"IF(E40=\"x\",0,0)","v":0},{"$f":"IF(F40=\"x\",1,0)","v":0},{"$f":"IF(G40=\"x\",2,0)","v":0}]
[9,"Propensity of the stakeholder to provide in-kind support",null,null,null,null,null,{"$f":"IF(C41=\"x\",-2,0)","v":0},{"$f":"IF(D41=\"x\",-1,0)","v":0},{"$f":"IF(E41=\"x\",0,0)","v":0},{"$f":"IF(F41=\"x\",1,0)","v":0},{"$f":"IF(G41=\"x\",2,0)","v":0}]
[10,"Interest of the stakeholder in increasing its own influence on the job market",null,null,null,null,null,{"$f":"IF(C42=\"x\",-2,0)","v":0},{"$f":"IF(D42=\"x\",-1,0)","v":0},{"$f":"IF(E42=\"x\",0,0)","v":0},{"$f":"IF(F42=\"x\",1,0)","v":0},{"$f":"IF(G42=\"x\",2,0)","v":0}]
[null,"(3) Human capital",null,null,null,null,null,null,null,null,null,null,{"$f":"SUM(H44:L48)","v":0},{"$f":"(((M43-(-10))*(1-0))/(10-(-10)))+0","v":0.5}]
[11,"Interest of the stakeholder to share/increase own knowledge/skills on the topic",null,null,null,null,null,{"$f":"IF(C44=\"x\",-2,0)","v":0},{"$f":"IF(D44=\"x\",-1,0)","v":0},{"$f":"IF(E44=\"x\",0,0)","v":0},{"$f":"IF(F44=\"x\",1,0)","v":0},{"$f":"IF(G44=\"x\",2,0)","v":0},null,"Weighted value"]
[12,"Willingness of the stakeholder to share/increase own awareness on the topic",null,null,null,null,null,{"$f":"IF(C45=\"x\",-2,0)","v":0},{"$f":"IF(D45=\"x\",-1,0)","v":0},{"$f":"IF(E45=\"x\",0,0)","v":0},{"$f":"IF(F45=\"x\",1,0)","v":0},{"$f":"IF(G45=\"x\",2,0)","v":0},null,{"$f":"N43*'1_COMMUNITY EVALUATION'!N22","v":0.25}]
[13,"Willingness of the stakeholder to engage in public debate",null,null,null,null,null,{"$f":"IF(C46=\"x\",-2,0)","v":0},{"$f":"IF(D46=\"x\",-1,0)","v":0},{"$f":"IF(E46=\"x\",0,0)","v":0},{"$f":"IF(F46=\"x\",1,0)","v":0},{"$f":"IF(G46=\"x\",2,0)","v":0}]
[14,"Willingness of the stakeholder to communicate through a range of different media",null,null,null,null,null,{"$f":"IF(C47=\"x\",-2,0)","v":0},{"$f":"IF(D47=\"x\",-1,0)","v":0},{"$f":"IF(E47=\"x\",0,0)","v":0},{"$f":"IF(F47=\"x\",1,0)","v":0},{"$f":"IF(G47=\"x\",2,0)","v":0}]
[15,"Willingness of the stakeholder to access public venues",null,null,null,null,null,{"$f":"IF(C48=\"x\",-2,0)","v":0},{"$f":"IF(D48=\"x\",-1,0)","v":0},{"$f":"IF(E48=\"x\",0,0)","v":0},{"$f":"IF(F48=\"x\",1,0)","v":0},{"$f":"IF(G48=\"x\",2,0)","v":0}]
[null,"(4) Political capital",null,null,null,null,null,null,null,null,null,null,{"$f":"SUM(H50:L54)","v":0},{"$f":"(((M49-(-10))*(1-0))/(10-(-10)))+0","v":0.5}]
[16,"Trust of the stakeholder towards the local administration",null,null,null,null,null,{"$f":"IF(C50=\"x\",-2,0)","v":0},{"$f":"IF(D50=\"x\",-1,0)","v":0},{"$f":"IF(E50=\"x\",0,0)","v":0},{"$f":"IF(F50=\"x\",1,0)","v":0},{"$f":"IF(G50=\"x\",2,0)","v":0},null,"Weighted value"]
[17,"Political interest of the stakeholder in the topic",null,null,null,null,null,{"$f":"IF(C51=\"x\",-2,0)","v":0},{"$f":"IF(D51=\"x\",-1,0)","v":0},{"$f":"IF(E51=\"x\",0,0)","v":0},{"$f":"IF(F51=\"x\",1,0)","v":0},{"$f":"IF(G51=\"x\",2,0)","v":0},null,{"$f":"N49*'1_COMMUNITY EVALUATION'!N31","v":0.25}]
[18,"Willingness of the stakeholder to engage with local authorities",null,null,null,null,null,{"$f":"IF(C52=\"x\",-2,0)","v":0},{"$f":"IF(D52=\"x\",-1,0)","v":0},{"$f":"IF(E52=\"x\",0,0)","v":0},{"$f":"IF(F52=\"x\",1,0)","v":0},{"$f":"IF(G52=\"x\",2,0)","v":0}]
[19,"Interest for the stakeholder to reach out to a wider public",null,null,null,null,null,{"$f":"IF(C53=\"x\",-2,0)","v":0},{"$f":"IF(D53=\"x\",-1,0)","v":0},{"$f":"IF(E53=\"x\",0,0)","v":0},{"$f":"IF(F53=\"x\",1,0)","v":0},{"$f":"IF(G53=\"x\",2,0)","v":0}]
[20,"Willingness of the stakeholder to share/increase own political awareness",null,null,null,null,null,{"$f":"IF(C54=\"x\",-2,0)","v":0},{"$f":"IF(D54=\"x\",-1,0)","v":0},{"$f":"IF(E54=\"x\",0,0)","v":0},{"$f":"IF(F54=\"x\",1,0)","v":0},{"$f":"IF(G54=\"x\",2,0)","v":0}]
[null,"INTEREST SCORE",null,null,null,null,null,null,null,null,null,null,null,{"$f":"IF(C2=\"\",\"\",(SUM(N51+N45+N39+N33)/4))","v":""}]

{"sheet":"STAKEHOLDER (2)","index":6,"n_rows":55,"n_cols":14,"rows_kept":55,"cut":false,"hidden":false,"merged":[[0,0,0,13],[1,2,1,13],[27,1,27,6],[54,1,54,6]]}
["Bearing in mind the topic at hand, please evaluate the stakeholder for each proposed item (row) by it marking with an 'x' (from extremely negative to extremely positive)."]
[null,"STAKEHOLDER - insert name ->"]
[null,"DIMENSIONS","Extremely Negative","Negative","not applicable","Positive","Extremely positive",-2,-1,0,1,2,null,"score per dimension"]
[null,"(1) Social capital",null,null,null,null,null,null,null,null,null,null,{"$f":"SUM(H5:L9)","v":0},{"$f":"(((M4-(-10))*(1-0))/(10-(-10)))+0","v":0.5}]
[1,"Capacity of the stakeholder to involve other stakeholders ",null,null,null,null,null,{"$f":"IF(C5=\"x\",-2,0)","v":0},{"$f":"IF(D5=\"x\",-1,0)","v":0},{"$f":"IF(E5=\"x\",0,0)","v":0},{"$f":"IF(F5=\"x\",1,0)","v":0},{"$f":"IF(G5=\"x\",2,0)","v":0},null,"Weighted value"]
[2,"Level of representativeness of the stakeholder of a specific category",null,null,null,null,null,{"$f":"IF(C6=\"x\",-2,0)","v":0},{"$f":"IF(D6=\"x\",-1,0)","v":0},{"$f":"IF(E6=\"x\",0,0)","v":0},{"$f":"IF(F6=\"x\",1,0)","v":0},{"$f":"IF(G6=\"x\",2,0)","v":0},null,{"$f":"N4*'1_COMMUNITY EVALUATION'!N4","v":0.25}]
[3,"Level of participation of the stakeholder to local civil society activities",null,null,null,null,null,{"$f":"IF(C7=\"x\",-2,0)","v":0},{"$f":"IF(D7=\"x\",-1,0)","v":0},{"$f":"IF(E7=\"x\",0,0)","v":0},{"$f":"IF(F7=\"x\",1,0)","v":0},{"$f":"IF(G7=\"x\",2,0)","v":0}]
[4,"Capacity of the stakeholder to start/influence change",null,null,null,null,null,{"$f":"IF(C8=\"x\",-2,0)","v":0},{"$f":"IF(D8=\"x\",-1,0)","v":0},{"$f":"IF(E8=\"x\",0,0)","v":0},{"$f":"IF(F8=\"x\",1,0)","v":0},{"$f":"IF(G8=\"x\",2,0)","v":0}]
[5,"Level of acknowledgment of the stakeholder among citizens",null,null,null,null,null,{"$f":"IF(C9=\"x\",-2,0)","v":0},{"$f":"IF(D9=\"x\",-1,0)","v":0},{"$f":"IF(E9=\"x\",0,0)","v":0},{"$f":"IF(F9=\"x\",1,0)","v":0},{"$f":"IF(G9=\"x\",2,0)","v":0}]
[null,"(2) Economic capital",null,null,null,null,null,null,null,null,null,null,{"$f":"SUM(H11:L15)","v":0},{"$f":"(((M10-(-10))*(1-0))/(10-(-10)))+0","v":0.5}]
[6,"Capacity of the stakeholder to act as donor",null,null,null,null,null,{"$f":"IF(C11=\"x\",-2,0)","v":0},{"$f":"IF(D11=\"x\",-1,0)","v":0},{"$f":"IF(E11=\"x\",0,0)","v":0},{"$f":"IF(F11=\"x\",1,0)","v":0},{"$f":"IF(G11=\"x\",2,0)","v":0},null,"Weighted value"]
[7,"Capacity of the stakeholder to influence resources' allocation",null,null,null,null,null,{"$f":"IF(C12=\"x\",-2,0)","v":0},{"$f":"IF(D12=\"x\",-1,0)","v":0},{"$f":"IF(E12=\"x\",0,0)","v":0},{"$f":"IF(F12=\"x\",1,0)","v":0},{"$f":"IF(G12=\"x\",2,0)","v":0},null,{"$f":"N10*'1_COMMUNITY EVALUATION'!N13","v":0.25}]
[8,"Capacity to facilitate access to existing exogenous resources ",null,null,null,null,null,{"$f":"IF(C13=\"x\",-2,0)","v":0},{"$f":"IF(D13=\"x\",-1,0)","v":0},{"$f":"IF(E13=\"x\",0,0)","v":0},{"$f":"IF(F13=\"x\",1,0)","v":0},{"$f":"IF(G13=\"x\",2,0)","v":0}]
[9,"Capacity of the stakeholder to provide in-kind support",null,null,null,null,null,{"$f":"IF(C14=\"x\",-2,0)","v":0},{"$f":"IF(D14=\"x\",-1,0)","v":0},{"$f":"IF(E14=\"x\",0,0)","v":0},{"$f":"IF(F14=\"x\",1,0)","v":0},{"$f":"IF(G14=\"x\",2,0)","v":0}]
[10,"Influence of the stakeholder on the job market",null,null,null,null,null,{"$f":"IF(C15=\"x\",-2,0)","v":0},{"$f":"IF(D15=\"x\",-1,0)","v":0},{"$f":"IF(E15=\"x\",0,0)","v":0},{"$f":"IF(F15=\"x\",1,0)","v":0},{"$f":"IF(G15=\"x\",2,0)","v":0}]
[null,"(3) Human capital",null,null,null,null,null,null,null,null,null,null,{"$f":"SUM(H17:L21)","v":0},{"$f":"(((M16-(-10))*(1-0))/(10-(-10)))+0","v":0.5}]
[11,"Knowledge/skills of the stakeholder on the topic",null,null,null,null,null,{"$f":"IF(C17=\"x\",-2,0)","v":0},{"$f":"IF(D17=\"x\",-1,0)","v":0},{"$f":"IF(E17=\"x\",0,0)","v":0},{"$f":"IF(F17=\"x\",1,0)","v":0},{"$f":"IF(G17=\"x\",2,0)","v":0},null,"Weighted value"]
[12,"Awareness of the stakeholder on the topic",null,null,null,null,null,{"$f":"IF(C18=\"x\",-2,0)","v":0},{"$f":"IF(D18=\"x\",-1,0)","v":0},{"$f":"IF(E18=\"x\",0,0)","v":0},{"$f":"IF(F18=\"x\",1,0)","v":0},{"$f":"IF(G18=\"x\",2,0)","v":0},null,{"$f":"N16*'1_COMMUNITY EVALUATION'!N22","v":0.25}]
[13,"Capacity of the stakeholder to engage in public debate",null,null,null,null,null,{"$f":"IF(C19=\"x\",-2,0)","v":0},{"$f":"IF(D19=\"x\",-1,0)","v":0},{"$f":"IF(E19=\"x\",0,0)","v":0},{"$f":"IF(F19=\"x\",1,0)","v":0},{"$f":"IF(G19=\"x\",2,0)","v":0}]
[14,"Capacity of the stakeholder to communicate through a range of different media",null,null,null,null,null,{"$f":"IF(C20=\"x\",-2,0)","v":0},{"$f":"IF(D20=\"x\",-1,0)","v":0},{"$f":"IF(E20=\"x\",0,0)","v":0},{"$f":"IF(F20=\"x\",1,0)","v":0},{"$f":"IF(G20=\"x\",2,0)","v":0}]
[15,"Capacity of the stakeholder to access public venues",null,null,null,null,null,{"$f":"IF(C21=\"x\",-2,0)","v":0},{"$f":"IF(D21=\"x\",-1,0)","v":0},{"$f":"IF(E21=\"x\",0,0)","v":0},{"$f":"IF(F21=\"x\",1,0)","v":0},{"$f":"IF(G21=\"x\",2,0)","v":0}]
[null,"(4) Political capital",null,null,null,null,null,null,null,null,null,null,{"$f":"SUM(H23:L27)","v":0},{"$f":"(((M22-(-10))*(1-0))/(10-(-10)))+0","v":0.5}]
[16,"Trust of the local administration towards the stakeholder ",null,null,null,null,null,{"$f":"IF(C23=\"x\",-2,0)","v":0},{"$f":"IF(D23=\"x\",-1,0)","v":0},{"$f":"IF(E23=\"x\",0,0)","v":0},{"$f":"IF(F23=\"x\",1,0)","v":0},{"$f":"IF(G23=\"x\",2,0)","v":0},null,"Weighted value"]
[17,"Capacity of the stakeholder to engage further political actors",null,null,null,null,null,{"$f":"IF(C24=\"x\",-2,0)","v":0},{"$f":"IF(D24=\"x\",-1,0)","v":0},{"$f":"IF(E24=\"x\",0,0)","v":0},{"$f":"IF(F24=\"x\",1,0)","v":0},{"$f":"IF(G24=\"x\",2,0)","v":0},null,{"$f":"N22*'1_COMMUNITY EVALUATION'!N31","v":0.25}]
[18,"Capacity of the stakeholder to engage with local authorities/other stakeholders",null,null,null,null,null,{"$f":"IF(C25=\"x\",-2,0)","v":0},{"$f":"IF(D25=\"x\",-1,0)","v":0},{"$f":"IF(E25=\"x\",0,0)","v":0},{"$f":"IF(F25=\"x\",1,0)","v":0},{"$f":"IF(G25=\"x\",2,0)","v":0}]
[19,"Capacity of the stakeholder to influence public opinion",null,null,null,null,null,{"$f":"IF(C26=\"x\",-2,0)","v":0},{"$f":"IF(D26=\"x\",-1,0)","v":0},{"$f":"IF(E26=\"x\",0,0)","v":0},{"$f":"IF(F26=\"x\",1,0)","v":0},{"$f":"IF(G26=\"x\",2,0)","v":0}]
[20,"Political awareness of the stakeholder",null,null,null,null,null,{"$f":"IF(C27=\"x\",-2,0)","v":0},{"$f":"IF(D27=\"x\",-1,0)","v":0},{"$f":"IF(E27=\"x\",0,0)","v":0},{"$f":"IF(F27=\"x\",1,0)","v":0},{"$f":"IF(G27=\"x\",2,0)","v":0}]
[null,"RELEVANCE SCORE",null,null,null,null,null,null,null,null,null,null,null,{"$f":"IF(C2=\"\",\"\",(SUM(N24+N18+N12+N6)/4))","v":""}]
[]
[null,"DIMENSIONS","Extremely Negative","Negative","not applicable","Positive","Extremely positive",-2,-1,0,1,2,null,"score per dimension"]
[null,"(1) Social capital",null,null,null,null,null,null,null,null,null,null,{"$f":"SUM(H32:L36)","v":0},{"$f":"(((M31-(-10))*(1-0))/(10-(-10)))+0","v":0.5}]
[1,"Interest for the stakeholder to engage in networking for the topic at stake ",null,null,null,null,null,{"$f":"IF(C32=\"x\",-2,0)","v":0},{"$f":"IF(D32=\"x\",-1,0)","v":0},{"$f":"IF(E32=\"x\",0,0)","v":0},{"$f":"IF(F32=\"x\",1,0)","v":0},{"$f":"IF(G32=\"x\",2,0)","v":0},null,"Weighted value"]
[2,"Interest of the stakeholder to represent a specific category for the topic at stake",null,null,null,null,null,{"$f":"IF(C33=\"x\",-2,0)","v":0},{"$f":"IF(D33=\"x\",-1,0)","v":0},{"$f":"IF(E33=\"x\",0,0)","v":0},{"$f":"IF(F33=\"x\",1,0)","v":0},{"$f":"IF(G33=\"x\",2,0)","v":0},null,{"$f":"N31*'1_COMMUNITY EVALUATION'!N4","v":0.25}]
[3,"Interest of the stakeholder to be involved further in civil society activism for the topic at stake",null,null,null,null,null,{"$f":"IF(C34=\"x\",-2,0)","v":0},{"$f":"IF(D34=\"x\",-1,0)","v":0},{"$f":"IF(E34=\"x\",0,0)","v":0},{"$f":"IF(F34=\"x\",1,0)","v":0},{"$f":"IF(G34=\"x\",2,0)","v":0}]
[4,"interest of the stakeholder to start/influence change",null,null,null,null,null,{"$f":"IF(C35=\"x\",-2,0)","v":0},{"$f":"IF(D35=\"x\",-1,0)","v":0},{"$f":"IF(E35=\"x\",0,0)","v":0},{"$f":"IF(F35=\"x\",1,0)","v":0},{"$f":"IF(G35=\"x\",2,0)","v":0}]
[5,"Interest of the stakeholder to increase its own acknowledgement among citizens",null,null,null,null,null,{"$f":"IF(C36=\"x\",-2,0)","v":0},{"$f":"IF(D36=\"x\",-1,0)","v":0},{"$f":"IF(E36=\"x\",0,0)","v":0},{"$f":"IF(F36=\"x\",1,0)","v":0},{"$f":"IF(G36=\"x\",2,0)","v":0}]
[null,"(2) Economic capital",null,null,null,null,null,null,null,null,null,null,{"$f":"SUM(H38:L42)","v":0},{"$f":"(((M37-(-10))*(1-0))/(10-(-10)))+0","v":0.5}]
[6,"Potential economic benefit for the stakeholder ",null,null,null,null,null,{"$f":"IF(C38=\"x\",-2,0)","v":0},{"$f":"IF(D38=\"x\",-1,0)","v":0},{"$f":"IF(E38=\"x\",0,0)","v":0},{"$f":"IF(F38=\"x\",1,0)","v":0},{"$f":"IF(G38=\"x\",2,0)","v":0},null,"Weighted value"]
[7,"Willingness of the stakeholder to mobilise resources ",null,null,null,null,null,{"$f":"IF(C39=\"x\",-2,0)","v":0},{"$f":"IF(D39=\"x\",-1,0)","v":0},{"$f":"IF(E39=\"x\",0,0)","v":0},{"$f":"IF(F39=\"x\",1,0)","v":0},{"$f":"IF(G39=\"x\",2,0)","v":0},null,{"$f":"N37*'1_COMMUNITY EVALUATION'!N13","v":0.25}]
[8,"Willingness of the stakeholder to support access to existing exogenous resources",null,null,null,null,null,{"$f":"IF(C40=\"x\",-2,0)","v":0},{"$f":"IF(D40=\"x\",-1,0)","v":0},{"$f":"IF(E40=\"x\",0,0)","v":0},{"$f":"IF(F40=\"x\",1,0)","v":0},{"$f":"IF(G40=\"x\",2,0)","v":0}]
[9,"Propensity of the stakeholder to provide in-kind support",null,null,null,null,null,{"$f":"IF(C41=\"x\",-2,0)","v":0},{"$f":"IF(D41=\"x\",-1,0)","v":0},{"$f":"IF(E41=\"x\",0,0)","v":0},{"$f":"IF(F41=\"x\",1,0)","v":0},{"$f":"IF(G41=\"x\",2,0)","v":0}]
[10,"Interest of the stakeholder in increasing its own influence on the job market",null,null,null,null,null,{"$f":"IF(C42=\"x\",-2,0)","v":0},{"$f":"IF(D42=\"x\",-1,0)","v":0},{"$f":"IF(E42=\"x\",0,0)","v":0},{"$f":"IF(F42=\"x\",1,0)","v":0},{"$f":"IF(G42=\"x\",2,0)","v":0}]
[null,"(3) Human capital",null,null,null,null,null,null,null,null,null,null,{"$f":"SUM(H44:L48)","v":0},{"$f":"(((M43-(-10))*(1-0))/(10-(-10)))+0","v":0.5}]
[11,"Interest of the stakeholder to share/increase own knowledge/skills on the topic",null,null,null,null,null,{"$f":"IF(C44=\"x\",-2,0)","v":0},{"$f":"IF(D44=\"x\",-1,0)","v":0},{"$f":"IF(E44=\"x\",0,0)","v":0},{"$f":"IF(F44=\"x\",1,0)","v":0},{"$f":"IF(G44=\"x\",2,0)","v":0},null,"Weighted value"]
[12,"Willingness of the stakeholder to share/increase own awareness on the topic",null,null,null,null,null,{"$f":"IF(C45=\"x\",-2,0)","v":0},{"$f":"IF(D45=\"x\",-1,0)","v":0},{"$f":"IF(E45=\"x\",0,0)","v":0},{"$f":"IF(F45=\"x\",1,0)","v":0},{"$f":"IF(G45=\"x\",2,0)","v":0},null,{"$f":"N43*'1_COMMUNITY EVALUATION'!N22","v":0.25}]
[13,"Willingness of the stakeholder to engage in public debate",null,null,null,null,null,{"$f":"IF(C46=\"x\",-2,0)","v":0},{"$f":"IF(D46=\"x\",-1,0)","v":0},{"$f":"IF(E46=\"x\",0,0)","v":0},{"$f":"IF(F46=\"x\",1,0)","v":0},{"$f":"IF(G46=\"x\",2,0)","v":0}]
[14,"Willingness of the stakeholder to communicate through a range of different media",null,null,null,null,null,{"$f":"IF(C47=\"x\",-2,0)","v":0},{"$f":"IF(D47=\"x\",-1,0)","v":0},{"$f":"IF(E47=\"x\",0,0)","v":0},{"$f":"IF(F47=\"x\",1,0)","v":0},{"$f":"IF(G47=\"x\",2,0)","v":0}]
[15,"Willingness of the stakeholder to access public venues",null,null,null,null,null,{"$f":"IF(C48=\"x\",-2,0)","v":0},{"$f":"IF(D48=\"x\",-1,0)","v":0},{"$f":"IF(E48=\"x\",0,0)","v":0},{"$f":"IF(F48=\"x\",1,0)","v":0},{"$f":"IF(G48=\"x\",2,0)","v":0}]
[null,"(4) Political capital",null,null,null,null,null,null,null,null,null,null,{"$f":"SUM(H50:L54)","v":0},{"$f":"(((M49-(-10))*(1-0))/(10-(-10)))+0","v":0.5}]
[16,"Trust of the stakeholder towards the local administration",null,null,null,null,null,{"$f":"IF(C50=\"x\",-2,0)","v":0},{"$f":"IF(D50=\"x\",-1,0)","v":0},{"$f":"IF(E50=\"x\",0,0)","v":0},{"$f":"IF(F50=\"x\",1,0)","v":0},{"$f":"IF(G50=\"x\",2,0)","v":0},null,"Weighted value"]
[17,"Political interest of the stakeholder in the topic",null,null,null,null,null,{"$f":"IF(C51=\"x\",-2,0)","v":0},{"$f":"IF(D51=\"x\",-1,0)","v":0},{"$f":"IF(E51=\"x\",0,0)","v":0},{"$f":"IF(F51=\"x\",1,0)","v":0},{"$f":"IF(G51=\"x\",2,0)","v":0},null,{"$f":"N49*'1_COMMUNITY EVALUATION'!N31","v":0.25}]
[18,"Willingness of the stakeholder to engage with local authorities",null,null,null,null,null,{"$f":"IF(C52=\"x\",-2,0)","v":0},{"$f":"IF(D52=\"x\",-1,0)","v":0},{"$f":"IF(E52=\"x\",0,0)","v":0},{"$f":"IF(F52=\"x\",1,0)","v":0},{"$f":"IF(G52=\"x\",2,0)","v":0}]
[19,"Interest for the stakeholder to reach out to a wider public",null,null,null,null,null,{"$f":"IF(C53=\"x\",-2,0)","v":0},{"$f":"IF(D53=\"x\",-1,0)","v":0},{"$f":"IF(E53=\"x\",0,0)","v":0},{"$f":"IF(F53=\"x\",1,0)","v":0},{"$f":"IF(G53=\"x\",2,0)","v":0}]
[20,"Willingness of the stakeholder to share/increase own political awareness",null,null,null,null,null,{"$f":"IF(C54=\"x\",-2,0)","v":0},{"$f":"IF(D54=\"x\",-1,0)","v":0},{"$f":"IF(E54=\"x\",0,0)","v":0},{"$f":"IF(F54=\"x\",1,0)","v":0},{"$f":"IF(G54=\"x\",2,0)","v":0}]
[null,"INTEREST SCORE",null,null,null,null,null,null,null,null,null,null,null,{"$f":"IF(C2=\"\",\"\",(SUM(N51+N45+N39+N33)/4))","v":""}]

{"sheet":"STAKEHOLDER (3)","index":7,"n_rows":55,"n_cols":14,"rows_kept":55,"cut":false,"hidden":false,"merged":[[0,0,0,13],[1,2,1,13],[27,1,27,6],[54,1,54,6]]}
["Bearing in mind the topic at hand, please evaluate the stakeholder for each proposed item (row) by it marking with an 'x' (from extremely negative to extremely positive)."]
[null,"STAKEHOLDER - insert name ->"]
[null,"DIMENSIONS","Extremely Negative","Negative","not applicable","Positive","Extremely positive",-2,-1,0,1,2,null,"score per dimension"]
[null,"(1) Social capital",null,null,null,null,null,null,null,null,null,null,{"$f":"SUM(H5:L9)","v":0},{"$f":"(((M4-(-10))*(1-0))/(10-(-10)))+0","v":0.5}]
[1,"Capacity of the stakeholder to involve other stakeholders ",null,null,null,null,null,{"$f":"IF(C5=\"x\",-2,0)","v":0},{"$f":"IF(D5=\"x\",-1,0)","v":0},{"$f":"IF(E5=\"x\",0,0)","v":0},{"$f":"IF(F5=\"x\",1,0)","v":0},{"$f":"IF(G5=\"x\",2,0)","v":0},null,"Weighted value"]
[2,"Level of representativeness of the stakeholder of a specific category",null,null,null,null,null,{"$f":"IF(C6=\"x\",-2,0)","v":0},{"$f":"IF(D6=\"x\",-1,0)","v":0},{"$f":"IF(E6=\"x\",0,0)","v":0},{"$f":"IF(F6=\"x\",1,0)","v":0},{"$f":"IF(G6=\"x\",2,0)","v":0},null,{"$f":"N4*'1_COMMUNITY EVALUATION'!N4","v":0.25}]
[3,"Level of participation of the stakeholder to local civil society activities",null,null,null,null,null,{"$f":"IF(C7=\"x\",-2,0)","v":0},{"$f":"IF(D7=\"x\",-1,0)","v":0},{"$f":"IF(E7=\"x\",0,0)","v":0},{"$f":"IF(F7=\"x\",1,0)","v":0},{"$f":"IF(G7=\"x\",2,0)","v":0}]
[4,"Capacity of the stakeholder to start/influence change",null,null,null,null,null,{"$f":"IF(C8=\"x\",-2,0)","v":0},{"$f":"IF(D8=\"x\",-1,0)","v":0},{"$f":"IF(E8=\"x\",0,0)","v":0},{"$f":"IF(F8=\"x\",1,0)","v":0},{"$f":"IF(G8=\"x\",2,0)","v":0}]
[5,"Level of acknowledgment of the stakeholder among citizens",null,null,null,null,null,{"$f":"IF(C9=\"x\",-2,0)","v":0},{"$f":"IF(D9=\"x\",-1,0)","v":0},{"$f":"IF(E9=\"x\",0,0)","v":0},{"$f":"IF(F9=\"x\",1,0)","v":0},{"$f":"IF(G9=\"x\",2,0)","v":0}]
[null,"(2) Economic capital",null,null,null,null,null,null,null,null,null,null,{"$f":"SUM(H11:L15)","v":0},{"$f":"(((M10-(-10))*(1-0))/(10-(-10)))+0","v":0.5}]
[6,"Capacity of the stakeholder to act as donor",null,null,null,null,null,{"$f":"IF(C11=\"x\",-2,0)","v":0},{"$f":"IF(D11=\"x\",-1,0)","v":0},{"$f":"IF(E11=\"x\",0,0)","v":0},{"$f":"IF(F11=\"x\",1,0)","v":0},{"$f":"IF(G11=\"x\",2,0)","v":0},null,"Weighted value"]
[7,"Capacity of the stakeholder to influence resources' allocation",null,null,null,null,null,{"$f":"IF(C12=\"x\",-2,0)","v":0},{"$f":"IF(D12=\"x\",-1,0)","v":0},{"$f":"IF(E12=\"x\",0,0)","v":0},{"$f":"IF(F12=\"x\",1,0)","v":0},{"$f":"IF(G12=\"x\",2,0)","v":0},null,{"$f":"N10*'1_COMMUNITY EVALUATION'!N13","v":0.25}]
[8,"Capacity to facilitate access to existing exogenous resources ",null,null,null,null,null,{"$f":"IF(C13=\"x\",-2,0)","v":0},{"$f":"IF(D13=\"x\",-1,0)","v":0},{"$f":"IF(E13=\"x\",0,0)","v":0},{"$f":"IF(F13=\"x\",1,0)","v":0},{"$f":"IF(G13=\"x\",2,0)","v":0}]
[9,"Capacity of the stakeholder to provide in-kind support",null,null,null,null,null,{"$f":"IF(C14=\"x\",-2,0)","v":0},{"$f":"IF(D14=\"x\",-1,0)","v":0},{"$f":"IF(E14=\"x\",0,0)","v":0},{"$f":"IF(F14=\"x\",1,0)","v":0},{"$f":"IF(G14=\"x\",2,0)","v":0}]
[10,"Influence of the stakeholder on the job market",null,null,null,null,null,{"$f":"IF(C15=\"x\",-2,0)","v":0},{"$f":"IF(D15=\"x\",-1,0)","v":0},{"$f":"IF(E15=\"x\",0,0)","v":0},{"$f":"IF(F15=\"x\",1,0)","v":0},{"$f":"IF(G15=\"x\",2,0)","v":0}]
[null,"(3) Human capital",null,null,null,null,null,null,null,null,null,null,{"$f":"SUM(H17:L21)","v":0},{"$f":"(((M16-(-10))*(1-0))/(10-(-10)))+0","v":0.5}]
[11,"Knowledge/skills of the stakeholder on the topic",null,null,null,null,null,{"$f":"IF(C17=\"x\",-2,0)","v":0},{"$f":"IF(D17=\"x\",-1,0)","v":0},{"$f":"IF(E17=\"x\",0,0)","v":0},{"$f":"IF(F17=\"x\",1,0)","v":0},{"$f":"IF(G17=\"x\",2,0)","v":0},null,"Weighted value"]
[12,"Awareness of the stakeholder on the topic",null,null,null,null,null,{"$f":"IF(C18=\"x\",-2,0)","v":0},{"$f":"IF(D18=\"x\",-1,0)","v":0},{"$f":"IF(E18=\"x\",0,0)","v":0},{"$f":"IF(F18=\"x\",1,0)","v":0},{"$f":"IF(G18=\"x\",2,0)","v":0},null,{"$f":"N16*'1_COMMUNITY EVALUATION'!N22","v":0.25}]
[13,"Capacity of the stakeholder to engage in public debate",null,null,null,null,null,{"$f":"IF(C19=\"x\",-2,0)","v":0},{"$f":"IF(D19=\"x\",-1,0)","v":0},{"$f":"IF(E19=\"x\",0,0)","v":0},{"$f":"IF(F19=\"x\",1,0)","v":0},{"$f":"IF(G19=\"x\",2,0)","v":0}]
[14,"Capacity of the stakeholder to communicate through a range of different media",null,null,null,null,null,{"$f":"IF(C20=\"x\",-2,0)","v":0},{"$f":"IF(D20=\"x\",-1,0)","v":0},{"$f":"IF(E20=\"x\",0,0)","v":0},{"$f":"IF(F20=\"x\",1,0)","v":0},{"$f":"IF(G20=\"x\",2,0)","v":0}]
[15,"Capacity of the stakeholder to access public venues",null,null,null,null,null,{"$f":"IF(C21=\"x\",-2,0)","v":0},{"$f":"IF(D21=\"x\",-1,0)","v":0},{"$f":"IF(E21=\"x\",0,0)","v":0},{"$f":"IF(F21=\"x\",1,0)","v":0},{"$f":"IF(G21=\"x\",2,0)","v":0}]
[null,"(4) Political capital",null,null,null,null,null,null,null,null,null,null,{"$f":"SUM(H23:L27)","v":0},{"$f":"(((M22-(-10))*(1-0))/(10-(-10)))+0","v":0.5}]
[16,"Trust of the local administration towards the stakeholder ",null,null,null,null,null,{"$f":"IF(C23=\"x\",-2,0)","v":0},{"$f":"IF(D23=\"x\",-1,0)","v":0},{"$f":"IF(E23=\"x\",0,0)","v":0},{"$f":"IF(F23=\"x\",1,0)","v":0},{"$f":"IF(G23=\"x\",2,0)","v":0},null,"Weighted value"]
[17,"Capacity of the stakeholder to engage further political actors",null,null,null,null,null,{"$f":"IF(C24=\"x\",-2,0)","v":0},{"$f":"IF(D24=\"x\",-1,0)","v":0},{"$f":"IF(E24=\"x\",0,0)","v":0},{"$f":"IF(F24=\"x\",1,0)","v":0},{"$f":"IF(G24=\"x\",2,0)","v":0},null,{"$f":"N22*'1_COMMUNITY EVALUATION'!N31","v":0.25}]
[18,"Capacity of the stakeholder to engage with local authorities/other stakeholders",null,null,null,null,null,{"$f":"IF(C25=\"x\",-2,0)","v":0},{"$f":"IF(D25=\"x\",-1,0)","v":0},{"$f":"IF(E25=\"x\",0,0)","v":0},{"$f":"IF(F25=\"x\",1,0)","v":0},{"$f":"IF(G25=\"x\",2,0)","v":0}]
[19,"Capacity of the stakeholder to influence public opinion",null,null,null,null,null,{"$f":"IF(C26=\"x\",-2,0)","v":0},{"$f":"IF(D26=\"x\",-1,0)","v":0},{"$f":"IF(E26=\"x\",0,0)","v":0},{"$f":"IF(F26=\"x\",1,0)","v":0},{"$f":"IF(G26=\"x\",2,0)","v":0}]
[20,"Political awareness of the stakeholder",null,null,null,null,null,{"$f":"IF(C27=\"x\",-2,0)","v":0},{"$f":"IF(D27=\"x\",-1,0)","v":0},{"$f":"IF(E27=\"x\",0,0)","v":0},{"$f":"IF(F27=\"x\",1,0)","v":0},{"$f":"IF(G27=\"x\",2,0)","v":0}]
[null,"RELEVANCE SCORE",null,null,null,null,null,null,null,null,null,null,null,{"$f":"IF(C2=\"\",\"\",(SUM(N24+N18+N12+N6)/4))","v":""}]
[]
[null,"DIMENSIONS","Extremely Negative","Negative","not applicable","Positive","Extremely positive",-2,-1,0,1,2,null,"score per dimension"]
[null,"(1) Social capital",null,null,null,null,null,null,null,null,null,null,{"$f":"SUM(H32:L36)","v":0},{"$f":"(((M31-(-10))*(1-0))/(10-(-10)))+0","v":0.5}]
[1,"Interest for the stakeholder to engage in networking for the topic at stake ",null,null,null,null,null,{"$f":"IF(C32=\"x\",-2,0)","v":0},{"$f":"IF(D32=\"x\",-1,0)","v":0},{"$f":"IF(E32=\"x\",0,0)","v":0},{"$f":"IF(F32=\"x\",1,0)","v":0},{"$f":"IF(G32=\"x\",2,0)","v":0},null,"Weighted value"]
[2,"Interest of the stakeholder to represent a specific category for the topic at stake",null,null,null,null,null,{"$f":"IF(C33=\"x\",-2,0)","v":0},{"$f":"IF(D33=\"x\",-1,0)","v":0},{"$f":"IF(E33=\"x\",0,0)","v":0},{"$f":"IF(F33=\"x\",1,0)","v":0},{"$f":"IF(G33=\"x\",2,0)","v":0},null,{"$f":"N31*'1_COMMUNITY EVALUATION'!N4","v":0.25}]
[3,"Interest of the stakeholder to be involved further in civil society activism for the topic at stake",null,null,null,null,null,{"$f":"IF(C34=\"x\",-2,0)","v":0},{"$f":"IF(D34=\"x\",-1,0)","v":0},{"$f":"IF(E34=\"x\",0,0)","v":0},{"$f":"IF(F34=\"x\",1,0)","v":0},{"$f":"IF(G34=\"x\",2,0)","v":0}]
[4,"interest of the stakeholder to start/influence change",null,null,null,null,null,{"$f":"IF(C35=\"x\",-2,0)","v":0},{"$f":"IF(D35=\"x\",-1,0)","v":0},{"$f":"IF(E35=\"x\",0,0)","v":0},{"$f":"IF(F35=\"x\",1,0)","v":0},{"$f":"IF(G35=\"x\",2,0)","v":0}]
[5,"Interest of the stakeholder to increase its own acknowledgement among citizens",null,null,null,null,null,{"$f":"IF(C36=\"x\",-2,0)","v":0},{"$f":"IF(D36=\"x\",-1,0)","v":0},{"$f":"IF(E36=\"x\",0,0)","v":0},{"$f":"IF(F36=\"x\",1,0)","v":0},{"$f":"IF(G36=\"x\",2,0)","v":0}]
[null,"(2) Economic capital",null,null,null,null,null,null,null,null,null,null,{"$f":"SUM(H38:L42)","v":0},{"$f":"(((M37-(-10))*(1-0))/(10-(-10)))+0","v":0.5}]
[6,"Potential economic benefit for the stakeholder ",null,null,null,null,null,{"$f":"IF(C38=\"x\",-2,0)","v":0},{"$f":"IF(D38=\"x\",-1,0)","v":0},{"$f":"IF(E38=\"x\",0,0)","v":0},{"$f":"IF(F38=\"x\",1,0)","v":0},{"$f":"IF(G38=\"x\",2,0)","v":0},null,"Weighted value"]
[7,"Willingness of the stakeholder to mobilise resources ",null,null,null,null,null,{"$f":"IF(C39=\"x\",-2,0)","v":0},{"$f":"IF(D39=\"x\",-1,0)","v":0},{"$f":"IF(E39=\"x\",0,0)","v":0},{"$f":"IF(F39=\"x\",1,0)","v":0},{"$f":"IF(G39=\"x\",2,0)","v":0},null,{"$f":"N37*'1_COMMUNITY EVALUATION'!N13","v":0.25}]
[8,"Willingness of the stakeholder to support access to existing exogenous resources",null,null,null,null,null,{"$f":"IF(C40=\"x\",-2,0)","v":0},{"$f":"IF(D40=\"x\",-1,0)","v":0},{"$f":"IF(E40=\"x\",0,0)","v":0},{"$f":"IF(F40=\"x\",1,0)","v":0},{"$f":"IF(G40=\"x\",2,0)","v":0}]
[9,"Propensity of the stakeholder to provide in-kind support",null,null,null,null,null,{"$f":"IF(C41=\"x\",-2,0)","v":0},{"$f":"IF(D41=\"x\",-1,0)","v":0},{"$f":"IF(E41=\"x\",0,0)","v":0},{"$f":"IF(F41=\"x\",1,0)","v":0},{"$f":"IF(G41=\"x\",2,0)","v":0}]
[10,"Interest of the stakeholder in increasing its own influence on the job market",null,null,null,null,null,{"$f":"IF(C42=\"x\",-2,0)","v":0},{"$f":"IF(D42=\"x\",-1,0)","v":0},{"$f":"IF(E42=\"x\",0,0)","v":0},{"$f":"IF(F42=\"x\",1,0)","v":0},{"$f":"IF(G42=\"x\",2,0)","v":0}]
[null,"(3) Human capital",null,null,null,null,null,null,null,null,null,null,{"$f":"SUM(H44:L48)","v":0},{"$f":"(((M43-(-10))*(1-0))/(10-(-10)))+0","v":0.5}]
[11,"Interest of the stakeholder to share/increase own knowledge/skills on the topic",null,null,null,null,null,{"$f":"IF(C44=\"x\",-2,0)","v":0},{"$f":"IF(D44=\"x\",-1,0)","v":0},{"$f":"IF(E44=\"x\",0,0)","v":0},{"$f":"IF(F44=\"x\",1,0)","v":0},{"$f":"IF(G44=\"x\",2,0)","v":0},null,"Weighted value"]
[12,"Willingness of the stakeholder to share/increase own awareness on the topic",null,null,null,null,null,{"$f":"IF(C45=\"x\",-2,0)","v":0},{"$f":"IF(D45=\"x\",-1,0)","v":0},{"$f":"IF(E45=\"x\",0,0)","v":0},{"$f":"IF(F45=\"x\",1,0)","v":0},{"$f":"IF(G45=\"x\",2,0)","v":0},null,{"$f":"N43*'1_COMMUNITY EVALUATION'!N22","v":0.25}]
[13,"Willingness of the stakeholder to engage in public debate",null,null,null,null,null,{"$f":"IF(C46=\"x\",-2,0)","v":0},{"$f":"IF(D46=\"x\",-1,0)","v":0},{"$f":"IF(E46=\"x\",0,0)","v":0},{"$f":"IF(F46=\"x\",1,0)","v":0},{"$f":"IF(G46=\"x\",2,0)","v":0}]
[14,"Willingness of the stakeholder to communicate through a range of different media",null,null,null,null,null,{"$f":"IF(C47=\"x\",-2,0)","v":0},{"$f":"IF(D47=\"x\",-1,0)","v":0},{"$f":"IF(E47=\"x\",0,0)","v":0},{"$f":"IF(F47=\"x\",1,0)","v":0},{"$f":"IF(G47=\"x\",2,0)","v":0}]
[15,"Willingness of the stakeholder to access public venues",null,null,null,null,null,{"$f":"IF(C48=\"x\",-2,0)","v":0},{"$f":"IF(D48=\"x\",-1,0)","v":0},{"$f":"IF(E48=\"x\",0,0)","v":0},{"$f":"IF(F48=\"x\",1,0)","v":0},{"$f":"IF(G48=\"x\",2,0)","v":0}]
[null,"(4) Political capital",null,null,null,null,null,null,null,null,null,null,{"$f":"SUM(H50:L54)","v":0},{"$f":"(((M49-(-10))*(1-0))/(10-(-10)))+0","v":0.5}]
[16,"Trust of the stakeholder towards the local administration",null,null,null,null,null,{"$f":"IF(C50=\"x\",-2,0)","v":0},{"$f":"IF(D50=\"x\",-1,0)","v":0},{"$f":"IF(E50=\"x\",0,0)","v":0},{"$f":"IF(F50=\"x\",1,0)","v":0},{"$f":"IF(G50=\"x\",2,0)","v":0},null,"Weighted value"]
[17,"Political interest of the stakeholder in the topic",null,null,null,null,null,{"$f":"IF(C51=\"x\",-2,0)","v":0},{"$f":"IF(D51=\"x\",-1,0)","v":0},{"$f":"IF(E51=\"x\",0,0)","v":0},{"$f":"IF(F51=\"x\",1,0)","v":0},{"$f":"IF(G51=\"x\",2,0)","v":0},null,{"$f":"N49*'1_COMMUNITY EVALUATION'!N31","v":0.25}]
[18,"Willingness of the stakeholder to engage with local authorities",null,null,null,null,null,{"$f":"IF(C52=\"x\",-2,0)","v":0},{"$f":"IF(D52=\"x\",-1,0)","v":0},{"$f":"IF(E52=\"x\",0,0)","v":0},{"$f":"IF(F52=\"x\",1,0)","v":0},{"$f":"IF(G52=\"x\",2,0)","v":0}]
[19,"Interest for the stakeholder to reach out to a wider public",null,null,null,null,null,{"$f":"IF(C53=\"x\",-2,0)","v":0},{"$f":"IF(D53=\"x\",-1,0)","v":0},{"$f":"IF(E53=\"x\",0,0)","v":0},{"$f":"IF(F53=\"x\",1,0)","v":0},{"$f":"IF(G53=\"x\",2,0)","v":0}]
[20,"Willingness of the stakeholder to share/increase own political awareness",null,null,null,null,null,{"$f":"IF(C54=\"x\",-2,0)","v":0},{"$f":"IF(D54=\"x\",-1,0)","v":0},{"$f":"IF(E54=\"x\",0,0)","v":0},{"$f":"IF(F54=\"x\",1,0)","v":0},{"$f":"IF(G54=\"x\",2,0)","v":0}]
[null,"INTEREST SCORE",null,null,null,null,null,null,null,null,null,null,null,{"$f":"IF(C2=\"\",\"\",(SUM(N51+N45+N39+N33)/4))","v":""}]

{"sheet":"STAKEHOLDER (4)","index":8,"n_rows":55,"n_cols":14,"rows_kept":55,"cut":false,"hidden":false,"merged":[[0,0,0,13],[1,2,1,13],[27,1,27,6],[54,1,54,6]]}
["Bearing in mind the topic at hand, please evaluate the stakeholder for each proposed item (row) by it marking with an 'x' (from extremely negative to extremely positive)."]
[null,"STAKEHOLDER - insert name ->"]
[null,"DIMENSIONS","Extremely Negative","Negative","not applicable","Positive","Extremely positive",-2,-1,0,1,2,null,"score per dimension"]
[null,"(1) Social capital",null,null,null,null,null,null,null,null,null,null,{"$f":"SUM(H5:L9)","v":0},{"$f":"(((M4-(-10))*(1-0))/(10-(-10)))+0","v":0.5}]
[1,"Capacity of the stakeholder to involve other stakeholders ",null,null,null,null,null,{"$f":"IF(C5=\"x\",-2,0)","v":0},{"$f":"IF(D5=\"x\",-1,0)","v":0},{"$f":"IF(E5=\"x\",0,0)","v":0},{"$f":"IF(F5=\"x\",1,0)","v":0},{"$f":"IF(G5=\"x\",2,0)","v":0},null,"Weighted value"]
[2,"Level of representativeness of the stakeholder of a specific category",null,null,null,null,null,{"$f":"IF(C6=\"x\",-2,0)","v":0},{"$f":"IF(D6=\"x\",-1,0)","v":0},{"$f":"IF(E6=\"x\",0,0)","v":0},{"$f":"IF(F6=\"x\",1,0)","v":0},{"$f":"IF(G6=\"x\",2,0)","v":0},null,{"$f":"N4*'1_COMMUNITY EVALUATION'!N4","v":0.25}]
[3,"Level of participation of the stakeholder to local civil society activities",null,null,null,null,null,{"$f":"IF(C7=\"x\",-2,0)","v":0},{"$f":"IF(D7=\"x\",-1,0)","v":0},{"$f":"IF(E7=\"x\",0,0)","v":0},{"$f":"IF(F7=\"x\",1,0)","v":0},{"$f":"IF(G7=\"x\",2,0)","v":0}]
[4,"Capacity of the stakeholder to start/influence change",null,null,null,null,null,{"$f":"IF(C8=\"x\",-2,0)","v":0},{"$f":"IF(D8=\"x\",-1,0)","v":0},{"$f":"IF(E8=\"x\",0,0)","v":0},{"$f":"IF(F8=\"x\",1,0)","v":0},{"$f":"IF(G8=\"x\",2,0)","v":0}]
[5,"Level of acknowledgment of the stakeholder among citizens",null,null,null,null,null,{"$f":"IF(C9=\"x\",-2,0)","v":0},{"$f":"IF(D9=\"x\",-1,0)","v":0},{"$f":"IF(E9=\"x\",0,0)","v":0},{"$f":"IF(F9=\"x\",1,0)","v":0},{"$f":"IF(G9=\"x\",2,0)","v":0}]
[null,"(2) Economic capital",null,null,null,null,null,null,null,null,null,null,{"$f":"SUM(H11:L15)","v":0},{"$f":"(((M10-(-10))*(1-0))/(10-(-10)))+0","v":0.5}]
[6,"Capacity of the stakeholder to act as donor",null,null,null,null,null,{"$f":"IF(C11=\"x\",-2,0)","v":0},{"$f":"IF(D11=\"x\",-1,0)","v":0},{"$f":"IF(E11=\"x\",0,0)","v":0},{"$f":"IF(F11=\"x\",1,0)","v":0},{"$f":"IF(G11=\"x\",2,0)","v":0},null,"Weighted value"]
[7,"Capacity of the stakeholder to influence resources' allocation",null,null,null,null,null,{"$f":"IF(C12=\"x\",-2,0)","v":0},{"$f":"IF(D12=\"x\",-1,0)","v":0},{"$f":"IF(E12=\"x\",0,0)","v":0},{"$f":"IF(F12=\"x\",1,0)","v":0},{"$f":"IF(G12=\"x\",2,0)","v":0},null,{"$f":"N10*'1_COMMUNITY EVALUATION'!N13","v":0.25}]
[8,"Capacity to facilitate access to existing exogenous resources ",null,null,null,null,null,{"$f":"IF(C13=\"x\",-2,0)","v":0},{"$f":"IF(D13=\"x\",-1,0)","v":0},{"$f":"IF(E13=\"x\",0,0)","v":0},{"$f":"IF(F13=\"x\",1,0)","v":0},{"$f":"IF(G13=\"x\",2,0)","v":0}]
[9,"Capacity of the stakeholder to provide in-kind support",null,null,null,null,null,{"$f":"IF(C14=\"x\",-2,0)","v":0},{"$f":"IF(D14=\"x\",-1,0)","v":0},{"$f":"IF(E14=\"x\",0,0)","v":0},{"$f":"IF(F14=\"x\",1,0)","v":0},{"$f":"IF(G14=\"x\",2,0)","v":0}]
[10,"Influence of the stakeholder on the job market",null,null,null,null,null,{"$f":"IF(C15=\"x\",-2,0)","v":0},{"$f":"IF(D15=\"x\",-1,0)","v":0},{"$f":"IF(E15=\"x\",0,0)","v":0},{"$f":"IF(F15=\"x\",1,0)","v":0},{"$f":"IF(G15=\"x\",2,0)","v":0}]
[null,"(3) Human capital",null,null,null,null,null,null,null,null,null,null,{"$f":"SUM(H17:L21)","v":0},{"$f":"(((M16-(-10))*(1-0))/(10-(-10)))+0","v":0.5}]
[11,"Knowledge/skills of the stakeholder on the topic",null,null,null,null,null,{"$f":"IF(C17=\"x\",-2,0)","v":0},{"$f":"IF(D17=\"x\",-1,0)","v":0},{"$f":"IF(E17=\"x\",0,0)","v":0},{"$f":"IF(F17=\"x\",1,0)","v":0},{"$f":"IF(G17=\"x\",2,0)","v":0},null,"Weighted value"]
[12,"Awareness of the stakeholder on the topic",null,null,null,null,null,{"$f":"IF(C18=\"x\",-2,0)","v":0},{"$f":"IF(D18=\"x\",-1,0)","v":0},{"$f":"IF(E18=\"x\",0,0)","v":0},{"$f":"IF(F18=\"x\",1,0)","v":0},{"$f":"IF(G18=\"x\",2,0)","v":0},null,{"$f":"N16*'1_COMMUNITY EVALUATION'!N22","v":0.25}]
[13,"Capacity of the stakeholder to engage in public debate",null,null,null,null,null,{"$f":"IF(C19=\"x\",-2,0)","v":0},{"$f":"IF(D19=\"x\",-1,0)","v":0},{"$f":"IF(E19=\"x\",0,0)","v":0},{"$f":"IF(F19=\"x\",1,0)","v":0},{"$f":"IF(G19=\"x\",2,0)","v":0}]
[14,"Capacity of the stakeholder to communicate through a range of different media",null,null,null,null,null,{"$f":"IF(C20=\"x\",-2,0)","v":0},{"$f":"IF(D20=\"x\",-1,0)","v":0},{"$f":"IF(E20=\"x\",0,0)","v":0},{"$f":"IF(F20=\"x\",1,0)","v":0},{"$f":"IF(G20=\"x\",2,0)","v":0}]
[15,"Capacity of the stakeholder to access public venues",null,null,null,null,null,{"$f":"IF(C21=\"x\",-2,0)","v":0},{"$f":"IF(D21=\"x\",-1,0)","v":0},{"$f":"IF(E21=\"x\",0,0)","v":0},{"$f":"IF(F21=\"x\",1,0)","v":0},{"$f":"IF(G21=\"x\",2,0)","v":0}]
[null,"(4) Political capital",null,null,null,null,null,null,null,null,null,null,{"$f":"SUM(H23:L27)","v":0},{"$f":"(((M22-(-10))*(1-0))/(10-(-10)))+0","v":0.5}]
[16,"Trust of the local administration towards the stakeholder ",null,null,null,null,null,{"$f":"IF(C23=\"x\",-2,0)","v":0},{"$f":"IF(D23=\"x\",-1,0)","v":0},{"$f":"IF(E23=\"x\",0,0)","v":0},{"$f":"IF(F23=\"x\",1,0)","v":0},{"$f":"IF(G23=\"x\",2,0)","v":0},null,"Weighted value"]
[17,"Capacity of the stakeholder to engage further political actors",null,null,null,null,null,{"$f":"IF(C24=\"x\",-2,0)","v":0},{"$f":"IF(D24=\"x\",-1,0)","v":0},{"$f":"IF(E24=\"x\",0,0)","v":0},{"$f":"IF(F24=\"x\",1,0)","v":0},{"$f":"IF(G24=\"x\",2,0)","v":0},null,{"$f":"N22*'1_COMMUNITY EVALUATION'!N31","v":0.25}]
[18,"Capacity of the stakeholder to engage with local authorities/other stakeholders",null,null,null,null,null,{"$f":"IF(C25=\"x\",-2,0)","v":0},{"$f":"IF(D25=\"x\",-1,0)","v":0},{"$f":"IF(E25=\"x\",0,0)","v":0},{"$f":"IF(F25=\"x\",1,0)","v":0},{"$f":"IF(G25=\"x\",2,0)","v":0}]
[19,"Capacity of the stakeholder to influence public opinion",null,null,null,null,null,{"$f":"IF(C26=\"x\",-2,0)","v":0},{"$f":"IF(D26=\"x\",-1,0)","v":0},{"$f":"IF(E26=\"x\",0,0)","v":0},{"$f":"IF(F26=\"x\",1,0)","v":0},{"$f":"IF(G26=\"x\",2,0)","v":0}]
[20,"Political awareness of the stakeholder",null,null,null,null,null,{"$f":"IF(C27=\"x\",-2,0)","v":0},{"$f":"IF(D27=\"x\",-1,0)","v":0},{"$f":"IF(E27=\"x\",0,0)","v":0},{"$f":"IF(F27=\"x\",1,0)","v":0},{"$f":"IF(G27=\"x\",2,0)","v":0}]
[null,"RELEVANCE SCORE",null,null,null,null,null,null,null,null,null,null,null,{"$f":"IF(C2=\"\",\"\",(SUM(N24+N18+N12+N6)/4))","v":""}]
[]
[null,"DIMENSIONS","Extremely Negative","Negative","not applicable","Positive","Extremely positive",-2,-1,0,1,2,null,"score per dimension"]
[null,"(1) Social capital",null,null,null,null,null,null,null,null,null,null,{"$f":"SUM(H32:L36)","v":0},{"$f":"(((M31-(-10))*(1-0))/(10-(-10)))+0","v":0.5}]
[1,"Interest for the stakeholder to engage in networking for the topic at stake ",null,null,null,null,null,{"$f":"IF(C32=\"x\",-2,0)","v":0},{"$f":"IF(D32=\"x\",-1,0)","v":0},{"$f":"IF(E32=\"x\",0,0)","v":0},{"$f":"IF(F32=\"x\",1,0)","v":0},{"$f":"IF(G32=\"x\",2,0)","v":0},null,"Weighted value"]
[2,"Interest of the stakeholder to represent a specific category for the topic at stake",null,null,null,null,null,{"$f":"IF(C33=\"x\",-2,0)","v":0},{"$f":"IF(D33=\"x\",-1,0)","v":0},{"$f":"IF(E33=\"x\",0,0)","v":0},{"$f":"IF(F33=\"x\",1,0)","v":0},{"$f":"IF(G33=\"x\",2,0)","v":0},null,{"$f":"N31*'1_COMMUNITY EVALUATION'!N4","v":0.25}]
[3,"Interest of the stakeholder to be involved further in civil society activism for the topic at stake",null,null,null,null,null,{"$f":"IF(C34=\"x\",-2,0)","v":0},{"$f":"IF(D34=\"x\",-1,0)","v":0},{"$f":"IF(E34=\"x\",0,0)","v":0},{"$f":"IF(F34=\"x\",1,0)","v":0},{"$f":"IF(G34=\"x\",2,0)","v":0}]
[4,"interest of the stakeholder to start/influence change",null,null,null,null,null,{"$f":"IF(C35=\"x\",-2,0)","v":0},{"$f":"IF(D35=\"x\",-1,0)","v":0},{"$f":"IF(E35=\"x\",0,0)","v":0},{"$f":"IF(F35=\"x\",1,0)","v":0},{"$f":"IF(G35=\"x\",2,0)","v":0}]
[5,"Interest of the stakeholder to increase its own acknowledgement among citizens",null,null,null,null,null,{"$f":"IF(C36=\"x\",-2,0)","v":0},{"$f":"IF(D36=\"x\",-1,0)","v":0},{"$f":"IF(E36=\"x\",0,0)","v":0},{"$f":"IF(F36=\"x\",1,0)","v":0},{"$f":"IF(G36=\"x\",2,0)","v":0}]
[null,"(2) Economic capital",null,null,null,null,null,null,null,null,null,null,{"$f":"SUM(H38:L42)","v":0},{"$f":"(((M37-(-10))*(1-0))/(10-(-10)))+0","v":0.5}]
[6,"Potential economic benefit for the stakeholder ",null,null,null,null,null,{"$f":"IF(C38=\"x\",-2,0)","v":0},{"$f":"IF(D38=\"x\",-1,0)","v":0},{"$f":"IF(E38=\"x\",0,0)","v":0},{"$f":"IF(F38=\"x\",1,0)","v":0},{"$f":"IF(G38=\"x\",2,0)","v":0},null,"Weighted value"]
[7,"Willingness of the stakeholder to mobilise resources ",null,null,null,null,null,{"$f":"IF(C39=\"x\",-2,0)","v":0},{"$f":"IF(D39=\"x\",-1,0)","v":0},{"$f":"IF(E39=\"x\",0,0)","v":0},{"$f":"IF(F39=\"x\",1,0)","v":0},{"$f":"IF(G39=\"x\",2,0)","v":0},null,{"$f":"N37*'1_COMMUNITY EVALUATION'!N13","v":0.25}]
[8,"Willingness of the stakeholder to support access to existing exogenous resources",null,null,null,null,null,{"$f":"IF(C40=\"x\",-2,0)","v":0},{"$f":"IF(D40=\"x\",-1,0)","v":0},{"$f":"IF(E40=\"x\",0,0)","v":0},{"$f":"IF(F40=\"x\",1,0)","v":0},{"$f":"IF(G40=\"x\",2,0)","v":0}]
[9,"Propensity of the stakeholder to provide in-kind support",null,null,null,null,null,{"$f":"IF(C41=\"x\",-2,0)","v":0},{"$f":"IF(D41=\"x\",-1,0)","v":0},{"$f":"IF(E41=\"x\",0,0)","v":0},{"$f":"IF(F41=\"x\",1,0)","v":0},{"$f":"IF(G41=\"x\",2,0)","v":0}]
[10,"Interest of the stakeholder in increasing its own influence on the job market",null,null,null,null,null,{"$f":"IF(C42=\"x\",-2,0)","v":0},{"$f":"IF(D42=\"x\",-1,0)","v":0},{"$f":"IF(E42=\"x\",0,0)","v":0},{"$f":"IF(F42=\"x\",1,0)","v":0},{"$f":"IF(G42=\"x\",2,0)","v":0}]
[null,"(3) Human capital",null,null,null,null,null,null,null,null,null,null,{"$f":"SUM(H44:L48)","v":0},{"$f":"(((M43-(-10))*(1-0))/(10-(-10)))+0","v":0.5}]
[11,"Interest of the stakeholder to share/increase own knowledge/skills on the topic",null,null,null,null,null,{"$f":"IF(C44=\"x\",-2,0)","v":0},{"$f":"IF(D44=\"x\",-1,0)","v":0},{"$f":"IF(E44=\"x\",0,0)","v":0},{"$f":"IF(F44=\"x\",1,0)","v":0},{"$f":"IF(G44=\"x\",2,0)","v":0},null,"Weighted value"]
[12,"Willingness of the stakeholder to share/increase own awareness on the topic",null,null,null,null,null,{"$f":"IF(C45=\"x\",-2,0)","v":0},{"$f":"IF(D45=\"x\",-1,0)","v":0},{"$f":"IF(E45=\"x\",0,0)","v":0},{"$f":"IF(F45=\"x\",1,0)","v":0},{"$f":"IF(G45=\"x\",2,0)","v":0},null,{"$f":"N43*'1_COMMUNITY EVALUATION'!N22","v":0.25}]
[13,"Willingness of the stakeholder to engage in public debate",null,null,null,null,null,{"$f":"IF(C46=\"x\",-2,0)","v":0},{"$f":"IF(D46=\"x\",-1,0)","v":0},{"$f":"IF(E46=\"x\",0,0)","v":0},{"$f":"IF(F46=\"x\",1,0)","v":0},{"$f":"IF(G46=\"x\",2,0)","v":0}]
[14,"Willingness of the stakeholder to communicate through a range of different media",null,null,null,null,null,{"$f":"IF(C47=\"x\",-2,0)","v":0},{"$f":"IF(D47=\"x\",-1,0)","v":0},{"$f":"IF(E47=\"x\",0,0)","v":0},{"$f":"IF(F47=\"x\",1,0)","v":0},{"$f":"IF(G47=\"x\",2,0)","v":0}]
[15,"Willingness of the stakeholder to access public venues",null,null,null,null,null,{"$f":"IF(C48=\"x\",-2,0)","v":0},{"$f":"IF(D48=\"x\",-1,0)","v":0},{"$f":"IF(E48=\"x\",0,0)","v":0},{"$f":"IF(F48=\"x\",1,0)","v":0},{"$f":"IF(G48=\"x\",2,0)","v":0}]
[null,"(4) Political capital",null,null,null,null,null,null,null,null,null,null,{"$f":"SUM(H50:L54)","v":0},{"$f":"(((M49-(-10))*(1-0))/(10-(-10)))+0","v":0.5}]
[16,"Trust of the stakeholder towards the local administration",null,null,null,null,null,{"$f":"IF(C50=\"x\",-2,0)","v":0},{"$f":"IF(D50=\"x\",-1,0)","v":0},{"$f":"IF(E50=\"x\",0,0)","v":0},{"$f":"IF(F50=\"x\",1,0)","v":0},{"$f":"IF(G50=\"x\",2,0)","v":0},null,"Weighted value"]
[17,"Political interest of the stakeholder in the topic",null,null,null,null,null,{"$f":"IF(C51=\"x\",-2,0)","v":0},{"$f":"IF(D51=\"x\",-1,0)","v":0},{"$f":"IF(E51=\"x\",0,0)","v":0},{"$f":"IF(F51=\"x\",1,0)","v":0},{"$f":"IF(G51=\"x\",2,0)","v":0},null,{"$f":"N49*'1_COMMUNITY EVALUATION'!N31","v":0.25}]
[18,"Willingness of the stakeholder to engage with local authorities",null,null,null,null,null,{"$f":"IF(C52=\"x\",-2,0)","v":0},{"$f":"IF(D52=\"x\",-1,0)","v":0},{"$f":"IF(E52=\"x\",0,0)","v":0},{"$f":"IF(F52=\"x\",1,0)","v":0},{"$f":"IF(G52=\"x\",2,0)","v":0}]
[19,"Interest for the stakeholder to reach out to a wider public",null,null,null,null,null,{"$f":"IF(C53=\"x\",-2,0)","v":0},{"$f":"IF(D53=\"x\",-1,0)","v":0},{"$f":"IF(E53=\"x\",0,0)","v":0},{"$f":"IF(F53=\"x\",1,0)","v":0},{"$f":"IF(G53=\"x\",2,0)","v":0}]
[20,"Willingness of the stakeholder to share/increase own political awareness",null,null,null,null,null,{"$f":"IF(C54=\"x\",-2,0)","v":0},{"$f":"IF(D54=\"x\",-1,0)","v":0},{"$f":"IF(E54=\"x\",0,0)","v":0},{"$f":"IF(F54=\"x\",1,0)","v":0},{"$f":"IF(G54=\"x\",2,0)","v":0}]
[null,"INTEREST SCORE",null,null,null,null,null,null,null,null,null,null,null,{"$f":"IF(C2=\"\",\"\",(SUM(N51+N45+N39+N33)/4))","v":""}]

{"sheet":"STAKEHOLDER (5)","index":9,"n_rows":55,"n_cols":14,"rows_kept":55,"cut":false,"hidden":false,"merged":[[0,0,0,13],[1,2,1,13],[27,1,27,6],[54,1,54,6]]}
["Bearing in mind the topic at hand, please evaluate the stakeholder for each proposed item (row) by it marking with an 'x' (from extremely negative to extremely positive)."]
[null,"STAKEHOLDER - insert name ->"]
[null,"DIMENSIONS","Extremely Negative","Negative","not applicable","Positive","Extremely positive",-2,-1,0,1,2,null,"score per dimension"]
[null,"(1) Social capital",null,null,null,null,null,null,null,null,null,null,{"$f":"SUM(H5:L9)","v":0},{"$f":"(((M4-(-10))*(1-0))/(10-(-10)))+0","v":0.5}]
[1,"Capacity of the stakeholder to involve other stakeholders ",null,null,null,null,null,{"$f":"IF(C5=\"x\",-2,0)","v":0},{"$f":"IF(D5=\"x\",-1,0)","v":0},{"$f":"IF(E5=\"x\",0,0)","v":0},{"$f":"IF(F5=\"x\",1,0)","v":0},{"$f":"IF(G5=\"x\",2,0)","v":0},null,"Weighted value"]
[2,"Level of representativeness of the stakeholder of a specific category",null,null,null,null,null,{"$f":"IF(C6=\"x\",-2,0)","v":0},{"$f":"IF(D6=\"x\",-1,0)","v":0},{"$f":"IF(E6=\"x\",0,0)","v":0},{"$f":"IF(F6=\"x\",1,0)","v":0},{"$f":"IF(G6=\"x\",2,0)","v":0},null,{"$f":"N4*'1_COMMUNITY EVALUATION'!N4","v":0.25}]
[3,"Level of participation of the stakeholder to local civil society activities",null,null,null,null,null,{"$f":"IF(C7=\"x\",-2,0)","v":0},{"$f":"IF(D7=\"x\",-1,0)","v":0},{"$f":"IF(E7=\"x\",0,0)","v":0},{"$f":"IF(F7=\"x\",1,0)","v":0},{"$f":"IF(G7=\"x\",2,0)","v":0}]
[4,"Capacity of the stakeholder to start/influence change",null,null,null,null,null,{"$f":"IF(C8=\"x\",-2,0)","v":0},{"$f":"IF(D8=\"x\",-1,0)","v":0},{"$f":"IF(E8=\"x\",0,0)","v":0},{"$f":"IF(F8=\"x\",1,0)","v":0},{"$f":"IF(G8=\"x\",2,0)","v":0}]
[5,"Level of acknowledgment of the stakeholder among citizens",null,null,null,null,null,{"$f":"IF(C9=\"x\",-2,0)","v":0},{"$f":"IF(D9=\"x\",-1,0)","v":0},{"$f":"IF(E9=\"x\",0,0)","v":0},{"$f":"IF(F9=\"x\",1,0)","v":0},{"$f":"IF(G9=\"x\",2,0)","v":0}]
[null,"(2) Economic capital",null,null,null,null,null,null,null,null,null,null,{"$f":"SUM(H11:L15)","v":0},{"$f":"(((M10-(-10))*(1-0))/(10-(-10)))+0","v":0.5}]
[6,"Capacity of the stakeholder to act as donor",null,null,null,null,null,{"$f":"IF(C11=\"x\",-2,0)","v":0},{"$f":"IF(D11=\"x\",-1,0)","v":0},{"$f":"IF(E11=\"x\",0,0)","v":0},{"$f":"IF(F11=\"x\",1,0)","v":0},{"$f":"IF(G11=\"x\",2,0)","v":0},null,"Weighted value"]
[7,"Capacity of the stakeholder to influence resources' allocation",null,null,null,null,null,{"$f":"IF(C12=\"x\",-2,0)","v":0},{"$f":"IF(D12=\"x\",-1,0)","v":0},{"$f":"IF(E12=\"x\",0,0)","v":0},{"$f":"IF(F12=\"x\",1,0)","v":0},{"$f":"IF(G12=\"x\",2,0)","v":0},null,{"$f":"N10*'1_COMMUNITY EVALUATION'!N13","v":0.25}]
[8,"Capacity to facilitate access to existing exogenous resources ",null,null,null,null,null,{"$f":"IF(C13=\"x\",-2,0)","v":0},{"$f":"IF(D13=\"x\",-1,0)","v":0},{"$f":"IF(E13=\"x\",0,0)","v":0},{"$f":"IF(F13=\"x\",1,0)","v":0},{"$f":"IF(G13=\"x\",2,0)","v":0}]
[9,"Capacity of the stakeholder to provide in-kind support",null,null,null,null,null,{"$f":"IF(C14=\"x\",-2,0)","v":0},{"$f":"IF(D14=\"x\",-1,0)","v":0},{"$f":"IF(E14=\"x\",0,0)","v":0},{"$f":"IF(F14=\"x\",1,0)","v":0},{"$f":"IF(G14=\"x\",2,0)","v":0}]
[10,"Influence of the stakeholder on the job market",null,null,null,null,null,{"$f":"IF(C15=\"x\",-2,0)","v":0},{"$f":"IF(D15=\"x\",-1,0)","v":0},{"$f":"IF(E15=\"x\",0,0)","v":0},{"$f":"IF(F15=\"x\",1,0)","v":0},{"$f":"IF(G15=\"x\",2,0)","v":0}]
[null,"(3) Human capital",null,null,null,null,null,null,null,null,null,null,{"$f":"SUM(H17:L21)","v":0},{"$f":"(((M16-(-10))*(1-0))/(10-(-10)))+0","v":0.5}]
[11,"Knowledge/skills of the stakeholder on the topic",null,null,null,null,null,{"$f":"IF(C17=\"x\",-2,0)","v":0},{"$f":"IF(D17=\"x\",-1,0)","v":0},{"$f":"IF(E17=\"x\",0,0)","v":0},{"$f":"IF(F17=\"x\",1,0)","v":0},{"$f":"IF(G17=\"x\",2,0)","v":0},null,"Weighted value"]
[12,"Awareness of the stakeholder on the topic",null,null,null,null,null,{"$f":"IF(C18=\"x\",-2,0)","v":0},{"$f":"IF(D18=\"x\",-1,0)","v":0},{"$f":"IF(E18=\"x\",0,0)","v":0},{"$f":"IF(F18=\"x\",1,0)","v":0},{"$f":"IF(G18=\"x\",2,0)","v":0},null,{"$f":"N16*'1_COMMUNITY EVALUATION'!N22","v":0.25}]
[13,"Capacity of the stakeholder to engage in public debate",null,null,null,null,null,{"$f":"IF(C19=\"x\",-2,0)","v":0},{"$f":"IF(D19=\"x\",-1,0)","v":0},{"$f":"IF(E19=\"x\",0,0)","v":0},{"$f":"IF(F19=\"x\",1,0)","v":0},{"$f":"IF(G19=\"x\",2,0)","v":0}]
[14,"Capacity of the stakeholder to communicate through a range of different media",null,null,null,null,null,{"$f":"IF(C20=\"x\",-2,0)","v":0},{"$f":"IF(D20=\"x\",-1,0)","v":0},{"$f":"IF(E20=\"x\",0,0)","v":0},{"$f":"IF(F20=\"x\",1,0)","v":0},{"$f":"IF(G20=\"x\",2,0)","v":0}]
[15,"Capacity of the stakeholder to access public venues",null,null,null,null,null,{"$f":"IF(C21=\"x\",-2,0)","v":0},{"$f":"IF(D21=\"x\",-1,0)","v":0},{"$f":"IF(E21=\"x\",0,0)","v":0},{"$f":"IF(F21=\"x\",1,0)","v":0},{"$f":"IF(G21=\"x\",2,0)","v":0}]
[null,"(4) Political capital",null,null,null,null,null,null,null,null,null,null,{"$f":"SUM(H23:L27)","v":0},{"$f":"(((M22-(-10))*(1-0))/(10-(-10)))+0","v":0.5}]
[16,"Trust of the local administration towards the stakeholder ",null,null,null,null,null,{"$f":"IF(C23=\"x\",-2,0)","v":0},{"$f":"IF(D23=\"x\",-1,0)","v":0},{"$f":"IF(E23=\"x\",0,0)","v":0},{"$f":"IF(F23=\"x\",1,0)","v":0},{"$f":"IF(G23=\"x\",2,0)","v":0},null,"Weighted value"]
[17,"Capacity of the stakeholder to engage further political actors",null,null,null,null,null,{"$f":"IF(C24=\"x\",-2,0)","v":0},{"$f":"IF(D24=\"x\",-1,0)","v":0},{"$f":"IF(E24=\"x\",0,0)","v":0},{"$f":"IF(F24=\"x\",1,0)","v":0},{"$f":"IF(G24=\"x\",2,0)","v":0},null,{"$f":"N22*'1_COMMUNITY EVALUATION'!N31","v":0.25}]
[18,"Capacity of the stakeholder to engage with local authorities/other stakeholders",null,null,null,null,null,{"$f":"IF(C25=\"x\",-2,0)","v":0},{"$f":"IF(D25=\"x\",-1,0)","v":0},{"$f":"IF(E25=\"x\",0,0)","v":0},{"$f":"IF(F25=\"x\",1,0)","v":0},{"$f":"IF(G25=\"x\",2,0)","v":0}]
[19,"Capacity of the stakeholder to influence public opinion",null,null,null,null,null,{"$f":"IF(C26=\"x\",-2,0)","v":0},{"$f":"IF(D26=\"x\",-1,0)","v":0},{"$f":"IF(E26=\"x\",0,0)","v":0},{"$f":"IF(F26=\"x\",1,0)","v":0},{"$f":"IF(G26=\"x\",2,0)","v":0}]
[20,"Political awareness of the stakeholder",null,null,null,null,null,{"$f":"IF(C27=\"x\",-2,0)","v":0},{"$f":"IF(D27=\"x\",-1,0)","v":0},{"$f":"IF(E27=\"x\",0,0)","v":0},{"$f":"IF(F27=\"x\",1,0)","v":0},{"$f":"IF(G27=\"x\",2,0)","v":0}]
[null,"RELEVANCE SCORE",null,null,null,null,null,null,null,null,null,null,null,{"$f":"IF(C2=\"\",\"\",(SUM(N24+N18+N12+N6)/4))","v":""}]
[]
[null,"DIMENSIONS","Extremely Negative","Negative","not applicable","Positive","Extremely positive",-2,-1,0,1,2,null,"score per dimension"]
[null,"(1) Social capital",null,null,null,null,null,null,null,null,null,null,{"$f":"SUM(H32:L36)","v":0},{"$f":"(((M31-(-10))*(1-0))/(10-(-10)))+0","v":0.5}]
[1,"Interest for the stakeholder to engage in networking for the topic at stake ",null,null,null,null,null,{"$f":"IF(C32=\"x\",-2,0)","v":0},{"$f":"IF(D32=\"x\",-1,0)","v":0},{"$f":"IF(E32=\"x\",0,0)","v":0},{"$f":"IF(F32=\"x\",1,0)","v":0},{"$f":"IF(G32=\"x\",2,0)","v":0},null,"Weighted value"]
[2,"Interest of the stakeholder to represent a specific category for the topic at stake",null,null,null,null,null,{"$f":"IF(C33=\"x\",-2,0)","v":0},{"$f":"IF(D33=\"x\",-1,0)","v":0},{"$f":"IF(E33=\"x\",0,0)","v":0},{"$f":"IF(F33=\"x\",1,0)","v":0},{"$f":"IF(G33=\"x\",2,0)","v":0},null,{"$f":"N31*'1_COMMUNITY EVALUATION'!N4","v":0.25}]
[3,"Interest of the stakeholder to be involved further in civil society activism for the topic at stake",null,null,null,null,null,{"$f":"IF(C34=\"x\",-2,0)","v":0},{"$f":"IF(D34=\"x\",-1,0)","v":0},{"$f":"IF(E34=\"x\",0,0)","v":0},{"$f":"IF(F34=\"x\",1,0)","v":0},{"$f":"IF(G34=\"x\",2,0)","v":0}]
[4,"interest of the stakeholder to start/influence change",null,null,null,null,null,{"$f":"IF(C35=\"x\",-2,0)","v":0},{"$f":"IF(D35=\"x\",-1,0)","v":0},{"$f":"IF(E35=\"x\",0,0)","v":0},{"$f":"IF(F35=\"x\",1,0)","v":0},{"$f":"IF(G35=\"x\",2,0)","v":0}]
[5,"Interest of the stakeholder to increase its own acknowledgement among citizens",null,null,null,null,null,{"$f":"IF(C36=\"x\",-2,0)","v":0},{"$f":"IF(D36=\"x\",-1,0)","v":0},{"$f":"IF(E36=\"x\",0,0)","v":0},{"$f":"IF(F36=\"x\",1,0)","v":0},{"$f":"IF(G36=\"x\",2,0)","v":0}]
[null,"(2) Economic capital",null,null,null,null,null,null,null,null,null,null,{"$f":"SUM(H38:L42)","v":0},{"$f":"(((M37-(-10))*(1-0))/(10-(-10)))+0","v":0.5}]
[6,"Potential economic benefit for the stakeholder ",null,null,null,null,null,{"$f":"IF(C38=\"x\",-2,0)","v":0},{"$f":"IF(D38=\"x\",-1,0)","v":0},{"$f":"IF(E38=\"x\",0,0)","v":0},{"$f":"IF(F38=\"x\",1,0)","v":0},{"$f":"IF(G38=\"x\",2,0)","v":0},null,"Weighted value"]
[7,"Willingness of the stakeholder to mobilise resources ",null,null,null,null,null,{"$f":"IF(C39=\"x\",-2,0)","v":0},{"$f":"IF(D39=\"x\",-1,0)","v":0},{"$f":"IF(E39=\"x\",0,0)","v":0},{"$f":"IF(F39=\"x\",1,0)","v":0},{"$f":"IF(G39=\"x\",2,0)","v":0},null,{"$f":"N37*'1_COMMUNITY EVALUATION'!N13","v":0.25}]
[8,"Willingness of the stakeholder to support access to existing exogenous resources",null,null,null,null,null,{"$f":"IF(C40=\"x\",-2,0)","v":0},{"$f":"IF(D40=\"x\",-1,0)","v":0},{"$f":"IF(E40=\"x\",0,0)","v":0},{"$f":"IF(F40=\"x\",1,0)","v":0},{"$f":"IF(G40=\"x\",2,0)","v":0}]
[9,"Propensity of the stakeholder to provide in-kind support",null,null,null,null,null,{"$f":"IF(C41=\"x\",-2,0)","v":0},{"$f":"IF(D41=\"x\",-1,0)","v":0},{"$f":"IF(E41=\"x\",0,0)","v":0},{"$f":"IF(F41=\"x\",1,0)","v":0},{"$f":"IF(G41=\"x\",2,0)","v":0}]
[10,"Interest of the stakeholder in increasing its own influence on the job market",null,null,null,null,null,{"$f":"IF(C42=\"x\",-2,0)","v":0},{"$f":"IF(D42=\"x\",-1,0)","v":0},{"$f":"IF(E42=\"x\",0,0)","v":0},{"$f":"IF(F42=\"x\",1,0)","v":0},{"$f":"IF(G42=\"x\",2,0)","v":0}]
[null,"(3) Human capital",null,null,null,null,null,null,null,null,null,null,{"$f":"SUM(H44:L48)","v":0},{"$f":"(((M43-(-10))*(1-0))/(10-(-10)))+0","v":0.5}]
[11,"Interest of the stakeholder to share/increase own knowledge/skills on the topic",null,null,null,null,null,{"$f":"IF(C44=\"x\",-2,0)","v":0},{"$f":"IF(D44=\"x\",-1,0)","v":0},{"$f":"IF(E44=\"x\",0,0)","v":0},{"$f":"IF(F44=\"x\",1,0)","v":0},{"$f":"IF(G44=\"x\",2,0)","v":0},null,"Weighted value"]
[12,"Willingness of the stakeholder to share/increase own awareness on the topic",null,null,null,null,null,{"$f":"IF(C45=\"x\",-2,0)","v":0},{"$f":"IF(D45=\"x\",-1,0)","v":0},{"$f":"IF(E45=\"x\",0,0)","v":0},{"$f":"IF(F45=\"x\",1,0)","v":0},{"$f":"IF(G45=\"x\",2,0)","v":0},null,{"$f":"N43*'1_COMMUNITY EVALUATION'!N22","v":0.25}]
[13,"Willingness of the stakeholder to engage in public debate",null,null,null,null,null,{"$f":"IF(C46=\"x\",-2,0)","v":0},{"$f":"IF(D46=\"x\",-1,0)","v":0},{"$f":"IF(E46=\"x\",0,0)","v":0},{"$f":"IF(F46=\"x\",1,0)","v":0},{"$f":"IF(G46=\"x\",2,0)","v":0}]
[14,"Willingness of the stakeholder to communicate through a range of different media",null,null,null,null,null,{"$f":"IF(C47=\"x\",-2,0)","v":0},{"$f":"IF(D47=\"x\",-1,0)","v":0},{"$f":"IF(E47=\"x\",0,0)","v":0},{"$f":"IF(F47=\"x\",1,0)","v":0},{"$f":"IF(G47=\"x\",2,0)","v":0}]
[15,"Willingness of the stakeholder to access public venues",null,null,null,null,null,{"$f":"IF(C48=\"x\",-2,0)","v":0},{"$f":"IF(D48=\"x\",-1,0)","v":0},{"$f":"IF(E48=\"x\",0,0)","v":0},{"$f":"IF(F48=\"x\",1,0)","v":0},{"$f":"IF(G48=\"x\",2,0)","v":0}]
[null,"(4) Political capital",null,null,null,null,null,null,null,null,null,null,{"$f":"SUM(H50:L54)","v":0},{"$f":"(((M49-(-10))*(1-0))/(10-(-10)))+0","v":0.5}]
[16,"Trust of the stakeholder towards the local administration",null,null,null,null,null,{"$f":"IF(C50=\"x\",-2,0)","v":0},{"$f":"IF(D50=\"x\",-1,0)","v":0},{"$f":"IF(E50=\"x\",0,0)","v":0},{"$f":"IF(F50=\"x\",1,0)","v":0},{"$f":"IF(G50=\"x\",2,0)","v":0},null,"Weighted value"]
[17,"Political interest of the stakeholder in the topic",null,null,null,null,null,{"$f":"IF(C51=\"x\",-2,0)","v":0},{"$f":"IF(D51=\"x\",-1,0)","v":0},{"$f":"IF(E51=\"x\",0,0)","v":0},{"$f":"IF(F51=\"x\",1,0)","v":0},{"$f":"IF(G51=\"x\",2,0)","v":0},null,{"$f":"N49*'1_COMMUNITY EVALUATION'!N31","v":0.25}]
[18,"Willingness of the stakeholder to engage with local authorities",null,null,null,null,null,{"$f":"IF(C52=\"x\",-2,0)","v":0},{"$f":"IF(D52=\"x\",-1,0)","v":0},{"$f":"IF(E52=\"x\",0,0)","v":0},{"$f":"IF(F52=\"x\",1,0)","v":0},{"$f":"IF(G52=\"x\",2,0)","v":0}]
[19,"Interest for the stakeholder to reach out to a wider public",null,null,null,null,null,{"$f":"IF(C53=\"x\",-2,0)","v":0},{"$f":"IF(D53=\"x\",-1,0)","v":0},{"$f":"IF(E53=\"x\",0,0)","v":0},{"$f":"IF(F53=\"x\",1,0)","v":0},{"$f":"IF(G53=\"x\",2,0)","v":0}]
[20,"Willingness of the stakeholder to share/increase own political awareness",null,null,null,null,null,{"$f":"IF(C54=\"x\",-2,0)","v":0},{"$f":"IF(D54=\"x\",-1,0)","v":0},{"$f":"IF(E54=\"x\",0,0)","v":0},{"$f":"IF(F54=\"x\",1,0)","v":0},{"$f":"IF(G54=\"x\",2,0)","v":0}]
[null,"INTEREST SCORE",null,null,null,null,null,null,null,null,null,null,null,{"$f":"IF(C2=\"\",\"\",(SUM(N51+N45+N39+N33)/4))","v":""}]

{"sheet":"STAKEHOLDER (6)","index":10,"n_rows":55,"n_cols":14,"rows_kept":55,"cut":false,"hidden":false,"merged":[[0,0,0,13],[1,2,1,13],[27,1,27,6],[54,1,54,6]]}
["Bearing in mind the topic at hand, please evaluate the stakeholder for each proposed item (row) by it marking with an 'x' (from extremely negative to extremely positive)."]
[null,"STAKEHOLDER - insert name ->"]
[null,"DIMENSIONS","Extremely Negative","Negative","not applicable","Positive","Extremely positive",-2,-1,0,1,2,null,"score per dimension"]
[null,"(1) Social capital",null,null,null,null,null,null,null,null,null,null,{"$f":"SUM(H5:L9)","v":0},{"$f":"(((M4-(-10))*(1-0))/(10-(-10)))+0","v":0.5}]
[1,"Capacity of the stakeholder to involve other stakeholders ",null,null,null,null,null,{"$f":"IF(C5=\"x\",-2,0)","v":0},{"$f":"IF(D5=\"x\",-1,0)","v":0},{"$f":"IF(E5=\"x\",0,0)","v":0},{"$f":"IF(F5=\"x\",1,0)","v":0},{"$f":"IF(G5=\"x\",2,0)","v":0},null,"Weighted value"]
[2,"Level of representativeness of the stakeholder of a specific category",null,null,null,null,null,{"$f":"IF(C6=\"x\",-2,0)","v":0},{"$f":"IF(D6=\"x\",-1,0)","v":0},{"$f":"IF(E6=\"x\",0,0)","v":0},{"$f":"IF(F6=\"x\",1,0)","v":0},{"$f":"IF(G6=\"x\",2,0)","v":0},null,{"$f":"N4*'1_COMMUNITY EVALUATION'!N4","v":0.25}]
[3,"Level of participation of the stakeholder to local civil society activities",null,null,null,null,null,{"$f":"IF(C7=\"x\",-2,0)","v":0},{"$f":"IF(D7=\"x\",-1,0)","v":0},{"$f":"IF(E7=\"x\",0,0)","v":0},{"$f":"IF(F7=\"x\",1,0)","v":0},{"$f":"IF(G7=\"x\",2,0)","v":0}]
[4,"Capacity of the stakeholder to start/influence change",null,null,null,null,null,{"$f":"IF(C8=\"x\",-2,0)","v":0},{"$f":"IF(D8=\"x\",-1,0)","v":0},{"$f":"IF(E8=\"x\",0,0)","v":0},{"$f":"IF(F8=\"x\",1,0)","v":0},{"$f":"IF(G8=\"x\",2,0)","v":0}]
[5,"Level of acknowledgment of the stakeholder among citizens",null,null,null,null,null,{"$f":"IF(C9=\"x\",-2,0)","v":0},{"$f":"IF(D9=\"x\",-1,0)","v":0},{"$f":"IF(E9=\"x\",0,0)","v":0},{"$f":"IF(F9=\"x\",1,0)","v":0},{"$f":"IF(G9=\"x\",2,0)","v":0}]
[null,"(2) Economic capital",null,null,null,null,null,null,null,null,null,null,{"$f":"SUM(H11:L15)","v":0},{"$f":"(((M10-(-10))*(1-0))/(10-(-10)))+0","v":0.5}]
[6,"Capacity of the stakeholder to act as donor",null,null,null,null,null,{"$f":"IF(C11=\"x\",-2,0)","v":0},{"$f":"IF(D11=\"x\",-1,0)","v":0},{"$f":"IF(E11=\"x\",0,0)","v":0},{"$f":"IF(F11=\"x\",1,0)","v":0},{"$f":"IF(G11=\"x\",2,0)","v":0},null,"Weighted value"]
[7,"Capacity of the stakeholder to influence resources' allocation",null,null,null,null,null,{"$f":"IF(C12=\"x\",-2,0)","v":0},{"$f":"IF(D12=\"x\",-1,0)","v":0},{"$f":"IF(E12=\"x\",0,0)","v":0},{"$f":"IF(F12=\"x\",1,0)","v":0},{"$f":"IF(G12=\"x\",2,0)","v":0},null,{"$f":"N10*'1_COMMUNITY EVALUATION'!N13","v":0.25}]
[8,"Capacity to facilitate access to existing exogenous resources ",null,null,null,null,null,{"$f":"IF(C13=\"x\",-2,0)","v":0},{"$f":"IF(D13=\"x\",-1,0)","v":0},{"$f":"IF(E13=\"x\",0,0)","v":0},{"$f":"IF(F13=\"x\",1,0)","v":0},{"$f":"IF(G13=\"x\",2,0)","v":0}]
[9,"Capacity of the stakeholder to provide in-kind support",null,null,null,null,null,{"$f":"IF(C14=\"x\",-2,0)","v":0},{"$f":"IF(D14=\"x\",-1,0)","v":0},{"$f":"IF(E14=\"x\",0,0)","v":0},{"$f":"IF(F14=\"x\",1,0)","v":0},{"$f":"IF(G14=\"x\",2,0)","v":0}]
[10,"Influence of the stakeholder on the job market",null,null,null,null,null,{"$f":"IF(C15=\"x\",-2,0)","v":0},{"$f":"IF(D15=\"x\",-1,0)","v":0},{"$f":"IF(E15=\"x\",0,0)","v":0},{"$f":"IF(F15=\"x\",1,0)","v":0},{"$f":"IF(G15=\"x\",2,0)","v":0}]
[null,"(3) Human capital",null,null,null,null,null,null,null,null,null,null,{"$f":"SUM(H17:L21)","v":0},{"$f":"(((M16-(-10))*(1-0))/(10-(-10)))+0","v":0.5}]
[11,"Knowledge/skills of the stakeholder on the topic",null,null,null,null,null,{"$f":"IF(C17=\"x\",-2,0)","v":0},{"$f":"IF(D17=\"x\",-1,0)","v":0},{"$f":"IF(E17=\"x\",0,0)","v":0},{"$f":"IF(F17=\"x\",1,0)","v":0},{"$f":"IF(G17=\"x\",2,0)","v":0},null,"Weighted value"]
[12,"Awareness of the stakeholder on the topic",null,null,null,null,null,{"$f":"IF(C18=\"x\",-2,0)","v":0},{"$f":"IF(D18=\"x\",-1,0)","v":0},{"$f":"IF(E18=\"x\",0,0)","v":0},{"$f":"IF(F18=\"x\",1,0)","v":0},{"$f":"IF(G18=\"x\",2,0)","v":0},null,{"$f":"N16*'1_COMMUNITY EVALUATION'!N22","v":0.25}]
[13,"Capacity of the stakeholder to engage in public debate",null,null,null,null,null,{"$f":"IF(C19=\"x\",-2,0)","v":0},{"$f":"IF(D19=\"x\",-1,0)","v":0},{"$f":"IF(E19=\"x\",0,0)","v":0},{"$f":"IF(F19=\"x\",1,0)","v":0},{"$f":"IF(G19=\"x\",2,0)","v":0}]
[14,"Capacity of the stakeholder to communicate through a range of different media",null,null,null,null,null,{"$f":"IF(C20=\"x\",-2,0)","v":0},{"$f":"IF(D20=\"x\",-1,0)","v":0},{"$f":"IF(E20=\"x\",0,0)","v":0},{"$f":"IF(F20=\"x\",1,0)","v":0},{"$f":"IF(G20=\"x\",2,0)","v":0}]
[15,"Capacity of the stakeholder to access public venues",null,null,null,null,null,{"$f":"IF(C21=\"x\",-2,0)","v":0},{"$f":"IF(D21=\"x\",-1,0)","v":0},{"$f":"IF(E21=\"x\",0,0)","v":0},{"$f":"IF(F21=\"x\",1,0)","v":0},{"$f":"IF(G21=\"x\",2,0)","v":0}]
[null,"(4) Political capital",null,null,null,null,null,null,null,null,null,null,{"$f":"SUM(H23:L27)","v":0},{"$f":"(((M22-(-10))*(1-0))/(10-(-10)))+0","v":0.5}]
[16,"Trust of the local administration towards the stakeholder ",null,null,null,null,null,{"$f":"IF(C23=\"x\",-2,0)","v":0},{"$f":"IF(D23=\"x\",-1,0)","v":0},{"$f":"IF(E23=\"x\",0,0)","v":0},{"$f":"IF(F23=\"x\",1,0)","v":0},{"$f":"IF(G23=\"x\",2,0)","v":0},null,"Weighted value"]
[17,"Capacity of the stakeholder to engage further political actors",null,null,null,null,null,{"$f":"IF(C24=\"x\",-2,0)","v":0},{"$f":"IF(D24=\"x\",-1,0)","v":0},{"$f":"IF(E24=\"x\",0,0)","v":0},{"$f":"IF(F24=\"x\",1,0)","v":0},{"$f":"IF(G24=\"x\",2,0)","v":0},null,{"$f":"N22*'1_COMMUNITY EVALUATION'!N31","v":0.25}]
[18,"Capacity of the stakeholder to engage with local authorities/other stakeholders",null,null,null,null,null,{"$f":"IF(C25=\"x\",-2,0)","v":0},{"$f":"IF(D25=\"x\",-1,0)","v":0},{"$f":"IF(E25=\"x\",0,0)","v":0},{"$f":"IF(F25=\"x\",1,0)","v":0},{"$f":"IF(G25=\"x\",2,0)","v":0}]
[19,"Capacity of the stakeholder to influence public opinion",null,null,null,null,null,{"$f":"IF(C26=\"x\",-2,0)","v":0},{"$f":"IF(D26=\"x\",-1,0)","v":0},{"$f":"IF(E26=\"x\",0,0)","v":0},{"$f":"IF(F26=\"x\",1,0)","v":0},{"$f":"IF(G26=\"x\",2,0)","v":0}]
[20,"Political awareness of the stakeholder",null,null,null,null,null,{"$f":"IF(C27=\"x\",-2,0)","v":0},{"$f":"IF(D27=\"x\",-1,0)","v":0},{"$f":"IF(E27=\"x\",0,0)","v":0},{"$f":"IF(F27=\"x\",1,0)","v":0},{"$f":"IF(G27=\"x\",2,0)","v":0}]
[null,"RELEVANCE SCORE",null,null,null,null,null,null,null,null,null,null,null,{"$f":"IF(C2=\"\",\"\",(SUM(N24+N18+N12+N6)/4))","v":""}]
[]
[null,"DIMENSIONS","Extremely Negative","Negative","not applicable","Positive","Extremely positive",-2,-1,0,1,2,null,"score per dimension"]
[null,"(1) Social capital",null,null,null,null,null,null,null,null,null,null,{"$f":"SUM(H32:L36)","v":0},{"$f":"(((M31-(-10))*(1-0))/(10-(-10)))+0","v":0.5}]
[1,"Interest for the stakeholder to engage in networking for the topic at stake ",null,null,null,null,null,{"$f":"IF(C32=\"x\",-2,0)","v":0},{"$f":"IF(D32=\"x\",-1,0)","v":0},{"$f":"IF(E32=\"x\",0,0)","v":0},{"$f":"IF(F32=\"x\",1,0)","v":0},{"$f":"IF(G32=\"x\",2,0)","v":0},null,"Weighted value"]
[2,"Interest of the stakeholder to represent a specific category for the topic at stake",null,null,null,null,null,{"$f":"IF(C33=\"x\",-2,0)","v":0},{"$f":"IF(D33=\"x\",-1,0)","v":0},{"$f":"IF(E33=\"x\",0,0)","v":0},{"$f":"IF(F33=\"x\",1,0)","v":0},{"$f":"IF(G33=\"x\",2,0)","v":0},null,{"$f":"N31*'1_COMMUNITY EVALUATION'!N4","v":0.25}]
[3,"Interest of the stakeholder to be involved further in civil society activism for the topic at stake",null,null,null,null,null,{"$f":"IF(C34=\"x\",-2,0)","v":0},{"$f":"IF(D34=\"x\",-1,0)","v":0},{"$f":"IF(E34=\"x\",0,0)","v":0},{"$f":"IF(F34=\"x\",1,0)","v":0},{"$f":"IF(G34=\"x\",2,0)","v":0}]
[4,"interest of the stakeholder to start/influence change",null,null,null,null,null,{"$f":"IF(C35=\"x\",-2,0)","v":0},{"$f":"IF(D35=\"x\",-1,0)","v":0},{"$f":"IF(E35=\"x\",0,0)","v":0},{"$f":"IF(F35=\"x\",1,0)","v":0},{"$f":"IF(G35=\"x\",2,0)","v":0}]
[5,"Interest of the stakeholder to increase its own acknowledgement among citizens",null,null,null,null,null,{"$f":"IF(C36=\"x\",-2,0)","v":0},{"$f":"IF(D36=\"x\",-1,0)","v":0},{"$f":"IF(E36=\"x\",0,0)","v":0},{"$f":"IF(F36=\"x\",1,0)","v":0},{"$f":"IF(G36=\"x\",2,0)","v":0}]
[null,"(2) Economic capital",null,null,null,null,null,null,null,null,null,null,{"$f":"SUM(H38:L42)","v":0},{"$f":"(((M37-(-10))*(1-0))/(10-(-10)))+0","v":0.5}]
[6,"Potential economic benefit for the stakeholder ",null,null,null,null,null,{"$f":"IF(C38=\"x\",-2,0)","v":0},{"$f":"IF(D38=\"x\",-1,0)","v":0},{"$f":"IF(E38=\"x\",0,0)","v":0},{"$f":"IF(F38=\"x\",1,0)","v":0},{"$f":"IF(G38=\"x\",2,0)","v":0},null,"Weighted value"]
[7,"Willingness of the stakeholder to mobilise resources ",null,null,null,null,null,{"$f":"IF(C39=\"x\",-2,0)","v":0},{"$f":"IF(D39=\"x\",-1,0)","v":0},{"$f":"IF(E39=\"x\",0,0)","v":0},{"$f":"IF(F39=\"x\",1,0)","v":0},{"$f":"IF(G39=\"x\",2,0)","v":0},null,{"$f":"N37*'1_COMMUNITY EVALUATION'!N13","v":0.25}]
[8,"Willingness of the stakeholder to support access to existing exogenous resources",null,null,null,null,null,{"$f":"IF(C40=\"x\",-2,0)","v":0},{"$f":"IF(D40=\"x\",-1,0)","v":0},{"$f":"IF(E40=\"x\",0,0)","v":0},{"$f":"IF(F40=\"x\",1,0)","v":0},{"$f":"IF(G40=\"x\",2,0)","v":0}]
[9,"Propensity of the stakeholder to provide in-kind support",null,null,null,null,null,{"$f":"IF(C41=\"x\",-2,0)","v":0},{"$f":"IF(D41=\"x\",-1,0)","v":0},{"$f":"IF(E41=\"x\",0,0)","v":0},{"$f":"IF(F41=\"x\",1,0)","v":0},{"$f":"IF(G41=\"x\",2,0)","v":0}]
[10,"Interest of the stakeholder in increasing its own influence on the job market",null,null,null,null,null,{"$f":"IF(C42=\"x\",-2,0)","v":0},{"$f":"IF(D42=\"x\",-1,0)","v":0},{"$f":"IF(E42=\"x\",0,0)","v":0},{"$f":"IF(F42=\"x\",1,0)","v":0},{"$f":"IF(G42=\"x\",2,0)","v":0}]
[null,"(3) Human capital",null,null,null,null,null,null,null,null,null,null,{"$f":"SUM(H44:L48)","v":0},{"$f":"(((M43-(-10))*(1-0))/(10-(-10)))+0","v":0.5}]
[11,"Interest of the stakeholder to share/increase own knowledge/skills on the topic",null,null,null,null,null,{"$f":"IF(C44=\"x\",-2,0)","v":0},{"$f":"IF(D44=\"x\",-1,0)","v":0},{"$f":"IF(E44=\"x\",0,0)","v":0},{"$f":"IF(F44=\"x\",1,0)","v":0},{"$f":"IF(G44=\"x\",2,0)","v":0},null,"Weighted value"]
[12,"Willingness of the stakeholder to share/increase own awareness on the topic",null,null,null,null,null,{"$f":"IF(C45=\"x\",-2,0)","v":0},{"$f":"IF(D45=\"x\",-1,0)","v":0},{"$f":"IF(E45=\"x\",0,0)","v":0},{"$f":"IF(F45=\"x\",1,0)","v":0},{"$f":"IF(G45=\"x\",2,0)","v":0},null,{"$f":"N43*'1_COMMUNITY EVALUATION'!N22","v":0.25}]
[13,"Willingness of the stakeholder to engage in public debate",null,null,null,null,null,{"$f":"IF(C46=\"x\",-2,0)","v":0},{"$f":"IF(D46=\"x\",-1,0)","v":0},{"$f":"IF(E46=\"x\",0,0)","v":0},{"$f":"IF(F46=\"x\",1,0)","v":0},{"$f":"IF(G46=\"x\",2,0)","v":0}]
[14,"Willingness of the stakeholder to communicate through a range of different media",null,null,null,null,null,{"$f":"IF(C47=\"x\",-2,0)","v":0},{"$f":"IF(D47=\"x\",-1,0)","v":0},{"$f":"IF(E47=\"x\",0,0)","v":0},{"$f":"IF(F47=\"x\",1,0)","v":0},{"$f":"IF(G47=\"x\",2,0)","v":0}]
[15,"Willingness of the stakeholder to access public venues",null,null,null,null,null,{"$f":"IF(C48=\"x\",-2,0)","v":0},{"$f":"IF(D48=\"x\",-1,0)","v":0},{"$f":"IF(E48=\"x\",0,0)","v":0},{"$f":"IF(F48=\"x\",1,0)","v":0},{"$f":"IF(G48=\"x\",2,0)","v":0}]
[null,"(4) Political capital",null,null,null,null,null,null,null,null,null,null,{"$f":"SUM(H50:L54)","v":0},{"$f":"(((M49-(-10))*(1-0))/(10-(-10)))+0","v":0.5}]
[16,"Trust of the stakeholder towards the local administration",null,null,null,null,null,{"$f":"IF(C50=\"x\",-2,0)","v":0},{"$f":"IF(D50=\"x\",-1,0)","v":0},{"$f":"IF(E50=\"x\",0,0)","v":0},{"$f":"IF(F50=\"x\",1,0)","v":0},{"$f":"IF(G50=\"x\",2,0)","v":0},null,"Weighted value"]
[17,"Political interest of the stakeholder in the topic",null,null,null,null,null,{"$f":"IF(C51=\"x\",-2,0)","v":0},{"$f":"IF(D51=\"x\",-1,0)","v":0},{"$f":"IF(E51=\"x\",0,0)","v":0},{"$f":"IF(F51=\"x\",1,0)","v":0},{"$f":"IF(G51=\"x\",2,0)","v":0},null,{"$f":"N49*'1_COMMUNITY EVALUATION'!N31","v":0.25}]
[18,"Willingness of the stakeholder to engage with local authorities",null,null,null,null,null,{"$f":"IF(C52=\"x\",-2,0)","v":0},{"$f":"IF(D52=\"x\",-1,0)","v":0},{"$f":"IF(E52=\"x\",0,0)","v":0},{"$f":"IF(F52=\"x\",1,0)","v":0},{"$f":"IF(G52=\"x\",2,0)","v":0}]
[19,"Interest for the stakeholder to reach out to a wider public",null,null,null,null,null,{"$f":"IF(C53=\"x\",-2,0)","v":0},{"$f":"IF(D53=\"x\",-1,0)","v":0},{"$f":"IF(E53=\"x\",0,0)","v":0},{"$f":"IF(F53=\"x\",1,0)","v":0},{"$f":"IF(G53=\"x\",2,0)","v":0}]
[20,"Willingness of the stakeholder to share/increase own political awareness",null,null,null,null,null,{"$f":"IF(C54=\"x\",-2,0)","v":0},{"$f":"IF(D54=\"x\",-1,0)","v":0},{"$f":"IF(E54=\"x\",0,0)","v":0},{"$f":"IF(F54=\"x\",1,0)","v":0},{"$f":"IF(G54=\"x\",2,0)","v":0}]
[null,"INTEREST SCORE",null,null,null,null,null,null,null,null,null,null,null,{"$f":"IF(C2=\"\",\"\",(SUM(N51+N45+N39+N33)/4))","v":""}]

{"sheet":"STAKEHOLDER (7)","index":11,"n_rows":55,"n_cols":14,"rows_kept":55,"cut":false,"hidden":false,"merged":[[0,0,0,13],[1,2,1,13],[27,1,27,6],[54,1,54,6]]}
["Bearing in mind the topic at hand, please evaluate the stakeholder for each proposed item (row) by it marking with an 'x' (from extremely negative to extremely positive)."]
[null,"STAKEHOLDER - insert name ->"]
[null,"DIMENSIONS","Extremely Negative","Negative","not applicable","Positive","Extremely positive",-2,-1,0,1,2,null,"score per dimension"]
[null,"(1) Social capital",null,null,null,null,null,null,null,null,null,null,{"$f":"SUM(H5:L9)","v":0},{"$f":"(((M4-(-10))*(1-0))/(10-(-10)))+0","v":0.5}]
[1,"Capacity of the stakeholder to involve other stakeholders ",null,null,null,null,null,{"$f":"IF(C5=\"x\",-2,0)","v":0},{"$f":"IF(D5=\"x\",-1,0)","v":0},{"$f":"IF(E5=\"x\",0,0)","v":0},{"$f":"IF(F5=\"x\",1,0)","v":0},{"$f":"IF(G5=\"x\",2,0)","v":0},null,"Weighted value"]
[2,"Level of representativeness of the stakeholder of a specific category",null,null,null,null,null,{"$f":"IF(C6=\"x\",-2,0)","v":0},{"$f":"IF(D6=\"x\",-1,0)","v":0},{"$f":"IF(E6=\"x\",0,0)","v":0},{"$f":"IF(F6=\"x\",1,0)","v":0},{"$f":"IF(G6=\"x\",2,0)","v":0},null,{"$f":"N4*'1_COMMUNITY EVALUATION'!N4","v":0.25}]
[3,"Level of participation of the stakeholder to local civil society activities",null,null,null,null,null,{"$f":"IF(C7=\"x\",-2,0)","v":0},{"$f":"IF(D7=\"x\",-1,0)","v":0},{"$f":"IF(E7=\"x\",0,0)","v":0},{"$f":"IF(F7=\"x\",1,0)","v":0},{"$f":"IF(G7=\"x\",2,0)","v":0}]
[4,"Capacity of the stakeholder to start/influence change",null,null,null,null,null,{"$f":"IF(C8=\"x\",-2,0)","v":0},{"$f":"IF(D8=\"x\",-1,0)","v":0},{"$f":"IF(E8=\"x\",0,0)","v":0},{"$f":"IF(F8=\"x\",1,0)","v":0},{"$f":"IF(G8=\"x\",2,0)","v":0}]
[5,"Level of acknowledgment of the stakeholder among citizens",null,null,null,null,null,{"$f":"IF(C9=\"x\",-2,0)","v":0},{"$f":"IF(D9=\"x\",-1,0)","v":0},{"$f":"IF(E9=\"x\",0,0)","v":0},{"$f":"IF(F9=\"x\",1,0)","v":0},{"$f":"IF(G9=\"x\",2,0)","v":0}]
[null,"(2) Economic capital",null,null,null,null,null,null,null,null,null,null,{"$f":"SUM(H11:L15)","v":0},{"$f":"(((M10-(-10))*(1-0))/(10-(-10)))+0","v":0.5}]
[6,"Capacity of the stakeholder to act as donor",null,null,null,null,null,{"$f":"IF(C11=\"x\",-2,0)","v":0},{"$f":"IF(D11=\"x\",-1,0)","v":0},{"$f":"IF(E11=\"x\",0,0)","v":0},{"$f":"IF(F11=\"x\",1,0)","v":0},{"$f":"IF(G11=\"x\",2,0)","v":0},null,"Weighted value"]
[7,"Capacity of the stakeholder to influence resources' allocation",null,null,null,null,null,{"$f":"IF(C12=\"x\",-2,0)","v":0},{"$f":"IF(D12=\"x\",-1,0)","v":0},{"$f":"IF(E12=\"x\",0,0)","v":0},{"$f":"IF(F12=\"x\",1,0)","v":0},{"$f":"IF(G12=\"x\",2,0)","v":0},null,{"$f":"N10*'1_COMMUNITY EVALUATION'!N13","v":0.25}]
[8,"Capacity to facilitate access to existing exogenous resources ",null,null,null,null,null,{"$f":"IF(C13=\"x\",-2,0)","v":0},{"$f":"IF(D13=\"x\",-1,0)","v":0},{"$f":"IF(E13=\"x\",0,0)","v":0},{"$f":"IF(F13=\"x\",1,0)","v":0},{"$f":"IF(G13=\"x\",2,0)","v":0}]
[9,"Capacity of the stakeholder to provide in-kind support",null,null,null,null,null,{"$f":"IF(C14=\"x\",-2,0)","v":0},{"$f":"IF(D14=\"x\",-1,0)","v":0},{"$f":"IF(E14=\"x\",0,0)","v":0},{"$f":"IF(F14=\"x\",1,0)","v":0},{"$f":"IF(G14=\"x\",2,0)","v":0}]
[10,"Influence of the stakeholder on the job market",null,null,null,null,null,{"$f":"IF(C15=\"x\",-2,0)","v":0},{"$f":"IF(D15=\"x\",-1,0)","v":0},{"$f":"IF(E15=\"x\",0,0)","v":0},{"$f":"IF(F15=\"x\",1,0)","v":0},{"$f":"IF(G15=\"x\",2,0)","v":0}]
[null,"(3) Human capital",null,null,null,null,null,null,null,null,null,null,{"$f":"SUM(H17:L21)","v":0},{"$f":"(((M16-(-10))*(1-0))/(10-(-10)))+0","v":0.5}]
[11,"Knowledge/skills of the stakeholder on the topic",null,null,null,null,null,{"$f":"IF(C17=\"x\",-2,0)","v":0},{"$f":"IF(D17=\"x\",-1,0)","v":0},{"$f":"IF(E17=\"x\",0,0)","v":0},{"$f":"IF(F17=\"x\",1,0)","v":0},{"$f":"IF(G17=\"x\",2,0)","v":0},null,"Weighted value"]
[12,"Awareness of the stakeholder on the topic",null,null,null,null,null,{"$f":"IF(C18=\"x\",-2,0)","v":0},{"$f":"IF(D18=\"x\",-1,0)","v":0},{"$f":"IF(E18=\"x\",0,0)","v":0},{"$f":"IF(F18=\"x\",1,0)","v":0},{"$f":"IF(G18=\"x\",2,0)","v":0},null,{"$f":"N16*'1_COMMUNITY EVALUATION'!N22","v":0.25}]
[13,"Capacity of the stakeholder to engage in public debate",null,null,null,null,null,{"$f":"IF(C19=\"x\",-2,0)","v":0},{"$f":"IF(D19=\"x\",-1,0)","v":0},{"$f":"IF(E19=\"x\",0,0)","v":0},{"$f":"IF(F19=\"x\",1,0)","v":0},{"$f":"IF(G19=\"x\",2,0)","v":0}]
[14,"Capacity of the stakeholder to communicate through a range of different media",null,null,null,null,null,{"$f":"IF(C20=\"x\",-2,0)","v":0},{"$f":"IF(D20=\"x\",-1,0)","v":0},{"$f":"IF(E20=\"x\",0,0)","v":0},{"$f":"IF(F20=\"x\",1,0)","v":0},{"$f":"IF(G20=\"x\",2,0)","v":0}]
[15,"Capacity of the stakeholder to access public venues",null,null,null,null,null,{"$f":"IF(C21=\"x\",-2,0)","v":0},{"$f":"IF(D21=\"x\",-1,0)","v":0},{"$f":"IF(E21=\"x\",0,0)","v":0},{"$f":"IF(F21=\"x\",1,0)","v":0},{"$f":"IF(G21=\"x\",2,0)","v":0}]
[null,"(4) Political capital",null,null,null,null,null,null,null,null,null,null,{"$f":"SUM(H23:L27)","v":0},{"$f":"(((M22-(-10))*(1-0))/(10-(-10)))+0","v":0.5}]
[16,"Trust of the local administration towards the stakeholder ",null,null,null,null,null,{"$f":"IF(C23=\"x\",-2,0)","v":0},{"$f":"IF(D23=\"x\",-1,0)","v":0},{"$f":"IF(E23=\"x\",0,0)","v":0},{"$f":"IF(F23=\"x\",1,0)","v":0},{"$f":"IF(G23=\"x\",2,0)","v":0},null,"Weighted value"]
[17,"Capacity of the stakeholder to engage further political actors",null,null,null,null,null,{"$f":"IF(C24=\"x\",-2,0)","v":0},{"$f":"IF(D24=\"x\",-1,0)","v":0},{"$f":"IF(E24=\"x\",0,0)","v":0},{"$f":"IF(F24=\"x\",1,0)","v":0},{"$f":"IF(G24=\"x\",2,0)","v":0},null,{"$f":"N22*'1_COMMUNITY EVALUATION'!N31","v":0.25}]
[18,"Capacity of the stakeholder to engage with local authorities/other stakeholders",null,null,null,null,null,{"$f":"IF(C25=\"x\",-2,0)","v":0},{"$f":"IF(D25=\"x\",-1,0)","v":0},{"$f":"IF(E25=\"x\",0,0)","v":0},{"$f":"IF(F25=\"x\",1,0)","v":0},{"$f":"IF(G25=\"x\",2,0)","v":0}]
[19,"Capacity of the stakeholder to influence public opinion",null,null,null,null,null,{"$f":"IF(C26=\"x\",-2,0)","v":0},{"$f":"IF(D26=\"x\",-1,0)","v":0},{"$f":"IF(E26=\"x\",0,0)","v":0},{"$f":"IF(F26=\"x\",1,0)","v":0},{"$f":"IF(G26=\"x\",2,0)","v":0}]
[20,"Political awareness of the stakeholder",null,null,null,null,null,{"$f":"IF(C27=\"x\",-2,0)","v":0},{"$f":"IF(D27=\"x\",-1,0)","v":0},{"$f":"IF(E27=\"x\",0,0)","v":0},{"$f":"IF(F27=\"x\",1,0)","v":0},{"$f":"IF(G27=\"x\",2,0)","v":0}]
[null,"RELEVANCE SCORE",null,null,null,null,null,null,null,null,null,null,null,{"$f":"IF(C2=\"\",\"\",(SUM(N24+N18+N12+N6)/4))","v":""}]
[]
[null,"DIMENSIONS","Extremely Negative","Negative","not applicable","Positive","Extremely positive",-2,-1,0,1,2,null,"score per dimension"]
[null,"(1) Social capital",null,null,null,null,null,null,null,null,null,null,{"$f":"SUM(H32:L36)","v":0},{"$f":"(((M31-(-10))*(1-0))/(10-(-10)))+0","v":0.5}]
[1,"Interest for the stakeholder to engage in networking for the topic at stake ",null,null,null,null,null,{"$f":"IF(C32=\"x\",-2,0)","v":0},{"$f":"IF(D32=\"x\",-1,0)","v":0},{"$f":"IF(E32=\"x\",0,0)","v":0},{"$f":"IF(F32=\"x\",1,0)","v":0},{"$f":"IF(G32=\"x\",2,0)","v":0},null,"Weighted value"]
[2,"Interest of the stakeholder to represent a specific category for the topic at stake",null,null,null,null,null,{"$f":"IF(C33=\"x\",-2,0)","v":0},{"$f":"IF(D33=\"x\",-1,0)","v":0},{"$f":"IF(E33=\"x\",0,0)","v":0},{"$f":"IF(F33=\"x\",1,0)","v":0},{"$f":"IF(G33=\"x\",2,0)","v":0},null,{"$f":"N31*'1_COMMUNITY EVALUATION'!N4","v":0.25}]
[3,"Interest of the stakeholder to be involved further in civil society activism for the topic at stake",null,null,null,null,null,{"$f":"IF(C34=\"x\",-2,0)","v":0},{"$f":"IF(D34=\"x\",-1,0)","v":0},{"$f":"IF(E34=\"x\",0,0)","v":0},{"$f":"IF(F34=\"x\",1,0)","v":0},{"$f":"IF(G34=\"x\",2,0)","v":0}]
[4,"interest of the stakeholder to start/influence change",null,null,null,null,null,{"$f":"IF(C35=\"x\",-2,0)","v":0},{"$f":"IF(D35=\"x\",-1,0)","v":0},{"$f":"IF(E35=\"x\",0,0)","v":0},{"$f":"IF(F35=\"x\",1,0)","v":0},{"$f":"IF(G35=\"x\",2,0)","v":0}]
[5,"Interest of the stakeholder to increase its own acknowledgement among citizens",null,null,null,null,null,{"$f":"IF(C36=\"x\",-2,0)","v":0},{"$f":"IF(D36=\"x\",-1,0)","v":0},{"$f":"IF(E36=\"x\",0,0)","v":0},{"$f":"IF(F36=\"x\",1,0)","v":0},{"$f":"IF(G36=\"x\",2,0)","v":0}]
[null,"(2) Economic capital",null,null,null,null,null,null,null,null,null,null,{"$f":"SUM(H38:L42)","v":0},{"$f":"(((M37-(-10))*(1-0))/(10-(-10)))+0","v":0.5}]
[6,"Potential economic benefit for the stakeholder ",null,null,null,null,null,{"$f":"IF(C38=\"x\",-2,0)","v":0},{"$f":"IF(D38=\"x\",-1,0)","v":0},{"$f":"IF(E38=\"x\",0,0)","v":0},{"$f":"IF(F38=\"x\",1,0)","v":0},{"$f":"IF(G38=\"x\",2,0)","v":0},null,"Weighted value"]
[7,"Willingness of the stakeholder to mobilise resources ",null,null,null,null,null,{"$f":"IF(C39=\"x\",-2,0)","v":0},{"$f":"IF(D39=\"x\",-1,0)","v":0},{"$f":"IF(E39=\"x\",0,0)","v":0},{"$f":"IF(F39=\"x\",1,0)","v":0},{"$f":"IF(G39=\"x\",2,0)","v":0},null,{"$f":"N37*'1_COMMUNITY EVALUATION'!N13","v":0.25}]
[8,"Willingness of the stakeholder to support access to existing exogenous resources",null,null,null,null,null,{"$f":"IF(C40=\"x\",-2,0)","v":0},{"$f":"IF(D40=\"x\",-1,0)","v":0},{"$f":"IF(E40=\"x\",0,0)","v":0},{"$f":"IF(F40=\"x\",1,0)","v":0},{"$f":"IF(G40=\"x\",2,0)","v":0}]
[9,"Propensity of the stakeholder to provide in-kind support",null,null,null,null,null,{"$f":"IF(C41=\"x\",-2,0)","v":0},{"$f":"IF(D41=\"x\",-1,0)","v":0},{"$f":"IF(E41=\"x\",0,0)","v":0},{"$f":"IF(F41=\"x\",1,0)","v":0},{"$f":"IF(G41=\"x\",2,0)","v":0}]
[10,"Interest of the stakeholder in increasing its own influence on the job market",null,null,null,null,null,{"$f":"IF(C42=\"x\",-2,0)","v":0},{"$f":"IF(D42=\"x\",-1,0)","v":0},{"$f":"IF(E42=\"x\",0,0)","v":0},{"$f":"IF(F42=\"x\",1,0)","v":0},{"$f":"IF(G42=\"x\",2,0)","v":0}]
[null,"(3) Human capital",null,null,null,null,null,null,null,null,null,null,{"$f":"SUM(H44:L48)","v":0},{"$f":"(((M43-(-10))*(1-0))/(10-(-10)))+0","v":0.5}]
[11,"Interest of the stakeholder to share/increase own knowledge/skills on the topic",null,null,null,null,null,{"$f":"IF(C44=\"x\",-2,0)","v":0},{"$f":"IF(D44=\"x\",-1,0)","v":0},{"$f":"IF(E44=\"x\",0,0)","v":0},{"$f":"IF(F44=\"x\",1,0)","v":0},{"$f":"IF(G44=\"x\",2,0)","v":0},null,"Weighted value"]
[12,"Willingness of the stakeholder to share/increase own awareness on the topic",null,null,null,null,null,{"$f":"IF(C45=\"x\",-2,0)","v":0},{"$f":"IF(D45=\"x\",-1,0)","v":0},{"$f":"IF(E45=\"x\",0,0)","v":0},{"$f":"IF(F45=\"x\",1,0)","v":0},{"$f":"IF(G45=\"x\",2,0)","v":0},null,{"$f":"N43*'1_COMMUNITY EVALUATION'!N22","v":0.25}]
[13,"Willingness of the stakeholder to engage in public debate",null,null,null,null,null,{"$f":"IF(C46=\"x\",-2,0)","v":0},{"$f":"IF(D46=\"x\",-1,0)","v":0},{"$f":"IF(E46=\"x\",0,0)","v":0},{"$f":"IF(F46=\"x\",1,0)","v":0},{"$f":"IF(G46=\"x\",2,0)","v":0}]
[14,"Willingness of the stakeholder to communicate through a range of different media",null,null,null,null,null,{"$f":"IF(C47=\"x\",-2,0)","v":0},{"$f":"IF(D47=\"x\",-1,0)","v":0},{"$f":"IF(E47=\"x\",0,0)","v":0},{"$f":"IF(F47=\"x\",1,0)","v":0},{"$f":"IF(G47=\"x\",2,0)","v":0}]
[15,"Willingness of the stakeholder to access public venues",null,null,null,null,null,{"$f":"IF(C48=\"x\",-2,0)","v":0},{"$f":"IF(D48=\"x\",-1,0)","v":0},{"$f":"IF(E48=\"x\",0,0)","v":0},{"$f":"IF(F48=\"x\",1,0)","v":0},{"$f":"IF(G48=\"x\",2,0)","v":0}]
[null,"(4) Political capital",null,null,null,null,null,null,null,null,null,null,{"$f":"SUM(H50:L54)","v":0},{"$f":"(((M49-(-10))*(1-0))/(10-(-10)))+0","v":0.5}]
[16,"Trust of the stakeholder towards the local administration",null,null,null,null,null,{"$f":"IF(C50=\"x\",-2,0)","v":0},{"$f":"IF(D50=\"x\",-1,0)","v":0},{"$f":"IF(E50=\"x\",0,0)","v":0},{"$f":"IF(F50=\"x\",1,0)","v":0},{"$f":"IF(G50=\"x\",2,0)","v":0},null,"Weighted value"]
[17,"Political interest of the stakeholder in the topic",null,null,null,null,null,{"$f":"IF(C51=\"x\",-2,0)","v":0},{"$f":"IF(D51=\"x\",-1,0)","v":0},{"$f":"IF(E51=\"x\",0,0)","v":0},{"$f":"IF(F51=\"x\",1,0)","v":0},{"$f":"IF(G51=\"x\",2,0)","v":0},null,{"$f":"N49*'1_COMMUNITY EVALUATION'!N31","v":0.25}]
[18,"Willingness of the stakeholder to engage with local authorities",null,null,null,null,null,{"$f":"IF(C52=\"x\",-2,0)","v":0},{"$f":"IF(D52=\"x\",-1,0)","v":0},{"$f":"IF(E52=\"x\",0,0)","v":0},{"$f":"IF(F52=\"x\",1,0)","v":0},{"$f":"IF(G52=\"x\",2,0)","v":0}]
[19,"Interest for the stakeholder to reach out to a wider public",null,null,null,null,null,{"$f":"IF(C53=\"x\",-2,0)","v":0},{"$f":"IF(D53=\"x\",-1,0)","v":0},{"$f":"IF(E53=\"x\",0,0)","v":0},{"$f":"IF(F53=\"x\",1,0)","v":0},{"$f":"IF(G53=\"x\",2,0)","v":0}]
[20,"Willingness of the stakeholder to share/increase own political awareness",null,null,null,null,null,{"$f":"IF(C54=\"x\",-2,0)","v":0},{"$f":"IF(D54=\"x\",-1,0)","v":0},{"$f":"IF(E54=\"x\",0,0)","v":0},{"$f":"IF(F54=\"x\",1,0)","v":0},{"$f":"IF(G54=\"x\",2,0)","v":0}]
[null,"INTEREST SCORE",null,null,null,null,null,null,null,null,null,null,null,{"$f":"IF(C2=\"\",\"\",(SUM(N51+N45+N39+N33)/4))","v":""}]

{"sheet":"STAKEHOLDER (8)","index":12,"n_rows":55,"n_cols":14,"rows_kept":55,"cut":false,"hidden":false,"merged":[[0,0,0,13],[1,2,1,13],[27,1,27,6],[54,1,54,6]]}
["Bearing in mind the topic at hand, please evaluate the stakeholder for each proposed item (row) by it marking with an 'x' (from extremely negative to extremely positive)."]
[null,"STAKEHOLDER - insert name ->"]
[null,"DIMENSIONS","Extremely Negative","Negative","not applicable","Positive","Extremely positive",-2,-1,0,1,2,null,"score per dimension"]
[null,"(1) Social capital",null,null,null,null,null,null,null,null,null,null,{"$f":"SUM(H5:L9)","v":0},{"$f":"(((M4-(-10))*(1-0))/(10-(-10)))+0","v":0.5}]
[1,"Capacity of the stakeholder to involve other stakeholders ",null,null,null,null,null,{"$f":"IF(C5=\"x\",-2,0)","v":0},{"$f":"IF(D5=\"x\",-1,0)","v":0},{"$f":"IF(E5=\"x\",0,0)","v":0},{"$f":"IF(F5=\"x\",1,0)","v":0},{"$f":"IF(G5=\"x\",2,0)","v":0},null,"Weighted value"]
[2,"Level of representativeness of the stakeholder of a specific category",null,null,null,null,null,{"$f":"IF(C6=\"x\",-2,0)","v":0},{"$f":"IF(D6=\"x\",-1,0)","v":0},{"$f":"IF(E6=\"x\",0,0)","v":0},{"$f":"IF(F6=\"x\",1,0)","v":0},{"$f":"IF(G6=\"x\",2,0)","v":0},null,{"$f":"N4*'1_COMMUNITY EVALUATION'!N4","v":0.25}]
[3,"Level of participation of the stakeholder to local civil society activities",null,null,null,null,null,{"$f":"IF(C7=\"x\",-2,0)","v":0},{"$f":"IF(D7=\"x\",-1,0)","v":0},{"$f":"IF(E7=\"x\",0,0)","v":0},{"$f":"IF(F7=\"x\",1,0)","v":0},{"$f":"IF(G7=\"x\",2,0)","v":0}]
[4,"Capacity of the stakeholder to start/influence change",null,null,null,null,null,{"$f":"IF(C8=\"x\",-2,0)","v":0},{"$f":"IF(D8=\"x\",-1,0)","v":0},{"$f":"IF(E8=\"x\",0,0)","v":0},{"$f":"IF(F8=\"x\",1,0)","v":0},{"$f":"IF(G8=\"x\",2,0)","v":0}]
[5,"Level of acknowledgment of the stakeholder among citizens",null,null,null,null,null,{"$f":"IF(C9=\"x\",-2,0)","v":0},{"$f":"IF(D9=\"x\",-1,0)","v":0},{"$f":"IF(E9=\"x\",0,0)","v":0},{"$f":"IF(F9=\"x\",1,0)","v":0},{"$f":"IF(G9=\"x\",2,0)","v":0}]
[null,"(2) Economic capital",null,null,null,null,null,null,null,null,null,null,{"$f":"SUM(H11:L15)","v":0},{"$f":"(((M10-(-10))*(1-0))/(10-(-10)))+0","v":0.5}]
[6,"Capacity of the stakeholder to act as donor",null,null,null,null,null,{"$f":"IF(C11=\"x\",-2,0)","v":0},{"$f":"IF(D11=\"x\",-1,0)","v":0},{"$f":"IF(E11=\"x\",0,0)","v":0},{"$f":"IF(F11=\"x\",1,0)","v":0},{"$f":"IF(G11=\"x\",2,0)","v":0},null,"Weighted value"]
[7,"Capacity of the stakeholder to influence resources' allocation",null,null,null,null,null,{"$f":"IF(C12=\"x\",-2,0)","v":0},{"$f":"IF(D12=\"x\",-1,0)","v":0},{"$f":"IF(E12=\"x\",0,0)","v":0},{"$f":"IF(F12=\"x\",1,0)","v":0},{"$f":"IF(G12=\"x\",2,0)","v":0},null,{"$f":"N10*'1_COMMUNITY EVALUATION'!N13","v":0.25}]
[8,"Capacity to facilitate access to existing exogenous resources ",null,null,null,null,null,{"$f":"IF(C13=\"x\",-2,0)","v":0},{"$f":"IF(D13=\"x\",-1,0)","v":0},{"$f":"IF(E13=\"x\",0,0)","v":0},{"$f":"IF(F13=\"x\",1,0)","v":0},{"$f":"IF(G13=\"x\",2,0)","v":0}]
[9,"Capacity of the stakeholder to provide in-kind support",null,null,null,null,null,{"$f":"IF(C14=\"x\",-2,0)","v":0},{"$f":"IF(D14=\"x\",-1,0)","v":0},{"$f":"IF(E14=\"x\",0,0)","v":0},{"$f":"IF(F14=\"x\",1,0)","v":0},{"$f":"IF(G14=\"x\",2,0)","v":0}]
[10,"Influence of the stakeholder on the job market",null,null,null,null,null,{"$f":"IF(C15=\"x\",-2,0)","v":0},{"$f":"IF(D15=\"x\",-1,0)","v":0},{"$f":"IF(E15=\"x\",0,0)","v":0},{"$f":"IF(F15=\"x\",1,0)","v":0},{"$f":"IF(G15=\"x\",2,0)","v":0}]
[null,"(3) Human capital",null,null,null,null,null,null,null,null,null,null,{"$f":"SUM(H17:L21)","v":0},{"$f":"(((M16-(-10))*(1-0))/(10-(-10)))+0","v":0.5}]
[11,"Knowledge/skills of the stakeholder on the topic",null,null,null,null,null,{"$f":"IF(C17=\"x\",-2,0)","v":0},{"$f":"IF(D17=\"x\",-1,0)","v":0},{"$f":"IF(E17=\"x\",0,0)","v":0},{"$f":"IF(F17=\"x\",1,0)","v":0},{"$f":"IF(G17=\"x\",2,0)","v":0},null,"Weighted value"]
[12,"Awareness of the stakeholder on the topic",null,null,null,null,null,{"$f":"IF(C18=\"x\",-2,0)","v":0},{"$f":"IF(D18=\"x\",-1,0)","v":0},{"$f":"IF(E18=\"x\",0,0)","v":0},{"$f":"IF(F18=\"x\",1,0)","v":0},{"$f":"IF(G18=\"x\",2,0)","v":0},null,{"$f":"N16*'1_COMMUNITY EVALUATION'!N22","v":0.25}]
[13,"Capacity of the stakeholder to engage in public debate",null,null,null,null,null,{"$f":"IF(C19=\"x\",-2,0)","v":0},{"$f":"IF(D19=\"x\",-1,0)","v":0},{"$f":"IF(E19=\"x\",0,0)","v":0},{"$f":"IF(F19=\"x\",1,0)","v":0},{"$f":"IF(G19=\"x\",2,0)","v":0}]
[14,"Capacity of the stakeholder to communicate through a range of different media",null,null,null,null,null,{"$f":"IF(C20=\"x\",-2,0)","v":0},{"$f":"IF(D20=\"x\",-1,0)","v":0},{"$f":"IF(E20=\"x\",0,0)","v":0},{"$f":"IF(F20=\"x\",1,0)","v":0},{"$f":"IF(G20=\"x\",2,0)","v":0}]
[15,"Capacity of the stakeholder to access public venues",null,null,null,null,null,{"$f":"IF(C21=\"x\",-2,0)","v":0},{"$f":"IF(D21=\"x\",-1,0)","v":0},{"$f":"IF(E21=\"x\",0,0)","v":0},{"$f":"IF(F21=\"x\",1,0)","v":0},{"$f":"IF(G21=\"x\",2,0)","v":0}]
[null,"(4) Political capital",null,null,null,null,null,null,null,null,null,null,{"$f":"SUM(H23:L27)","v":0},{"$f":"(((M22-(-10))*(1-0))/(10-(-10)))+0","v":0.5}]
[16,"Trust of the local administration towards the stakeholder ",null,null,null,null,null,{"$f":"IF(C23=\"x\",-2,0)","v":0},{"$f":"IF(D23=\"x\",-1,0)","v":0},{"$f":"IF(E23=\"x\",0,0)","v":0},{"$f":"IF(F23=\"x\",1,0)","v":0},{"$f":"IF(G23=\"x\",2,0)","v":0},null,"Weighted value"]
[17,"Capacity of the stakeholder to engage further political actors",null,null,null,null,null,{"$f":"IF(C24=\"x\",-2,0)","v":0},{"$f":"IF(D24=\"x\",-1,0)","v":0},{"$f":"IF(E24=\"x\",0,0)","v":0},{"$f":"IF(F24=\"x\",1,0)","v":0},{"$f":"IF(G24=\"x\",2,0)","v":0},null,{"$f":"N22*'1_COMMUNITY EVALUATION'!N31","v":0.25}]
[18,"Capacity of the stakeholder to engage with local authorities/other stakeholders",null,null,null,null,null,{"$f":"IF(C25=\"x\",-2,0)","v":0},{"$f":"IF(D25=\"x\",-1,0)","v":0},{"$f":"IF(E25=\"x\",0,0)","v":0},{"$f":"IF(F25=\"x\",1,0)","v":0},{"$f":"IF(G25=\"x\",2,0)","v":0}]
[19,"Capacity of the stakeholder to influence public opinion",null,null,null,null,null,{"$f":"IF(C26=\"x\",-2,0)","v":0},{"$f":"IF(D26=\"x\",-1,0)","v":0},{"$f":"IF(E26=\"x\",0,0)","v":0},{"$f":"IF(F26=\"x\",1,0)","v":0},{"$f":"IF(G26=\"x\",2,0)","v":0}]
[20,"Political awareness of the stakeholder",null,null,null,null,null,{"$f":"IF(C27=\"x\",-2,0)","v":0},{"$f":"IF(D27=\"x\",-1,0)","v":0},{"$f":"IF(E27=\"x\",0,0)","v":0},{"$f":"IF(F27=\"x\",1,0)","v":0},{"$f":"IF(G27=\"x\",2,0)","v":0}]
[null,"RELEVANCE SCORE",null,null,null,null,null,null,null,null,null,null,null,{"$f":"IF(C2=\"\",\"\",(SUM(N24+N18+N12+N6)/4))","v":""}]
[]
[null,"DIMENSIONS","Extremely Negative","Negative","not applicable","Positive","Extremely positive",-2,-1,0,1,2,null,"score per dimension"]
[null,"(1) Social capital",null,null,null,null,null,null,null,null,null,null,{"$f":"SUM(H32:L36)","v":0},{"$f":"(((M31-(-10))*(1-0))/(10-(-10)))+0","v":0.5}]
[1,"Interest for the stakeholder to engage in networking for the topic at stake ",null,null,null,null,null,{"$f":"IF(C32=\"x\",-2,0)","v":0},{"$f":"IF(D32=\"x\",-1,0)","v":0},{"$f":"IF(E32=\"x\",0,0)","v":0},{"$f":"IF(F32=\"x\",1,0)","v":0},{"$f":"IF(G32=\"x\",2,0)","v":0},null,"Weighted value"]
[2,"Interest of the stakeholder to represent a specific category for the topic at stake",null,null,null,null,null,{"$f":"IF(C33=\"x\",-2,0)","v":0},{"$f":"IF(D33=\"x\",-1,0)","v":0},{"$f":"IF(E33=\"x\",0,0)","v":0},{"$f":"IF(F33=\"x\",1,0)","v":0},{"$f":"IF(G33=\"x\",2,0)","v":0},null,{"$f":"N31*'1_COMMUNITY EVALUATION'!N4","v":0.25}]
[3,"Interest of the stakeholder to be involved further in civil society activism for the topic at stake",null,null,null,null,null,{"$f":"IF(C34=\"x\",-2,0)","v":0},{"$f":"IF(D34=\"x\",-1,0)","v":0},{"$f":"IF(E34=\"x\",0,0)","v":0},{"$f":"IF(F34=\"x\",1,0)","v":0},{"$f":"IF(G34=\"x\",2,0)","v":0}]
[4,"interest of the stakeholder to start/influence change",null,null,null,null,null,{"$f":"IF(C35=\"x\",-2,0)","v":0},{"$f":"IF(D35=\"x\",-1,0)","v":0},{"$f":"IF(E35=\"x\",0,0)","v":0},{"$f":"IF(F35=\"x\",1,0)","v":0},{"$f":"IF(G35=\"x\",2,0)","v":0}]
[5,"Interest of the stakeholder to increase its own acknowledgement among citizens",null,null,null,null,null,{"$f":"IF(C36=\"x\",-2,0)","v":0},{"$f":"IF(D36=\"x\",-1,0)","v":0},{"$f":"IF(E36=\"x\",0,0)","v":0},{"$f":"IF(F36=\"x\",1,0)","v":0},{"$f":"IF(G36=\"x\",2,0)","v":0}]
[null,"(2) Economic capital",null,null,null,null,null,null,null,null,null,null,{"$f":"SUM(H38:L42)","v":0},{"$f":"(((M37-(-10))*(1-0))/(10-(-10)))+0","v":0.5}]
[6,"Potential economic benefit for the stakeholder ",null,null,null,null,null,{"$f":"IF(C38=\"x\",-2,0)","v":0},{"$f":"IF(D38=\"x\",-1,0)","v":0},{"$f":"IF(E38=\"x\",0,0)","v":0},{"$f":"IF(F38=\"x\",1,0)","v":0},{"$f":"IF(G38=\"x\",2,0)","v":0},null,"Weighted value"]
[7,"Willingness of the stakeholder to mobilise resources ",null,null,null,null,null,{"$f":"IF(C39=\"x\",-2,0)","v":0},{"$f":"IF(D39=\"x\",-1,0)","v":0},{"$f":"IF(E39=\"x\",0,0)","v":0},{"$f":"IF(F39=\"x\",1,0)","v":0},{"$f":"IF(G39=\"x\",2,0)","v":0},null,{"$f":"N37*'1_COMMUNITY EVALUATION'!N13","v":0.25}]
[8,"Willingness of the stakeholder to support access to existing exogenous resources",null,null,null,null,null,{"$f":"IF(C40=\"x\",-2,0)","v":0},{"$f":"IF(D40=\"x\",-1,0)","v":0},{"$f":"IF(E40=\"x\",0,0)","v":0},{"$f":"IF(F40=\"x\",1,0)","v":0},{"$f":"IF(G40=\"x\",2,0)","v":0}]
[9,"Propensity of the stakeholder to provide in-kind support",null,null,null,null,null,{"$f":"IF(C41=\"x\",-2,0)","v":0},{"$f":"IF(D41=\"x\",-1,0)","v":0},{"$f":"IF(E41=\"x\",0,0)","v":0},{"$f":"IF(F41=\"x\",1,0)","v":0},{"$f":"IF(G41=\"x\",2,0)","v":0}]
[10,"Interest of the stakeholder in increasing its own influence on the job market",null,null,null,null,null,{"$f":"IF(C42=\"x\",-2,0)","v":0},{"$f":"IF(D42=\"x\",-1,0)","v":0},{"$f":"IF(E42=\"x\",0,0)","v":0},{"$f":"IF(F42=\"x\",1,0)","v":0},{"$f":"IF(G42=\"x\",2,0)","v":0}]
[null,"(3) Human capital",null,null,null,null,null,null,null,null,null,null,{"$f":"SUM(H44:L48)","v":0},{"$f":"(((M43-(-10))*(1-0))/(10-(-10)))+0","v":0.5}]
[11,"Interest of the stakeholder to share/increase own knowledge/skills on the topic",null,null,null,null,null,{"$f":"IF(C44=\"x\",-2,0)","v":0},{"$f":"IF(D44=\"x\",-1,0)","v":0},{"$f":"IF(E44=\"x\",0,0)","v":0},{"$f":"IF(F44=\"x\",1,0)","v":0},{"$f":"IF(G44=\"x\",2,0)","v":0},null,"Weighted value"]
[12,"Willingness of the stakeholder to share/increase own awareness on the topic",null,null,null,null,null,{"$f":"IF(C45=\"x\",-2,0)","v":0},{"$f":"IF(D45=\"x\",-1,0)","v":0},{"$f":"IF(E45=\"x\",0,0)","v":0},{"$f":"IF(F45=\"x\",1,0)","v":0},{"$f":"IF(G45=\"x\",2,0)","v":0},null,{"$f":"N43*'1_COMMUNITY EVALUATION'!N22","v":0.25}]
[13,"Willingness of the stakeholder to engage in public debate",null,null,null,null,null,{"$f":"IF(C46=\"x\",-2,0)","v":0},{"$f":"IF(D46=\"x\",-1,0)","v":0},{"$f":"IF(E46=\"x\",0,0)","v":0},{"$f":"IF(F46=\"x\",1,0)","v":0},{"$f":"IF(G46=\"x\",2,0)","v":0}]
[14,"Willingness of the stakeholder to communicate through a range of different media",null,null,null,null,null,{"$f":"IF(C47=\"x\",-2,0)","v":0},{"$f":"IF(D47=\"x\",-1,0)","v":0},{"$f":"IF(E47=\"x\",0,0)","v":0},{"$f":"IF(F47=\"x\",1,0)","v":0},{"$f":"IF(G47=\"x\",2,0)","v":0}]
[15,"Willingness of the stakeholder to access public venues",null,null,null,null,null,{"$f":"IF(C48=\"x\",-2,0)","v":0},{"$f":"IF(D48=\"x\",-1,0)","v":0},{"$f":"IF(E48=\"x\",0,0)","v":0},{"$f":"IF(F48=\"x\",1,0)","v":0},{"$f":"IF(G48=\"x\",2,0)","v":0}]
[null,"(4) Political capital",null,null,null,null,null,null,null,null,null,null,{"$f":"SUM(H50:L54)","v":0},{"$f":"(((M49-(-10))*(1-0))/(10-(-10)))+0","v":0.5}]
[16,"Trust of the stakeholder towards the local administration",null,null,null,null,null,{"$f":"IF(C50=\"x\",-2,0)","v":0},{"$f":"IF(D50=\"x\",-1,0)","v":0},{"$f":"IF(E50=\"x\",0,0)","v":0},{"$f":"IF(F50=\"x\",1,0)","v":0},{"$f":"IF(G50=\"x\",2,0)","v":0},null,"Weighted value"]
[17,"Political interest of the stakeholder in the topic",null,null,null,null,null,{"$f":"IF(C51=\"x\",-2,0)","v":0},{"$f":"IF(D51=\"x\",-1,0)","v":0},{"$f":"IF(E51=\"x\",0,0)","v":0},{"$f":"IF(F51=\"x\",1,0)","v":0},{"$f":"IF(G51=\"x\",2,0)","v":0},null,{"$f":"N49*'1_COMMUNITY EVALUATION'!N31","v":0.25}]
[18,"Willingness of the stakeholder to engage with local authorities",null,null,null,null,null,{"$f":"IF(C52=\"x\",-2,0)","v":0},{"$f":"IF(D52=\"x\",-1,0)","v":0},{"$f":"IF(E52=\"x\",0,0)","v":0},{"$f":"IF(F52=\"x\",1,0)","v":0},{"$f":"IF(G52=\"x\",2,0)","v":0}]
[19,"Interest for the stakeholder to reach out to a wider public",null,null,null,null,null,{"$f":"IF(C53=\"x\",-2,0)","v":0},{"$f":"IF(D53=\"x\",-1,0)","v":0},{"$f":"IF(E53=\"x\",0,0)","v":0},{"$f":"IF(F53=\"x\",1,0)","v":0},{"$f":"IF(G53=\"x\",2,0)","v":0}]
[20,"Willingness of the stakeholder to share/increase own political awareness",null,null,null,null,null,{"$f":"IF(C54=\"x\",-2,0)","v":0},{"$f":"IF(D54=\"x\",-1,0)","v":0},{"$f":"IF(E54=\"x\",0,0)","v":0},{"$f":"IF(F54=\"x\",1,0)","v":0},{"$f":"IF(G54=\"x\",2,0)","v":0}]
[null,"INTEREST SCORE",null,null,null,null,null,null,null,null,null,null,null,{"$f":"IF(C2=\"\",\"\",(SUM(N51+N45+N39+N33)/4))","v":""}]

{"sheet":"STAKEHOLDER (9)","index":13,"n_rows":55,"n_cols":14,"rows_kept":55,"cut":false,"hidden":false,"merged":[[0,0,0,13],[1,2,1,13],[27,1,27,6],[54,1,54,6]]}
["Bearing in mind the topic at hand, please evaluate the stakeholder for each proposed item (row) by it marking with an 'x' (from extremely negative to extremely positive)."]
[null,"STAKEHOLDER - insert name ->"]
[null,"DIMENSIONS","Extremely Negative","Negative","not applicable","Positive","Extremely positive",-2,-1,0,1,2,null,"score per dimension"]
[null,"(1) Social capital",null,null,null,null,null,null,null,null,null,null,{"$f":"SUM(H5:L9)","v":0},{"$f":"(((M4-(-10))*(1-0))/(10-(-10)))+0","v":0.5}]
[1,"Capacity of the stakeholder to involve other stakeholders ",null,null,null,null,null,{"$f":"IF(C5=\"x\",-2,0)","v":0},{"$f":"IF(D5=\"x\",-1,0)","v":0},{"$f":"IF(E5=\"x\",0,0)","v":0},{"$f":"IF(F5=\"x\",1,0)","v":0},{"$f":"IF(G5=\"x\",2,0)","v":0},null,"Weighted value"]
[2,"Level of representativeness of the stakeholder of a specific category",null,null,null,null,null,{"$f":"IF(C6=\"x\",-2,0)","v":0},{"$f":"IF(D6=\"x\",-1,0)","v":0},{"$f":"IF(E6=\"x\",0,0)","v":0},{"$f":"IF(F6=\"x\",1,0)","v":0},{"$f":"IF(G6=\"x\",2,0)","v":0},null,{"$f":"N4*'1_COMMUNITY EVALUATION'!N4","v":0.25}]
[3,"Level of participation of the stakeholder to local civil society activities",null,null,null,null,null,{"$f":"IF(C7=\"x\",-2,0)","v":0},{"$f":"IF(D7=\"x\",-1,0)","v":0},{"$f":"IF(E7=\"x\",0,0)","v":0},{"$f":"IF(F7=\"x\",1,0)","v":0},{"$f":"IF(G7=\"x\",2,0)","v":0}]
[4,"Capacity of the stakeholder to start/influence change",null,null,null,null,null,{"$f":"IF(C8=\"x\",-2,0)","v":0},{"$f":"IF(D8=\"x\",-1,0)","v":0},{"$f":"IF(E8=\"x\",0,0)","v":0},{"$f":"IF(F8=\"x\",1,0)","v":0},{"$f":"IF(G8=\"x\",2,0)","v":0}]
[5,"Level of acknowledgment of the stakeholder among citizens",null,null,null,null,null,{"$f":"IF(C9=\"x\",-2,0)","v":0},{"$f":"IF(D9=\"x\",-1,0)","v":0},{"$f":"IF(E9=\"x\",0,0)","v":0},{"$f":"IF(F9=\"x\",1,0)","v":0},{"$f":"IF(G9=\"x\",2,0)","v":0}]
[null,"(2) Economic capital",null,null,null,null,null,null,null,null,null,null,{"$f":"SUM(H11:L15)","v":0},{"$f":"(((M10-(-10))*(1-0))/(10-(-10)))+0","v":0.5}]
[6,"Capacity of the stakeholder to act as donor",null,null,null,null,null,{"$f":"IF(C11=\"x\",-2,0)","v":0},{"$f":"IF(D11=\"x\",-1,0)","v":0},{"$f":"IF(E11=\"x\",0,0)","v":0},{"$f":"IF(F11=\"x\",1,0)","v":0},{"$f":"IF(G11=\"x\",2,0)","v":0},null,"Weighted value"]
[7,"Capacity of the stakeholder to influence resources' allocation",null,null,null,null,null,{"$f":"IF(C12=\"x\",-2,0)","v":0},{"$f":"IF(D12=\"x\",-1,0)","v":0},{"$f":"IF(E12=\"x\",0,0)","v":0},{"$f":"IF(F12=\"x\",1,0)","v":0},{"$f":"IF(G12=\"x\",2,0)","v":0},null,{"$f":"N10*'1_COMMUNITY EVALUATION'!N13","v":0.25}]
[8,"Capacity to facilitate access to existing exogenous resources ",null,null,null,null,null,{"$f":"IF(C13=\"x\",-2,0)","v":0},{"$f":"IF(D13=\"x\",-1,0)","v":0},{"$f":"IF(E13=\"x\",0,0)","v":0},{"$f":"IF(F13=\"x\",1,0)","v":0},{"$f":"IF(G13=\"x\",2,0)","v":0}]
[9,"Capacity of the stakeholder to provide in-kind support",null,null,null,null,null,{"$f":"IF(C14=\"x\",-2,0)","v":0},{"$f":"IF(D14=\"x\",-1,0)","v":0},{"$f":"IF(E14=\"x\",0,0)","v":0},{"$f":"IF(F14=\"x\",1,0)","v":0},{"$f":"IF(G14=\"x\",2,0)","v":0}]
[10,"Influence of the stakeholder on the job market",null,null,null,null,null,{"$f":"IF(C15=\"x\",-2,0)","v":0},{"$f":"IF(D15=\"x\",-1,0)","v":0},{"$f":"IF(E15=\"x\",0,0)","v":0},{"$f":"IF(F15=\"x\",1,0)","v":0},{"$f":"IF(G15=\"x\",2,0)","v":0}]
[null,"(3) Human capital",null,null,null,null,null,null,null,null,null,null,{"$f":"SUM(H17:L21)","v":0},{"$f":"(((M16-(-10))*(1-0))/(10-(-10)))+0","v":0.5}]
[11,"Knowledge/skills of the stakeholder on the topic",null,null,null,null,null,{"$f":"IF(C17=\"x\",-2,0)","v":0},{"$f":"IF(D17=\"x\",-1,0)","v":0},{"$f":"IF(E17=\"x\",0,0)","v":0},{"$f":"IF(F17=\"x\",1,0)","v":0},{"$f":"IF(G17=\"x\",2,0)","v":0},null,"Weighted value"]
[12,"Awareness of the stakeholder on the topic",null,null,null,null,null,{"$f":"IF(C18=\"x\",-2,0)","v":0},{"$f":"IF(D18=\"x\",-1,0)","v":0},{"$f":"IF(E18=\"x\",0,0)","v":0},{"$f":"IF(F18=\"x\",1,0)","v":0},{"$f":"IF(G18=\"x\",2,0)","v":0},null,{"$f":"N16*'1_COMMUNITY EVALUATION'!N22","v":0.25}]
[13,"Capacity of the stakeholder to engage in public debate",null,null,null,null,null,{"$f":"IF(C19=\"x\",-2,0)","v":0},{"$f":"IF(D19=\"x\",-1,0)","v":0},{"$f":"IF(E19=\"x\",0,0)","v":0},{"$f":"IF(F19=\"x\",1,0)","v":0},{"$f":"IF(G19=\"x\",2,0)","v":0}]
[14,"Capacity of the stakeholder to communicate through a range of different media",null,null,null,null,null,{"$f":"IF(C20=\"x\",-2,0)","v":0},{"$f":"IF(D20=\"x\",-1,0)","v":0},{"$f":"IF(E20=\"x\",0,0)","v":0},{"$f":"IF(F20=\"x\",1,0)","v":0},{"$f":"IF(G20=\"x\",2,0)","v":0}]
[15,"Capacity of the stakeholder to access public venues",null,null,null,null,null,{"$f":"IF(C21=\"x\",-2,0)","v":0},{"$f":"IF(D21=\"x\",-1,0)","v":0},{"$f":"IF(E21=\"x\",0,0)","v":0},{"$f":"IF(F21=\"x\",1,0)","v":0},{"$f":"IF(G21=\"x\",2,0)","v":0}]
[null,"(4) Political capital",null,null,null,null,null,null,null,null,null,null,{"$f":"SUM(H23:L27)","v":0},{"$f":"(((M22-(-10))*(1-0))/(10-(-10)))+0","v":0.5}]
[16,"Trust of the local administration towards the stakeholder ",null,null,null,null,null,{"$f":"IF(C23=\"x\",-2,0)","v":0},{"$f":"IF(D23=\"x\",-1,0)","v":0},{"$f":"IF(E23=\"x\",0,0)","v":0},{"$f":"IF(F23=\"x\",1,0)","v":0},{"$f":"IF(G23=\"x\",2,0)","v":0},null,"Weighted value"]
[17,"Capacity of the stakeholder to engage further political actors",null,null,null,null,null,{"$f":"IF(C24=\"x\",-2,0)","v":0},{"$f":"IF(D24=\"x\",-1,0)","v":0},{"$f":"IF(E24=\"x\",0,0)","v":0},{"$f":"IF(F24=\"x\",1,0)","v":0},{"$f":"IF(G24=\"x\",2,0)","v":0},null,{"$f":"N22*'1_COMMUNITY EVALUATION'!N31","v":0.25}]
[18,"Capacity of the stakeholder to engage with local authorities/other stakeholders",null,null,null,null,null,{"$f":"IF(C25=\"x\",-2,0)","v":0},{"$f":"IF(D25=\"x\",-1,0)","v":0},{"$f":"IF(E25=\"x\",0,0)","v":0},{"$f":"IF(F25=\"x\",1,0)","v":0},{"$f":"IF(G25=\"x\",2,0)","v":0}]
[19,"Capacity of the stakeholder to influence public opinion",null,null,null,null,null,{"$f":"IF(C26=\"x\",-2,0)","v":0},{"$f":"IF(D26=\"x\",-1,0)","v":0},{"$f":"IF(E26=\"x\",0,0)","v":0},{"$f":"IF(F26=\"x\",1,0)","v":0},{"$f":"IF(G26=\"x\",2,0)","v":0}]
[20,"Political awareness of the stakeholder",null,null,null,null,null,{"$f":"IF(C27=\"x\",-2,0)","v":0},{"$f":"IF(D27=\"x\",-1,0)","v":0},{"$f":"IF(E27=\"x\",0,0)","v":0},{"$f":"IF(F27=\"x\",1,0)","v":0},{"$f":"IF(G27=\"x\",2,0)","v":0}]
[null,"RELEVANCE SCORE",null,null,null,null,null,null,null,null,null,null,null,{"$f":"IF(C2=\"\",\"\",(SUM(N24+N18+N12+N6)/4))","v":""}]
[]
[null,"DIMENSIONS","Extremely Negative","Negative","not applicable","Positive","Extremely positive",-2,-1,0,1,2,null,"score per dimension"]
[null,"(1) Social capital",null,null,null,null,null,null,null,null,null,null,{"$f":"SUM(H32:L36)","v":0},{"$f":"(((M31-(-10))*(1-0))/(10-(-10)))+0","v":0.5}]
[1,"Interest for the stakeholder to engage in networking for the topic at stake ",null,null,null,null,null,{"$f":"IF(C32=\"x\",-2,0)","v":0},{"$f":"IF(D32=\"x\",-1,0)","v":0},{"$f":"IF(E32=\"x\",0,0)","v":0},{"$f":"IF(F32=\"x\",1,0)","v":0},{"$f":"IF(G32=\"x\",2,0)","v":0},null,"Weighted value"]
[2,"Interest of the stakeholder to represent a specific category for the topic at stake",null,null,null,null,null,{"$f":"IF(C33=\"x\",-2,0)","v":0},{"$f":"IF(D33=\"x\",-1,0)","v":0},{"$f":"IF(E33=\"x\",0,0)","v":0},{"$f":"IF(F33=\"x\",1,0)","v":0},{"$f":"IF(G33=\"x\",2,0)","v":0},null,{"$f":"N31*'1_COMMUNITY EVALUATION'!N4","v":0.25}]
[3,"Interest of the stakeholder to be involved further in civil society activism for the topic at stake",null,null,null,null,null,{"$f":"IF(C34=\"x\",-2,0)","v":0},{"$f":"IF(D34=\"x\",-1,0)","v":0},{"$f":"IF(E34=\"x\",0,0)","v":0},{"$f":"IF(F34=\"x\",1,0)","v":0},{"$f":"IF(G34=\"x\",2,0)","v":0}]
[4,"interest of the stakeholder to start/influence change",null,null,null,null,null,{"$f":"IF(C35=\"x\",-2,0)","v":0},{"$f":"IF(D35=\"x\",-1,0)","v":0},{"$f":"IF(E35=\"x\",0,0)","v":0},{"$f":"IF(F35=\"x\",1,0)","v":0},{"$f":"IF(G35=\"x\",2,0)","v":0}]
[5,"Interest of the stakeholder to increase its own acknowledgement among citizens",null,null,null,null,null,{"$f":"IF(C36=\"x\",-2,0)","v":0},{"$f":"IF(D36=\"x\",-1,0)","v":0},{"$f":"IF(E36=\"x\",0,0)","v":0},{"$f":"IF(F36=\"x\",1,0)","v":0},{"$f":"IF(G36=\"x\",2,0)","v":0}]
[null,"(2) Economic capital",null,null,null,null,null,null,null,null,null,null,{"$f":"SUM(H38:L42)","v":0},{"$f":"(((M37-(-10))*(1-0))/(10-(-10)))+0","v":0.5}]
[6,"Potential economic benefit for the stakeholder ",null,null,null,null,null,{"$f":"IF(C38=\"x\",-2,0)","v":0},{"$f":"IF(D38=\"x\",-1,0)","v":0},{"$f":"IF(E38=\"x\",0,0)","v":0},{"$f":"IF(F38=\"x\",1,0)","v":0},{"$f":"IF(G38=\"x\",2,0)","v":0},null,"Weighted value"]
[7,"Willingness of the stakeholder to mobilise resources ",null,null,null,null,null,{"$f":"IF(C39=\"x\",-2,0)","v":0},{"$f":"IF(D39=\"x\",-1,0)","v":0},{"$f":"IF(E39=\"x\",0,0)","v":0},{"$f":"IF(F39=\"x\",1,0)","v":0},{"$f":"IF(G39=\"x\",2,0)","v":0},null,{"$f":"N37*'1_COMMUNITY EVALUATION'!N13","v":0.25}]
[8,"Willingness of the stakeholder to support access to existing exogenous resources",null,null,null,null,null,{"$f":"IF(C40=\"x\",-2,0)","v":0},{"$f":"IF(D40=\"x\",-1,0)","v":0},{"$f":"IF(E40=\"x\",0,0)","v":0},{"$f":"IF(F40=\"x\",1,0)","v":0},{"$f":"IF(G40=\"x\",2,0)","v":0}]
[9,"Propensity of the stakeholder to provide in-kind support",null,null,null,null,null,{"$f":"IF(C41=\"x\",-2,0)","v":0},{"$f":"IF(D41=\"x\",-1,0)","v":0},{"$f":"IF(E41=\"x\",0,0)","v":0},{"$f":"IF(F41=\"x\",1,0)","v":0},{"$f":"IF(G41=\"x\",2,0)","v":0}]
[10,"Interest of the stakeholder in increasing its own influence on the job market",null,null,null,null,null,{"$f":"IF(C42=\"x\",-2,0)","v":0},{"$f":"IF(D42=\"x\",-1,0)","v":0},{"$f":"IF(E42=\"x\",0,0)","v":0},{"$f":"IF(F42=\"x\",1,0)","v":0},{"$f":"IF(G42=\"x\",2,0)","v":0}]
[null,"(3) Human capital",null,null,null,null,null,null,null,null,null,null,{"$f":"SUM(H44:L48)","v":0},{"$f":"(((M43-(-10))*(1-0))/(10-(-10)))+0","v":0.5}]
[11,"Interest of the stakeholder to share/increase own knowledge/skills on the topic",null,null,null,null,null,{"$f":"IF(C44=\"x\",-2,0)","v":0},{"$f":"IF(D44=\"x\",-1,0)","v":0},{"$f":"IF(E44=\"x\",0,0)","v":0},{"$f":"IF(F44=\"x\",1,0)","v":0},{"$f":"IF(G44=\"x\",2,0)","v":0},null,"Weighted value"]
[12,"Willingness of the stakeholder to share/increase own awareness on the topic",null,null,null,null,null,{"$f":"IF(C45=\"x\",-2,0)","v":0},{"$f":"IF(D45=\"x\",-1,0)","v":0},{"$f":"IF(E45=\"x\",0,0)","v":0},{"$f":"IF(F45=\"x\",1,0)","v":0},{"$f":"IF(G45=\"x\",2,0)","v":0},null,{"$f":"N43*'1_COMMUNITY EVALUATION'!N22","v":0.25}]
[13,"Willingness of the stakeholder to engage in public debate",null,null,null,null,null,{"$f":"IF(C46=\"x\",-2,0)","v":0},{"$f":"IF(D46=\"x\",-1,0)","v":0},{"$f":"IF(E46=\"x\",0,0)","v":0},{"$f":"IF(F46=\"x\",1,0)","v":0},{"$f":"IF(G46=\"x\",2,0)","v":0}]
[14,"Willingness of the stakeholder to communicate through a range of different media",null,null,null,null,null,{"$f":"IF(C47=\"x\",-2,0)","v":0},{"$f":"IF(D47=\"x\",-1,0)","v":0},{"$f":"IF(E47=\"x\",0,0)","v":0},{"$f":"IF(F47=\"x\",1,0)","v":0},{"$f":"IF(G47=\"x\",2,0)","v":0}]
[15,"Willingness of the stakeholder to access public venues",null,null,null,null,null,{"$f":"IF(C48=\"x\",-2,0)","v":0},{"$f":"IF(D48=\"x\",-1,0)","v":0},{"$f":"IF(E48=\"x\",0,0)","v":0},{"$f":"IF(F48=\"x\",1,0)","v":0},{"$f":"IF(G48=\"x\",2,0)","v":0}]
[null,"(4) Political capital",null,null,null,null,null,null,null,null,null,null,{"$f":"SUM(H50:L54)","v":0},{"$f":"(((M49-(-10))*(1-0))/(10-(-10)))+0","v":0.5}]
[16,"Trust of the stakeholder towards the local administration",null,null,null,null,null,{"$f":"IF(C50=\"x\",-2,0)","v":0},{"$f":"IF(D50=\"x\",-1,0)","v":0},{"$f":"IF(E50=\"x\",0,0)","v":0},{"$f":"IF(F50=\"x\",1,0)","v":0},{"$f":"IF(G50=\"x\",2,0)","v":0},null,"Weighted value"]
[17,"Political interest of the stakeholder in the topic",null,null,null,null,null,{"$f":"IF(C51=\"x\",-2,0)","v":0},{"$f":"IF(D51=\"x\",-1,0)","v":0},{"$f":"IF(E51=\"x\",0,0)","v":0},{"$f":"IF(F51=\"x\",1,0)","v":0},{"$f":"IF(G51=\"x\",2,0)","v":0},null,{"$f":"N49*'1_COMMUNITY EVALUATION'!N31","v":0.25}]
[18,"Willingness of the stakeholder to engage with local authorities",null,null,null,null,null,{"$f":"IF(C52=\"x\",-2,0)","v":0},{"$f":"IF(D52=\"x\",-1,0)","v":0},{"$f":"IF(E52=\"x\",0,0)","v":0},{"$f":"IF(F52=\"x\",1,0)","v":0},{"$f":"IF(G52=\"x\",2,0)","v":0}]
[19,"Interest for the stakeholder to reach out to a wider public",null,null,null,null,null,{"$f":"IF(C53=\"x\",-2,0)","v":0},{"$f":"IF(D53=\"x\",-1,0)","v":0},{"$f":"IF(E53=\"x\",0,0)","v":0},{"$f":"IF(F53=\"x\",1,0)","v":0},{"$f":"IF(G53=\"x\",2,0)","v":0}]
[20,"Willingness of the stakeholder to share/increase own political awareness",null,null,null,null,null,{"$f":"IF(C54=\"x\",-2,0)","v":0},{"$f":"IF(D54=\"x\",-1,0)","v":0},{"$f":"IF(E54=\"x\",0,0)","v":0},{"$f":"IF(F54=\"x\",1,0)","v":0},{"$f":"IF(G54=\"x\",2,0)","v":0}]
[null,"INTEREST SCORE",null,null,null,null,null,null,null,null,null,null,null,{"$f":"IF(C2=\"\",\"\",(SUM(N51+N45+N39+N33)/4))","v":""}]

{"sheet":"STAKEHOLDER (10)","index":14,"n_rows":55,"n_cols":14,"rows_kept":55,"cut":false,"hidden":false,"merged":[[0,0,0,13],[1,2,1,13],[27,1,27,6],[54,1,54,6]]}
["Bearing in mind the topic at hand, please evaluate the stakeholder for each proposed item (row) by it marking with an 'x' (from extremely negative to extremely positive)."]
[null,"STAKEHOLDER - insert name ->"]
[null,"DIMENSIONS","Extremely Negative","Negative","not applicable","Positive","Extremely positive",-2,-1,0,1,2,null,"score per dimension"]
[null,"(1) Social capital",null,null,null,null,null,null,null,null,null,null,{"$f":"SUM(H5:L9)","v":0},{"$f":"(((M4-(-10))*(1-0))/(10-(-10)))+0","v":0.5}]
[1,"Capacity of the stakeholder to involve other stakeholders ",null,null,null,null,null,{"$f":"IF(C5=\"x\",-2,0)","v":0},{"$f":"IF(D5=\"x\",-1,0)","v":0},{"$f":"IF(E5=\"x\",0,0)","v":0},{"$f":"IF(F5=\"x\",1,0)","v":0},{"$f":"IF(G5=\"x\",2,0)","v":0},null,"Weighted value"]
[2,"Level of representativeness of the stakeholder of a specific category",null,null,null,null,null,{"$f":"IF(C6=\"x\",-2,0)","v":0},{"$f":"IF(D6=\"x\",-1,0)","v":0},{"$f":"IF(E6=\"x\",0,0)","v":0},{"$f":"IF(F6=\"x\",1,0)","v":0},{"$f":"IF(G6=\"x\",2,0)","v":0},null,{"$f":"N4*'1_COMMUNITY EVALUATION'!N4","v":0.25}]
[3,"Level of participation of the stakeholder to local civil society activities",null,null,null,null,null,{"$f":"IF(C7=\"x\",-2,0)","v":0},{"$f":"IF(D7=\"x\",-1,0)","v":0},{"$f":"IF(E7=\"x\",0,0)","v":0},{"$f":"IF(F7=\"x\",1,0)","v":0},{"$f":"IF(G7=\"x\",2,0)","v":0}]
[4,"Capacity of the stakeholder to start/influence change",null,null,null,null,null,{"$f":"IF(C8=\"x\",-2,0)","v":0},{"$f":"IF(D8=\"x\",-1,0)","v":0},{"$f":"IF(E8=\"x\",0,0)","v":0},{"$f":"IF(F8=\"x\",1,0)","v":0},{"$f":"IF(G8=\"x\",2,0)","v":0}]
[5,"Level of acknowledgment of the stakeholder among citizens",null,null,null,null,null,{"$f":"IF(C9=\"x\",-2,0)","v":0},{"$f":"IF(D9=\"x\",-1,0)","v":0},{"$f":"IF(E9=\"x\",0,0)","v":0},{"$f":"IF(F9=\"x\",1,0)","v":0},{"$f":"IF(G9=\"x\",2,0)","v":0}]
[null,"(2) Economic capital",null,null,null,null,null,null,null,null,null,null,{"$f":"SUM(H11:L15)","v":0},{"$f":"(((M10-(-10))*(1-0))/(10-(-10)))+0","v":0.5}]
[6,"Capacity of the stakeholder to act as donor",null,null,null,null,null,{"$f":"IF(C11=\"x\",-2,0)","v":0},{"$f":"IF(D11=\"x\",-1,0)","v":0},{"$f":"IF(E11=\"x\",0,0)","v":0},{"$f":"IF(F11=\"x\",1,0)","v":0},{"$f":"IF(G11=\"x\",2,0)","v":0},null,"Weighted value"]
[7,"Capacity of the stakeholder to influence resources' allocation",null,null,null,null,null,{"$f":"IF(C12=\"x\",-2,0)","v":0},{"$f":"IF(D12=\"x\",-1,0)","v":0},{"$f":"IF(E12=\"x\",0,0)","v":0},{"$f":"IF(F12=\"x\",1,0)","v":0},{"$f":"IF(G12=\"x\",2,0)","v":0},null,{"$f":"N10*'1_COMMUNITY EVALUATION'!N13","v":0.25}]
[8,"Capacity to facilitate access to existing exogenous resources ",null,null,null,null,null,{"$f":"IF(C13=\"x\",-2,0)","v":0},{"$f":"IF(D13=\"x\",-1,0)","v":0},{"$f":"IF(E13=\"x\",0,0)","v":0},{"$f":"IF(F13=\"x\",1,0)","v":0},{"$f":"IF(G13=\"x\",2,0)","v":0}]
[9,"Capacity of the stakeholder to provide in-kind support",null,null,null,null,null,{"$f":"IF(C14=\"x\",-2,0)","v":0},{"$f":"IF(D14=\"x\",-1,0)","v":0},{"$f":"IF(E14=\"x\",0,0)","v":0},{"$f":"IF(F14=\"x\",1,0)","v":0},{"$f":"IF(G14=\"x\",2,0)","v":0}]
[10,"Influence of the stakeholder on the job market",null,null,null,null,null,{"$f":"IF(C15=\"x\",-2,0)","v":0},{"$f":"IF(D15=\"x\",-1,0)","v":0},{"$f":"IF(E15=\"x\",0,0)","v":0},{"$f":"IF(F15=\"x\",1,0)","v":0},{"$f":"IF(G15=\"x\",2,0)","v":0}]
[null,"(3) Human capital",null,null,null,null,null,null,null,null,null,null,{"$f":"SUM(H17:L21)","v":0},{"$f":"(((M16-(-10))*(1-0))/(10-(-10)))+0","v":0.5}]
[11,"Knowledge/skills of the stakeholder on the topic",null,null,null,null,null,{"$f":"IF(C17=\"x\",-2,0)","v":0},{"$f":"IF(D17=\"x\",-1,0)","v":0},{"$f":"IF(E17=\"x\",0,0)","v":0},{"$f":"IF(F17=\"x\",1,0)","v":0},{"$f":"IF(G17=\"x\",2,0)","v":0},null,"Weighted value"]
[12,"Awareness of the stakeholder on the topic",null,null,null,null,null,{"$f":"IF(C18=\"x\",-2,0)","v":0},{"$f":"IF(D18=\"x\",-1,0)","v":0},{"$f":"IF(E18=\"x\",0,0)","v":0},{"$f":"IF(F18=\"x\",1,0)","v":0},{"$f":"IF(G18=\"x\",2,0)","v":0},null,{"$f":"N16*'1_COMMUNITY EVALUATION'!N22","v":0.25}]
[13,"Capacity of the stakeholder to engage in public debate",null,null,null,null,null,{"$f":"IF(C19=\"x\",-2,0)","v":0},{"$f":"IF(D19=\"x\",-1,0)","v":0},{"$f":"IF(E19=\"x\",0,0)","v":0},{"$f":"IF(F19=\"x\",1,0)","v":0},{"$f":"IF(G19=\"x\",2,0)","v":0}]
[14,"Capacity of the stakeholder to communicate through a range of different media",null,null,null,null,null,{"$f":"IF(C20=\"x\",-2,0)","v":0},{"$f":"IF(D20=\"x\",-1,0)","v":0},{"$f":"IF(E20=\"x\",0,0)","v":0},{"$f":"IF(F20=\"x\",1,0)","v":0},{"$f":"IF(G20=\"x\",2,0)","v":0}]
[15,"Capacity of the stakeholder to access public venues",null,null,null,null,null,{"$f":"IF(C21=\"x\",-2,0)","v":0},{"$f":"IF(D21=\"x\",-1,0)","v":0},{"$f":"IF(E21=\"x\",0,0)","v":0},{"$f":"IF(F21=\"x\",1,0)","v":0},{"$f":"IF(G21=\"x\",2,0)","v":0}]
[null,"(4) Political capital",null,null,null,null,null,null,null,null,null,null,{"$f":"SUM(H23:L27)","v":0},{"$f":"(((M22-(-10))*(1-0))/(10-(-10)))+0","v":0.5}]
[16,"Trust of the local administration towards the stakeholder ",null,null,null,null,null,{"$f":"IF(C23=\"x\",-2,0)","v":0},{"$f":"IF(D23=\"x\",-1,0)","v":0},{"$f":"IF(E23=\"x\",0,0)","v":0},{"$f":"IF(F23=\"x\",1,0)","v":0},{"$f":"IF(G23=\"x\",2,0)","v":0},null,"Weighted value"]
[17,"Capacity of the stakeholder to engage further political actors",null,null,null,null,null,{"$f":"IF(C24=\"x\",-2,0)","v":0},{"$f":"IF(D24=\"x\",-1,0)","v":0},{"$f":"IF(E24=\"x\",0,0)","v":0},{"$f":"IF(F24=\"x\",1,0)","v":0},{"$f":"IF(G24=\"x\",2,0)","v":0},null,{"$f":"N22*'1_COMMUNITY EVALUATION'!N31","v":0.25}]
[18,"Capacity of the stakeholder to engage with local authorities/other stakeholders",null,null,null,null,null,{"$f":"IF(C25=\"x\",-2,0)","v":0},{"$f":"IF(D25=\"x\",-1,0)","v":0},{"$f":"IF(E25=\"x\",0,0)","v":0},{"$f":"IF(F25=\"x\",1,0)","v":0},{"$f":"IF(G25=\"x\",2,0)","v":0}]
[19,"Capacity of the stakeholder to influence public opinion",null,null,null,null,null,{"$f":"IF(C26=\"x\",-2,0)","v":0},{"$f":"IF(D26=\"x\",-1,0)","v":0},{"$f":"IF(E26=\"x\",0,0)","v":0},{"$f":"IF(F26=\"x\",1,0)","v":0},{"$f":"IF(G26=\"x\",2,0)","v":0}]
[20,"Political awareness of the stakeholder",null,null,null,null,null,{"$f":"IF(C27=\"x\",-2,0)","v":0},{"$f":"IF(D27=\"x\",-1,0)","v":0},{"$f":"IF(E27=\"x\",0,0)","v":0},{"$f":"IF(F27=\"x\",1,0)","v":0},{"$f":"IF(G27=\"x\",2,0)","v":0}]
[null,"RELEVANCE SCORE",null,null,null,null,null,null,null,null,null,null,null,{"$f":"IF(C2=\"\",\"\",(SUM(N24+N18+N12+N6)/4))","v":""}]
[]
[null,"DIMENSIONS","Extremely Negative","Negative","not applicable","Positive","Extremely positive",-2,-1,0,1,2,null,"score per dimension"]
[null,"(1) Social capital",null,null,null,null,null,null,null,null,null,null,{"$f":"SUM(H32:L36)","v":0},{"$f":"(((M31-(-10))*(1-0))/(10-(-10)))+0","v":0.5}]
[1,"Interest for the stakeholder to engage in networking for the topic at stake ",null,null,null,null,null,{"$f":"IF(C32=\"x\",-2,0)","v":0},{"$f":"IF(D32=\"x\",-1,0)","v":0},{"$f":"IF(E32=\"x\",0,0)","v":0},{"$f":"IF(F32=\"x\",1,0)","v":0},{"$f":"IF(G32=\"x\",2,0)","v":0},null,"Weighted value"]
[2,"Interest of the stakeholder to represent a specific category for the topic at stake",null,null,null,null,null,{"$f":"IF(C33=\"x\",-2,0)","v":0},{"$f":"IF(D33=\"x\",-1,0)","v":0},{"$f":"IF(E33=\"x\",0,0)","v":0},{"$f":"IF(F33=\"x\",1,0)","v":0},{"$f":"IF(G33=\"x\",2,0)","v":0},null,{"$f":"N31*'1_COMMUNITY EVALUATION'!N4","v":0.25}]
[3,"Interest of the stakeholder to be involved further in civil society activism for the topic at stake",null,null,null,null,null,{"$f":"IF(C34=\"x\",-2,0)","v":0},{"$f":"IF(D34=\"x\",-1,0)","v":0},{"$f":"IF(E34=\"x\",0,0)","v":0},{"$f":"IF(F34=\"x\",1,0)","v":0},{"$f":"IF(G34=\"x\",2,0)","v":0}]
[4,"interest of the stakeholder to start/influence change",null,null,null,null,null,{"$f":"IF(C35=\"x\",-2,0)","v":0},{"$f":"IF(D35=\"x\",-1,0)","v":0},{"$f":"IF(E35=\"x\",0,0)","v":0},{"$f":"IF(F35=\"x\",1,0)","v":0},{"$f":"IF(G35=\"x\",2,0)","v":0}]
[5,"Interest of the stakeholder to increase its own acknowledgement among citizens",null,null,null,null,null,{"$f":"IF(C36=\"x\",-2,0)","v":0},{"$f":"IF(D36=\"x\",-1,0)","v":0},{"$f":"IF(E36=\"x\",0,0)","v":0},{"$f":"IF(F36=\"x\",1,0)","v":0},{"$f":"IF(G36=\"x\",2,0)","v":0}]
[null,"(2) Economic capital",null,null,null,null,null,null,null,null,null,null,{"$f":"SUM(H38:L42)","v":0},{"$f":"(((M37-(-10))*(1-0))/(10-(-10)))+0","v":0.5}]
[6,"Potential economic benefit for the stakeholder ",null,null,null,null,null,{"$f":"IF(C38=\"x\",-2,0)","v":0},{"$f":"IF(D38=\"x\",-1,0)","v":0},{"$f":"IF(E38=\"x\",0,0)","v":0},{"$f":"IF(F38=\"x\",1,0)","v":0},{"$f":"IF(G38=\"x\",2,0)","v":0},null,"Weighted value"]
[7,"Willingness of the stakeholder to mobilise resources ",null,null,null,null,null,{"$f":"IF(C39=\"x\",-2,0)","v":0},{"$f":"IF(D39=\"x\",-1,0)","v":0},{"$f":"IF(E39=\"x\",0,0)","v":0},{"$f":"IF(F39=\"x\",1,0)","v":0},{"$f":"IF(G39=\"x\",2,0)","v":0},null,{"$f":"N37*'1_COMMUNITY EVALUATION'!N13","v":0.25}]
[8,"Willingness of the stakeholder to support access to existing exogenous resources",null,null,null,null,null,{"$f":"IF(C40=\"x\",-2,0)","v":0},{"$f":"IF(D40=\"x\",-1,0)","v":0},{"$f":"IF(E40=\"x\",0,0)","v":0},{"$f":"IF(F40=\"x\",1,0)","v":0},{"$f":"IF(G40=\"x\",2,0)","v":0}]
[9,"Propensity of the stakeholder to provide in-kind support",null,null,null,null,null,{"$f":"IF(C41=\"x\",-2,0)","v":0},{"$f":"IF(D41=\"x\",-1,0)","v":0},{"$f":"IF(E41=\"x\",0,0)","v":0},{"$f":"IF(F41=\"x\",1,0)","v":0},{"$f":"IF(G41=\"x\",2,0)","v":0}]
[10,"Interest of the stakeholder in increasing its own influence on the job market",null,null,null,null,null,{"$f":"IF(C42=\"x\",-2,0)","v":0},{"$f":"IF(D42=\"x\",-1,0)","v":0},{"$f":"IF(E42=\"x\",0,0)","v":0},{"$f":"IF(F42=\"x\",1,0)","v":0},{"$f":"IF(G42=\"x\",2,0)","v":0}]
[null,"(3) Human capital",null,null,null,null,null,null,null,null,null,null,{"$f":"SUM(H44:L48)","v":0},{"$f":"(((M43-(-10))*(1-0))/(10-(-10)))+0","v":0.5}]
[11,"Interest of the stakeholder to share/increase own knowledge/skills on the topic",null,null,null,null,null,{"$f":"IF(C44=\"x\",-2,0)","v":0},{"$f":"IF(D44=\"x\",-1,0)","v":0},{"$f":"IF(E44=\"x\",0,0)","v":0},{"$f":"IF(F44=\"x\",1,0)","v":0},{"$f":"IF(G44=\"x\",2,0)","v":0},null,"Weighted value"]
[12,"Willingness of the stakeholder to share/increase own awareness on the topic",null,null,null,null,null,{"$f":"IF(C45=\"x\",-2,0)","v":0},{"$f":"IF(D45=\"x\",-1,0)","v":0},{"$f":"IF(E45=\"x\",0,0)","v":0},{"$f":"IF(F45=\"x\",1,0)","v":0},{"$f":"IF(G45=\"x\",2,0)","v":0},null,{"$f":"N43*'1_COMMUNITY EVALUATION'!N22","v":0.25}]
[13,"Willingness of the stakeholder to engage in public debate",null,null,null,null,null,{"$f":"IF(C46=\"x\",-2,0)","v":0},{"$f":"IF(D46=\"x\",-1,0)","v":0},{"$f":"IF(E46=\"x\",0,0)","v":0},{"$f":"IF(F46=\"x\",1,0)","v":0},{"$f":"IF(G46=\"x\",2,0)","v":0}]
[14,"Willingness of the stakeholder to communicate through a range of different media",null,null,null,null,null,{"$f":"IF(C47=\"x\",-2,0)","v":0},{"$f":"IF(D47=\"x\",-1,0)","v":0},{"$f":"IF(E47=\"x\",0,0)","v":0},{"$f":"IF(F47=\"x\",1,0)","v":0},{"$f":"IF(G47=\"x\",2,0)","v":0}]
[15,"Willingness of the stakeholder to access public venues",null,null,null,null,null,{"$f":"IF(C48=\"x\",-2,0)","v":0},{"$f":"IF(D48=\"x\",-1,0)","v":0},{"$f":"IF(E48=\"x\",0,0)","v":0},{"$f":"IF(F48=\"x\",1,0)","v":0},{"$f":"IF(G48=\"x\",2,0)","v":0}]
[null,"(4) Political capital",null,null,null,null,null,null,null,null,null,null,{"$f":"SUM(H50:L54)","v":0},{"$f":"(((M49-(-10))*(1-0))/(10-(-10)))+0","v":0.5}]
[16,"Trust of the stakeholder towards the local administration",null,null,null,null,null,{"$f":"IF(C50=\"x\",-2,0)","v":0},{"$f":"IF(D50=\"x\",-1,0)","v":0},{"$f":"IF(E50=\"x\",0,0)","v":0},{"$f":"IF(F50=\"x\",1,0)","v":0},{"$f":"IF(G50=\"x\",2,0)","v":0},null,"Weighted value"]
[17,"Political interest of the stakeholder in the topic",null,null,null,null,null,{"$f":"IF(C51=\"x\",-2,0)","v":0},{"$f":"IF(D51=\"x\",-1,0)","v":0},{"$f":"IF(E51=\"x\",0,0)","v":0},{"$f":"IF(F51=\"x\",1,0)","v":0},{"$f":"IF(G51=\"x\",2,0)","v":0},null,{"$f":"N49*'1_COMMUNITY EVALUATION'!N31","v":0.25}]
[18,"Willingness of the stakeholder to engage with local authorities",null,null,null,null,null,{"$f":"IF(C52=\"x\",-2,0)","v":0},{"$f":"IF(D52=\"x\",-1,0)","v":0},{"$f":"IF(E52=\"x\",0,0)","v":0},{"$f":"IF(F52=\"x\",1,0)","v":0},{"$f":"IF(G52=\"x\",2,0)","v":0}]
[19,"Interest for the stakeholder to reach out to a wider public",null,null,null,null,null,{"$f":"IF(C53=\"x\",-2,0)","v":0},{"$f":"IF(D53=\"x\",-1,0)","v":0},{"$f":"IF(E53=\"x\",0,0)","v":0},{"$f":"IF(F53=\"x\",1,0)","v":0},{"$f":"IF(G53=\"x\",2,0)","v":0}]
[20,"Willingness of the stakeholder to share/increase own political awareness",null,null,null,null,null,{"$f":"IF(C54=\"x\",-2,0)","v":0},{"$f":"IF(D54=\"x\",-1,0)","v":0},{"$f":"IF(E54=\"x\",0,0)","v":0},{"$f":"IF(F54=\"x\",1,0)","v":0},{"$f":"IF(G54=\"x\",2,0)","v":0}]
[null,"INTEREST SCORE",null,null,null,null,null,null,null,null,null,null,null,{"$f":"IF(C2=\"\",\"\",(SUM(N51+N45+N39+N33)/4))","v":""}]

{"sheet":"STAKEHOLDER (11)","index":15,"n_rows":55,"n_cols":14,"rows_kept":55,"cut":false,"hidden":false,"merged":[[0,0,0,13],[1,2,1,13],[27,1,27,6],[54,1,54,6]]}
["Bearing in mind the topic at hand, please evaluate the stakeholder for each proposed item (row) by it marking with an 'x' (from extremely negative to extremely positive)."]
[null,"STAKEHOLDER - insert name ->"]
[null,"DIMENSIONS","Extremely Negative","Negative","not applicable","Positive","Extremely positive",-2,-1,0,1,2,null,"score per dimension"]
[null,"(1) Social capital",null,null,null,null,null,null,null,null,null,null,{"$f":"SUM(H5:L9)","v":0},{"$f":"(((M4-(-10))*(1-0))/(10-(-10)))+0","v":0.5}]
[1,"Capacity of the stakeholder to involve other stakeholders ",null,null,null,null,null,{"$f":"IF(C5=\"x\",-2,0)","v":0},{"$f":"IF(D5=\"x\",-1,0)","v":0},{"$f":"IF(E5=\"x\",0,0)","v":0},{"$f":"IF(F5=\"x\",1,0)","v":0},{"$f":"IF(G5=\"x\",2,0)","v":0},null,"Weighted value"]
[2,"Level of representativeness of the stakeholder of a specific category",null,null,null,null,null,{"$f":"IF(C6=\"x\",-2,0)","v":0},{"$f":"IF(D6=\"x\",-1,0)","v":0},{"$f":"IF(E6=\"x\",0,0)","v":0},{"$f":"IF(F6=\"x\",1,0)","v":0},{"$f":"IF(G6=\"x\",2,0)","v":0},null,{"$f":"N4*'1_COMMUNITY EVALUATION'!N4","v":0.25}]
[3,"Level of participation of the stakeholder to local civil society activities",null,null,null,null,null,{"$f":"IF(C7=\"x\",-2,0)","v":0},{"$f":"IF(D7=\"x\",-1,0)","v":0},{"$f":"IF(E7=\"x\",0,0)","v":0},{"$f":"IF(F7=\"x\",1,0)","v":0},{"$f":"IF(G7=\"x\",2,0)","v":0}]
[4,"Capacity of the stakeholder to start/influence change",null,null,null,null,null,{"$f":"IF(C8=\"x\",-2,0)","v":0},{"$f":"IF(D8=\"x\",-1,0)","v":0},{"$f":"IF(E8=\"x\",0,0)","v":0},{"$f":"IF(F8=\"x\",1,0)","v":0},{"$f":"IF(G8=\"x\",2,0)","v":0}]
[5,"Level of acknowledgment of the stakeholder among citizens",null,null,null,null,null,{"$f":"IF(C9=\"x\",-2,0)","v":0},{"$f":"IF(D9=\"x\",-1,0)","v":0},{"$f":"IF(E9=\"x\",0,0)","v":0},{"$f":"IF(F9=\"x\",1,0)","v":0},{"$f":"IF(G9=\"x\",2,0)","v":0}]
[null,"(2) Economic capital",null,null,null,null,null,null,null,null,null,null,{"$f":"SUM(H11:L15)","v":0},{"$f":"(((M10-(-10))*(1-0))/(10-(-10)))+0","v":0.5}]
[6,"Capacity of the stakeholder to act as donor",null,null,null,null,null,{"$f":"IF(C11=\"x\",-2,0)","v":0},{"$f":"IF(D11=\"x\",-1,0)","v":0},{"$f":"IF(E11=\"x\",0,0)","v":0},{"$f":"IF(F11=\"x\",1,0)","v":0},{"$f":"IF(G11=\"x\",2,0)","v":0},null,"Weighted value"]
[7,"Capacity of the stakeholder to influence resources' allocation",null,null,null,null,null,{"$f":"IF(C12=\"x\",-2,0)","v":0},{"$f":"IF(D12=\"x\",-1,0)","v":0},{"$f":"IF(E12=\"x\",0,0)","v":0},{"$f":"IF(F12=\"x\",1,0)","v":0},{"$f":"IF(G12=\"x\",2,0)","v":0},null,{"$f":"N10*'1_COMMUNITY EVALUATION'!N13","v":0.25}]
[8,"Capacity to facilitate access to existing exogenous resources ",null,null,null,null,null,{"$f":"IF(C13=\"x\",-2,0)","v":0},{"$f":"IF(D13=\"x\",-1,0)","v":0},{"$f":"IF(E13=\"x\",0,0)","v":0},{"$f":"IF(F13=\"x\",1,0)","v":0},{"$f":"IF(G13=\"x\",2,0)","v":0}]
[9,"Capacity of the stakeholder to provide in-kind support",null,null,null,null,null,{"$f":"IF(C14=\"x\",-2,0)","v":0},{"$f":"IF(D14=\"x\",-1,0)","v":0},{"$f":"IF(E14=\"x\",0,0)","v":0},{"$f":"IF(F14=\"x\",1,0)","v":0},{"$f":"IF(G14=\"x\",2,0)","v":0}]
[10,"Influence of the stakeholder on the job market",null,null,null,null,null,{"$f":"IF(C15=\"x\",-2,0)","v":0},{"$f":"IF(D15=\"x\",-1,0)","v":0},{"$f":"IF(E15=\"x\",0,0)","v":0},{"$f":"IF(F15=\"x\",1,0)","v":0},{"$f":"IF(G15=\"x\",2,0)","v":0}]
[null,"(3) Human capital",null,null,null,null,null,null,null,null,null,null,{"$f":"SUM(H17:L21)","v":0},{"$f":"(((M16-(-10))*(1-0))/(10-(-10)))+0","v":0.5}]
[11,"Knowledge/skills of the stakeholder on the topic",null,null,null,null,null,{"$f":"IF(C17=\"x\",-2,0)","v":0},{"$f":"IF(D17=\"x\",-1,0)","v":0},{"$f":"IF(E17=\"x\",0,0)","v":0},{"$f":"IF(F17=\"x\",1,0)","v":0},{"$f":"IF(G17=\"x\",2,0)","v":0},null,"Weighted value"]
[12,"Awareness of the stakeholder on the topic",null,null,null,null,null,{"$f":"IF(C18=\"x\",-2,0)","v":0},{"$f":"IF(D18=\"x\",-1,0)","v":0},{"$f":"IF(E18=\"x\",0,0)","v":0},{"$f":"IF(F18=\"x\",1,0)","v":0},{"$f":"IF(G18=\"x\",2,0)","v":0},null,{"$f":"N16*'1_COMMUNITY EVALUATION'!N22","v":0.25}]
[13,"Capacity of the stakeholder to engage in public debate",null,null,null,null,null,{"$f":"IF(C19=\"x\",-2,0)","v":0},{"$f":"IF(D19=\"x\",-1,0)","v":0},{"$f":"IF(E19=\"x\",0,0)","v":0},{"$f":"IF(F19=\"x\",1,0)","v":0},{"$f":"IF(G19=\"x\",2,0)","v":0}]
[14,"Capacity of the stakeholder to communicate through a range of different media",null,null,null,null,null,{"$f":"IF(C20=\"x\",-2,0)","v":0},{"$f":"IF(D20=\"x\",-1,0)","v":0},{"$f":"IF(E20=\"x\",0,0)","v":0},{"$f":"IF(F20=\"x\",1,0)","v":0},{"$f":"IF(G20=\"x\",2,0)","v":0}]
[15,"Capacity of the stakeholder to access public venues",null,null,null,null,null,{"$f":"IF(C21=\"x\",-2,0)","v":0},{"$f":"IF(D21=\"x\",-1,0)","v":0},{"$f":"IF(E21=\"x\",0,0)","v":0},{"$f":"IF(F21=\"x\",1,0)","v":0},{"$f":"IF(G21=\"x\",2,0)","v":0}]
[null,"(4) Political capital",null,null,null,null,null,null,null,null,null,null,{"$f":"SUM(H23:L27)","v":0},{"$f":"(((M22-(-10))*(1-0))/(10-(-10)))+0","v":0.5}]
[16,"Trust of the local administration towards the stakeholder ",null,null,null,null,null,{"$f":"IF(C23=\"x\",-2,0)","v":0},{"$f":"IF(D23=\"x\",-1,0)","v":0},{"$f":"IF(E23=\"x\",0,0)","v":0},{"$f":"IF(F23=\"x\",1,0)","v":0},{"$f":"IF(G23=\"x\",2,0)","v":0},null,"Weighted value"]
[17,"Capacity of the stakeholder to engage further political actors",null,null,null,null,null,{"$f":"IF(C24=\"x\",-2,0)","v":0},{"$f":"IF(D24=\"x\",-1,0)","v":0},{"$f":"IF(E24=\"x\",0,0)","v":0},{"$f":"IF(F24=\"x\",1,0)","v":0},{"$f":"IF(G24=\"x\",2,0)","v":0},null,{"$f":"N22*'1_COMMUNITY EVALUATION'!N31","v":0.25}]
[18,"Capacity of the stakeholder to engage with local authorities/other stakeholders",null,null,null,null,null,{"$f":"IF(C25=\"x\",-2,0)","v":0},{"$f":"IF(D25=\"x\",-1,0)","v":0},{"$f":"IF(E25=\"x\",0,0)","v":0},{"$f":"IF(F25=\"x\",1,0)","v":0},{"$f":"IF(G25=\"x\",2,0)","v":0}]
[19,"Capacity of the stakeholder to influence public opinion",null,null,null,null,null,{"$f":"IF(C26=\"x\",-2,0)","v":0},{"$f":"IF(D26=\"x\",-1,0)","v":0},{"$f":"IF(E26=\"x\",0,0)","v":0},{"$f":"IF(F26=\"x\",1,0)","v":0},{"$f":"IF(G26=\"x\",2,0)","v":0}]
[20,"Political awareness of the stakeholder",null,null,null,null,null,{"$f":"IF(C27=\"x\",-2,0)","v":0},{"$f":"IF(D27=\"x\",-1,0)","v":0},{"$f":"IF(E27=\"x\",0,0)","v":0},{"$f":"IF(F27=\"x\",1,0)","v":0},{"$f":"IF(G27=\"x\",2,0)","v":0}]
[null,"RELEVANCE SCORE",null,null,null,null,null,null,null,null,null,null,null,{"$f":"IF(C2=\"\",\"\",(SUM(N24+N18+N12+N6)/4))","v":""}]
[]
[null,"DIMENSIONS","Extremely Negative","Negative","not applicable","Positive","Extremely positive",-2,-1,0,1,2,null,"score per dimension"]
[null,"(1) Social capital",null,null,null,null,null,null,null,null,null,null,{"$f":"SUM(H32:L36)","v":0},{"$f":"(((M31-(-10))*(1-0))/(10-(-10)))+0","v":0.5}]
[1,"Interest for the stakeholder to engage in networking for the topic at stake ",null,null,null,null,null,{"$f":"IF(C32=\"x\",-2,0)","v":0},{"$f":"IF(D32=\"x\",-1,0)","v":0},{"$f":"IF(E32=\"x\",0,0)","v":0},{"$f":"IF(F32=\"x\",1,0)","v":0},{"$f":"IF(G32=\"x\",2,0)","v":0},null,"Weighted value"]
[2,"Interest of the stakeholder to represent a specific category for the topic at stake",null,null,null,null,null,{"$f":"IF(C33=\"x\",-2,0)","v":0},{"$f":"IF(D33=\"x\",-1,0)","v":0},{"$f":"IF(E33=\"x\",0,0)","v":0},{"$f":"IF(F33=\"x\",1,0)","v":0},{"$f":"IF(G33=\"x\",2,0)","v":0},null,{"$f":"N31*'1_COMMUNITY EVALUATION'!N4","v":0.25}]
[3,"Interest of the stakeholder to be involved further in civil society activism for the topic at stake",null,null,null,null,null,{"$f":"IF(C34=\"x\",-2,0)","v":0},{"$f":"IF(D34=\"x\",-1,0)","v":0},{"$f":"IF(E34=\"x\",0,0)","v":0},{"$f":"IF(F34=\"x\",1,0)","v":0},{"$f":"IF(G34=\"x\",2,0)","v":0}]
[4,"interest of the stakeholder to start/influence change",null,null,null,null,null,{"$f":"IF(C35=\"x\",-2,0)","v":0},{"$f":"IF(D35=\"x\",-1,0)","v":0},{"$f":"IF(E35=\"x\",0,0)","v":0},{"$f":"IF(F35=\"x\",1,0)","v":0},{"$f":"IF(G35=\"x\",2,0)","v":0}]
[5,"Interest of the stakeholder to increase its own acknowledgement among citizens",null,null,null,null,null,{"$f":"IF(C36=\"x\",-2,0)","v":0},{"$f":"IF(D36=\"x\",-1,0)","v":0},{"$f":"IF(E36=\"x\",0,0)","v":0},{"$f":"IF(F36=\"x\",1,0)","v":0},{"$f":"IF(G36=\"x\",2,0)","v":0}]
[null,"(2) Economic capital",null,null,null,null,null,null,null,null,null,null,{"$f":"SUM(H38:L42)","v":0},{"$f":"(((M37-(-10))*(1-0))/(10-(-10)))+0","v":0.5}]
[6,"Potential economic benefit for the stakeholder ",null,null,null,null,null,{"$f":"IF(C38=\"x\",-2,0)","v":0},{"$f":"IF(D38=\"x\",-1,0)","v":0},{"$f":"IF(E38=\"x\",0,0)","v":0},{"$f":"IF(F38=\"x\",1,0)","v":0},{"$f":"IF(G38=\"x\",2,0)","v":0},null,"Weighted value"]
[7,"Willingness of the stakeholder to mobilise resources ",null,null,null,null,null,{"$f":"IF(C39=\"x\",-2,0)","v":0},{"$f":"IF(D39=\"x\",-1,0)","v":0},{"$f":"IF(E39=\"x\",0,0)","v":0},{"$f":"IF(F39=\"x\",1,0)","v":0},{"$f":"IF(G39=\"x\",2,0)","v":0},null,{"$f":"N37*'1_COMMUNITY EVALUATION'!N13","v":0.25}]
[8,"Willingness of the stakeholder to support access to existing exogenous resources",null,null,null,null,null,{"$f":"IF(C40=\"x\",-2,0)","v":0},{"$f":"IF(D40=\"x\",-1,0)","v":0},{"$f":"IF(E40=\"x\",0,0)","v":0},{"$f":"IF(F40=\"x\",1,0)","v":0},{"$f":"IF(G40=\"x\",2,0)","v":0}]
[9,"Propensity of the stakeholder to provide in-kind support",null,null,null,null,null,{"$f":"IF(C41=\"x\",-2,0)","v":0},{"$f":"IF(D41=\"x\",-1,0)","v":0},{"$f":"IF(E41=\"x\",0,0)","v":0},{"$f":"IF(F41=\"x\",1,0)","v":0},{"$f":"IF(G41=\"x\",2,0)","v":0}]
[10,"Interest of the stakeholder in increasing its own influence on the job market",null,null,null,null,null,{"$f":"IF(C42=\"x\",-2,0)","v":0},{"$f":"IF(D42=\"x\",-1,0)","v":0},{"$f":"IF(E42=\"x\",0,0)","v":0},{"$f":"IF(F42=\"x\",1,0)","v":0},{"$f":"IF(G42=\"x\",2,0)","v":0}]
[null,"(3) Human capital",null,null,null,null,null,null,null,null,null,null,{"$f":"SUM(H44:L48)","v":0},{"$f":"(((M43-(-10))*(1-0))/(10-(-10)))+0","v":0.5}]
[11,"Interest of the stakeholder to share/increase own knowledge/skills on the topic",null,null,null,null,null,{"$f":"IF(C44=\"x\",-2,0)","v":0},{"$f":"IF(D44=\"x\",-1,0)","v":0},{"$f":"IF(E44=\"x\",0,0)","v":0},{"$f":"IF(F44=\"x\",1,0)","v":0},{"$f":"IF(G44=\"x\",2,0)","v":0},null,"Weighted value"]
[12,"Willingness of the stakeholder to share/increase own awareness on the topic",null,null,null,null,null,{"$f":"IF(C45=\"x\",-2,0)","v":0},{"$f":"IF(D45=\"x\",-1,0)","v":0},{"$f":"IF(E45=\"x\",0,0)","v":0},{"$f":"IF(F45=\"x\",1,0)","v":0},{"$f":"IF(G45=\"x\",2,0)","v":0},null,{"$f":"N43*'1_COMMUNITY EVALUATION'!N22","v":0.25}]
[13,"Willingness of the stakeholder to engage in public debate",null,null,null,null,null,{"$f":"IF(C46=\"x\",-2,0)","v":0},{"$f":"IF(D46=\"x\",-1,0)","v":0},{"$f":"IF(E46=\"x\",0,0)","v":0},{"$f":"IF(F46=\"x\",1,0)","v":0},{"$f":"IF(G46=\"x\",2,0)","v":0}]
[14,"Willingness of the stakeholder to communicate through a range of different media",null,null,null,null,null,{"$f":"IF(C47=\"x\",-2,0)","v":0},{"$f":"IF(D47=\"x\",-1,0)","v":0},{"$f":"IF(E47=\"x\",0,0)","v":0},{"$f":"IF(F47=\"x\",1,0)","v":0},{"$f":"IF(G47=\"x\",2,0)","v":0}]
[15,"Willingness of the stakeholder to access public venues",null,null,null,null,null,{"$f":"IF(C48=\"x\",-2,0)","v":0},{"$f":"IF(D48=\"x\",-1,0)","v":0},{"$f":"IF(E48=\"x\",0,0)","v":0},{"$f":"IF(F48=\"x\",1,0)","v":0},{"$f":"IF(G48=\"x\",2,0)","v":0}]
[null,"(4) Political capital",null,null,null,null,null,null,null,null,null,null,{"$f":"SUM(H50:L54)","v":0},{"$f":"(((M49-(-10))*(1-0))/(10-(-10)))+0","v":0.5}]
[16,"Trust of the stakeholder towards the local administration",null,null,null,null,null,{"$f":"IF(C50=\"x\",-2,0)","v":0},{"$f":"IF(D50=\"x\",-1,0)","v":0},{"$f":"IF(E50=\"x\",0,0)","v":0},{"$f":"IF(F50=\"x\",1,0)","v":0},{"$f":"IF(G50=\"x\",2,0)","v":0},null,"Weighted value"]
[17,"Political interest of the stakeholder in the topic",null,null,null,null,null,{"$f":"IF(C51=\"x\",-2,0)","v":0},{"$f":"IF(D51=\"x\",-1,0)","v":0},{"$f":"IF(E51=\"x\",0,0)","v":0},{"$f":"IF(F51=\"x\",1,0)","v":0},{"$f":"IF(G51=\"x\",2,0)","v":0},null,{"$f":"N49*'1_COMMUNITY EVALUATION'!N31","v":0.25}]
[18,"Willingness of the stakeholder to engage with local authorities",null,null,null,null,null,{"$f":"IF(C52=\"x\",-2,0)","v":0},{"$f":"IF(D52=\"x\",-1,0)","v":0},{"$f":"IF(E52=\"x\",0,0)","v":0},{"$f":"IF(F52=\"x\",1,0)","v":0},{"$f":"IF(G52=\"x\",2,0)","v":0}]
[19,"Interest for the stakeholder to reach out to a wider public",null,null,null,null,null,{"$f":"IF(C53=\"x\",-2,0)","v":0},{"$f":"IF(D53=\"x\",-1,0)","v":0},{"$f":"IF(E53=\"x\",0,0)","v":0},{"$f":"IF(F53=\"x\",1,0)","v":0},{"$f":"IF(G53=\"x\",2,0)","v":0}]
[20,"Willingness of the stakeholder to share/increase own political awareness",null,null,null,null,null,{"$f":"IF(C54=\"x\",-2,0)","v":0},{"$f":"IF(D54=\"x\",-1,0)","v":0},{"$f":"IF(E54=\"x\",0,0)","v":0},{"$f":"IF(F54=\"x\",1,0)","v":0},{"$f":"IF(G54=\"x\",2,0)","v":0}]
[null,"INTEREST SCORE",null,null,null,null,null,null,null,null,null,null,null,{"$f":"IF(C2=\"\",\"\",(SUM(N51+N45+N39+N33)/4))","v":""}]

{"sheet":"STAKEHOLDER (12)","index":16,"n_rows":55,"n_cols":14,"rows_kept":55,"cut":false,"hidden":false,"merged":[[0,0,0,13],[1,2,1,13],[27,1,27,6],[54,1,54,6]]}
["Bearing in mind the topic at hand, please evaluate the stakeholder for each proposed item (row) by it marking with an 'x' (from extremely negative to extremely positive)."]
[null,"STAKEHOLDER - insert name ->"]
[null,"DIMENSIONS","Extremely Negative","Negative","not applicable","Positive","Extremely positive",-2,-1,0,1,2,null,"score per dimension"]
[null,"(1) Social capital",null,null,null,null,null,null,null,null,null,null,{"$f":"SUM(H5:L9)","v":0},{"$f":"(((M4-(-10))*(1-0))/(10-(-10)))+0","v":0.5}]
[1,"Capacity of the stakeholder to involve other stakeholders ",null,null,null,null,null,{"$f":"IF(C5=\"x\",-2,0)","v":0},{"$f":"IF(D5=\"x\",-1,0)","v":0},{"$f":"IF(E5=\"x\",0,0)","v":0},{"$f":"IF(F5=\"x\",1,0)","v":0},{"$f":"IF(G5=\"x\",2,0)","v":0},null,"Weighted value"]
[2,"Level of representativeness of the stakeholder of a specific category",null,null,null,null,null,{"$f":"IF(C6=\"x\",-2,0)","v":0},{"$f":"IF(D6=\"x\",-1,0)","v":0},{"$f":"IF(E6=\"x\",0,0)","v":0},{"$f":"IF(F6=\"x\",1,0)","v":0},{"$f":"IF(G6=\"x\",2,0)","v":0},null,{"$f":"N4*'1_COMMUNITY EVALUATION'!N4","v":0.25}]
[3,"Level of participation of the stakeholder to local civil society activities",null,null,null,null,null,{"$f":"IF(C7=\"x\",-2,0)","v":0},{"$f":"IF(D7=\"x\",-1,0)","v":0},{"$f":"IF(E7=\"x\",0,0)","v":0},{"$f":"IF(F7=\"x\",1,0)","v":0},{"$f":"IF(G7=\"x\",2,0)","v":0}]
[4,"Capacity of the stakeholder to start/influence change",null,null,null,null,null,{"$f":"IF(C8=\"x\",-2,0)","v":0},{"$f":"IF(D8=\"x\",-1,0)","v":0},{"$f":"IF(E8=\"x\",0,0)","v":0},{"$f":"IF(F8=\"x\",1,0)","v":0},{"$f":"IF(G8=\"x\",2,0)","v":0}]
[5,"Level of acknowledgment of the stakeholder among citizens",null,null,null,null,null,{"$f":"IF(C9=\"x\",-2,0)","v":0},{"$f":"IF(D9=\"x\",-1,0)","v":0},{"$f":"IF(E9=\"x\",0,0)","v":0},{"$f":"IF(F9=\"x\",1,0)","v":0},{"$f":"IF(G9=\"x\",2,0)","v":0}]
[null,"(2) Economic capital",null,null,null,null,null,null,null,null,null,null,{"$f":"SUM(H11:L15)","v":0},{"$f":"(((M10-(-10))*(1-0))/(10-(-10)))+0","v":0.5}]
[6,"Capacity of the stakeholder to act as donor",null,null,null,null,null,{"$f":"IF(C11=\"x\",-2,0)","v":0},{"$f":"IF(D11=\"x\",-1,0)","v":0},{"$f":"IF(E11=\"x\",0,0)","v":0},{"$f":"IF(F11=\"x\",1,0)","v":0},{"$f":"IF(G11=\"x\",2,0)","v":0},null,"Weighted value"]
[7,"Capacity of the stakeholder to influence resources' allocation",null,null,null,null,null,{"$f":"IF(C12=\"x\",-2,0)","v":0},{"$f":"IF(D12=\"x\",-1,0)","v":0},{"$f":"IF(E12=\"x\",0,0)","v":0},{"$f":"IF(F12=\"x\",1,0)","v":0},{"$f":"IF(G12=\"x\",2,0)","v":0},null,{"$f":"N10*'1_COMMUNITY EVALUATION'!N13","v":0.25}]
[8,"Capacity to facilitate access to existing exogenous resources ",null,null,null,null,null,{"$f":"IF(C13=\"x\",-2,0)","v":0},{"$f":"IF(D13=\"x\",-1,0)","v":0},{"$f":"IF(E13=\"x\",0,0)","v":0},{"$f":"IF(F13=\"x\",1,0)","v":0},{"$f":"IF(G13=\"x\",2,0)","v":0}]
[9,"Capacity of the stakeholder to provide in-kind support",null,null,null,null,null,{"$f":"IF(C14=\"x\",-2,0)","v":0},{"$f":"IF(D14=\"x\",-1,0)","v":0},{"$f":"IF(E14=\"x\",0,0)","v":0},{"$f":"IF(F14=\"x\",1,0)","v":0},{"$f":"IF(G14=\"x\",2,0)","v":0}]
[10,"Influence of the stakeholder on the job market",null,null,null,null,null,{"$f":"IF(C15=\"x\",-2,0)","v":0},{"$f":"IF(D15=\"x\",-1,0)","v":0},{"$f":"IF(E15=\"x\",0,0)","v":0},{"$f":"IF(F15=\"x\",1,0)","v":0},{"$f":"IF(G15=\"x\",2,0)","v":0}]
[null,"(3) Human capital",null,null,null,null,null,null,null,null,null,null,{"$f":"SUM(H17:L21)","v":0},{"$f":"(((M16-(-10))*(1-0))/(10-(-10)))+0","v":0.5}]
[11,"Knowledge/skills of the stakeholder on the topic",null,null,null,null,null,{"$f":"IF(C17=\"x\",-2,0)","v":0},{"$f":"IF(D17=\"x\",-1,0)","v":0},{"$f":"IF(E17=\"x\",0,0)","v":0},{"$f":"IF(F17=\"x\",1,0)","v":0},{"$f":"IF(G17=\"x\",2,0)","v":0},null,"Weighted value"]
[12,"Awareness of the stakeholder on the topic",null,null,null,null,null,{"$f":"IF(C18=\"x\",-2,0)","v":0},{"$f":"IF(D18=\"x\",-1,0)","v":0},{"$f":"IF(E18=\"x\",0,0)","v":0},{"$f":"IF(F18=\"x\",1,0)","v":0},{"$f":"IF(G18=\"x\",2,0)","v":0},null,{"$f":"N16*'1_COMMUNITY EVALUATION'!N22","v":0.25}]
[13,"Capacity of the stakeholder to engage in public debate",null,null,null,null,null,{"$f":"IF(C19=\"x\",-2,0)","v":0},{"$f":"IF(D19=\"x\",-1,0)","v":0},{"$f":"IF(E19=\"x\",0,0)","v":0},{"$f":"IF(F19=\"x\",1,0)","v":0},{"$f":"IF(G19=\"x\",2,0)","v":0}]
[14,"Capacity of the stakeholder to communicate through a range of different media",null,null,null,null,null,{"$f":"IF(C20=\"x\",-2,0)","v":0},{"$f":"IF(D20=\"x\",-1,0)","v":0},{"$f":"IF(E20=\"x\",0,0)","v":0},{"$f":"IF(F20=\"x\",1,0)","v":0},{"$f":"IF(G20=\"x\",2,0)","v":0}]
[15,"Capacity of the stakeholder to access public venues",null,null,null,null,null,{"$f":"IF(C21=\"x\",-2,0)","v":0},{"$f":"IF(D21=\"x\",-1,0)","v":0},{"$f":"IF(E21=\"x\",0,0)","v":0},{"$f":"IF(F21=\"x\",1,0)","v":0},{"$f":"IF(G21=\"x\",2,0)","v":0}]
[null,"(4) Political capital",null,null,null,null,null,null,null,null,null,null,{"$f":"SUM(H23:L27)","v":0},{"$f":"(((M22-(-10))*(1-0))/(10-(-10)))+0","v":0.5}]
[16,"Trust of the local administration towards the stakeholder ",null,null,null,null,null,{"$f":"IF(C23=\"x\",-2,0)","v":0},{"$f":"IF(D23=\"x\",-1,0)","v":0},{"$f":"IF(E23=\"x\",0,0)","v":0},{"$f":"IF(F23=\"x\",1,0)","v":0},{"$f":"IF(G23=\"x\",2,0)","v":0},null,"Weighted value"]
[17,"Capacity of the stakeholder to engage further political actors",null,null,null,null,null,{"$f":"IF(C24=\"x\",-2,0)","v":0},{"$f":"IF(D24=\"x\",-1,0)","v":0},{"$f":"IF(E24=\"x\",0,0)","v":0},{"$f":"IF(F24=\"x\",1,0)","v":0},{"$f":"IF(G24=\"x\",2,0)","v":0},null,{"$f":"N22*'1_COMMUNITY EVALUATION'!N31","v":0.25}]
[18,"Capacity of the stakeholder to engage with local authorities/other stakeholders",null,null,null,null,null,{"$f":"IF(C25=\"x\",-2,0)","v":0},{"$f":"IF(D25=\"x\",-1,0)","v":0},{"$f":"IF(E25=\"x\",0,0)","v":0},{"$f":"IF(F25=\"x\",1,0)","v":0},{"$f":"IF(G25=\"x\",2,0)","v":0}]
[19,"Capacity of the stakeholder to influence public opinion",null,null,null,null,null,{"$f":"IF(C26=\"x\",-2,0)","v":0},{"$f":"IF(D26=\"x\",-1,0)","v":0},{"$f":"IF(E26=\"x\",0,0)","v":0},{"$f":"IF(F26=\"x\",1,0)","v":0},{"$f":"IF(G26=\"x\",2,0)","v":0}]
[20,"Political awareness of the stakeholder",null,null,null,null,null,{"$f":"IF(C27=\"x\",-2,0)","v":0},{"$f":"IF(D27=\"x\",-1,0)","v":0},{"$f":"IF(E27=\"x\",0,0)","v":0},{"$f":"IF(F27=\"x\",1,0)","v":0},{"$f":"IF(G27=\"x\",2,0)","v":0}]
[null,"RELEVANCE SCORE",null,null,null,null,null,null,null,null,null,null,null,{"$f":"IF(C2=\"\",\"\",(SUM(N24+N18+N12+N6)/4))","v":""}]
[]
[null,"DIMENSIONS","Extremely Negative","Negative","not applicable","Positive","Extremely positive",-2,-1,0,1,2,null,"score per dimension"]
[null,"(1) Social capital",null,null,null,null,null,null,null,null,null,null,{"$f":"SUM(H32:L36)","v":0},{"$f":"(((M31-(-10))*(1-0))/(10-(-10)))+0","v":0.5}]
[1,"Interest for the stakeholder to engage in networking for the topic at stake ",null,null,null,null,null,{"$f":"IF(C32=\"x\",-2,0)","v":0},{"$f":"IF(D32=\"x\",-1,0)","v":0},{"$f":"IF(E32=\"x\",0,0)","v":0},{"$f":"IF(F32=\"x\",1,0)","v":0},{"$f":"IF(G32=\"x\",2,0)","v":0},null,"Weighted value"]
[2,"Interest of the stakeholder to represent a specific category for the topic at stake",null,null,null,null,null,{"$f":"IF(C33=\"x\",-2,0)","v":0},{"$f":"IF(D33=\"x\",-1,0)","v":0},{"$f":"IF(E33=\"x\",0,0)","v":0},{"$f":"IF(F33=\"x\",1,0)","v":0},{"$f":"IF(G33=\"x\",2,0)","v":0},null,{"$f":"N31*'1_COMMUNITY EVALUATION'!N4","v":0.25}]
[3,"Interest of the stakeholder to be involved further in civil society activism for the topic at stake",null,null,null,null,null,{"$f":"IF(C34=\"x\",-2,0)","v":0},{"$f":"IF(D34=\"x\",-1,0)","v":0},{"$f":"IF(E34=\"x\",0,0)","v":0},{"$f":"IF(F34=\"x\",1,0)","v":0},{"$f":"IF(G34=\"x\",2,0)","v":0}]
[4,"interest of the stakeholder to start/influence change",null,null,null,null,null,{"$f":"IF(C35=\"x\",-2,0)","v":0},{"$f":"IF(D35=\"x\",-1,0)","v":0},{"$f":"IF(E35=\"x\",0,0)","v":0},{"$f":"IF(F35=\"x\",1,0)","v":0},{"$f":"IF(G35=\"x\",2,0)","v":0}]
[5,"Interest of the stakeholder to increase its own acknowledgement among citizens",null,null,null,null,null,{"$f":"IF(C36=\"x\",-2,0)","v":0},{"$f":"IF(D36=\"x\",-1,0)","v":0},{"$f":"IF(E36=\"x\",0,0)","v":0},{"$f":"IF(F36=\"x\",1,0)","v":0},{"$f":"IF(G36=\"x\",2,0)","v":0}]
[null,"(2) Economic capital",null,null,null,null,null,null,null,null,null,null,{"$f":"SUM(H38:L42)","v":0},{"$f":"(((M37-(-10))*(1-0))/(10-(-10)))+0","v":0.5}]
[6,"Potential economic benefit for the stakeholder ",null,null,null,null,null,{"$f":"IF(C38=\"x\",-2,0)","v":0},{"$f":"IF(D38=\"x\",-1,0)","v":0},{"$f":"IF(E38=\"x\",0,0)","v":0},{"$f":"IF(F38=\"x\",1,0)","v":0},{"$f":"IF(G38=\"x\",2,0)","v":0},null,"Weighted value"]
[7,"Willingness of the stakeholder to mobilise resources ",null,null,null,null,null,{"$f":"IF(C39=\"x\",-2,0)","v":0},{"$f":"IF(D39=\"x\",-1,0)","v":0},{"$f":"IF(E39=\"x\",0,0)","v":0},{"$f":"IF(F39=\"x\",1,0)","v":0},{"$f":"IF(G39=\"x\",2,0)","v":0},null,{"$f":"N37*'1_COMMUNITY EVALUATION'!N13","v":0.25}]
[8,"Willingness of the stakeholder to support access to existing exogenous resources",null,null,null,null,null,{"$f":"IF(C40=\"x\",-2,0)","v":0},{"$f":"IF(D40=\"x\",-1,0)","v":0},{"$f":"IF(E40=\"x\",0,0)","v":0},{"$f":"IF(F40=\"x\",1,0)","v":0},{"$f":"IF(G40=\"x\",2,0)","v":0}]
[9,"Propensity of the stakeholder to provide in-kind support",null,null,null,null,null,{"$f":"IF(C41=\"x\",-2,0)","v":0},{"$f":"IF(D41=\"x\",-1,0)","v":0},{"$f":"IF(E41=\"x\",0,0)","v":0},{"$f":"IF(F41=\"x\",1,0)","v":0},{"$f":"IF(G41=\"x\",2,0)","v":0}]
[10,"Interest of the stakeholder in increasing its own influence on the job market",null,null,null,null,null,{"$f":"IF(C42=\"x\",-2,0)","v":0},{"$f":"IF(D42=\"x\",-1,0)","v":0},{"$f":"IF(E42=\"x\",0,0)","v":0},{"$f":"IF(F42=\"x\",1,0)","v":0},{"$f":"IF(G42=\"x\",2,0)","v":0}]
[null,"(3) Human capital",null,null,null,null,null,null,null,null,null,null,{"$f":"SUM(H44:L48)","v":0},{"$f":"(((M43-(-10))*(1-0))/(10-(-10)))+0","v":0.5}]
[11,"Interest of the stakeholder to share/increase own knowledge/skills on the topic",null,null,null,null,null,{"$f":"IF(C44=\"x\",-2,0)","v":0},{"$f":"IF(D44=\"x\",-1,0)","v":0},{"$f":"IF(E44=\"x\",0,0)","v":0},{"$f":"IF(F44=\"x\",1,0)","v":0},{"$f":"IF(G44=\"x\",2,0)","v":0},null,"Weighted value"]
[12,"Willingness of the stakeholder to share/increase own awareness on the topic",null,null,null,null,null,{"$f":"IF(C45=\"x\",-2,0)","v":0},{"$f":"IF(D45=\"x\",-1,0)","v":0},{"$f":"IF(E45=\"x\",0,0)","v":0},{"$f":"IF(F45=\"x\",1,0)","v":0},{"$f":"IF(G45=\"x\",2,0)","v":0},null,{"$f":"N43*'1_COMMUNITY EVALUATION'!N22","v":0.25}]
[13,"Willingness of the stakeholder to engage in public debate",null,null,null,null,null,{"$f":"IF(C46=\"x\",-2,0)","v":0},{"$f":"IF(D46=\"x\",-1,0)","v":0},{"$f":"IF(E46=\"x\",0,0)","v":0},{"$f":"IF(F46=\"x\",1,0)","v":0},{"$f":"IF(G46=\"x\",2,0)","v":0}]
[14,"Willingness of the stakeholder to communicate through a range of different media",null,null,null,null,null,{"$f":"IF(C47=\"x\",-2,0)","v":0},{"$f":"IF(D47=\"x\",-1,0)","v":0},{"$f":"IF(E47=\"x\",0,0)","v":0},{"$f":"IF(F47=\"x\",1,0)","v":0},{"$f":"IF(G47=\"x\",2,0)","v":0}]
[15,"Willingness of the stakeholder to access public venues",null,null,null,null,null,{"$f":"IF(C48=\"x\",-2,0)","v":0},{"$f":"IF(D48=\"x\",-1,0)","v":0},{"$f":"IF(E48=\"x\",0,0)","v":0},{"$f":"IF(F48=\"x\",1,0)","v":0},{"$f":"IF(G48=\"x\",2,0)","v":0}]
[null,"(4) Political capital",null,null,null,null,null,null,null,null,null,null,{"$f":"SUM(H50:L54)","v":0},{"$f":"(((M49-(-10))*(1-0))/(10-(-10)))+0","v":0.5}]
[16,"Trust of the stakeholder towards the local administration",null,null,null,null,null,{"$f":"IF(C50=\"x\",-2,0)","v":0},{"$f":"IF(D50=\"x\",-1,0)","v":0},{"$f":"IF(E50=\"x\",0,0)","v":0},{"$f":"IF(F50=\"x\",1,0)","v":0},{"$f":"IF(G50=\"x\",2,0)","v":0},null,"Weighted value"]
[17,"Political interest of the stakeholder in the topic",null,null,null,null,null,{"$f":"IF(C51=\"x\",-2,0)","v":0},{"$f":"IF(D51=\"x\",-1,0)","v":0},{"$f":"IF(E51=\"x\",0,0)","v":0},{"$f":"IF(F51=\"x\",1,0)","v":0},{"$f":"IF(G51=\"x\",2,0)","v":0},null,{"$f":"N49*'1_COMMUNITY EVALUATION'!N31","v":0.25}]
[18,"Willingness of the stakeholder to engage with local authorities",null,null,null,null,null,{"$f":"IF(C52=\"x\",-2,0)","v":0},{"$f":"IF(D52=\"x\",-1,0)","v":0},{"$f":"IF(E52=\"x\",0,0)","v":0},{"$f":"IF(F52=\"x\",1,0)","v":0},{"$f":"IF(G52=\"x\",2,0)","v":0}]
[19,"Interest for the stakeholder to reach out to a wider public",null,null,null,null,null,{"$f":"IF(C53=\"x\",-2,0)","v":0},{"$f":"IF(D53=\"x\",-1,0)","v":0},{"$f":"IF(E53=\"x\",0,0)","v":0},{"$f":"IF(F53=\"x\",1,0)","v":0},{"$f":"IF(G53=\"x\",2,0)","v":0}]
[20,"Willingness of the stakeholder to share/increase own political awareness",null,null,null,null,null,{"$f":"IF(C54=\"x\",-2,0)","v":0},{"$f":"IF(D54=\"x\",-1,0)","v":0},{"$f":"IF(E54=\"x\",0,0)","v":0},{"$f":"IF(F54=\"x\",1,0)","v":0},{"$f":"IF(G54=\"x\",2,0)","v":0}]
[null,"INTEREST SCORE",null,null,null,null,null,null,null,null,null,null,null,{"$f":"IF(C2=\"\",\"\",(SUM(N51+N45+N39+N33)/4))","v":""}]

{"sheet":"STAKEHOLDER (13)","index":17,"n_rows":55,"n_cols":14,"rows_kept":55,"cut":false,"hidden":false,"merged":[[0,0,0,13],[1,2,1,13],[27,1,27,6],[54,1,54,6]]}
["Bearing in mind the topic at hand, please evaluate the stakeholder for each proposed item (row) by it marking with an 'x' (from extremely negative to extremely positive)."]
[null,"STAKEHOLDER - insert name ->"]
[null,"DIMENSIONS","Extremely Negative","Negative","not applicable","Positive","Extremely positive",-2,-1,0,1,2,null,"score per dimension"]
[null,"(1) Social capital",null,null,null,null,null,null,null,null,null,null,{"$f":"SUM(H5:L9)","v":0},{"$f":"(((M4-(-10))*(1-0))/(10-(-10)))+0","v":0.5}]
[1,"Capacity of the stakeholder to involve other stakeholders ",null,null,null,null,null,{"$f":"IF(C5=\"x\",-2,0)","v":0},{"$f":"IF(D5=\"x\",-1,0)","v":0},{"$f":"IF(E5=\"x\",0,0)","v":0},{"$f":"IF(F5=\"x\",1,0)","v":0},{"$f":"IF(G5=\"x\",2,0)","v":0},null,"Weighted value"]
[2,"Level of representativeness of the stakeholder of a specific category",null,null,null,null,null,{"$f":"IF(C6=\"x\",-2,0)","v":0},{"$f":"IF(D6=\"x\",-1,0)","v":0},{"$f":"IF(E6=\"x\",0,0)","v":0},{"$f":"IF(F6=\"x\",1,0)","v":0},{"$f":"IF(G6=\"x\",2,0)","v":0},null,{"$f":"N4*'1_COMMUNITY EVALUATION'!N4","v":0.25}]
[3,"Level of participation of the stakeholder to local civil society activities",null,null,null,null,null,{"$f":"IF(C7=\"x\",-2,0)","v":0},{"$f":"IF(D7=\"x\",-1,0)","v":0},{"$f":"IF(E7=\"x\",0,0)","v":0},{"$f":"IF(F7=\"x\",1,0)","v":0},{"$f":"IF(G7=\"x\",2,0)","v":0}]
[4,"Capacity of the stakeholder to start/influence change",null,null,null,null,null,{"$f":"IF(C8=\"x\",-2,0)","v":0},{"$f":"IF(D8=\"x\",-1,0)","v":0},{"$f":"IF(E8=\"x\",0,0)","v":0},{"$f":"IF(F8=\"x\",1,0)","v":0},{"$f":"IF(G8=\"x\",2,0)","v":0}]
[5,"Level of acknowledgment of the stakeholder among citizens",null,null,null,null,null,{"$f":"IF(C9=\"x\",-2,0)","v":0},{"$f":"IF(D9=\"x\",-1,0)","v":0},{"$f":"IF(E9=\"x\",0,0)","v":0},{"$f":"IF(F9=\"x\",1,0)","v":0},{"$f":"IF(G9=\"x\",2,0)","v":0}]
[null,"(2) Economic capital",null,null,null,null,null,null,null,null,null,null,{"$f":"SUM(H11:L15)","v":0},{"$f":"(((M10-(-10))*(1-0))/(10-(-10)))+0","v":0.5}]
[6,"Capacity of the stakeholder to act as donor",null,null,null,null,null,{"$f":"IF(C11=\"x\",-2,0)","v":0},{"$f":"IF(D11=\"x\",-1,0)","v":0},{"$f":"IF(E11=\"x\",0,0)","v":0},{"$f":"IF(F11=\"x\",1,0)","v":0},{"$f":"IF(G11=\"x\",2,0)","v":0},null,"Weighted value"]
[7,"Capacity of the stakeholder to influence resources' allocation",null,null,null,null,null,{"$f":"IF(C12=\"x\",-2,0)","v":0},{"$f":"IF(D12=\"x\",-1,0)","v":0},{"$f":"IF(E12=\"x\",0,0)","v":0},{"$f":"IF(F12=\"x\",1,0)","v":0},{"$f":"IF(G12=\"x\",2,0)","v":0},null,{"$f":"N10*'1_COMMUNITY EVALUATION'!N13","v":0.25}]
[8,"Capacity to facilitate access to existing exogenous resources ",null,null,null,null,null,{"$f":"IF(C13=\"x\",-2,0)","v":0},{"$f":"IF(D13=\"x\",-1,0)","v":0},{"$f":"IF(E13=\"x\",0,0)","v":0},{"$f":"IF(F13=\"x\",1,0)","v":0},{"$f":"IF(G13=\"x\",2,0)","v":0}]
[9,"Capacity of the stakeholder to provide in-kind support",null,null,null,null,null,{"$f":"IF(C14=\"x\",-2,0)","v":0},{"$f":"IF(D14=\"x\",-1,0)","v":0},{"$f":"IF(E14=\"x\",0,0)","v":0},{"$f":"IF(F14=\"x\",1,0)","v":0},{"$f":"IF(G14=\"x\",2,0)","v":0}]
[10,"Influence of the stakeholder on the job market",null,null,null,null,null,{"$f":"IF(C15=\"x\",-2,0)","v":0},{"$f":"IF(D15=\"x\",-1,0)","v":0},{"$f":"IF(E15=\"x\",0,0)","v":0},{"$f":"IF(F15=\"x\",1,0)","v":0},{"$f":"IF(G15=\"x\",2,0)","v":0}]
[null,"(3) Human capital",null,null,null,null,null,null,null,null,null,null,{"$f":"SUM(H17:L21)","v":0},{"$f":"(((M16-(-10))*(1-0))/(10-(-10)))+0","v":0.5}]
[11,"Knowledge/skills of the stakeholder on the topic",null,null,null,null,null,{"$f":"IF(C17=\"x\",-2,0)","v":0},{"$f":"IF(D17=\"x\",-1,0)","v":0},{"$f":"IF(E17=\"x\",0,0)","v":0},{"$f":"IF(F17=\"x\",1,0)","v":0},{"$f":"IF(G17=\"x\",2,0)","v":0},null,"Weighted value"]
[12,"Awareness of the stakeholder on the topic",null,null,null,null,null,{"$f":"IF(C18=\"x\",-2,0)","v":0},{"$f":"IF(D18=\"x\",-1,0)","v":0},{"$f":"IF(E18=\"x\",0,0)","v":0},{"$f":"IF(F18=\"x\",1,0)","v":0},{"$f":"IF(G18=\"x\",2,0)","v":0},null,{"$f":"N16*'1_COMMUNITY EVALUATION'!N22","v":0.25}]
[13,"Capacity of the stakeholder to engage in public debate",null,null,null,null,null,{"$f":"IF(C19=\"x\",-2,0)","v":0},{"$f":"IF(D19=\"x\",-1,0)","v":0},{"$f":"IF(E19=\"x\",0,0)","v":0},{"$f":"IF(F19=\"x\",1,0)","v":0},{"$f":"IF(G19=\"x\",2,0)","v":0}]
[14,"Capacity of the stakeholder to communicate through a range of different media",null,null,null,null,null,{"$f":"IF(C20=\"x\",-2,0)","v":0},{"$f":"IF(D20=\"x\",-1,0)","v":0},{"$f":"IF(E20=\"x\",0,0)","v":0},{"$f":"IF(F20=\"x\",1,0)","v":0},{"$f":"IF(G20=\"x\",2,0)","v":0}]
[15,"Capacity of the stakeholder to access public venues",null,null,null,null,null,{"$f":"IF(C21=\"x\",-2,0)","v":0},{"$f":"IF(D21=\"x\",-1,0)","v":0},{"$f":"IF(E21=\"x\",0,0)","v":0},{"$f":"IF(F21=\"x\",1,0)","v":0},{"$f":"IF(G21=\"x\",2,0)","v":0}]
[null,"(4) Political capital",null,null,null,null,null,null,null,null,null,null,{"$f":"SUM(H23:L27)","v":0},{"$f":"(((M22-(-10))*(1-0))/(10-(-10)))+0","v":0.5}]
[16,"Trust of the local administration towards the stakeholder ",null,null,null,null,null,{"$f":"IF(C23=\"x\",-2,0)","v":0},{"$f":"IF(D23=\"x\",-1,0)","v":0},{"$f":"IF(E23=\"x\",0,0)","v":0},{"$f":"IF(F23=\"x\",1,0)","v":0},{"$f":"IF(G23=\"x\",2,0)","v":0},null,"Weighted value"]
[17,"Capacity of the stakeholder to engage further political actors",null,null,null,null,null,{"$f":"IF(C24=\"x\",-2,0)","v":0},{"$f":"IF(D24=\"x\",-1,0)","v":0},{"$f":"IF(E24=\"x\",0,0)","v":0},{"$f":"IF(F24=\"x\",1,0)","v":0},{"$f":"IF(G24=\"x\",2,0)","v":0},null,{"$f":"N22*'1_COMMUNITY EVALUATION'!N31","v":0.25}]
[18,"Capacity of the stakeholder to engage with local authorities/other stakeholders",null,null,null,null,null,{"$f":"IF(C25=\"x\",-2,0)","v":0},{"$f":"IF(D25=\"x\",-1,0)","v":0},{"$f":"IF(E25=\"x\",0,0)","v":0},{"$f":"IF(F25=\"x\",1,0)","v":0},{"$f":"IF(G25=\"x\",2,0)","v":0}]
[19,"Capacity of the stakeholder to influence public opinion",null,null,null,null,null,{"$f":"IF(C26=\"x\",-2,0)","v":0},{"$f":"IF(D26=\"x\",-1,0)","v":0},{"$f":"IF(E26=\"x\",0,0)","v":0},{"$f":"IF(F26=\"x\",1,0)","v":0},{"$f":"IF(G26=\"x\",2,0)","v":0}]
[20,"Political awareness of the stakeholder",null,null,null,null,null,{"$f":"IF(C27=\"x\",-2,0)","v":0},{"$f":"IF(D27=\"x\",-1,0)","v":0},{"$f":"IF(E27=\"x\",0,0)","v":0},{"$f":"IF(F27=\"x\",1,0)","v":0},{"$f":"IF(G27=\"x\",2,0)","v":0}]
[null,"RELEVANCE SCORE",null,null,null,null,null,null,null,null,null,null,null,{"$f":"IF(C2=\"\",\"\",(SUM(N24+N18+N12+N6)/4))","v":""}]
[]
[null,"DIMENSIONS","Extremely Negative","Negative","not applicable","Positive","Extremely positive",-2,-1,0,1,2,null,"score per dimension"]
[null,"(1) Social capital",null,null,null,null,null,null,null,null,null,null,{"$f":"SUM(H32:L36)","v":0},{"$f":"(((M31-(-10))*(1-0))/(10-(-10)))+0","v":0.5}]
[1,"Interest for the stakeholder to engage in networking for the topic at stake ",null,null,null,null,null,{"$f":"IF(C32=\"x\",-2,0)","v":0},{"$f":"IF(D32=\"x\",-1,0)","v":0},{"$f":"IF(E32=\"x\",0,0)","v":0},{"$f":"IF(F32=\"x\",1,0)","v":0},{"$f":"IF(G32=\"x\",2,0)","v":0},null,"Weighted value"]
[2,"Interest of the stakeholder to represent a specific category for the topic at stake",null,null,null,null,null,{"$f":"IF(C33=\"x\",-2,0)","v":0},{"$f":"IF(D33=\"x\",-1,0)","v":0},{"$f":"IF(E33=\"x\",0,0)","v":0},{"$f":"IF(F33=\"x\",1,0)","v":0},{"$f":"IF(G33=\"x\",2,0)","v":0},null,{"$f":"N31*'1_COMMUNITY EVALUATION'!N4","v":0.25}]
[3,"Interest of the stakeholder to be involved further in civil society activism for the topic at stake",null,null,null,null,null,{"$f":"IF(C34=\"x\",-2,0)","v":0},{"$f":"IF(D34=\"x\",-1,0)","v":0},{"$f":"IF(E34=\"x\",0,0)","v":0},{"$f":"IF(F34=\"x\",1,0)","v":0},{"$f":"IF(G34=\"x\",2,0)","v":0}]
[4,"interest of the stakeholder to start/influence change",null,null,null,null,null,{"$f":"IF(C35=\"x\",-2,0)","v":0},{"$f":"IF(D35=\"x\",-1,0)","v":0},{"$f":"IF(E35=\"x\",0,0)","v":0},{"$f":"IF(F35=\"x\",1,0)","v":0},{"$f":"IF(G35=\"x\",2,0)","v":0}]
[5,"Interest of the stakeholder to increase its own acknowledgement among citizens",null,null,null,null,null,{"$f":"IF(C36=\"x\",-2,0)","v":0},{"$f":"IF(D36=\"x\",-1,0)","v":0},{"$f":"IF(E36=\"x\",0,0)","v":0},{"$f":"IF(F36=\"x\",1,0)","v":0},{"$f":"IF(G36=\"x\",2,0)","v":0}]
[null,"(2) Economic capital",null,null,null,null,null,null,null,null,null,null,{"$f":"SUM(H38:L42)","v":0},{"$f":"(((M37-(-10))*(1-0))/(10-(-10)))+0","v":0.5}]
[6,"Potential economic benefit for the stakeholder ",null,null,null,null,null,{"$f":"IF(C38=\"x\",-2,0)","v":0},{"$f":"IF(D38=\"x\",-1,0)","v":0},{"$f":"IF(E38=\"x\",0,0)","v":0},{"$f":"IF(F38=\"x\",1,0)","v":0},{"$f":"IF(G38=\"x\",2,0)","v":0},null,"Weighted value"]
[7,"Willingness of the stakeholder to mobilise resources ",null,null,null,null,null,{"$f":"IF(C39=\"x\",-2,0)","v":0},{"$f":"IF(D39=\"x\",-1,0)","v":0},{"$f":"IF(E39=\"x\",0,0)","v":0},{"$f":"IF(F39=\"x\",1,0)","v":0},{"$f":"IF(G39=\"x\",2,0)","v":0},null,{"$f":"N37*'1_COMMUNITY EVALUATION'!N13","v":0.25}]
[8,"Willingness of the stakeholder to support access to existing exogenous resources",null,null,null,null,null,{"$f":"IF(C40=\"x\",-2,0)","v":0},{"$f":"IF(D40=\"x\",-1,0)","v":0},{"$f":"IF(E40=\"x\",0,0)","v":0},{"$f":"IF(F40=\"x\",1,0)","v":0},{"$f":"IF(G40=\"x\",2,0)","v":0}]
[9,"Propensity of the stakeholder to provide in-kind support",null,null,null,null,null,{"$f":"IF(C41=\"x\",-2,0)","v":0},{"$f":"IF(D41=\"x\",-1,0)","v":0},{"$f":"IF(E41=\"x\",0,0)","v":0},{"$f":"IF(F41=\"x\",1,0)","v":0},{"$f":"IF(G41=\"x\",2,0)","v":0}]
[10,"Interest of the stakeholder in increasing its own influence on the job market",null,null,null,null,null,{"$f":"IF(C42=\"x\",-2,0)","v":0},{"$f":"IF(D42=\"x\",-1,0)","v":0},{"$f":"IF(E42=\"x\",0,0)","v":0},{"$f":"IF(F42=\"x\",1,0)","v":0},{"$f":"IF(G42=\"x\",2,0)","v":0}]
[null,"(3) Human capital",null,null,null,null,null,null,null,null,null,null,{"$f":"SUM(H44:L48)","v":0},{"$f":"(((M43-(-10))*(1-0))/(10-(-10)))+0","v":0.5}]
[11,"Interest of the stakeholder to share/increase own knowledge/skills on the topic",null,null,null,null,null,{"$f":"IF(C44=\"x\",-2,0)","v":0},{"$f":"IF(D44=\"x\",-1,0)","v":0},{"$f":"IF(E44=\"x\",0,0)","v":0},{"$f":"IF(F44=\"x\",1,0)","v":0},{"$f":"IF(G44=\"x\",2,0)","v":0},null,"Weighted value"]
[12,"Willingness of the stakeholder to share/increase own awareness on the topic",null,null,null,null,null,{"$f":"IF(C45=\"x\",-2,0)","v":0},{"$f":"IF(D45=\"x\",-1,0)","v":0},{"$f":"IF(E45=\"x\",0,0)","v":0},{"$f":"IF(F45=\"x\",1,0)","v":0},{"$f":"IF(G45=\"x\",2,0)","v":0},null,{"$f":"N43*'1_COMMUNITY EVALUATION'!N22","v":0.25}]
[13,"Willingness of the stakeholder to engage in public debate",null,null,null,null,null,{"$f":"IF(C46=\"x\",-2,0)","v":0},{"$f":"IF(D46=\"x\",-1,0)","v":0},{"$f":"IF(E46=\"x\",0,0)","v":0},{"$f":"IF(F46=\"x\",1,0)","v":0},{"$f":"IF(G46=\"x\",2,0)","v":0}]
[14,"Willingness of the stakeholder to communicate through a range of different media",null,null,null,null,null,{"$f":"IF(C47=\"x\",-2,0)","v":0},{"$f":"IF(D47=\"x\",-1,0)","v":0},{"$f":"IF(E47=\"x\",0,0)","v":0},{"$f":"IF(F47=\"x\",1,0)","v":0},{"$f":"IF(G47=\"x\",2,0)","v":0}]
[15,"Willingness of the stakeholder to access public venues",null,null,null,null,null,{"$f":"IF(C48=\"x\",-2,0)","v":0},{"$f":"IF(D48=\"x\",-1,0)","v":0},{"$f":"IF(E48=\"x\",0,0)","v":0},{"$f":"IF(F48=\"x\",1,0)","v":0},{"$f":"IF(G48=\"x\",2,0)","v":0}]
[null,"(4) Political capital",null,null,null,null,null,null,null,null,null,null,{"$f":"SUM(H50:L54)","v":0},{"$f":"(((M49-(-10))*(1-0))/(10-(-10)))+0","v":0.5}]
[16,"Trust of the stakeholder towards the local administration",null,null,null,null,null,{"$f":"IF(C50=\"x\",-2,0)","v":0},{"$f":"IF(D50=\"x\",-1,0)","v":0},{"$f":"IF(E50=\"x\",0,0)","v":0},{"$f":"IF(F50=\"x\",1,0)","v":0},{"$f":"IF(G50=\"x\",2,0)","v":0},null,"Weighted value"]
[17,"Political interest of the stakeholder in the topic",null,null,null,null,null,{"$f":"IF(C51=\"x\",-2,0)","v":0},{"$f":"IF(D51=\"x\",-1,0)","v":0},{"$f":"IF(E51=\"x\",0,0)","v":0},{"$f":"IF(F51=\"x\",1,0)","v":0},{"$f":"IF(G51=\"x\",2,0)","v":0},null,{"$f":"N49*'1_COMMUNITY EVALUATION'!N31","v":0.25}]
[18,"Willingness of the stakeholder to engage with local authorities",null,null,null,null,null,{"$f":"IF(C52=\"x\",-2,0)","v":0},{"$f":"IF(D52=\"x\",-1,0)","v":0},{"$f":"IF(E52=\"x\",0,0)","v":0},{"$f":"IF(F52=\"x\",1,0)","v":0},{"$f":"IF(G52=\"x\",2,0)","v":0}]
[19,"Interest for the stakeholder to reach out to a wider public",null,null,null,null,null,{"$f":"IF(C53=\"x\",-2,0)","v":0},{"$f":"IF(D53=\"x\",-1,0)","v":0},{"$f":"IF(E53=\"x\",0,0)","v":0},{"$f":"IF(F53=\"x\",1,0)","v":0},{"$f":"IF(G53=\"x\",2,0)","v":0}]
[20,"Willingness of the stakeholder to share/increase own political awareness",null,null,null,null,null,{"$f":"IF(C54=\"x\",-2,0)","v":0},{"$f":"IF(D54=\"x\",-1,0)","v":0},{"$f":"IF(E54=\"x\",0,0)","v":0},{"$f":"IF(F54=\"x\",1,0)","v":0},{"$f":"IF(G54=\"x\",2,0)","v":0}]
[null,"INTEREST SCORE",null,null,null,null,null,null,null,null,null,null,null,{"$f":"IF(C2=\"\",\"\",(SUM(N51+N45+N39+N33)/4))","v":""}]

{"sheet":"STAKEHOLDER (14)","index":18,"n_rows":55,"n_cols":14,"rows_kept":55,"cut":false,"hidden":false,"merged":[[0,0,0,13],[1,2,1,13],[27,1,27,6],[54,1,54,6]]}
["Bearing in mind the topic at hand, please evaluate the stakeholder for each proposed item (row) by it marking with an 'x' (from extremely negative to extremely positive)."]
[null,"STAKEHOLDER - insert name ->"]
[null,"DIMENSIONS","Extremely Negative","Negative","not applicable","Positive","Extremely positive",-2,-1,0,1,2,null,"score per dimension"]
[null,"(1) Social capital",null,null,null,null,null,null,null,null,null,null,{"$f":"SUM(H5:L9)","v":0},{"$f":"(((M4-(-10))*(1-0))/(10-(-10)))+0","v":0.5}]
[1,"Capacity of the stakeholder to involve other stakeholders ",null,null,null,null,null,{"$f":"IF(C5=\"x\",-2,0)","v":0},{"$f":"IF(D5=\"x\",-1,0)","v":0},{"$f":"IF(E5=\"x\",0,0)","v":0},{"$f":"IF(F5=\"x\",1,0)","v":0},{"$f":"IF(G5=\"x\",2,0)","v":0},null,"Weighted value"]
[2,"Level of representativeness of the stakeholder of a specific category",null,null,null,null,null,{"$f":"IF(C6=\"x\",-2,0)","v":0},{"$f":"IF(D6=\"x\",-1,0)","v":0},{"$f":"IF(E6=\"x\",0,0)","v":0},{"$f":"IF(F6=\"x\",1,0)","v":0},{"$f":"IF(G6=\"x\",2,0)","v":0},null,{"$f":"N4*'1_COMMUNITY EVALUATION'!N4","v":0.25}]
[3,"Level of participation of the stakeholder to local civil society activities",null,null,null,null,null,{"$f":"IF(C7=\"x\",-2,0)","v":0},{"$f":"IF(D7=\"x\",-1,0)","v":0},{"$f":"IF(E7=\"x\",0,0)","v":0},{"$f":"IF(F7=\"x\",1,0)","v":0},{"$f":"IF(G7=\"x\",2,0)","v":0}]
[4,"Capacity of the stakeholder to start/influence change",null,null,null,null,null,{"$f":"IF(C8=\"x\",-2,0)","v":0},{"$f":"IF(D8=\"x\",-1,0)","v":0},{"$f":"IF(E8=\"x\",0,0)","v":0},{"$f":"IF(F8=\"x\",1,0)","v":0},{"$f":"IF(G8=\"x\",2,0)","v":0}]
[5,"Level of acknowledgment of the stakeholder among citizens",null,null,null,null,null,{"$f":"IF(C9=\"x\",-2,0)","v":0},{"$f":"IF(D9=\"x\",-1,0)","v":0},{"$f":"IF(E9=\"x\",0,0)","v":0},{"$f":"IF(F9=\"x\",1,0)","v":0},{"$f":"IF(G9=\"x\",2,0)","v":0}]
[null,"(2) Economic capital",null,null,null,null,null,null,null,null,null,null,{"$f":"SUM(H11:L15)","v":0},{"$f":"(((M10-(-10))*(1-0))/(10-(-10)))+0","v":0.5}]
[6,"Capacity of the stakeholder to act as donor",null,null,null,null,null,{"$f":"IF(C11=\"x\",-2,0)","v":0},{"$f":"IF(D11=\"x\",-1,0)","v":0},{"$f":"IF(E11=\"x\",0,0)","v":0},{"$f":"IF(F11=\"x\",1,0)","v":0},{"$f":"IF(G11=\"x\",2,0)","v":0},null,"Weighted value"]
[7,"Capacity of the stakeholder to influence resources' allocation",null,null,null,null,null,{"$f":"IF(C12=\"x\",-2,0)","v":0},{"$f":"IF(D12=\"x\",-1,0)","v":0},{"$f":"IF(E12=\"x\",0,0)","v":0},{"$f":"IF(F12=\"x\",1,0)","v":0},{"$f":"IF(G12=\"x\",2,0)","v":0},null,{"$f":"N10*'1_COMMUNITY EVALUATION'!N13","v":0.25}]
[8,"Capacity to facilitate access to existing exogenous resources ",null,null,null,null,null,{"$f":"IF(C13=\"x\",-2,0)","v":0},{"$f":"IF(D13=\"x\",-1,0)","v":0},{"$f":"IF(E13=\"x\",0,0)","v":0},{"$f":"IF(F13=\"x\",1,0)","v":0},{"$f":"IF(G13=\"x\",2,0)","v":0}]
[9,"Capacity of the stakeholder to provide in-kind support",null,null,null,null,null,{"$f":"IF(C14=\"x\",-2,0)","v":0},{"$f":"IF(D14=\"x\",-1,0)","v":0},{"$f":"IF(E14=\"x\",0,0)","v":0},{"$f":"IF(F14=\"x\",1,0)","v":0},{"$f":"IF(G14=\"x\",2,0)","v":0}]
[10,"Influence of the stakeholder on the job market",null,null,null,null,null,{"$f":"IF(C15=\"x\",-2,0)","v":0},{"$f":"IF(D15=\"x\",-1,0)","v":0},{"$f":"IF(E15=\"x\",0,0)","v":0},{"$f":"IF(F15=\"x\",1,0)","v":0},{"$f":"IF(G15=\"x\",2,0)","v":0}]
[null,"(3) Human capital",null,null,null,null,null,null,null,null,null,null,{"$f":"SUM(H17:L21)","v":0},{"$f":"(((M16-(-10))*(1-0))/(10-(-10)))+0","v":0.5}]
[11,"Knowledge/skills of the stakeholder on the topic",null,null,null,null,null,{"$f":"IF(C17=\"x\",-2,0)","v":0},{"$f":"IF(D17=\"x\",-1,0)","v":0},{"$f":"IF(E17=\"x\",0,0)","v":0},{"$f":"IF(F17=\"x\",1,0)","v":0},{"$f":"IF(G17=\"x\",2,0)","v":0},null,"Weighted value"]
[12,"Awareness of the stakeholder on the topic",null,null,null,null,null,{"$f":"IF(C18=\"x\",-2,0)","v":0},{"$f":"IF(D18=\"x\",-1,0)","v":0},{"$f":"IF(E18=\"x\",0,0)","v":0},{"$f":"IF(F18=\"x\",1,0)","v":0},{"$f":"IF(G18=\"x\",2,0)","v":0},null,{"$f":"N16*'1_COMMUNITY EVALUATION'!N22","v":0.25}]
[13,"Capacity of the stakeholder to engage in public debate",null,null,null,null,null,{"$f":"IF(C19=\"x\",-2,0)","v":0},{"$f":"IF(D19=\"x\",-1,0)","v":0},{"$f":"IF(E19=\"x\",0,0)","v":0},{"$f":"IF(F19=\"x\",1,0)","v":0},{"$f":"IF(G19=\"x\",2,0)","v":0}]
[14,"Capacity of the stakeholder to communicate through a range of different media",null,null,null,null,null,{"$f":"IF(C20=\"x\",-2,0)","v":0},{"$f":"IF(D20=\"x\",-1,0)","v":0},{"$f":"IF(E20=\"x\",0,0)","v":0},{"$f":"IF(F20=\"x\",1,0)","v":0},{"$f":"IF(G20=\"x\",2,0)","v":0}]
[15,"Capacity of the stakeholder to access public venues",null,null,null,null,null,{"$f":"IF(C21=\"x\",-2,0)","v":0},{"$f":"IF(D21=\"x\",-1,0)","v":0},{"$f":"IF(E21=\"x\",0,0)","v":0},{"$f":"IF(F21=\"x\",1,0)","v":0},{"$f":"IF(G21=\"x\",2,0)","v":0}]
[null,"(4) Political capital",null,null,null,null,null,null,null,null,null,null,{"$f":"SUM(H23:L27)","v":0},{"$f":"(((M22-(-10))*(1-0))/(10-(-10)))+0","v":0.5}]
[16,"Trust of the local administration towards the stakeholder ",null,null,null,null,null,{"$f":"IF(C23=\"x\",-2,0)","v":0},{"$f":"IF(D23=\"x\",-1,0)","v":0},{"$f":"IF(E23=\"x\",0,0)","v":0},{"$f":"IF(F23=\"x\",1,0)","v":0},{"$f":"IF(G23=\"x\",2,0)","v":0},null,"Weighted value"]
[17,"Capacity of the stakeholder to engage further political actors",null,null,null,null,null,{"$f":"IF(C24=\"x\",-2,0)","v":0},{"$f":"IF(D24=\"x\",-1,0)","v":0},{"$f":"IF(E24=\"x\",0,0)","v":0},{"$f":"IF(F24=\"x\",1,0)","v":0},{"$f":"IF(G24=\"x\",2,0)","v":0},null,{"$f":"N22*'1_COMMUNITY EVALUATION'!N31","v":0.25}]
[18,"Capacity of the stakeholder to engage with local authorities/other stakeholders",null,null,null,null,null,{"$f":"IF(C25=\"x\",-2,0)","v":0},{"$f":"IF(D25=\"x\",-1,0)","v":0},{"$f":"IF(E25=\"x\",0,0)","v":0},{"$f":"IF(F25=\"x\",1,0)","v":0},{"$f":"IF(G25=\"x\",2,0)","v":0}]
[19,"Capacity of the stakeholder to influence public opinion",null,null,null,null,null,{"$f":"IF(C26=\"x\",-2,0)","v":0},{"$f":"IF(D26=\"x\",-1,0)","v":0},{"$f":"IF(E26=\"x\",0,0)","v":0},{"$f":"IF(F26=\"x\",1,0)","v":0},{"$f":"IF(G26=\"x\",2,0)","v":0}]
[20,"Political awareness of the stakeholder",null,null,null,null,null,{"$f":"IF(C27=\"x\",-2,0)","v":0},{"$f":"IF(D27=\"x\",-1,0)","v":0},{"$f":"IF(E27=\"x\",0,0)","v":0},{"$f":"IF(F27=\"x\",1,0)","v":0},{"$f":"IF(G27=\"x\",2,0)","v":0}]
[null,"RELEVANCE SCORE",null,null,null,null,null,null,null,null,null,null,null,{"$f":"IF(C2=\"\",\"\",(SUM(N24+N18+N12+N6)/4))","v":""}]
[]
[null,"DIMENSIONS","Extremely Negative","Negative","not applicable","Positive","Extremely positive",-2,-1,0,1,2,null,"score per dimension"]
[null,"(1) Social capital",null,null,null,null,null,null,null,null,null,null,{"$f":"SUM(H32:L36)","v":0},{"$f":"(((M31-(-10))*(1-0))/(10-(-10)))+0","v":0.5}]
[1,"Interest for the stakeholder to engage in networking for the topic at stake ",null,null,null,null,null,{"$f":"IF(C32=\"x\",-2,0)","v":0},{"$f":"IF(D32=\"x\",-1,0)","v":0},{"$f":"IF(E32=\"x\",0,0)","v":0},{"$f":"IF(F32=\"x\",1,0)","v":0},{"$f":"IF(G32=\"x\",2,0)","v":0},null,"Weighted value"]
[2,"Interest of the stakeholder to represent a specific category for the topic at stake",null,null,null,null,null,{"$f":"IF(C33=\"x\",-2,0)","v":0},{"$f":"IF(D33=\"x\",-1,0)","v":0},{"$f":"IF(E33=\"x\",0,0)","v":0},{"$f":"IF(F33=\"x\",1,0)","v":0},{"$f":"IF(G33=\"x\",2,0)","v":0},null,{"$f":"N31*'1_COMMUNITY EVALUATION'!N4","v":0.25}]
[3,"Interest of the stakeholder to be involved further in civil society activism for the topic at stake",null,null,null,null,null,{"$f":"IF(C34=\"x\",-2,0)","v":0},{"$f":"IF(D34=\"x\",-1,0)","v":0},{"$f":"IF(E34=\"x\",0,0)","v":0},{"$f":"IF(F34=\"x\",1,0)","v":0},{"$f":"IF(G34=\"x\",2,0)","v":0}]
[4,"interest of the stakeholder to start/influence change",null,null,null,null,null,{"$f":"IF(C35=\"x\",-2,0)","v":0},{"$f":"IF(D35=\"x\",-1,0)","v":0},{"$f":"IF(E35=\"x\",0,0)","v":0},{"$f":"IF(F35=\"x\",1,0)","v":0},{"$f":"IF(G35=\"x\",2,0)","v":0}]
[5,"Interest of the stakeholder to increase its own acknowledgement among citizens",null,null,null,null,null,{"$f":"IF(C36=\"x\",-2,0)","v":0},{"$f":"IF(D36=\"x\",-1,0)","v":0},{"$f":"IF(E36=\"x\",0,0)","v":0},{"$f":"IF(F36=\"x\",1,0)","v":0},{"$f":"IF(G36=\"x\",2,0)","v":0}]
[null,"(2) Economic capital",null,null,null,null,null,null,null,null,null,null,{"$f":"SUM(H38:L42)","v":0},{"$f":"(((M37-(-10))*(1-0))/(10-(-10)))+0","v":0.5}]
[6,"Potential economic benefit for the stakeholder ",null,null,null,null,null,{"$f":"IF(C38=\"x\",-2,0)","v":0},{"$f":"IF(D38=\"x\",-1,0)","v":0},{"$f":"IF(E38=\"x\",0,0)","v":0},{"$f":"IF(F38=\"x\",1,0)","v":0},{"$f":"IF(G38=\"x\",2,0)","v":0},null,"Weighted value"]
[7,"Willingness of the stakeholder to mobilise resources ",null,null,null,null,null,{"$f":"IF(C39=\"x\",-2,0)","v":0},{"$f":"IF(D39=\"x\",-1,0)","v":0},{"$f":"IF(E39=\"x\",0,0)","v":0},{"$f":"IF(F39=\"x\",1,0)","v":0},{"$f":"IF(G39=\"x\",2,0)","v":0},null,{"$f":"N37*'1_COMMUNITY EVALUATION'!N13","v":0.25}]
[8,"Willingness of the stakeholder to support access to existing exogenous resources",null,null,null,null,null,{"$f":"IF(C40=\"x\",-2,0)","v":0},{"$f":"IF(D40=\"x\",-1,0)","v":0},{"$f":"IF(E40=\"x\",0,0)","v":0},{"$f":"IF(F40=\"x\",1,0)","v":0},{"$f":"IF(G40=\"x\",2,0)","v":0}]
[9,"Propensity of the stakeholder to provide in-kind support",null,null,null,null,null,{"$f":"IF(C41=\"x\",-2,0)","v":0},{"$f":"IF(D41=\"x\",-1,0)","v":0},{"$f":"IF(E41=\"x\",0,0)","v":0},{"$f":"IF(F41=\"x\",1,0)","v":0},{"$f":"IF(G41=\"x\",2,0)","v":0}]
[10,"Interest of the stakeholder in increasing its own influence on the job market",null,null,null,null,null,{"$f":"IF(C42=\"x\",-2,0)","v":0},{"$f":"IF(D42=\"x\",-1,0)","v":0},{"$f":"IF(E42=\"x\",0,0)","v":0},{"$f":"IF(F42=\"x\",1,0)","v":0},{"$f":"IF(G42=\"x\",2,0)","v":0}]
[null,"(3) Human capital",null,null,null,null,null,null,null,null,null,null,{"$f":"SUM(H44:L48)","v":0},{"$f":"(((M43-(-10))*(1-0))/(10-(-10)))+0","v":0.5}]
[11,"Interest of the stakeholder to share/increase own knowledge/skills on the topic",null,null,null,null,null,{"$f":"IF(C44=\"x\",-2,0)","v":0},{"$f":"IF(D44=\"x\",-1,0)","v":0},{"$f":"IF(E44=\"x\",0,0)","v":0},{"$f":"IF(F44=\"x\",1,0)","v":0},{"$f":"IF(G44=\"x\",2,0)","v":0},null,"Weighted value"]
[12,"Willingness of the stakeholder to share/increase own awareness on the topic",null,null,null,null,null,{"$f":"IF(C45=\"x\",-2,0)","v":0},{"$f":"IF(D45=\"x\",-1,0)","v":0},{"$f":"IF(E45=\"x\",0,0)","v":0},{"$f":"IF(F45=\"x\",1,0)","v":0},{"$f":"IF(G45=\"x\",2,0)","v":0},null,{"$f":"N43*'1_COMMUNITY EVALUATION'!N22","v":0.25}]
[13,"Willingness of the stakeholder to engage in public debate",null,null,null,null,null,{"$f":"IF(C46=\"x\",-2,0)","v":0},{"$f":"IF(D46=\"x\",-1,0)","v":0},{"$f":"IF(E46=\"x\",0,0)","v":0},{"$f":"IF(F46=\"x\",1,0)","v":0},{"$f":"IF(G46=\"x\",2,0)","v":0}]
[14,"Willingness of the stakeholder to communicate through a range of different media",null,null,null,null,null,{"$f":"IF(C47=\"x\",-2,0)","v":0},{"$f":"IF(D47=\"x\",-1,0)","v":0},{"$f":"IF(E47=\"x\",0,0)","v":0},{"$f":"IF(F47=\"x\",1,0)","v":0},{"$f":"IF(G47=\"x\",2,0)","v":0}]
[15,"Willingness of the stakeholder to access public venues",null,null,null,null,null,{"$f":"IF(C48=\"x\",-2,0)","v":0},{"$f":"IF(D48=\"x\",-1,0)","v":0},{"$f":"IF(E48=\"x\",0,0)","v":0},{"$f":"IF(F48=\"x\",1,0)","v":0},{"$f":"IF(G48=\"x\",2,0)","v":0}]
[null,"(4) Political capital",null,null,null,null,null,null,null,null,null,null,{"$f":"SUM(H50:L54)","v":0},{"$f":"(((M49-(-10))*(1-0))/(10-(-10)))+0","v":0.5}]
[16,"Trust of the stakeholder towards the local administration",null,null,null,null,null,{"$f":"IF(C50=\"x\",-2,0)","v":0},{"$f":"IF(D50=\"x\",-1,0)","v":0},{"$f":"IF(E50=\"x\",0,0)","v":0},{"$f":"IF(F50=\"x\",1,0)","v":0},{"$f":"IF(G50=\"x\",2,0)","v":0},null,"Weighted value"]
[17,"Political interest of the stakeholder in the topic",null,null,null,null,null,{"$f":"IF(C51=\"x\",-2,0)","v":0},{"$f":"IF(D51=\"x\",-1,0)","v":0},{"$f":"IF(E51=\"x\",0,0)","v":0},{"$f":"IF(F51=\"x\",1,0)","v":0},{"$f":"IF(G51=\"x\",2,0)","v":0},null,{"$f":"N49*'1_COMMUNITY EVALUATION'!N31","v":0.25}]
[18,"Willingness of the stakeholder to engage with local authorities",null,null,null,null,null,{"$f":"IF(C52=\"x\",-2,0)","v":0},{"$f":"IF(D52=\"x\",-1,0)","v":0},{"$f":"IF(E52=\"x\",0,0)","v":0},{"$f":"IF(F52=\"x\",1,0)","v":0},{"$f":"IF(G52=\"x\",2,0)","v":0}]
[19,"Interest for the stakeholder to reach out to a wider public",null,null,null,null,null,{"$f":"IF(C53=\"x\",-2,0)","v":0},{"$f":"IF(D53=\"x\",-1,0)","v":0},{"$f":"IF(E53=\"x\",0,0)","v":0},{"$f":"IF(F53=\"x\",1,0)","v":0},{"$f":"IF(G53=\"x\",2,0)","v":0}]
[20,"Willingness of the stakeholder to share/increase own political awareness",null,null,null,null,null,{"$f":"IF(C54=\"x\",-2,0)","v":0},{"$f":"IF(D54=\"x\",-1,0)","v":0},{"$f":"IF(E54=\"x\",0,0)","v":0},{"$f":"IF(F54=\"x\",1,0)","v":0},{"$f":"IF(G54=\"x\",2,0)","v":0}]
[null,"INTEREST SCORE",null,null,null,null,null,null,null,null,null,null,null,{"$f":"IF(C2=\"\",\"\",(SUM(N51+N45+N39+N33)/4))","v":""}]

{"sheet":"STAKEHOLDER (15)","index":19,"n_rows":55,"n_cols":14,"rows_kept":55,"cut":false,"hidden":false,"merged":[[0,0,0,13],[1,2,1,13],[27,1,27,6],[54,1,54,6]]}
["Bearing in mind the topic at hand, please evaluate the stakeholder for each proposed item (row) by it marking with an 'x' (from extremely negative to extremely positive)."]
[null,"STAKEHOLDER - insert name ->"]
[null,"DIMENSIONS","Extremely Negative","Negative","not applicable","Positive","Extremely positive",-2,-1,0,1,2,null,"score per dimension"]
[null,"(1) Social capital",null,null,null,null,null,null,null,null,null,null,{"$f":"SUM(H5:L9)","v":0},{"$f":"(((M4-(-10))*(1-0))/(10-(-10)))+0","v":0.5}]
[1,"Capacity of the stakeholder to involve other stakeholders ",null,null,null,null,null,{"$f":"IF(C5=\"x\",-2,0)","v":0},{"$f":"IF(D5=\"x\",-1,0)","v":0},{"$f":"IF(E5=\"x\",0,0)","v":0},{"$f":"IF(F5=\"x\",1,0)","v":0},{"$f":"IF(G5=\"x\",2,0)","v":0},null,"Weighted value"]
[2,"Level of representativeness of the stakeholder of a specific category",null,null,null,null,null,{"$f":"IF(C6=\"x\",-2,0)","v":0},{"$f":"IF(D6=\"x\",-1,0)","v":0},{"$f":"IF(E6=\"x\",0,0)","v":0},{"$f":"IF(F6=\"x\",1,0)","v":0},{"$f":"IF(G6=\"x\",2,0)","v":0},null,{"$f":"N4*'1_COMMUNITY EVALUATION'!N4","v":0.25}]
[3,"Level of participation of the stakeholder to local civil society activities",null,null,null,null,null,{"$f":"IF(C7=\"x\",-2,0)","v":0},{"$f":"IF(D7=\"x\",-1,0)","v":0},{"$f":"IF(E7=\"x\",0,0)","v":0},{"$f":"IF(F7=\"x\",1,0)","v":0},{"$f":"IF(G7=\"x\",2,0)","v":0}]
[4,"Capacity of the stakeholder to start/influence change",null,null,null,null,null,{"$f":"IF(C8=\"x\",-2,0)","v":0},{"$f":"IF(D8=\"x\",-1,0)","v":0},{"$f":"IF(E8=\"x\",0,0)","v":0},{"$f":"IF(F8=\"x\",1,0)","v":0},{"$f":"IF(G8=\"x\",2,0)","v":0}]
[5,"Level of acknowledgment of the stakeholder among citizens",null,null,null,null,null,{"$f":"IF(C9=\"x\",-2,0)","v":0},{"$f":"IF(D9=\"x\",-1,0)","v":0},{"$f":"IF(E9=\"x\",0,0)","v":0},{"$f":"IF(F9=\"x\",1,0)","v":0},{"$f":"IF(G9=\"x\",2,0)","v":0}]
[null,"(2) Economic capital",null,null,null,null,null,null,null,null,null,null,{"$f":"SUM(H11:L15)","v":0},{"$f":"(((M10-(-10))*(1-0))/(10-(-10)))+0","v":0.5}]
[6,"Capacity of the stakeholder to act as donor",null,null,null,null,null,{"$f":"IF(C11=\"x\",-2,0)","v":0},{"$f":"IF(D11=\"x\",-1,0)","v":0},{"$f":"IF(E11=\"x\",0,0)","v":0},{"$f":"IF(F11=\"x\",1,0)","v":0},{"$f":"IF(G11=\"x\",2,0)","v":0},null,"Weighted value"]
[7,"Capacity of the stakeholder to influence resources' allocation",null,null,null,null,null,{"$f":"IF(C12=\"x\",-2,0)","v":0},{"$f":"IF(D12=\"x\",-1,0)","v":0},{"$f":"IF(E12=\"x\",0,0)","v":0},{"$f":"IF(F12=\"x\",1,0)","v":0},{"$f":"IF(G12=\"x\",2,0)","v":0},null,{"$f":"N10*'1_COMMUNITY EVALUATION'!N13","v":0.25}]
[8,"Capacity to facilitate access to existing exogenous resources ",null,null,null,null,null,{"$f":"IF(C13=\"x\",-2,0)","v":0},{"$f":"IF(D13=\"x\",-1,0)","v":0},{"$f":"IF(E13=\"x\",0,0)","v":0},{"$f":"IF(F13=\"x\",1,0)","v":0},{"$f":"IF(G13=\"x\",2,0)","v":0}]
[9,"Capacity of the stakeholder to provide in-kind support",null,null,null,null,null,{"$f":"IF(C14=\"x\",-2,0)","v":0},{"$f":"IF(D14=\"x\",-1,0)","v":0},{"$f":"IF(E14=\"x\",0,0)","v":0},{"$f":"IF(F14=\"x\",1,0)","v":0},{"$f":"IF(G14=\"x\",2,0)","v":0}]
[10,"Influence of the stakeholder on the job market",null,null,null,null,null,{"$f":"IF(C15=\"x\",-2,0)","v":0},{"$f":"IF(D15=\"x\",-1,0)","v":0},{"$f":"IF(E15=\"x\",0,0)","v":0},{"$f":"IF(F15=\"x\",1,0)","v":0},{"$f":"IF(G15=\"x\",2,0)","v":0}]
[null,"(3) Human capital",null,null,null,null,null,null,null,null,null,null,{"$f":"SUM(H17:L21)","v":0},{"$f":"(((M16-(-10))*(1-0))/(10-(-10)))+0","v":0.5}]
[11,"Knowledge/skills of the stakeholder on the topic",null,null,null,null,null,{"$f":"IF(C17=\"x\",-2,0)","v":0},{"$f":"IF(D17=\"x\",-1,0)","v":0},{"$f":"IF(E17=\"x\",0,0)","v":0},{"$f":"IF(F17=\"x\",1,0)","v":0},{"$f":"IF(G17=\"x\",2,0)","v":0},null,"Weighted value"]
[12,"Awareness of the stakeholder on the topic",null,null,null,null,null,{"$f":"IF(C18=\"x\",-2,0)","v":0},{"$f":"IF(D18=\"x\",-1,0)","v":0},{"$f":"IF(E18=\"x\",0,0)","v":0},{"$f":"IF(F18=\"x\",1,0)","v":0},{"$f":"IF(G18=\"x\",2,0)","v":0},null,{"$f":"N16*'1_COMMUNITY EVALUATION'!N22","v":0.25}]
[13,"Capacity of the stakeholder to engage in public debate",null,null,null,null,null,{"$f":"IF(C19=\"x\",-2,0)","v":0},{"$f":"IF(D19=\"x\",-1,0)","v":0},{"$f":"IF(E19=\"x\",0,0)","v":0},{"$f":"IF(F19=\"x\",1,0)","v":0},{"$f":"IF(G19=\"x\",2,0)","v":0}]
[14,"Capacity of the stakeholder to communicate through a range of different media",null,null,null,null,null,{"$f":"IF(C20=\"x\",-2,0)","v":0},{"$f":"IF(D20=\"x\",-1,0)","v":0},{"$f":"IF(E20=\"x\",0,0)","v":0},{"$f":"IF(F20=\"x\",1,0)","v":0},{"$f":"IF(G20=\"x\",2,0)","v":0}]
[15,"Capacity of the stakeholder to access public venues",null,null,null,null,null,{"$f":"IF(C21=\"x\",-2,0)","v":0},{"$f":"IF(D21=\"x\",-1,0)","v":0},{"$f":"IF(E21=\"x\",0,0)","v":0},{"$f":"IF(F21=\"x\",1,0)","v":0},{"$f":"IF(G21=\"x\",2,0)","v":0}]
[null,"(4) Political capital",null,null,null,null,null,null,null,null,null,null,{"$f":"SUM(H23:L27)","v":0},{"$f":"(((M22-(-10))*(1-0))/(10-(-10)))+0","v":0.5}]
[16,"Trust of the local administration towards the stakeholder ",null,null,null,null,null,{"$f":"IF(C23=\"x\",-2,0)","v":0},{"$f":"IF(D23=\"x\",-1,0)","v":0},{"$f":"IF(E23=\"x\",0,0)","v":0},{"$f":"IF(F23=\"x\",1,0)","v":0},{"$f":"IF(G23=\"x\",2,0)","v":0},null,"Weighted value"]
[17,"Capacity of the stakeholder to engage further political actors",null,null,null,null,null,{"$f":"IF(C24=\"x\",-2,0)","v":0},{"$f":"IF(D24=\"x\",-1,0)","v":0},{"$f":"IF(E24=\"x\",0,0)","v":0},{"$f":"IF(F24=\"x\",1,0)","v":0},{"$f":"IF(G24=\"x\",2,0)","v":0},null,{"$f":"N22*'1_COMMUNITY EVALUATION'!N31","v":0.25}]
[18,"Capacity of the stakeholder to engage with local authorities/other stakeholders",null,null,null,null,null,{"$f":"IF(C25=\"x\",-2,0)","v":0},{"$f":"IF(D25=\"x\",-1,0)","v":0},{"$f":"IF(E25=\"x\",0,0)","v":0},{"$f":"IF(F25=\"x\",1,0)","v":0},{"$f":"IF(G25=\"x\",2,0)","v":0}]
[19,"Capacity of the stakeholder to influence public opinion",null,null,null,null,null,{"$f":"IF(C26=\"x\",-2,0)","v":0},{"$f":"IF(D26=\"x\",-1,0)","v":0},{"$f":"IF(E26=\"x\",0,0)","v":0},{"$f":"IF(F26=\"x\",1,0)","v":0},{"$f":"IF(G26=\"x\",2,0)","v":0}]
[20,"Political awareness of the stakeholder",null,null,null,null,null,{"$f":"IF(C27=\"x\",-2,0)","v":0},{"$f":"IF(D27=\"x\",-1,0)","v":0},{"$f":"IF(E27=\"x\",0,0)","v":0},{"$f":"IF(F27=\"x\",1,0)","v":0},{"$f":"IF(G27=\"x\",2,0)","v":0}]
[null,"RELEVANCE SCORE",null,null,null,null,null,null,null,null,null,null,null,{"$f":"IF(C2=\"\",\"\",(SUM(N24+N18+N12+N6)/4))","v":""}]
[]
[null,"DIMENSIONS","Extremely Negative","Negative","not applicable","Positive","Extremely positive",-2,-1,0,1,2,null,"score per dimension"]
[null,"(1) Social capital",null,null,null,null,null,null,null,null,null,null,{"$f":"SUM(H32:L36)","v":0},{"$f":"(((M31-(-10))*(1-0))/(10-(-10)))+0","v":0.5}]
[1,"Interest for the stakeholder to engage in networking for the topic at stake ",null,null,null,null,null,{"$f":"IF(C32=\"x\",-2,0)","v":0},{"$f":"IF(D32=\"x\",-1,0)","v":0},{"$f":"IF(E32=\"x\",0,0)","v":0},{"$f":"IF(F32=\"x\",1,0)","v":0},{"$f":"IF(G32=\"x\",2,0)","v":0},null,"Weighted value"]
[2,"Interest of the stakeholder to represent a specific category for the topic at stake",null,null,null,null,null,{"$f":"IF(C33=\"x\",-2,0)","v":0},{"$f":"IF(D33=\"x\",-1,0)","v":0},{"$f":"IF(E33=\"x\",0,0)","v":0},{"$f":"IF(F33=\"x\",1,0)","v":0},{"$f":"IF(G33=\"x\",2,0)","v":0},null,{"$f":"N31*'1_COMMUNITY EVALUATION'!N4","v":0.25}]
[3,"Interest of the stakeholder to be involved further in civil society activism for the topic at stake",null,null,null,null,null,{"$f":"IF(C34=\"x\",-2,0)","v":0},{"$f":"IF(D34=\"x\",-1,0)","v":0},{"$f":"IF(E34=\"x\",0,0)","v":0},{"$f":"IF(F34=\"x\",1,0)","v":0},{"$f":"IF(G34=\"x\",2,0)","v":0}]
[4,"interest of the stakeholder to start/influence change",null,null,null,null,null,{"$f":"IF(C35=\"x\",-2,0)","v":0},{"$f":"IF(D35=\"x\",-1,0)","v":0},{"$f":"IF(E35=\"x\",0,0)","v":0},{"$f":"IF(F35=\"x\",1,0)","v":0},{"$f":"IF(G35=\"x\",2,0)","v":0}]
[5,"Interest of the stakeholder to increase its own acknowledgement among citizens",null,null,null,null,null,{"$f":"IF(C36=\"x\",-2,0)","v":0},{"$f":"IF(D36=\"x\",-1,0)","v":0},{"$f":"IF(E36=\"x\",0,0)","v":0},{"$f":"IF(F36=\"x\",1,0)","v":0},{"$f":"IF(G36=\"x\",2,0)","v":0}]
[null,"(2) Economic capital",null,null,null,null,null,null,null,null,null,null,{"$f":"SUM(H38:L42)","v":0},{"$f":"(((M37-(-10))*(1-0))/(10-(-10)))+0","v":0.5}]
[6,"Potential economic benefit for the stakeholder ",null,null,null,null,null,{"$f":"IF(C38=\"x\",-2,0)","v":0},{"$f":"IF(D38=\"x\",-1,0)","v":0},{"$f":"IF(E38=\"x\",0,0)","v":0},{"$f":"IF(F38=\"x\",1,0)","v":0},{"$f":"IF(G38=\"x\",2,0)","v":0},null,"Weighted value"]
[7,"Willingness of the stakeholder to mobilise resources ",null,null,null,null,null,{"$f":"IF(C39=\"x\",-2,0)","v":0},{"$f":"IF(D39=\"x\",-1,0)","v":0},{"$f":"IF(E39=\"x\",0,0)","v":0},{"$f":"IF(F39=\"x\",1,0)","v":0},{"$f":"IF(G39=\"x\",2,0)","v":0},null,{"$f":"N37*'1_COMMUNITY EVALUATION'!N13","v":0.25}]
[8,"Willingness of the stakeholder to support access to existing exogenous resources",null,null,null,null,null,{"$f":"IF(C40=\"x\",-2,0)","v":0},{"$f":"IF(D40=\"x\",-1,0)","v":0},{"$f":"IF(E40=\"x\",0,0)","v":0},{"$f":"IF(F40=\"x\",1,0)","v":0},{"$f":"IF(G40=\"x\",2,0)","v":0}]
[9,"Propensity of the stakeholder to provide in-kind support",null,null,null,null,null,{"$f":"IF(C41=\"x\",-2,0)","v":0},{"$f":"IF(D41=\"x\",-1,0)","v":0},{"$f":"IF(E41=\"x\",0,0)","v":0},{"$f":"IF(F41=\"x\",1,0)","v":0},{"$f":"IF(G41=\"x\",2,0)","v":0}]
[10,"Interest of the stakeholder in increasing its own influence on the job market",null,null,null,null,null,{"$f":"IF(C42=\"x\",-2,0)","v":0},{"$f":"IF(D42=\"x\",-1,0)","v":0},{"$f":"IF(E42=\"x\",0,0)","v":0},{"$f":"IF(F42=\"x\",1,0)","v":0},{"$f":"IF(G42=\"x\",2,0)","v":0}]
[null,"(3) Human capital",null,null,null,null,null,null,null,null,null,null,{"$f":"SUM(H44:L48)","v":0},{"$f":"(((M43-(-10))*(1-0))/(10-(-10)))+0","v":0.5}]
[11,"Interest of the stakeholder to share/increase own knowledge/skills on the topic",null,null,null,null,null,{"$f":"IF(C44=\"x\",-2,0)","v":0},{"$f":"IF(D44=\"x\",-1,0)","v":0},{"$f":"IF(E44=\"x\",0,0)","v":0},{"$f":"IF(F44=\"x\",1,0)","v":0},{"$f":"IF(G44=\"x\",2,0)","v":0},null,"Weighted value"]
[12,"Willingness of the stakeholder to share/increase own awareness on the topic",null,null,null,null,null,{"$f":"IF(C45=\"x\",-2,0)","v":0},{"$f":"IF(D45=\"x\",-1,0)","v":0},{"$f":"IF(E45=\"x\",0,0)","v":0},{"$f":"IF(F45=\"x\",1,0)","v":0},{"$f":"IF(G45=\"x\",2,0)","v":0},null,{"$f":"N43*'1_COMMUNITY EVALUATION'!N22","v":0.25}]
[13,"Willingness of the stakeholder to engage in public debate",null,null,null,null,null,{"$f":"IF(C46=\"x\",-2,0)","v":0},{"$f":"IF(D46=\"x\",-1,0)","v":0},{"$f":"IF(E46=\"x\",0,0)","v":0},{"$f":"IF(F46=\"x\",1,0)","v":0},{"$f":"IF(G46=\"x\",2,0)","v":0}]
[14,"Willingness of the stakeholder to communicate through a range of different media",null,null,null,null,null,{"$f":"IF(C47=\"x\",-2,0)","v":0},{"$f":"IF(D47=\"x\",-1,0)","v":0},{"$f":"IF(E47=\"x\",0,0)","v":0},{"$f":"IF(F47=\"x\",1,0)","v":0},{"$f":"IF(G47=\"x\",2,0)","v":0}]
[15,"Willingness of the stakeholder to access public venues",null,null,null,null,null,{"$f":"IF(C48=\"x\",-2,0)","v":0},{"$f":"IF(D48=\"x\",-1,0)","v":0},{"$f":"IF(E48=\"x\",0,0)","v":0},{"$f":"IF(F48=\"x\",1,0)","v":0},{"$f":"IF(G48=\"x\",2,0)","v":0}]
[null,"(4) Political capital",null,null,null,null,null,null,null,null,null,null,{"$f":"SUM(H50:L54)","v":0},{"$f":"(((M49-(-10))*(1-0))/(10-(-10)))+0","v":0.5}]
[16,"Trust of the stakeholder towards the local administration",null,null,null,null,null,{"$f":"IF(C50=\"x\",-2,0)","v":0},{"$f":"IF(D50=\"x\",-1,0)","v":0},{"$f":"IF(E50=\"x\",0,0)","v":0},{"$f":"IF(F50=\"x\",1,0)","v":0},{"$f":"IF(G50=\"x\",2,0)","v":0},null,"Weighted value"]
[17,"Political interest of the stakeholder in the topic",null,null,null,null,null,{"$f":"IF(C51=\"x\",-2,0)","v":0},{"$f":"IF(D51=\"x\",-1,0)","v":0},{"$f":"IF(E51=\"x\",0,0)","v":0},{"$f":"IF(F51=\"x\",1,0)","v":0},{"$f":"IF(G51=\"x\",2,0)","v":0},null,{"$f":"N49*'1_COMMUNITY EVALUATION'!N31","v":0.25}]
[18,"Willingness of the stakeholder to engage with local authorities",null,null,null,null,null,{"$f":"IF(C52=\"x\",-2,0)","v":0},{"$f":"IF(D52=\"x\",-1,0)","v":0},{"$f":"IF(E52=\"x\",0,0)","v":0},{"$f":"IF(F52=\"x\",1,0)","v":0},{"$f":"IF(G52=\"x\",2,0)","v":0}]
[19,"Interest for the stakeholder to reach out to a wider public",null,null,null,null,null,{"$f":"IF(C53=\"x\",-2,0)","v":0},{"$f":"IF(D53=\"x\",-1,0)","v":0},{"$f":"IF(E53=\"x\",0,0)","v":0},{"$f":"IF(F53=\"x\",1,0)","v":0},{"$f":"IF(G53=\"x\",2,0)","v":0}]
[20,"Willingness of the stakeholder to share/increase own political awareness",null,null,null,null,null,{"$f":"IF(C54=\"x\",-2,0)","v":0},{"$f":"IF(D54=\"x\",-1,0)","v":0},{"$f":"IF(E54=\"x\",0,0)","v":0},{"$f":"IF(F54=\"x\",1,0)","v":0},{"$f":"IF(G54=\"x\",2,0)","v":0}]
[null,"INTEREST SCORE",null,null,null,null,null,null,null,null,null,null,null,{"$f":"IF(C2=\"\",\"\",(SUM(N51+N45+N39+N33)/4))","v":""}]

{"sheet":"STAKEHOLDER (16)","index":20,"n_rows":55,"n_cols":14,"rows_kept":55,"cut":false,"hidden":false,"merged":[[0,0,0,13],[1,2,1,13],[27,1,27,6],[54,1,54,6]]}
["Bearing in mind the topic at hand, please evaluate the stakeholder for each proposed item (row) by it marking with an 'x' (from extremely negative to extremely positive)."]
[null,"STAKEHOLDER - insert name ->"]
[null,"DIMENSIONS","Extremely Negative","Negative","not applicable","Positive","Extremely positive",-2,-1,0,1,2,null,"score per dimension"]
[null,"(1) Social capital",null,null,null,null,null,null,null,null,null,null,{"$f":"SUM(H5:L9)","v":0},{"$f":"(((M4-(-10))*(1-0))/(10-(-10)))+0","v":0.5}]
[1,"Capacity of the stakeholder to involve other stakeholders ",null,null,null,null,null,{"$f":"IF(C5=\"x\",-2,0)","v":0},{"$f":"IF(D5=\"x\",-1,0)","v":0},{"$f":"IF(E5=\"x\",0,0)","v":0},{"$f":"IF(F5=\"x\",1,0)","v":0},{"$f":"IF(G5=\"x\",2,0)","v":0},null,"Weighted value"]
[2,"Level of representativeness of the stakeholder of a specific category",null,null,null,null,null,{"$f":"IF(C6=\"x\",-2,0)","v":0},{"$f":"IF(D6=\"x\",-1,0)","v":0},{"$f":"IF(E6=\"x\",0,0)","v":0},{"$f":"IF(F6=\"x\",1,0)","v":0},{"$f":"IF(G6=\"x\",2,0)","v":0},null,{"$f":"N4*'1_COMMUNITY EVALUATION'!N4","v":0.25}]
[3,"Level of participation of the stakeholder to local civil society activities",null,null,null,null,null,{"$f":"IF(C7=\"x\",-2,0)","v":0},{"$f":"IF(D7=\"x\",-1,0)","v":0},{"$f":"IF(E7=\"x\",0,0)","v":0},{"$f":"IF(F7=\"x\",1,0)","v":0},{"$f":"IF(G7=\"x\",2,0)","v":0}]
[4,"Capacity of the stakeholder to start/influence change",null,null,null,null,null,{"$f":"IF(C8=\"x\",-2,0)","v":0},{"$f":"IF(D8=\"x\",-1,0)","v":0},{"$f":"IF(E8=\"x\",0,0)","v":0},{"$f":"IF(F8=\"x\",1,0)","v":0},{"$f":"IF(G8=\"x\",2,0)","v":0}]
[5,"Level of acknowledgment of the stakeholder among citizens",null,null,null,null,null,{"$f":"IF(C9=\"x\",-2,0)","v":0},{"$f":"IF(D9=\"x\",-1,0)","v":0},{"$f":"IF(E9=\"x\",0,0)","v":0},{"$f":"IF(F9=\"x\",1,0)","v":0},{"$f":"IF(G9=\"x\",2,0)","v":0}]
[null,"(2) Economic capital",null,null,null,null,null,null,null,null,null,null,{"$f":"SUM(H11:L15)","v":0},{"$f":"(((M10-(-10))*(1-0))/(10-(-10)))+0","v":0.5}]
[6,"Capacity of the stakeholder to act as donor",null,null,null,null,null,{"$f":"IF(C11=\"x\",-2,0)","v":0},{"$f":"IF(D11=\"x\",-1,0)","v":0},{"$f":"IF(E11=\"x\",0,0)","v":0},{"$f":"IF(F11=\"x\",1,0)","v":0},{"$f":"IF(G11=\"x\",2,0)","v":0},null,"Weighted value"]
[7,"Capacity of the stakeholder to influence resources' allocation",null,null,null,null,null,{"$f":"IF(C12=\"x\",-2,0)","v":0},{"$f":"IF(D12=\"x\",-1,0)","v":0},{"$f":"IF(E12=\"x\",0,0)","v":0},{"$f":"IF(F12=\"x\",1,0)","v":0},{"$f":"IF(G12=\"x\",2,0)","v":0},null,{"$f":"N10*'1_COMMUNITY EVALUATION'!N13","v":0.25}]
[8,"Capacity to facilitate access to existing exogenous resources ",null,null,null,null,null,{"$f":"IF(C13=\"x\",-2,0)","v":0},{"$f":"IF(D13=\"x\",-1,0)","v":0},{"$f":"IF(E13=\"x\",0,0)","v":0},{"$f":"IF(F13=\"x\",1,0)","v":0},{"$f":"IF(G13=\"x\",2,0)","v":0}]
[9,"Capacity of the stakeholder to provide in-kind support",null,null,null,null,null,{"$f":"IF(C14=\"x\",-2,0)","v":0},{"$f":"IF(D14=\"x\",-1,0)","v":0},{"$f":"IF(E14=\"x\",0,0)","v":0},{"$f":"IF(F14=\"x\",1,0)","v":0},{"$f":"IF(G14=\"x\",2,0)","v":0}]
[10,"Influence of the stakeholder on the job market",null,null,null,null,null,{"$f":"IF(C15=\"x\",-2,0)","v":0},{"$f":"IF(D15=\"x\",-1,0)","v":0},{"$f":"IF(E15=\"x\",0,0)","v":0},{"$f":"IF(F15=\"x\",1,0)","v":0},{"$f":"IF(G15=\"x\",2,0)","v":0}]
[null,"(3) Human capital",null,null,null,null,null,null,null,null,null,null,{"$f":"SUM(H17:L21)","v":0},{"$f":"(((M16-(-10))*(1-0))/(10-(-10)))+0","v":0.5}]
[11,"Knowledge/skills of the stakeholder on the topic",null,null,null,null,null,{"$f":"IF(C17=\"x\",-2,0)","v":0},{"$f":"IF(D17=\"x\",-1,0)","v":0},{"$f":"IF(E17=\"x\",0,0)","v":0},{"$f":"IF(F17=\"x\",1,0)","v":0},{"$f":"IF(G17=\"x\",2,0)","v":0},null,"Weighted value"]
[12,"Awareness of the stakeholder on the topic",null,null,null,null,null,{"$f":"IF(C18=\"x\",-2,0)","v":0},{"$f":"IF(D18=\"x\",-1,0)","v":0},{"$f":"IF(E18=\"x\",0,0)","v":0},{"$f":"IF(F18=\"x\",1,0)","v":0},{"$f":"IF(G18=\"x\",2,0)","v":0},null,{"$f":"N16*'1_COMMUNITY EVALUATION'!N22","v":0.25}]
[13,"Capacity of the stakeholder to engage in public debate",null,null,null,null,null,{"$f":"IF(C19=\"x\",-2,0)","v":0},{"$f":"IF(D19=\"x\",-1,0)","v":0},{"$f":"IF(E19=\"x\",0,0)","v":0},{"$f":"IF(F19=\"x\",1,0)","v":0},{"$f":"IF(G19=\"x\",2,0)","v":0}]
[14,"Capacity of the stakeholder to communicate through a range of different media",null,null,null,null,null,{"$f":"IF(C20=\"x\",-2,0)","v":0},{"$f":"IF(D20=\"x\",-1,0)","v":0},{"$f":"IF(E20=\"x\",0,0)","v":0},{"$f":"IF(F20=\"x\",1,0)","v":0},{"$f":"IF(G20=\"x\",2,0)","v":0}]
[15,"Capacity of the stakeholder to access public venues",null,null,null,null,null,{"$f":"IF(C21=\"x\",-2,0)","v":0},{"$f":"IF(D21=\"x\",-1,0)","v":0},{"$f":"IF(E21=\"x\",0,0)","v":0},{"$f":"IF(F21=\"x\",1,0)","v":0},{"$f":"IF(G21=\"x\",2,0)","v":0}]
[null,"(4) Political capital",null,null,null,null,null,null,null,null,null,null,{"$f":"SUM(H23:L27)","v":0},{"$f":"(((M22-(-10))*(1-0))/(10-(-10)))+0","v":0.5}]
[16,"Trust of the local administration towards the stakeholder ",null,null,null,null,null,{"$f":"IF(C23=\"x\",-2,0)","v":0},{"$f":"IF(D23=\"x\",-1,0)","v":0},{"$f":"IF(E23=\"x\",0,0)","v":0},{"$f":"IF(F23=\"x\",1,0)","v":0},{"$f":"IF(G23=\"x\",2,0)","v":0},null,"Weighted value"]
[17,"Capacity of the stakeholder to engage further political actors",null,null,null,null,null,{"$f":"IF(C24=\"x\",-2,0)","v":0},{"$f":"IF(D24=\"x\",-1,0)","v":0},{"$f":"IF(E24=\"x\",0,0)","v":0},{"$f":"IF(F24=\"x\",1,0)","v":0},{"$f":"IF(G24=\"x\",2,0)","v":0},null,{"$f":"N22*'1_COMMUNITY EVALUATION'!N31","v":0.25}]
[18,"Capacity of the stakeholder to engage with local authorities/other stakeholders",null,null,null,null,null,{"$f":"IF(C25=\"x\",-2,0)","v":0},{"$f":"IF(D25=\"x\",-1,0)","v":0},{"$f":"IF(E25=\"x\",0,0)","v":0},{"$f":"IF(F25=\"x\",1,0)","v":0},{"$f":"IF(G25=\"x\",2,0)","v":0}]
[19,"Capacity of the stakeholder to influence public opinion",null,null,null,null,null,{"$f":"IF(C26=\"x\",-2,0)","v":0},{"$f":"IF(D26=\"x\",-1,0)","v":0},{"$f":"IF(E26=\"x\",0,0)","v":0},{"$f":"IF(F26=\"x\",1,0)","v":0},{"$f":"IF(G26=\"x\",2,0)","v":0}]
[20,"Political awareness of the stakeholder",null,null,null,null,null,{"$f":"IF(C27=\"x\",-2,0)","v":0},{"$f":"IF(D27=\"x\",-1,0)","v":0},{"$f":"IF(E27=\"x\",0,0)","v":0},{"$f":"IF(F27=\"x\",1,0)","v":0},{"$f":"IF(G27=\"x\",2,0)","v":0}]
[null,"RELEVANCE SCORE",null,null,null,null,null,null,null,null,null,null,null,{"$f":"IF(C2=\"\",\"\",(SUM(N24+N18+N12+N6)/4))","v":""}]
[]
[null,"DIMENSIONS","Extremely Negative","Negative","not applicable","Positive","Extremely positive",-2,-1,0,1,2,null,"score per dimension"]
[null,"(1) Social capital",null,null,null,null,null,null,null,null,null,null,{"$f":"SUM(H32:L36)","v":0},{"$f":"(((M31-(-10))*(1-0))/(10-(-10)))+0","v":0.5}]
[1,"Interest for the stakeholder to engage in networking for the topic at stake ",null,null,null,null,null,{"$f":"IF(C32=\"x\",-2,0)","v":0},{"$f":"IF(D32=\"x\",-1,0)","v":0},{"$f":"IF(E32=\"x\",0,0)","v":0},{"$f":"IF(F32=\"x\",1,0)","v":0},{"$f":"IF(G32=\"x\",2,0)","v":0},null,"Weighted value"]
[2,"Interest of the stakeholder to represent a specific category for the topic at stake",null,null,null,null,null,{"$f":"IF(C33=\"x\",-2,0)","v":0},{"$f":"IF(D33=\"x\",-1,0)","v":0},{"$f":"IF(E33=\"x\",0,0)","v":0},{"$f":"IF(F33=\"x\",1,0)","v":0},{"$f":"IF(G33=\"x\",2,0)","v":0},null,{"$f":"N31*'1_COMMUNITY EVALUATION'!N4","v":0.25}]
[3,"Interest of the stakeholder to be involved further in civil society activism for the topic at stake",null,null,null,null,null,{"$f":"IF(C34=\"x\",-2,0)","v":0},{"$f":"IF(D34=\"x\",-1,0)","v":0},{"$f":"IF(E34=\"x\",0,0)","v":0},{"$f":"IF(F34=\"x\",1,0)","v":0},{"$f":"IF(G34=\"x\",2,0)","v":0}]
[4,"interest of the stakeholder to start/influence change",null,null,null,null,null,{"$f":"IF(C35=\"x\",-2,0)","v":0},{"$f":"IF(D35=\"x\",-1,0)","v":0},{"$f":"IF(E35=\"x\",0,0)","v":0},{"$f":"IF(F35=\"x\",1,0)","v":0},{"$f":"IF(G35=\"x\",2,0)","v":0}]
[5,"Interest of the stakeholder to increase its own acknowledgement among citizens",null,null,null,null,null,{"$f":"IF(C36=\"x\",-2,0)","v":0},{"$f":"IF(D36=\"x\",-1,0)","v":0},{"$f":"IF(E36=\"x\",0,0)","v":0},{"$f":"IF(F36=\"x\",1,0)","v":0},{"$f":"IF(G36=\"x\",2,0)","v":0}]
[null,"(2) Economic capital",null,null,null,null,null,null,null,null,null,null,{"$f":"SUM(H38:L42)","v":0},{"$f":"(((M37-(-10))*(1-0))/(10-(-10)))+0","v":0.5}]
[6,"Potential economic benefit for the stakeholder ",null,null,null,null,null,{"$f":"IF(C38=\"x\",-2,0)","v":0},{"$f":"IF(D38=\"x\",-1,0)","v":0},{"$f":"IF(E38=\"x\",0,0)","v":0},{"$f":"IF(F38=\"x\",1,0)","v":0},{"$f":"IF(G38=\"x\",2,0)","v":0},null,"Weighted value"]
[7,"Willingness of the stakeholder to mobilise resources ",null,null,null,null,null,{"$f":"IF(C39=\"x\",-2,0)","v":0},{"$f":"IF(D39=\"x\",-1,0)","v":0},{"$f":"IF(E39=\"x\",0,0)","v":0},{"$f":"IF(F39=\"x\",1,0)","v":0},{"$f":"IF(G39=\"x\",2,0)","v":0},null,{"$f":"N37*'1_COMMUNITY EVALUATION'!N13","v":0.25}]
[8,"Willingness of the stakeholder to support access to existing exogenous resources",null,null,null,null,null,{"$f":"IF(C40=\"x\",-2,0)","v":0},{"$f":"IF(D40=\"x\",-1,0)","v":0},{"$f":"IF(E40=\"x\",0,0)","v":0},{"$f":"IF(F40=\"x\",1,0)","v":0},{"$f":"IF(G40=\"x\",2,0)","v":0}]
[9,"Propensity of the stakeholder to provide in-kind support",null,null,null,null,null,{"$f":"IF(C41=\"x\",-2,0)","v":0},{"$f":"IF(D41=\"x\",-1,0)","v":0},{"$f":"IF(E41=\"x\",0,0)","v":0},{"$f":"IF(F41=\"x\",1,0)","v":0},{"$f":"IF(G41=\"x\",2,0)","v":0}]
[10,"Interest of the stakeholder in increasing its own influence on the job market",null,null,null,null,null,{"$f":"IF(C42=\"x\",-2,0)","v":0},{"$f":"IF(D42=\"x\",-1,0)","v":0},{"$f":"IF(E42=\"x\",0,0)","v":0},{"$f":"IF(F42=\"x\",1,0)","v":0},{"$f":"IF(G42=\"x\",2,0)","v":0}]
[null,"(3) Human capital",null,null,null,null,null,null,null,null,null,null,{"$f":"SUM(H44:L48)","v":0},{"$f":"(((M43-(-10))*(1-0))/(10-(-10)))+0","v":0.5}]
[11,"Interest of the stakeholder to share/increase own knowledge/skills on the topic",null,null,null,null,null,{"$f":"IF(C44=\"x\",-2,0)","v":0},{"$f":"IF(D44=\"x\",-1,0)","v":0},{"$f":"IF(E44=\"x\",0,0)","v":0},{"$f":"IF(F44=\"x\",1,0)","v":0},{"$f":"IF(G44=\"x\",2,0)","v":0},null,"Weighted value"]
[12,"Willingness of the stakeholder to share/increase own awareness on the topic",null,null,null,null,null,{"$f":"IF(C45=\"x\",-2,0)","v":0},{"$f":"IF(D45=\"x\",-1,0)","v":0},{"$f":"IF(E45=\"x\",0,0)","v":0},{"$f":"IF(F45=\"x\",1,0)","v":0},{"$f":"IF(G45=\"x\",2,0)","v":0},null,{"$f":"N43*'1_COMMUNITY EVALUATION'!N22","v":0.25}]
[13,"Willingness of the stakeholder to engage in public debate",null,null,null,null,null,{"$f":"IF(C46=\"x\",-2,0)","v":0},{"$f":"IF(D46=\"x\",-1,0)","v":0},{"$f":"IF(E46=\"x\",0,0)","v":0},{"$f":"IF(F46=\"x\",1,0)","v":0},{"$f":"IF(G46=\"x\",2,0)","v":0}]
[14,"Willingness of the stakeholder to communicate through a range of different media",null,null,null,null,null,{"$f":"IF(C47=\"x\",-2,0)","v":0},{"$f":"IF(D47=\"x\",-1,0)","v":0},{"$f":"IF(E47=\"x\",0,0)","v":0},{"$f":"IF(F47=\"x\",1,0)","v":0},{"$f":"IF(G47=\"x\",2,0)","v":0}]
[15,"Willingness of the stakeholder to access public venues",null,null,null,null,null,{"$f":"IF(C48=\"x\",-2,0)","v":0},{"$f":"IF(D48=\"x\",-1,0)","v":0},{"$f":"IF(E48=\"x\",0,0)","v":0},{"$f":"IF(F48=\"x\",1,0)","v":0},{"$f":"IF(G48=\"x\",2,0)","v":0}]
[null,"(4) Political capital",null,null,null,null,null,null,null,null,null,null,{"$f":"SUM(H50:L54)","v":0},{"$f":"(((M49-(-10))*(1-0))/(10-(-10)))+0","v":0.5}]
[16,"Trust of the stakeholder towards the local administration",null,null,null,null,null,{"$f":"IF(C50=\"x\",-2,0)","v":0},{"$f":"IF(D50=\"x\",-1,0)","v":0},{"$f":"IF(E50=\"x\",0,0)","v":0},{"$f":"IF(F50=\"x\",1,0)","v":0},{"$f":"IF(G50=\"x\",2,0)","v":0},null,"Weighted value"]
[17,"Political interest of the stakeholder in the topic",null,null,null,null,null,{"$f":"IF(C51=\"x\",-2,0)","v":0},{"$f":"IF(D51=\"x\",-1,0)","v":0},{"$f":"IF(E51=\"x\",0,0)","v":0},{"$f":"IF(F51=\"x\",1,0)","v":0},{"$f":"IF(G51=\"x\",2,0)","v":0},null,{"$f":"N49*'1_COMMUNITY EVALUATION'!N31","v":0.25}]
[18,"Willingness of the stakeholder to engage with local authorities",null,null,null,null,null,{"$f":"IF(C52=\"x\",-2,0)","v":0},{"$f":"IF(D52=\"x\",-1,0)","v":0},{"$f":"IF(E52=\"x\",0,0)","v":0},{"$f":"IF(F52=\"x\",1,0)","v":0},{"$f":"IF(G52=\"x\",2,0)","v":0}]
[19,"Interest for the stakeholder to reach out to a wider public",null,null,null,null,null,{"$f":"IF(C53=\"x\",-2,0)","v":0},{"$f":"IF(D53=\"x\",-1,0)","v":0},{"$f":"IF(E53=\"x\",0,0)","v":0},{"$f":"IF(F53=\"x\",1,0)","v":0},{"$f":"IF(G53=\"x\",2,0)","v":0}]
[20,"Willingness of the stakeholder to share/increase own political awareness",null,null,null,null,null,{"$f":"IF(C54=\"x\",-2,0)","v":0},{"$f":"IF(D54=\"x\",-1,0)","v":0},{"$f":"IF(E54=\"x\",0,0)","v":0},{"$f":"IF(F54=\"x\",1,0)","v":0},{"$f":"IF(G54=\"x\",2,0)","v":0}]
[null,"INTEREST SCORE",null,null,null,null,null,null,null,null,null,null,null,{"$f":"IF(C2=\"\",\"\",(SUM(N51+N45+N39+N33)/4))","v":""}]

{"sheet":"STAKEHOLDER (17)","index":21,"n_rows":55,"n_cols":14,"rows_kept":55,"cut":false,"hidden":false,"merged":[[0,0,0,13],[1,2,1,13],[27,1,27,6],[54,1,54,6]]}
["Bearing in mind the topic at hand, please evaluate the stakeholder for each proposed item (row) by it marking with an 'x' (from extremely negative to extremely positive)."]
[null,"STAKEHOLDER - insert name ->"]
[null,"DIMENSIONS","Extremely Negative","Negative","not applicable","Positive","Extremely positive",-2,-1,0,1,2,null,"score per dimension"]
[null,"(1) Social capital",null,null,null,null,null,null,null,null,null,null,{"$f":"SUM(H5:L9)","v":0},{"$f":"(((M4-(-10))*(1-0))/(10-(-10)))+0","v":0.5}]
[1,"Capacity of the stakeholder to involve other stakeholders ",null,null,null,null,null,{"$f":"IF(C5=\"x\",-2,0)","v":0},{"$f":"IF(D5=\"x\",-1,0)","v":0},{"$f":"IF(E5=\"x\",0,0)","v":0},{"$f":"IF(F5=\"x\",1,0)","v":0},{"$f":"IF(G5=\"x\",2,0)","v":0},null,"Weighted value"]
[2,"Level of representativeness of the stakeholder of a specific category",null,null,null,null,null,{"$f":"IF(C6=\"x\",-2,0)","v":0},{"$f":"IF(D6=\"x\",-1,0)","v":0},{"$f":"IF(E6=\"x\",0,0)","v":0},{"$f":"IF(F6=\"x\",1,0)","v":0},{"$f":"IF(G6=\"x\",2,0)","v":0},null,{"$f":"N4*'1_COMMUNITY EVALUATION'!N4","v":0.25}]
[3,"Level of participation of the stakeholder to local civil society activities",null,null,null,null,null,{"$f":"IF(C7=\"x\",-2,0)","v":0},{"$f":"IF(D7=\"x\",-1,0)","v":0},{"$f":"IF(E7=\"x\",0,0)","v":0},{"$f":"IF(F7=\"x\",1,0)","v":0},{"$f":"IF(G7=\"x\",2,0)","v":0}]
[4,"Capacity of the stakeholder to start/influence change",null,null,null,null,null,{"$f":"IF(C8=\"x\",-2,0)","v":0},{"$f":"IF(D8=\"x\",-1,0)","v":0},{"$f":"IF(E8=\"x\",0,0)","v":0},{"$f":"IF(F8=\"x\",1,0)","v":0},{"$f":"IF(G8=\"x\",2,0)","v":0}]
[5,"Level of acknowledgment of the stakeholder among citizens",null,null,null,null,null,{"$f":"IF(C9=\"x\",-2,0)","v":0},{"$f":"IF(D9=\"x\",-1,0)","v":0},{"$f":"IF(E9=\"x\",0,0)","v":0},{"$f":"IF(F9=\"x\",1,0)","v":0},{"$f":"IF(G9=\"x\",2,0)","v":0}]
[null,"(2) Economic capital",null,null,null,null,null,null,null,null,null,null,{"$f":"SUM(H11:L15)","v":0},{"$f":"(((M10-(-10))*(1-0))/(10-(-10)))+0","v":0.5}]
[6,"Capacity of the stakeholder to act as donor",null,null,null,null,null,{"$f":"IF(C11=\"x\",-2,0)","v":0},{"$f":"IF(D11=\"x\",-1,0)","v":0},{"$f":"IF(E11=\"x\",0,0)","v":0},{"$f":"IF(F11=\"x\",1,0)","v":0},{"$f":"IF(G11=\"x\",2,0)","v":0},null,"Weighted value"]
[7,"Capacity of the stakeholder to influence resources' allocation",null,null,null,null,null,{"$f":"IF(C12=\"x\",-2,0)","v":0},{"$f":"IF(D12=\"x\",-1,0)","v":0},{"$f":"IF(E12=\"x\",0,0)","v":0},{"$f":"IF(F12=\"x\",1,0)","v":0},{"$f":"IF(G12=\"x\",2,0)","v":0},null,{"$f":"N10*'1_COMMUNITY EVALUATION'!N13","v":0.25}]
[8,"Capacity to facilitate access to existing exogenous resources ",null,null,null,null,null,{"$f":"IF(C13=\"x\",-2,0)","v":0},{"$f":"IF(D13=\"x\",-1,0)","v":0},{"$f":"IF(E13=\"x\",0,0)","v":0},{"$f":"IF(F13=\"x\",1,0)","v":0},{"$f":"IF(G13=\"x\",2,0)","v":0}]
[9,"Capacity of the stakeholder to provide in-kind support",null,null,null,null,null,{"$f":"IF(C14=\"x\",-2,0)","v":0},{"$f":"IF(D14=\"x\",-1,0)","v":0},{"$f":"IF(E14=\"x\",0,0)","v":0},{"$f":"IF(F14=\"x\",1,0)","v":0},{"$f":"IF(G14=\"x\",2,0)","v":0}]
[10,"Influence of the stakeholder on the job market",null,null,null,null,null,{"$f":"IF(C15=\"x\",-2,0)","v":0},{"$f":"IF(D15=\"x\",-1,0)","v":0},{"$f":"IF(E15=\"x\",0,0)","v":0},{"$f":"IF(F15=\"x\",1,0)","v":0},{"$f":"IF(G15=\"x\",2,0)","v":0}]
[null,"(3) Human capital",null,null,null,null,null,null,null,null,null,null,{"$f":"SUM(H17:L21)","v":0},{"$f":"(((M16-(-10))*(1-0))/(10-(-10)))+0","v":0.5}]
[11,"Knowledge/skills of the stakeholder on the topic",null,null,null,null,null,{"$f":"IF(C17=\"x\",-2,0)","v":0},{"$f":"IF(D17=\"x\",-1,0)","v":0},{"$f":"IF(E17=\"x\",0,0)","v":0},{"$f":"IF(F17=\"x\",1,0)","v":0},{"$f":"IF(G17=\"x\",2,0)","v":0},null,"Weighted value"]
[12,"Awareness of the stakeholder on the topic",null,null,null,null,null,{"$f":"IF(C18=\"x\",-2,0)","v":0},{"$f":"IF(D18=\"x\",-1,0)","v":0},{"$f":"IF(E18=\"x\",0,0)","v":0},{"$f":"IF(F18=\"x\",1,0)","v":0},{"$f":"IF(G18=\"x\",2,0)","v":0},null,{"$f":"N16*'1_COMMUNITY EVALUATION'!N22","v":0.25}]
[13,"Capacity of the stakeholder to engage in public debate",null,null,null,null,null,{"$f":"IF(C19=\"x\",-2,0)","v":0},{"$f":"IF(D19=\"x\",-1,0)","v":0},{"$f":"IF(E19=\"x\",0,0)","v":0},{"$f":"IF(F19=\"x\",1,0)","v":0},{"$f":"IF(G19=\"x\",2,0)","v":0}]
[14,"Capacity of the stakeholder to communicate through a range of different media",null,null,null,null,null,{"$f":"IF(C20=\"x\",-2,0)","v":0},{"$f":"IF(D20=\"x\",-1,0)","v":0},{"$f":"IF(E20=\"x\",0,0)","v":0},{"$f":"IF(F20=\"x\",1,0)","v":0},{"$f":"IF(G20=\"x\",2,0)","v":0}]
[15,"Capacity of the stakeholder to access public venues",null,null,null,null,null,{"$f":"IF(C21=\"x\",-2,0)","v":0},{"$f":"IF(D21=\"x\",-1,0)","v":0},{"$f":"IF(E21=\"x\",0,0)","v":0},{"$f":"IF(F21=\"x\",1,0)","v":0},{"$f":"IF(G21=\"x\",2,0)","v":0}]
[null,"(4) Political capital",null,null,null,null,null,null,null,null,null,null,{"$f":"SUM(H23:L27)","v":0},{"$f":"(((M22-(-10))*(1-0))/(10-(-10)))+0","v":0.5}]
[16,"Trust of the local administration towards the stakeholder ",null,null,null,null,null,{"$f":"IF(C23=\"x\",-2,0)","v":0},{"$f":"IF(D23=\"x\",-1,0)","v":0},{"$f":"IF(E23=\"x\",0,0)","v":0},{"$f":"IF(F23=\"x\",1,0)","v":0},{"$f":"IF(G23=\"x\",2,0)","v":0},null,"Weighted value"]
[17,"Capacity of the stakeholder to engage further political actors",null,null,null,null,null,{"$f":"IF(C24=\"x\",-2,0)","v":0},{"$f":"IF(D24=\"x\",-1,0)","v":0},{"$f":"IF(E24=\"x\",0,0)","v":0},{"$f":"IF(F24=\"x\",1,0)","v":0},{"$f":"IF(G24=\"x\",2,0)","v":0},null,{"$f":"N22*'1_COMMUNITY EVALUATION'!N31","v":0.25}]
[18,"Capacity of the stakeholder to engage with local authorities/other stakeholders",null,null,null,null,null,{"$f":"IF(C25=\"x\",-2,0)","v":0},{"$f":"IF(D25=\"x\",-1,0)","v":0},{"$f":"IF(E25=\"x\",0,0)","v":0},{"$f":"IF(F25=\"x\",1,0)","v":0},{"$f":"IF(G25=\"x\",2,0)","v":0}]
[19,"Capacity of the stakeholder to influence public opinion",null,null,null,null,null,{"$f":"IF(C26=\"x\",-2,0)","v":0},{"$f":"IF(D26=\"x\",-1,0)","v":0},{"$f":"IF(E26=\"x\",0,0)","v":0},{"$f":"IF(F26=\"x\",1,0)","v":0},{"$f":"IF(G26=\"x\",2,0)","v":0}]
[20,"Political awareness of the stakeholder",null,null,null,null,null,{"$f":"IF(C27=\"x\",-2,0)","v":0},{"$f":"IF(D27=\"x\",-1,0)","v":0},{"$f":"IF(E27=\"x\",0,0)","v":0},{"$f":"IF(F27=\"x\",1,0)","v":0},{"$f":"IF(G27=\"x\",2,0)","v":0}]
[null,"RELEVANCE SCORE",null,null,null,null,null,null,null,null,null,null,null,{"$f":"IF(C2=\"\",\"\",(SUM(N24+N18+N12+N6)/4))","v":""}]
[]
[null,"DIMENSIONS","Extremely Negative","Negative","not applicable","Positive","Extremely positive",-2,-1,0,1,2,null,"score per dimension"]
[null,"(1) Social capital",null,null,null,null,null,null,null,null,null,null,{"$f":"SUM(H32:L36)","v":0},{"$f":"(((M31-(-10))*(1-0))/(10-(-10)))+0","v":0.5}]
[1,"Interest for the stakeholder to engage in networking for the topic at stake ",null,null,null,null,null,{"$f":"IF(C32=\"x\",-2,0)","v":0},{"$f":"IF(D32=\"x\",-1,0)","v":0},{"$f":"IF(E32=\"x\",0,0)","v":0},{"$f":"IF(F32=\"x\",1,0)","v":0},{"$f":"IF(G32=\"x\",2,0)","v":0},null,"Weighted value"]
[2,"Interest of the stakeholder to represent a specific category for the topic at stake",null,null,null,null,null,{"$f":"IF(C33=\"x\",-2,0)","v":0},{"$f":"IF(D33=\"x\",-1,0)","v":0},{"$f":"IF(E33=\"x\",0,0)","v":0},{"$f":"IF(F33=\"x\",1,0)","v":0},{"$f":"IF(G33=\"x\",2,0)","v":0},null,{"$f":"N31*'1_COMMUNITY EVALUATION'!N4","v":0.25}]
[3,"Interest of the stakeholder to be involved further in civil society activism for the topic at stake",null,null,null,null,null,{"$f":"IF(C34=\"x\",-2,0)","v":0},{"$f":"IF(D34=\"x\",-1,0)","v":0},{"$f":"IF(E34=\"x\",0,0)","v":0},{"$f":"IF(F34=\"x\",1,0)","v":0},{"$f":"IF(G34=\"x\",2,0)","v":0}]
[4,"interest of the stakeholder to start/influence change",null,null,null,null,null,{"$f":"IF(C35=\"x\",-2,0)","v":0},{"$f":"IF(D35=\"x\",-1,0)","v":0},{"$f":"IF(E35=\"x\",0,0)","v":0},{"$f":"IF(F35=\"x\",1,0)","v":0},{"$f":"IF(G35=\"x\",2,0)","v":0}]
[5,"Interest of the stakeholder to increase its own acknowledgement among citizens",null,null,null,null,null,{"$f":"IF(C36=\"x\",-2,0)","v":0},{"$f":"IF(D36=\"x\",-1,0)","v":0},{"$f":"IF(E36=\"x\",0,0)","v":0},{"$f":"IF(F36=\"x\",1,0)","v":0},{"$f":"IF(G36=\"x\",2,0)","v":0}]
[null,"(2) Economic capital",null,null,null,null,null,null,null,null,null,null,{"$f":"SUM(H38:L42)","v":0},{"$f":"(((M37-(-10))*(1-0))/(10-(-10)))+0","v":0.5}]
[6,"Potential economic benefit for the stakeholder ",null,null,null,null,null,{"$f":"IF(C38=\"x\",-2,0)","v":0},{"$f":"IF(D38=\"x\",-1,0)","v":0},{"$f":"IF(E38=\"x\",0,0)","v":0},{"$f":"IF(F38=\"x\",1,0)","v":0},{"$f":"IF(G38=\"x\",2,0)","v":0},null,"Weighted value"]
[7,"Willingness of the stakeholder to mobilise resources ",null,null,null,null,null,{"$f":"IF(C39=\"x\",-2,0)","v":0},{"$f":"IF(D39=\"x\",-1,0)","v":0},{"$f":"IF(E39=\"x\",0,0)","v":0},{"$f":"IF(F39=\"x\",1,0)","v":0},{"$f":"IF(G39=\"x\",2,0)","v":0},null,{"$f":"N37*'1_COMMUNITY EVALUATION'!N13","v":0.25}]
[8,"Willingness of the stakeholder to support access to existing exogenous resources",null,null,null,null,null,{"$f":"IF(C40=\"x\",-2,0)","v":0},{"$f":"IF(D40=\"x\",-1,0)","v":0},{"$f":"IF(E40=\"x\",0,0)","v":0},{"$f":"IF(F40=\"x\",1,0)","v":0},{"$f":"IF(G40=\"x\",2,0)","v":0}]
[9,"Propensity of the stakeholder to provide in-kind support",null,null,null,null,null,{"$f":"IF(C41=\"x\",-2,0)","v":0},{"$f":"IF(D41=\"x\",-1,0)","v":0},{"$f":"IF(E41=\"x\",0,0)","v":0},{"$f":"IF(F41=\"x\",1,0)","v":0},{"$f":"IF(G41=\"x\",2,0)","v":0}]
[10,"Interest of the stakeholder in increasing its own influence on the job market",null,null,null,null,null,{"$f":"IF(C42=\"x\",-2,0)","v":0},{"$f":"IF(D42=\"x\",-1,0)","v":0},{"$f":"IF(E42=\"x\",0,0)","v":0},{"$f":"IF(F42=\"x\",1,0)","v":0},{"$f":"IF(G42=\"x\",2,0)","v":0}]
[null,"(3) Human capital",null,null,null,null,null,null,null,null,null,null,{"$f":"SUM(H44:L48)","v":0},{"$f":"(((M43-(-10))*(1-0))/(10-(-10)))+0","v":0.5}]
[11,"Interest of the stakeholder to share/increase own knowledge/skills on the topic",null,null,null,null,null,{"$f":"IF(C44=\"x\",-2,0)","v":0},{"$f":"IF(D44=\"x\",-1,0)","v":0},{"$f":"IF(E44=\"x\",0,0)","v":0},{"$f":"IF(F44=\"x\",1,0)","v":0},{"$f":"IF(G44=\"x\",2,0)","v":0},null,"Weighted value"]
[12,"Willingness of the stakeholder to share/increase own awareness on the topic",null,null,null,null,null,{"$f":"IF(C45=\"x\",-2,0)","v":0},{"$f":"IF(D45=\"x\",-1,0)","v":0},{"$f":"IF(E45=\"x\",0,0)","v":0},{"$f":"IF(F45=\"x\",1,0)","v":0},{"$f":"IF(G45=\"x\",2,0)","v":0},null,{"$f":"N43*'1_COMMUNITY EVALUATION'!N22","v":0.25}]
[13,"Willingness of the stakeholder to engage in public debate",null,null,null,null,null,{"$f":"IF(C46=\"x\",-2,0)","v":0},{"$f":"IF(D46=\"x\",-1,0)","v":0},{"$f":"IF(E46=\"x\",0,0)","v":0},{"$f":"IF(F46=\"x\",1,0)","v":0},{"$f":"IF(G46=\"x\",2,0)","v":0}]
[14,"Willingness of the stakeholder to communicate through a range of different media",null,null,null,null,null,{"$f":"IF(C47=\"x\",-2,0)","v":0},{"$f":"IF(D47=\"x\",-1,0)","v":0},{"$f":"IF(E47=\"x\",0,0)","v":0},{"$f":"IF(F47=\"x\",1,0)","v":0},{"$f":"IF(G47=\"x\",2,0)","v":0}]
[15,"Willingness of the stakeholder to access public venues",null,null,null,null,null,{"$f":"IF(C48=\"x\",-2,0)","v":0},{"$f":"IF(D48=\"x\",-1,0)","v":0},{"$f":"IF(E48=\"x\",0,0)","v":0},{"$f":"IF(F48=\"x\",1,0)","v":0},{"$f":"IF(G48=\"x\",2,0)","v":0}]
[null,"(4) Political capital",null,null,null,null,null,null,null,null,null,null,{"$f":"SUM(H50:L54)","v":0},{"$f":"(((M49-(-10))*(1-0))/(10-(-10)))+0","v":0.5}]
[16,"Trust of the stakeholder towards the local administration",null,null,null,null,null,{"$f":"IF(C50=\"x\",-2,0)","v":0},{"$f":"IF(D50=\"x\",-1,0)","v":0},{"$f":"IF(E50=\"x\",0,0)","v":0},{"$f":"IF(F50=\"x\",1,0)","v":0},{"$f":"IF(G50=\"x\",2,0)","v":0},null,"Weighted value"]
[17,"Political interest of the stakeholder in the topic",null,null,null,null,null,{"$f":"IF(C51=\"x\",-2,0)","v":0},{"$f":"IF(D51=\"x\",-1,0)","v":0},{"$f":"IF(E51=\"x\",0,0)","v":0},{"$f":"IF(F51=\"x\",1,0)","v":0},{"$f":"IF(G51=\"x\",2,0)","v":0},null,{"$f":"N49*'1_COMMUNITY EVALUATION'!N31","v":0.25}]
[18,"Willingness of the stakeholder to engage with local authorities",null,null,null,null,null,{"$f":"IF(C52=\"x\",-2,0)","v":0},{"$f":"IF(D52=\"x\",-1,0)","v":0},{"$f":"IF(E52=\"x\",0,0)","v":0},{"$f":"IF(F52=\"x\",1,0)","v":0},{"$f":"IF(G52=\"x\",2,0)","v":0}]
[19,"Interest for the stakeholder to reach out to a wider public",null,null,null,null,null,{"$f":"IF(C53=\"x\",-2,0)","v":0},{"$f":"IF(D53=\"x\",-1,0)","v":0},{"$f":"IF(E53=\"x\",0,0)","v":0},{"$f":"IF(F53=\"x\",1,0)","v":0},{"$f":"IF(G53=\"x\",2,0)","v":0}]
[20,"Willingness of the stakeholder to share/increase own political awareness",null,null,null,null,null,{"$f":"IF(C54=\"x\",-2,0)","v":0},{"$f":"IF(D54=\"x\",-1,0)","v":0},{"$f":"IF(E54=\"x\",0,0)","v":0},{"$f":"IF(F54=\"x\",1,0)","v":0},{"$f":"IF(G54=\"x\",2,0)","v":0}]
[null,"INTEREST SCORE",null,null,null,null,null,null,null,null,null,null,null,{"$f":"IF(C2=\"\",\"\",(SUM(N51+N45+N39+N33)/4))","v":""}]

{"sheet":"STAKEHOLDER (18)","index":22,"n_rows":55,"n_cols":14,"rows_kept":55,"cut":false,"hidden":false,"merged":[[0,0,0,13],[1,2,1,13],[27,1,27,6],[54,1,54,6]]}
["Bearing in mind the topic at hand, please evaluate the stakeholder for each proposed item (row) by it marking with an 'x' (from extremely negative to extremely positive)."]
[null,"STAKEHOLDER - insert name ->"]
[null,"DIMENSIONS","Extremely Negative","Negative","not applicable","Positive","Extremely positive",-2,-1,0,1,2,null,"score per dimension"]
[null,"(1) Social capital",null,null,null,null,null,null,null,null,null,null,{"$f":"SUM(H5:L9)","v":0},{"$f":"(((M4-(-10))*(1-0))/(10-(-10)))+0","v":0.5}]
[1,"Capacity of the stakeholder to involve other stakeholders ",null,null,null,null,null,{"$f":"IF(C5=\"x\",-2,0)","v":0},{"$f":"IF(D5=\"x\",-1,0)","v":0},{"$f":"IF(E5=\"x\",0,0)","v":0},{"$f":"IF(F5=\"x\",1,0)","v":0},{"$f":"IF(G5=\"x\",2,0)","v":0},null,"Weighted value"]
[2,"Level of representativeness of the stakeholder of a specific category",null,null,null,null,null,{"$f":"IF(C6=\"x\",-2,0)","v":0},{"$f":"IF(D6=\"x\",-1,0)","v":0},{"$f":"IF(E6=\"x\",0,0)","v":0},{"$f":"IF(F6=\"x\",1,0)","v":0},{"$f":"IF(G6=\"x\",2,0)","v":0},null,{"$f":"N4*'1_COMMUNITY EVALUATION'!N4","v":0.25}]
[3,"Level of participation of the stakeholder to local civil society activities",null,null,null,null,null,{"$f":"IF(C7=\"x\",-2,0)","v":0},{"$f":"IF(D7=\"x\",-1,0)","v":0},{"$f":"IF(E7=\"x\",0,0)","v":0},{"$f":"IF(F7=\"x\",1,0)","v":0},{"$f":"IF(G7=\"x\",2,0)","v":0}]
[4,"Capacity of the stakeholder to start/influence change",null,null,null,null,null,{"$f":"IF(C8=\"x\",-2,0)","v":0},{"$f":"IF(D8=\"x\",-1,0)","v":0},{"$f":"IF(E8=\"x\",0,0)","v":0},{"$f":"IF(F8=\"x\",1,0)","v":0},{"$f":"IF(G8=\"x\",2,0)","v":0}]
[5,"Level of acknowledgment of the stakeholder among citizens",null,null,null,null,null,{"$f":"IF(C9=\"x\",-2,0)","v":0},{"$f":"IF(D9=\"x\",-1,0)","v":0},{"$f":"IF(E9=\"x\",0,0)","v":0},{"$f":"IF(F9=\"x\",1,0)","v":0},{"$f":"IF(G9=\"x\",2,0)","v":0}]
[null,"(2) Economic capital",null,null,null,null,null,null,null,null,null,null,{"$f":"SUM(H11:L15)","v":0},{"$f":"(((M10-(-10))*(1-0))/(10-(-10)))+0","v":0.5}]
[6,"Capacity of the stakeholder to act as donor",null,null,null,null,null,{"$f":"IF(C11=\"x\",-2,0)","v":0},{"$f":"IF(D11=\"x\",-1,0)","v":0},{"$f":"IF(E11=\"x\",0,0)","v":0},{"$f":"IF(F11=\"x\",1,0)","v":0},{"$f":"IF(G11=\"x\",2,0)","v":0},null,"Weighted value"]
[7,"Capacity of the stakeholder to influence resources' allocation",null,null,null,null,null,{"$f":"IF(C12=\"x\",-2,0)","v":0},{"$f":"IF(D12=\"x\",-1,0)","v":0},{"$f":"IF(E12=\"x\",0,0)","v":0},{"$f":"IF(F12=\"x\",1,0)","v":0},{"$f":"IF(G12=\"x\",2,0)","v":0},null,{"$f":"N10*'1_COMMUNITY EVALUATION'!N13","v":0.25}]
[8,"Capacity to facilitate access to existing exogenous resources ",null,null,null,null,null,{"$f":"IF(C13=\"x\",-2,0)","v":0},{"$f":"IF(D13=\"x\",-1,0)","v":0},{"$f":"IF(E13=\"x\",0,0)","v":0},{"$f":"IF(F13=\"x\",1,0)","v":0},{"$f":"IF(G13=\"x\",2,0)","v":0}]
[9,"Capacity of the stakeholder to provide in-kind support",null,null,null,null,null,{"$f":"IF(C14=\"x\",-2,0)","v":0},{"$f":"IF(D14=\"x\",-1,0)","v":0},{"$f":"IF(E14=\"x\",0,0)","v":0},{"$f":"IF(F14=\"x\",1,0)","v":0},{"$f":"IF(G14=\"x\",2,0)","v":0}]
[10,"Influence of the stakeholder on the job market",null,null,null,null,null,{"$f":"IF(C15=\"x\",-2,0)","v":0},{"$f":"IF(D15=\"x\",-1,0)","v":0},{"$f":"IF(E15=\"x\",0,0)","v":0},{"$f":"IF(F15=\"x\",1,0)","v":0},{"$f":"IF(G15=\"x\",2,0)","v":0}]
[null,"(3) Human capital",null,null,null,null,null,null,null,null,null,null,{"$f":"SUM(H17:L21)","v":0},{"$f":"(((M16-(-10))*(1-0))/(10-(-10)))+0","v":0.5}]
[11,"Knowledge/skills of the stakeholder on the topic",null,null,null,null,null,{"$f":"IF(C17=\"x\",-2,0)","v":0},{"$f":"IF(D17=\"x\",-1,0)","v":0},{"$f":"IF(E17=\"x\",0,0)","v":0},{"$f":"IF(F17=\"x\",1,0)","v":0},{"$f":"IF(G17=\"x\",2,0)","v":0},null,"Weighted value"]
[12,"Awareness of the stakeholder on the topic",null,null,null,null,null,{"$f":"IF(C18=\"x\",-2,0)","v":0},{"$f":"IF(D18=\"x\",-1,0)","v":0},{"$f":"IF(E18=\"x\",0,0)","v":0},{"$f":"IF(F18=\"x\",1,0)","v":0},{"$f":"IF(G18=\"x\",2,0)","v":0},null,{"$f":"N16*'1_COMMUNITY EVALUATION'!N22","v":0.25}]
[13,"Capacity of the stakeholder to engage in public debate",null,null,null,null,null,{"$f":"IF(C19=\"x\",-2,0)","v":0},{"$f":"IF(D19=\"x\",-1,0)","v":0},{"$f":"IF(E19=\"x\",0,0)","v":0},{"$f":"IF(F19=\"x\",1,0)","v":0},{"$f":"IF(G19=\"x\",2,0)","v":0}]
[14,"Capacity of the stakeholder to communicate through a range of different media",null,null,null,null,null,{"$f":"IF(C20=\"x\",-2,0)","v":0},{"$f":"IF(D20=\"x\",-1,0)","v":0},{"$f":"IF(E20=\"x\",0,0)","v":0},{"$f":"IF(F20=\"x\",1,0)","v":0},{"$f":"IF(G20=\"x\",2,0)","v":0}]
[15,"Capacity of the stakeholder to access public venues",null,null,null,null,null,{"$f":"IF(C21=\"x\",-2,0)","v":0},{"$f":"IF(D21=\"x\",-1,0)","v":0},{"$f":"IF(E21=\"x\",0,0)","v":0},{"$f":"IF(F21=\"x\",1,0)","v":0},{"$f":"IF(G21=\"x\",2,0)","v":0}]
[null,"(4) Political capital",null,null,null,null,null,null,null,null,null,null,{"$f":"SUM(H23:L27)","v":0},{"$f":"(((M22-(-10))*(1-0))/(10-(-10)))+0","v":0.5}]
[16,"Trust of the local administration towards the stakeholder ",null,null,null,null,null,{"$f":"IF(C23=\"x\",-2,0)","v":0},{"$f":"IF(D23=\"x\",-1,0)","v":0},{"$f":"IF(E23=\"x\",0,0)","v":0},{"$f":"IF(F23=\"x\",1,0)","v":0},{"$f":"IF(G23=\"x\",2,0)","v":0},null,"Weighted value"]
[17,"Capacity of the stakeholder to engage further political actors",null,null,null,null,null,{"$f":"IF(C24=\"x\",-2,0)","v":0},{"$f":"IF(D24=\"x\",-1,0)","v":0},{"$f":"IF(E24=\"x\",0,0)","v":0},{"$f":"IF(F24=\"x\",1,0)","v":0},{"$f":"IF(G24=\"x\",2,0)","v":0},null,{"$f":"N22*'1_COMMUNITY EVALUATION'!N31","v":0.25}]
[18,"Capacity of the stakeholder to engage with local authorities/other stakeholders",null,null,null,null,null,{"$f":"IF(C25=\"x\",-2,0)","v":0},{"$f":"IF(D25=\"x\",-1,0)","v":0},{"$f":"IF(E25=\"x\",0,0)","v":0},{"$f":"IF(F25=\"x\",1,0)","v":0},{"$f":"IF(G25=\"x\",2,0)","v":0}]
[19,"Capacity of the stakeholder to influence public opinion",null,null,null,null,null,{"$f":"IF(C26=\"x\",-2,0)","v":0},{"$f":"IF(D26=\"x\",-1,0)","v":0},{"$f":"IF(E26=\"x\",0,0)","v":0},{"$f":"IF(F26=\"x\",1,0)","v":0},{"$f":"IF(G26=\"x\",2,0)","v":0}]
[20,"Political awareness of the stakeholder",null,null,null,null,null,{"$f":"IF(C27=\"x\",-2,0)","v":0},{"$f":"IF(D27=\"x\",-1,0)","v":0},{"$f":"IF(E27=\"x\",0,0)","v":0},{"$f":"IF(F27=\"x\",1,0)","v":0},{"$f":"IF(G27=\"x\",2,0)","v":0}]
[null,"RELEVANCE SCORE",null,null,null,null,null,null,null,null,null,null,null,{"$f":"IF(C2=\"\",\"\",(SUM(N24+N18+N12+N6)/4))","v":""}]
[]
[null,"DIMENSIONS","Extremely Negative","Negative","not applicable","Positive","Extremely positive",-2,-1,0,1,2,null,"score per dimension"]
[null,"(1) Social capital",null,null,null,null,null,null,null,null,null,null,{"$f":"SUM(H32:L36)","v":0},{"$f":"(((M31-(-10))*(1-0))/(10-(-10)))+0","v":0.5}]
[1,"Interest for the stakeholder to engage in networking for the topic at stake ",null,null,null,null,null,{"$f":"IF(C32=\"x\",-2,0)","v":0},{"$f":"IF(D32=\"x\",-1,0)","v":0},{"$f":"IF(E32=\"x\",0,0)","v":0},{"$f":"IF(F32=\"x\",1,0)","v":0},{"$f":"IF(G32=\"x\",2,0)","v":0},null,"Weighted value"]
[2,"Interest of the stakeholder to represent a specific category for the topic at stake",null,null,null,null,null,{"$f":"IF(C33=\"x\",-2,0)","v":0},{"$f":"IF(D33=\"x\",-1,0)","v":0},{"$f":"IF(E33=\"x\",0,0)","v":0},{"$f":"IF(F33=\"x\",1,0)","v":0},{"$f":"IF(G33=\"x\",2,0)","v":0},null,{"$f":"N31*'1_COMMUNITY EVALUATION'!N4","v":0.25}]
[3,"Interest of the stakeholder to be involved further in civil society activism for the topic at stake",null,null,null,null,null,{"$f":"IF(C34=\"x\",-2,0)","v":0},{"$f":"IF(D34=\"x\",-1,0)","v":0},{"$f":"IF(E34=\"x\",0,0)","v":0},{"$f":"IF(F34=\"x\",1,0)","v":0},{"$f":"IF(G34=\"x\",2,0)","v":0}]
[4,"interest of the stakeholder to start/influence change",null,null,null,null,null,{"$f":"IF(C35=\"x\",-2,0)","v":0},{"$f":"IF(D35=\"x\",-1,0)","v":0},{"$f":"IF(E35=\"x\",0,0)","v":0},{"$f":"IF(F35=\"x\",1,0)","v":0},{"$f":"IF(G35=\"x\",2,0)","v":0}]
[5,"Interest of the stakeholder to increase its own acknowledgement among citizens",null,null,null,null,null,{"$f":"IF(C36=\"x\",-2,0)","v":0},{"$f":"IF(D36=\"x\",-1,0)","v":0},{"$f":"IF(E36=\"x\",0,0)","v":0},{"$f":"IF(F36=\"x\",1,0)","v":0},{"$f":"IF(G36=\"x\",2,0)","v":0}]
[null,"(2) Economic capital",null,null,null,null,null,null,null,null,null,null,{"$f":"SUM(H38:L42)","v":0},{"$f":"(((M37-(-10))*(1-0))/(10-(-10)))+0","v":0.5}]
[6,"Potential economic benefit for the stakeholder ",null,null,null,null,null,{"$f":"IF(C38=\"x\",-2,0)","v":0},{"$f":"IF(D38=\"x\",-1,0)","v":0},{"$f":"IF(E38=\"x\",0,0)","v":0},{"$f":"IF(F38=\"x\",1,0)","v":0},{"$f":"IF(G38=\"x\",2,0)","v":0},null,"Weighted value"]
[7,"Willingness of the stakeholder to mobilise resources ",null,null,null,null,null,{"$f":"IF(C39=\"x\",-2,0)","v":0},{"$f":"IF(D39=\"x\",-1,0)","v":0},{"$f":"IF(E39=\"x\",0,0)","v":0},{"$f":"IF(F39=\"x\",1,0)","v":0},{"$f":"IF(G39=\"x\",2,0)","v":0},null,{"$f":"N37*'1_COMMUNITY EVALUATION'!N13","v":0.25}]
[8,"Willingness of the stakeholder to support access to existing exogenous resources",null,null,null,null,null,{"$f":"IF(C40=\"x\",-2,0)","v":0},{"$f":"IF(D40=\"x\",-1,0)","v":0},{"$f":"IF(E40=\"x\",0,0)","v":0},{"$f":"IF(F40=\"x\",1,0)","v":0},{"$f":"IF(G40=\"x\",2,0)","v":0}]
[9,"Propensity of the stakeholder to provide in-kind support",null,null,null,null,null,{"$f":"IF(C41=\"x\",-2,0)","v":0},{"$f":"IF(D41=\"x\",-1,0)","v":0},{"$f":"IF(E41=\"x\",0,0)","v":0},{"$f":"IF(F41=\"x\",1,0)","v":0},{"$f":"IF(G41=\"x\",2,0)","v":0}]
[10,"Interest of the stakeholder in increasing its own influence on the job market",null,null,null,null,null,{"$f":"IF(C42=\"x\",-2,0)","v":0},{"$f":"IF(D42=\"x\",-1,0)","v":0},{"$f":"IF(E42=\"x\",0,0)","v":0},{"$f":"IF(F42=\"x\",1,0)","v":0},{"$f":"IF(G42=\"x\",2,0)","v":0}]
[null,"(3) Human capital",null,null,null,null,null,null,null,null,null,null,{"$f":"SUM(H44:L48)","v":0},{"$f":"(((M43-(-10))*(1-0))/(10-(-10)))+0","v":0.5}]
[11,"Interest of the stakeholder to share/increase own knowledge/skills on the topic",null,null,null,null,null,{"$f":"IF(C44=\"x\",-2,0)","v":0},{"$f":"IF(D44=\"x\",-1,0)","v":0},{"$f":"IF(E44=\"x\",0,0)","v":0},{"$f":"IF(F44=\"x\",1,0)","v":0},{"$f":"IF(G44=\"x\",2,0)","v":0},null,"Weighted value"]
[12,"Willingness of the stakeholder to share/increase own awareness on the topic",null,null,null,null,null,{"$f":"IF(C45=\"x\",-2,0)","v":0},{"$f":"IF(D45=\"x\",-1,0)","v":0},{"$f":"IF(E45=\"x\",0,0)","v":0},{"$f":"IF(F45=\"x\",1,0)","v":0},{"$f":"IF(G45=\"x\",2,0)","v":0},null,{"$f":"N43*'1_COMMUNITY EVALUATION'!N22","v":0.25}]
[13,"Willingness of the stakeholder to engage in public debate",null,null,null,null,null,{"$f":"IF(C46=\"x\",-2,0)","v":0},{"$f":"IF(D46=\"x\",-1,0)","v":0},{"$f":"IF(E46=\"x\",0,0)","v":0},{"$f":"IF(F46=\"x\",1,0)","v":0},{"$f":"IF(G46=\"x\",2,0)","v":0}]
[14,"Willingness of the stakeholder to communicate through a range of different media",null,null,null,null,null,{"$f":"IF(C47=\"x\",-2,0)","v":0},{"$f":"IF(D47=\"x\",-1,0)","v":0},{"$f":"IF(E47=\"x\",0,0)","v":0},{"$f":"IF(F47=\"x\",1,0)","v":0},{"$f":"IF(G47=\"x\",2,0)","v":0}]
[15,"Willingness of the stakeholder to access public venues",null,null,null,null,null,{"$f":"IF(C48=\"x\",-2,0)","v":0},{"$f":"IF(D48=\"x\",-1,0)","v":0},{"$f":"IF(E48=\"x\",0,0)","v":0},{"$f":"IF(F48=\"x\",1,0)","v":0},{"$f":"IF(G48=\"x\",2,0)","v":0}]
[null,"(4) Political capital",null,null,null,null,null,null,null,null,null,null,{"$f":"SUM(H50:L54)","v":0},{"$f":"(((M49-(-10))*(1-0))/(10-(-10)))+0","v":0.5}]
[16,"Trust of the stakeholder towards the local administration",null,null,null,null,null,{"$f":"IF(C50=\"x\",-2,0)","v":0},{"$f":"IF(D50=\"x\",-1,0)","v":0},{"$f":"IF(E50=\"x\",0,0)","v":0},{"$f":"IF(F50=\"x\",1,0)","v":0},{"$f":"IF(G50=\"x\",2,0)","v":0},null,"Weighted value"]
[17,"Political interest of the stakeholder in the topic",null,null,null,null,null,{"$f":"IF(C51=\"x\",-2,0)","v":0},{"$f":"IF(D51=\"x\",-1,0)","v":0},{"$f":"IF(E51=\"x\",0,0)","v":0},{"$f":"IF(F51=\"x\",1,0)","v":0},{"$f":"IF(G51=\"x\",2,0)","v":0},null,{"$f":"N49*'1_COMMUNITY EVALUATION'!N31","v":0.25}]
[18,"Willingness of the stakeholder to engage with local authorities",null,null,null,null,null,{"$f":"IF(C52=\"x\",-2,0)","v":0},{"$f":"IF(D52=\"x\",-1,0)","v":0},{"$f":"IF(E52=\"x\",0,0)","v":0},{"$f":"IF(F52=\"x\",1,0)","v":0},{"$f":"IF(G52=\"x\",2,0)","v":0}]
[19,"Interest for the stakeholder to reach out to a wider public",null,null,null,null,null,{"$f":"IF(C53=\"x\",-2,0)","v":0},{"$f":"IF(D53=\"x\",-1,0)","v":0},{"$f":"IF(E53=\"x\",0,0)","v":0},{"$f":"IF(F53=\"x\",1,0)","v":0},{"$f":"IF(G53=\"x\",2,0)","v":0}]
[20,"Willingness of the stakeholder to share/increase own political awareness",null,null,null,null,null,{"$f":"IF(C54=\"x\",-2,0)","v":0},{"$f":"IF(D54=\"x\",-1,0)","v":0},{"$f":"IF(E54=\"x\",0,0)","v":0},{"$f":"IF(F54=\"x\",1,0)","v":0},{"$f":"IF(G54=\"x\",2,0)","v":0}]
[null,"INTEREST SCORE",null,null,null,null,null,null,null,null,null,null,null,{"$f":"IF(C2=\"\",\"\",(SUM(N51+N45+N39+N33)/4))","v":""}]

{"sheet":"STAKEHOLDER (19)","index":23,"n_rows":55,"n_cols":14,"rows_kept":55,"cut":false,"hidden":false,"merged":[[0,0,0,13],[1,2,1,13],[27,1,27,6],[54,1,54,6]]}
["Bearing in mind the topic at hand, please evaluate the stakeholder for each proposed item (row) by it marking with an 'x' (from extremely negative to extremely positive)."]
[null,"STAKEHOLDER - insert name ->"]
[null,"DIMENSIONS","Extremely Negative","Negative","not applicable","Positive","Extremely positive",-2,-1,0,1,2,null,"score per dimension"]
[null,"(1) Social capital",null,null,null,null,null,null,null,null,null,null,{"$f":"SUM(H5:L9)","v":0},{"$f":"(((M4-(-10))*(1-0))/(10-(-10)))+0","v":0.5}]
[1,"Capacity of the stakeholder to involve other stakeholders ",null,null,null,null,null,{"$f":"IF(C5=\"x\",-2,0)","v":0},{"$f":"IF(D5=\"x\",-1,0)","v":0},{"$f":"IF(E5=\"x\",0,0)","v":0},{"$f":"IF(F5=\"x\",1,0)","v":0},{"$f":"IF(G5=\"x\",2,0)","v":0},null,"Weighted value"]
[2,"Level of representativeness of the stakeholder of a specific category",null,null,null,null,null,{"$f":"IF(C6=\"x\",-2,0)","v":0},{"$f":"IF(D6=\"x\",-1,0)","v":0},{"$f":"IF(E6=\"x\",0,0)","v":0},{"$f":"IF(F6=\"x\",1,0)","v":0},{"$f":"IF(G6=\"x\",2,0)","v":0},null,{"$f":"N4*'1_COMMUNITY EVALUATION'!N4","v":0.25}]
[3,"Level of participation of the stakeholder to local civil society activities",null,null,null,null,null,{"$f":"IF(C7=\"x\",-2,0)","v":0},{"$f":"IF(D7=\"x\",-1,0)","v":0},{"$f":"IF(E7=\"x\",0,0)","v":0},{"$f":"IF(F7=\"x\",1,0)","v":0},{"$f":"IF(G7=\"x\",2,0)","v":0}]
[4,"Capacity of the stakeholder to start/influence change",null,null,null,null,null,{"$f":"IF(C8=\"x\",-2,0)","v":0},{"$f":"IF(D8=\"x\",-1,0)","v":0},{"$f":"IF(E8=\"x\",0,0)","v":0},{"$f":"IF(F8=\"x\",1,0)","v":0},{"$f":"IF(G8=\"x\",2,0)","v":0}]
[5,"Level of acknowledgment of the stakeholder among citizens",null,null,null,null,null,{"$f":"IF(C9=\"x\",-2,0)","v":0},{"$f":"IF(D9=\"x\",-1,0)","v":0},{"$f":"IF(E9=\"x\",0,0)","v":0},{"$f":"IF(F9=\"x\",1,0)","v":0},{"$f":"IF(G9=\"x\",2,0)","v":0}]
[null,"(2) Economic capital",null,null,null,null,null,null,null,null,null,null,{"$f":"SUM(H11:L15)","v":0},{"$f":"(((M10-(-10))*(1-0))/(10-(-10)))+0","v":0.5}]
[6,"Capacity of the stakeholder to act as donor",null,null,null,null,null,{"$f":"IF(C11=\"x\",-2,0)","v":0},{"$f":"IF(D11=\"x\",-1,0)","v":0},{"$f":"IF(E11=\"x\",0,0)","v":0},{"$f":"IF(F11=\"x\",1,0)","v":0},{"$f":"IF(G11=\"x\",2,0)","v":0},null,"Weighted value"]
[7,"Capacity of the stakeholder to influence resources' allocation",null,null,null,null,null,{"$f":"IF(C12=\"x\",-2,0)","v":0},{"$f":"IF(D12=\"x\",-1,0)","v":0},{"$f":"IF(E12=\"x\",0,0)","v":0},{"$f":"IF(F12=\"x\",1,0)","v":0},{"$f":"IF(G12=\"x\",2,0)","v":0},null,{"$f":"N10*'1_COMMUNITY EVALUATION'!N13","v":0.25}]
[8,"Capacity to facilitate access to existing exogenous resources ",null,null,null,null,null,{"$f":"IF(C13=\"x\",-2,0)","v":0},{"$f":"IF(D13=\"x\",-1,0)","v":0},{"$f":"IF(E13=\"x\",0,0)","v":0},{"$f":"IF(F13=\"x\",1,0)","v":0},{"$f":"IF(G13=\"x\",2,0)","v":0}]
[9,"Capacity of the stakeholder to provide in-kind support",null,null,null,null,null,{"$f":"IF(C14=\"x\",-2,0)","v":0},{"$f":"IF(D14=\"x\",-1,0)","v":0},{"$f":"IF(E14=\"x\",0,0)","v":0},{"$f":"IF(F14=\"x\",1,0)","v":0},{"$f":"IF(G14=\"x\",2,0)","v":0}]
[10,"Influence of the stakeholder on the job market",null,null,null,null,null,{"$f":"IF(C15=\"x\",-2,0)","v":0},{"$f":"IF(D15=\"x\",-1,0)","v":0},{"$f":"IF(E15=\"x\",0,0)","v":0},{"$f":"IF(F15=\"x\",1,0)","v":0},{"$f":"IF(G15=\"x\",2,0)","v":0}]
[null,"(3) Human capital",null,null,null,null,null,null,null,null,null,null,{"$f":"SUM(H17:L21)","v":0},{"$f":"(((M16-(-10))*(1-0))/(10-(-10)))+0","v":0.5}]
[11,"Knowledge/skills of the stakeholder on the topic",null,null,null,null,null,{"$f":"IF(C17=\"x\",-2,0)","v":0},{"$f":"IF(D17=\"x\",-1,0)","v":0},{"$f":"IF(E17=\"x\",0,0)","v":0},{"$f":"IF(F17=\"x\",1,0)","v":0},{"$f":"IF(G17=\"x\",2,0)","v":0},null,"Weighted value"]
[12,"Awareness of the stakeholder on the topic",null,null,null,null,null,{"$f":"IF(C18=\"x\",-2,0)","v":0},{"$f":"IF(D18=\"x\",-1,0)","v":0},{"$f":"IF(E18=\"x\",0,0)","v":0},{"$f":"IF(F18=\"x\",1,0)","v":0},{"$f":"IF(G18=\"x\",2,0)","v":0},null,{"$f":"N16*'1_COMMUNITY EVALUATION'!N22","v":0.25}]
[13,"Capacity of the stakeholder to engage in public debate",null,null,null,null,null,{"$f":"IF(C19=\"x\",-2,0)","v":0},{"$f":"IF(D19=\"x\",-1,0)","v":0},{"$f":"IF(E19=\"x\",0,0)","v":0},{"$f":"IF(F19=\"x\",1,0)","v":0},{"$f":"IF(G19=\"x\",2,0)","v":0}]
[14,"Capacity of the stakeholder to communicate through a range of different media",null,null,null,null,null,{"$f":"IF(C20=\"x\",-2,0)","v":0},{"$f":"IF(D20=\"x\",-1,0)","v":0},{"$f":"IF(E20=\"x\",0,0)","v":0},{"$f":"IF(F20=\"x\",1,0)","v":0},{"$f":"IF(G20=\"x\",2,0)","v":0}]
[15,"Capacity of the stakeholder to access public venues",null,null,null,null,null,{"$f":"IF(C21=\"x\",-2,0)","v":0},{"$f":"IF(D21=\"x\",-1,0)","v":0},{"$f":"IF(E21=\"x\",0,0)","v":0},{"$f":"IF(F21=\"x\",1,0)","v":0},{"$f":"IF(G21=\"x\",2,0)","v":0}]
[null,"(4) Political capital",null,null,null,null,null,null,null,null,null,null,{"$f":"SUM(H23:L27)","v":0},{"$f":"(((M22-(-10))*(1-0))/(10-(-10)))+0","v":0.5}]
[16,"Trust of the local administration towards the stakeholder ",null,null,null,null,null,{"$f":"IF(C23=\"x\",-2,0)","v":0},{"$f":"IF(D23=\"x\",-1,0)","v":0},{"$f":"IF(E23=\"x\",0,0)","v":0},{"$f":"IF(F23=\"x\",1,0)","v":0},{"$f":"IF(G23=\"x\",2,0)","v":0},null,"Weighted value"]
[17,"Capacity of the stakeholder to engage further political actors",null,null,null,null,null,{"$f":"IF(C24=\"x\",-2,0)","v":0},{"$f":"IF(D24=\"x\",-1,0)","v":0},{"$f":"IF(E24=\"x\",0,0)","v":0},{"$f":"IF(F24=\"x\",1,0)","v":0},{"$f":"IF(G24=\"x\",2,0)","v":0},null,{"$f":"N22*'1_COMMUNITY EVALUATION'!N31","v":0.25}]
[18,"Capacity of the stakeholder to engage with local authorities/other stakeholders",null,null,null,null,null,{"$f":"IF(C25=\"x\",-2,0)","v":0},{"$f":"IF(D25=\"x\",-1,0)","v":0},{"$f":"IF(E25=\"x\",0,0)","v":0},{"$f":"IF(F25=\"x\",1,0)","v":0},{"$f":"IF(G25=\"x\",2,0)","v":0}]
[19,"Capacity of the stakeholder to influence public opinion",null,null,null,null,null,{"$f":"IF(C26=\"x\",-2,0)","v":0},{"$f":"IF(D26=\"x\",-1,0)","v":0},{"$f":"IF(E26=\"x\",0,0)","v":0},{"$f":"IF(F26=\"x\",1,0)","v":0},{"$f":"IF(G26=\"x\",2,0)","v":0}]
[20,"Political awareness of the stakeholder",null,null,null,null,null,{"$f":"IF(C27=\"x\",-2,0)","v":0},{"$f":"IF(D27=\"x\",-1,0)","v":0},{"$f":"IF(E27=\"x\",0,0)","v":0},{"$f":"IF(F27=\"x\",1,0)","v":0},{"$f":"IF(G27=\"x\",2,0)","v":0}]
[null,"RELEVANCE SCORE",null,null,null,null,null,null,null,null,null,null,null,{"$f":"IF(C2=\"\",\"\",(SUM(N24+N18+N12+N6)/4))","v":""}]
[]
[null,"DIMENSIONS","Extremely Negative","Negative","not applicable","Positive","Extremely positive",-2,-1,0,1,2,null,"score per dimension"]
[null,"(1) Social capital",null,null,null,null,null,null,null,null,null,null,{"$f":"SUM(H32:L36)","v":0},{"$f":"(((M31-(-10))*(1-0))/(10-(-10)))+0","v":0.5}]
[1,"Interest for the stakeholder to engage in networking for the topic at stake ",null,null,null,null,null,{"$f":"IF(C32=\"x\",-2,0)","v":0},{"$f":"IF(D32=\"x\",-1,0)","v":0},{"$f":"IF(E32=\"x\",0,0)","v":0},{"$f":"IF(F32=\"x\",1,0)","v":0},{"$f":"IF(G32=\"x\",2,0)","v":0},null,"Weighted value"]
[2,"Interest of the stakeholder to represent a specific category for the topic at stake",null,null,null,null,null,{"$f":"IF(C33=\"x\",-2,0)","v":0},{"$f":"IF(D33=\"x\",-1,0)","v":0},{"$f":"IF(E33=\"x\",0,0)","v":0},{"$f":"IF(F33=\"x\",1,0)","v":0},{"$f":"IF(G33=\"x\",2,0)","v":0},null,{"$f":"N31*'1_COMMUNITY EVALUATION'!N4","v":0.25}]
[3,"Interest of the stakeholder to be involved further in civil society activism for the topic at stake",null,null,null,null,null,{"$f":"IF(C34=\"x\",-2,0)","v":0},{"$f":"IF(D34=\"x\",-1,0)","v":0},{"$f":"IF(E34=\"x\",0,0)","v":0},{"$f":"IF(F34=\"x\",1,0)","v":0},{"$f":"IF(G34=\"x\",2,0)","v":0}]
[4,"interest of the stakeholder to start/influence change",null,null,null,null,null,{"$f":"IF(C35=\"x\",-2,0)","v":0},{"$f":"IF(D35=\"x\",-1,0)","v":0},{"$f":"IF(E35=\"x\",0,0)","v":0},{"$f":"IF(F35=\"x\",1,0)","v":0},{"$f":"IF(G35=\"x\",2,0)","v":0}]
[5,"Interest of the stakeholder to increase its own acknowledgement among citizens",null,null,null,null,null,{"$f":"IF(C36=\"x\",-2,0)","v":0},{"$f":"IF(D36=\"x\",-1,0)","v":0},{"$f":"IF(E36=\"x\",0,0)","v":0},{"$f":"IF(F36=\"x\",1,0)","v":0},{"$f":"IF(G36=\"x\",2,0)","v":0}]
[null,"(2) Economic capital",null,null,null,null,null,null,null,null,null,null,{"$f":"SUM(H38:L42)","v":0},{"$f":"(((M37-(-10))*(1-0))/(10-(-10)))+0","v":0.5}]
[6,"Potential economic benefit for the stakeholder ",null,null,null,null,null,{"$f":"IF(C38=\"x\",-2,0)","v":0},{"$f":"IF(D38=\"x\",-1,0)","v":0},{"$f":"IF(E38=\"x\",0,0)","v":0},{"$f":"IF(F38=\"x\",1,0)","v":0},{"$f":"IF(G38=\"x\",2,0)","v":0},null,"Weighted value"]
[7,"Willingness of the stakeholder to mobilise resources ",null,null,null,null,null,{"$f":"IF(C39=\"x\",-2,0)","v":0},{"$f":"IF(D39=\"x\",-1,0)","v":0},{"$f":"IF(E39=\"x\",0,0)","v":0},{"$f":"IF(F39=\"x\",1,0)","v":0},{"$f":"IF(G39=\"x\",2,0)","v":0},null,{"$f":"N37*'1_COMMUNITY EVALUATION'!N13","v":0.25}]
[8,"Willingness of the stakeholder to support access to existing exogenous resources",null,null,null,null,null,{"$f":"IF(C40=\"x\",-2,0)","v":0},{"$f":"IF(D40=\"x\",-1,0)","v":0},{"$f":"IF(E40=\"x\",0,0)","v":0},{"$f":"IF(F40=\"x\",1,0)","v":0},{"$f":"IF(G40=\"x\",2,0)","v":0}]
[9,"Propensity of the stakeholder to provide in-kind support",null,null,null,null,null,{"$f":"IF(C41=\"x\",-2,0)","v":0},{"$f":"IF(D41=\"x\",-1,0)","v":0},{"$f":"IF(E41=\"x\",0,0)","v":0},{"$f":"IF(F41=\"x\",1,0)","v":0},{"$f":"IF(G41=\"x\",2,0)","v":0}]
[10,"Interest of the stakeholder in increasing its own influence on the job market",null,null,null,null,null,{"$f":"IF(C42=\"x\",-2,0)","v":0},{"$f":"IF(D42=\"x\",-1,0)","v":0},{"$f":"IF(E42=\"x\",0,0)","v":0},{"$f":"IF(F42=\"x\",1,0)","v":0},{"$f":"IF(G42=\"x\",2,0)","v":0}]
[null,"(3) Human capital",null,null,null,null,null,null,null,null,null,null,{"$f":"SUM(H44:L48)","v":0},{"$f":"(((M43-(-10))*(1-0))/(10-(-10)))+0","v":0.5}]
[11,"Interest of the stakeholder to share/increase own knowledge/skills on the topic",null,null,null,null,null,{"$f":"IF(C44=\"x\",-2,0)","v":0},{"$f":"IF(D44=\"x\",-1,0)","v":0},{"$f":"IF(E44=\"x\",0,0)","v":0},{"$f":"IF(F44=\"x\",1,0)","v":0},{"$f":"IF(G44=\"x\",2,0)","v":0},null,"Weighted value"]
[12,"Willingness of the stakeholder to share/increase own awareness on the topic",null,null,null,null,null,{"$f":"IF(C45=\"x\",-2,0)","v":0},{"$f":"IF(D45=\"x\",-1,0)","v":0},{"$f":"IF(E45=\"x\",0,0)","v":0},{"$f":"IF(F45=\"x\",1,0)","v":0},{"$f":"IF(G45=\"x\",2,0)","v":0},null,{"$f":"N43*'1_COMMUNITY EVALUATION'!N22","v":0.25}]
[13,"Willingness of the stakeholder to engage in public debate",null,null,null,null,null,{"$f":"IF(C46=\"x\",-2,0)","v":0},{"$f":"IF(D46=\"x\",-1,0)","v":0},{"$f":"IF(E46=\"x\",0,0)","v":0},{"$f":"IF(F46=\"x\",1,0)","v":0},{"$f":"IF(G46=\"x\",2,0)","v":0}]
[14,"Willingness of the stakeholder to communicate through a range of different media",null,null,null,null,null,{"$f":"IF(C47=\"x\",-2,0)","v":0},{"$f":"IF(D47=\"x\",-1,0)","v":0},{"$f":"IF(E47=\"x\",0,0)","v":0},{"$f":"IF(F47=\"x\",1,0)","v":0},{"$f":"IF(G47=\"x\",2,0)","v":0}]
[15,"Willingness of the stakeholder to access public venues",null,null,null,null,null,{"$f":"IF(C48=\"x\",-2,0)","v":0},{"$f":"IF(D48=\"x\",-1,0)","v":0},{"$f":"IF(E48=\"x\",0,0)","v":0},{"$f":"IF(F48=\"x\",1,0)","v":0},{"$f":"IF(G48=\"x\",2,0)","v":0}]
[null,"(4) Political capital",null,null,null,null,null,null,null,null,null,null,{"$f":"SUM(H50:L54)","v":0},{"$f":"(((M49-(-10))*(1-0))/(10-(-10)))+0","v":0.5}]
[16,"Trust of the stakeholder towards the local administration",null,null,null,null,null,{"$f":"IF(C50=\"x\",-2,0)","v":0},{"$f":"IF(D50=\"x\",-1,0)","v":0},{"$f":"IF(E50=\"x\",0,0)","v":0},{"$f":"IF(F50=\"x\",1,0)","v":0},{"$f":"IF(G50=\"x\",2,0)","v":0},null,"Weighted value"]
[17,"Political interest of the stakeholder in the topic",null,null,null,null,null,{"$f":"IF(C51=\"x\",-2,0)","v":0},{"$f":"IF(D51=\"x\",-1,0)","v":0},{"$f":"IF(E51=\"x\",0,0)","v":0},{"$f":"IF(F51=\"x\",1,0)","v":0},{"$f":"IF(G51=\"x\",2,0)","v":0},null,{"$f":"N49*'1_COMMUNITY EVALUATION'!N31","v":0.25}]
[18,"Willingness of the stakeholder to engage with local authorities",null,null,null,null,null,{"$f":"IF(C52=\"x\",-2,0)","v":0},{"$f":"IF(D52=\"x\",-1,0)","v":0},{"$f":"IF(E52=\"x\",0,0)","v":0},{"$f":"IF(F52=\"x\",1,0)","v":0},{"$f":"IF(G52=\"x\",2,0)","v":0}]
[19,"Interest for the stakeholder to reach out to a wider public",null,null,null,null,null,{"$f":"IF(C53=\"x\",-2,0)","v":0},{"$f":"IF(D53=\"x\",-1,0)","v":0},{"$f":"IF(E53=\"x\",0,0)","v":0},{"$f":"IF(F53=\"x\",1,0)","v":0},{"$f":"IF(G53=\"x\",2,0)","v":0}]
[20,"Willingness of the stakeholder to share/increase own political awareness",null,null,null,null,null,{"$f":"IF(C54=\"x\",-2,0)","v":0},{"$f":"IF(D54=\"x\",-1,0)","v":0},{"$f":"IF(E54=\"x\",0,0)","v":0},{"$f":"IF(F54=\"x\",1,0)","v":0},{"$f":"IF(G54=\"x\",2,0)","v":0}]
[null,"INTEREST SCORE",null,null,null,null,null,null,null,null,null,null,null,{"$f":"IF(C2=\"\",\"\",(SUM(N51+N45+N39+N33)/4))","v":""}]

{"sheet":"STAKEHOLDER (20)","index":24,"n_rows":55,"n_cols":14,"rows_kept":55,"cut":false,"hidden":false,"merged":[[0,0,0,13],[1,2,1,13],[27,1,27,6],[54,1,54,6]]}
["Bearing in mind the topic at hand, please evaluate the stakeholder for each proposed item (row) by it marking with an 'x' (from extremely negative to extremely positive)."]
[null,"STAKEHOLDER - insert name ->"]
[null,"DIMENSIONS","Extremely Negative","Negative","not applicable","Positive","Extremely positive",-2,-1,0,1,2,null,"score per dimension"]
[null,"(1) Social capital",null,null,null,null,null,null,null,null,null,null,{"$f":"SUM(H5:L9)","v":0},{"$f":"(((M4-(-10))*(1-0))/(10-(-10)))+0","v":0.5}]
[1,"Capacity of the stakeholder to involve other stakeholders ",null,null,null,null,null,{"$f":"IF(C5=\"x\",-2,0)","v":0},{"$f":"IF(D5=\"x\",-1,0)","v":0},{"$f":"IF(E5=\"x\",0,0)","v":0},{"$f":"IF(F5=\"x\",1,0)","v":0},{"$f":"IF(G5=\"x\",2,0)","v":0},null,"Weighted value"]
[2,"Level of representativeness of the stakeholder of a specific category",null,null,null,null,null,{"$f":"IF(C6=\"x\",-2,0)","v":0},{"$f":"IF(D6=\"x\",-1,0)","v":0},{"$f":"IF(E6=\"x\",0,0)","v":0},{"$f":"IF(F6=\"x\",1,0)","v":0},{"$f":"IF(G6=\"x\",2,0)","v":0},null,{"$f":"N4*'1_COMMUNITY EVALUATION'!N4","v":0.25}]
[3,"Level of participation of the stakeholder to local civil society activities",null,null,null,null,null,{"$f":"IF(C7=\"x\",-2,0)","v":0},{"$f":"IF(D7=\"x\",-1,0)","v":0},{"$f":"IF(E7=\"x\",0,0)","v":0},{"$f":"IF(F7=\"x\",1,0)","v":0},{"$f":"IF(G7=\"x\",2,0)","v":0}]
[4,"Capacity of the stakeholder to start/influence change",null,null,null,null,null,{"$f":"IF(C8=\"x\",-2,0)","v":0},{"$f":"IF(D8=\"x\",-1,0)","v":0},{"$f":"IF(E8=\"x\",0,0)","v":0},{"$f":"IF(F8=\"x\",1,0)","v":0},{"$f":"IF(G8=\"x\",2,0)","v":0}]
[5,"Level of acknowledgment of the stakeholder among citizens",null,null,null,null,null,{"$f":"IF(C9=\"x\",-2,0)","v":0},{"$f":"IF(D9=\"x\",-1,0)","v":0},{"$f":"IF(E9=\"x\",0,0)","v":0},{"$f":"IF(F9=\"x\",1,0)","v":0},{"$f":"IF(G9=\"x\",2,0)","v":0}]
[null,"(2) Economic capital",null,null,null,null,null,null,null,null,null,null,{"$f":"SUM(H11:L15)","v":0},{"$f":"(((M10-(-10))*(1-0))/(10-(-10)))+0","v":0.5}]
[6,"Capacity of the stakeholder to act as donor",null,null,null,null,null,{"$f":"IF(C11=\"x\",-2,0)","v":0},{"$f":"IF(D11=\"x\",-1,0)","v":0},{"$f":"IF(E11=\"x\",0,0)","v":0},{"$f":"IF(F11=\"x\",1,0)","v":0},{"$f":"IF(G11=\"x\",2,0)","v":0},null,"Weighted value"]
[7,"Capacity of the stakeholder to influence resources' allocation",null,null,null,null,null,{"$f":"IF(C12=\"x\",-2,0)","v":0},{"$f":"IF(D12=\"x\",-1,0)","v":0},{"$f":"IF(E12=\"x\",0,0)","v":0},{"$f":"IF(F12=\"x\",1,0)","v":0},{"$f":"IF(G12=\"x\",2,0)","v":0},null,{"$f":"N10*'1_COMMUNITY EVALUATION'!N13","v":0.25}]
[8,"Capacity to facilitate access to existing exogenous resources ",null,null,null,null,null,{"$f":"IF(C13=\"x\",-2,0)","v":0},{"$f":"IF(D13=\"x\",-1,0)","v":0},{"$f":"IF(E13=\"x\",0,0)","v":0},{"$f":"IF(F13=\"x\",1,0)","v":0},{"$f":"IF(G13=\"x\",2,0)","v":0}]
[9,"Capacity of the stakeholder to provide in-kind support",null,null,null,null,null,{"$f":"IF(C14=\"x\",-2,0)","v":0},{"$f":"IF(D14=\"x\",-1,0)","v":0},{"$f":"IF(E14=\"x\",0,0)","v":0},{"$f":"IF(F14=\"x\",1,0)","v":0},{"$f":"IF(G14=\"x\",2,0)","v":0}]
[10,"Influence of the stakeholder on the job market",null,null,null,null,null,{"$f":"IF(C15=\"x\",-2,0)","v":0},{"$f":"IF(D15=\"x\",-1,0)","v":0},{"$f":"IF(E15=\"x\",0,0)","v":0},{"$f":"IF(F15=\"x\",1,0)","v":0},{"$f":"IF(G15=\"x\",2,0)","v":0}]
[null,"(3) Human capital",null,null,null,null,null,null,null,null,null,null,{"$f":"SUM(H17:L21)","v":0},{"$f":"(((M16-(-10))*(1-0))/(10-(-10)))+0","v":0.5}]
[11,"Knowledge/skills of the stakeholder on the topic",null,null,null,null,null,{"$f":"IF(C17=\"x\",-2,0)","v":0},{"$f":"IF(D17=\"x\",-1,0)","v":0},{"$f":"IF(E17=\"x\",0,0)","v":0},{"$f":"IF(F17=\"x\",1,0)","v":0},{"$f":"IF(G17=\"x\",2,0)","v":0},null,"Weighted value"]
[12,"Awareness of the stakeholder on the topic",null,null,null,null,null,{"$f":"IF(C18=\"x\",-2,0)","v":0},{"$f":"IF(D18=\"x\",-1,0)","v":0},{"$f":"IF(E18=\"x\",0,0)","v":0},{"$f":"IF(F18=\"x\",1,0)","v":0},{"$f":"IF(G18=\"x\",2,0)","v":0},null,{"$f":"N16*'1_COMMUNITY EVALUATION'!N22","v":0.25}]
[13,"Capacity of the stakeholder to engage in public debate",null,null,null,null,null,{"$f":"IF(C19=\"x\",-2,0)","v":0},{"$f":"IF(D19=\"x\",-1,0)","v":0},{"$f":"IF(E19=\"x\",0,0)","v":0},{"$f":"IF(F19=\"x\",1,0)","v":0},{"$f":"IF(G19=\"x\",2,0)","v":0}]
[14,"Capacity of the stakeholder to communicate through a range of different media",null,null,null,null,null,{"$f":"IF(C20=\"x\",-2,0)","v":0},{"$f":"IF(D20=\"x\",-1,0)","v":0},{"$f":"IF(E20=\"x\",0,0)","v":0},{"$f":"IF(F20=\"x\",1,0)","v":0},{"$f":"IF(G20=\"x\",2,0)","v":0}]
[15,"Capacity of the stakeholder to access public venues",null,null,null,null,null,{"$f":"IF(C21=\"x\",-2,0)","v":0},{"$f":"IF(D21=\"x\",-1,0)","v":0},{"$f":"IF(E21=\"x\",0,0)","v":0},{"$f":"IF(F21=\"x\",1,0)","v":0},{"$f":"IF(G21=\"x\",2,0)","v":0}]
[null,"(4) Political capital",null,null,null,null,null,null,null,null,null,null,{"$f":"SUM(H23:L27)","v":0},{"$f":"(((M22-(-10))*(1-0))/(10-(-10)))+0","v":0.5}]
[16,"Trust of the local administration towards the stakeholder ",null,null,null,null,null,{"$f":"IF(C23=\"x\",-2,0)","v":0},{"$f":"IF(D23=\"x\",-1,0)","v":0},{"$f":"IF(E23=\"x\",0,0)","v":0},{"$f":"IF(F23=\"x\",1,0)","v":0},{"$f":"IF(G23=\"x\",2,0)","v":0},null,"Weighted value"]
[17,"Capacity of the stakeholder to engage further political actors",null,null,null,null,null,{"$f":"IF(C24=\"x\",-2,0)","v":0},{"$f":"IF(D24=\"x\",-1,0)","v":0},{"$f":"IF(E24=\"x\",0,0)","v":0},{"$f":"IF(F24=\"x\",1,0)","v":0},{"$f":"IF(G24=\"x\",2,0)","v":0},null,{"$f":"N22*'1_COMMUNITY EVALUATION'!N31","v":0.25}]
[18,"Capacity of the stakeholder to engage with local authorities/other stakeholders",null,null,null,null,null,{"$f":"IF(C25=\"x\",-2,0)","v":0},{"$f":"IF(D25=\"x\",-1,0)","v":0},{"$f":"IF(E25=\"x\",0,0)","v":0},{"$f":"IF(F25=\"x\",1,0)","v":0},{"$f":"IF(G25=\"x\",2,0)","v":0}]
[19,"Capacity of the stakeholder to influence public opinion",null,null,null,null,null,{"$f":"IF(C26=\"x\",-2,0)","v":0},{"$f":"IF(D26=\"x\",-1,0)","v":0},{"$f":"IF(E26=\"x\",0,0)","v":0},{"$f":"IF(F26=\"x\",1,0)","v":0},{"$f":"IF(G26=\"x\",2,0)","v":0}]
[20,"Political awareness of the stakeholder",null,null,null,null,null,{"$f":"IF(C27=\"x\",-2,0)","v":0},{"$f":"IF(D27=\"x\",-1,0)","v":0},{"$f":"IF(E27=\"x\",0,0)","v":0},{"$f":"IF(F27=\"x\",1,0)","v":0},{"$f":"IF(G27=\"x\",2,0)","v":0}]
[null,"RELEVANCE SCORE",null,null,null,null,null,null,null,null,null,null,null,{"$f":"IF(C2=\"\",\"\",(SUM(N24+N18+N12+N6)/4))","v":""}]
[]
[null,"DIMENSIONS","Extremely Negative","Negative","not applicable","Positive","Extremely positive",-2,-1,0,1,2,null,"score per dimension"]
[null,"(1) Social capital",null,null,null,null,null,null,null,null,null,null,{"$f":"SUM(H32:L36)","v":0},{"$f":"(((M31-(-10))*(1-0))/(10-(-10)))+0","v":0.5}]
[1,"Interest for the stakeholder to engage in networking for the topic at stake ",null,null,null,null,null,{"$f":"IF(C32=\"x\",-2,0)","v":0},{"$f":"IF(D32=\"x\",-1,0)","v":0},{"$f":"IF(E32=\"x\",0,0)","v":0},{"$f":"IF(F32=\"x\",1,0)","v":0},{"$f":"IF(G32=\"x\",2,0)","v":0},null,"Weighted value"]
[2,"Interest of the stakeholder to represent a specific category for the topic at stake",null,null,null,null,null,{"$f":"IF(C33=\"x\",-2,0)","v":0},{"$f":"IF(D33=\"x\",-1,0)","v":0},{"$f":"IF(E33=\"x\",0,0)","v":0},{"$f":"IF(F33=\"x\",1,0)","v":0},{"$f":"IF(G33=\"x\",2,0)","v":0},null,{"$f":"N31*'1_COMMUNITY EVALUATION'!N4","v":0.25}]
[3,"Interest of the stakeholder to be involved further in civil society activism for the topic at stake",null,null,null,null,null,{"$f":"IF(C34=\"x\",-2,0)","v":0},{"$f":"IF(D34=\"x\",-1,0)","v":0},{"$f":"IF(E34=\"x\",0,0)","v":0},{"$f":"IF(F34=\"x\",1,0)","v":0},{"$f":"IF(G34=\"x\",2,0)","v":0}]
[4,"interest of the stakeholder to start/influence change",null,null,null,null,null,{"$f":"IF(C35=\"x\",-2,0)","v":0},{"$f":"IF(D35=\"x\",-1,0)","v":0},{"$f":"IF(E35=\"x\",0,0)","v":0},{"$f":"IF(F35=\"x\",1,0)","v":0},{"$f":"IF(G35=\"x\",2,0)","v":0}]
[5,"Interest of the stakeholder to increase its own acknowledgement among citizens",null,null,null,null,null,{"$f":"IF(C36=\"x\",-2,0)","v":0},{"$f":"IF(D36=\"x\",-1,0)","v":0},{"$f":"IF(E36=\"x\",0,0)","v":0},{"$f":"IF(F36=\"x\",1,0)","v":0},{"$f":"IF(G36=\"x\",2,0)","v":0}]
[null,"(2) Economic capital",null,null,null,null,null,null,null,null,null,null,{"$f":"SUM(H38:L42)","v":0},{"$f":"(((M37-(-10))*(1-0))/(10-(-10)))+0","v":0.5}]
[6,"Potential economic benefit for the stakeholder ",null,null,null,null,null,{"$f":"IF(C38=\"x\",-2,0)","v":0},{"$f":"IF(D38=\"x\",-1,0)","v":0},{"$f":"IF(E38=\"x\",0,0)","v":0},{"$f":"IF(F38=\"x\",1,0)","v":0},{"$f":"IF(G38=\"x\",2,0)","v":0},null,"Weighted value"]
[7,"Willingness of the stakeholder to mobilise resources ",null,null,null,null,null,{"$f":"IF(C39=\"x\",-2,0)","v":0},{"$f":"IF(D39=\"x\",-1,0)","v":0},{"$f":"IF(E39=\"x\",0,0)","v":0},{"$f":"IF(F39=\"x\",1,0)","v":0},{"$f":"IF(G39=\"x\",2,0)","v":0},null,{"$f":"N37*'1_COMMUNITY EVALUATION'!N13","v":0.25}]
[8,"Willingness of the stakeholder to support access to existing exogenous resources",null,null,null,null,null,{"$f":"IF(C40=\"x\",-2,0)","v":0},{"$f":"IF(D40=\"x\",-1,0)","v":0},{"$f":"IF(E40=\"x\",0,0)","v":0},{"$f":"IF(F40=\"x\",1,0)","v":0},{"$f":"IF(G40=\"x\",2,0)","v":0}]
[9,"Propensity of the stakeholder to provide in-kind support",null,null,null,null,null,{"$f":"IF(C41=\"x\",-2,0)","v":0},{"$f":"IF(D41=\"x\",-1,0)","v":0},{"$f":"IF(E41=\"x\",0,0)","v":0},{"$f":"IF(F41=\"x\",1,0)","v":0},{"$f":"IF(G41=\"x\",2,0)","v":0}]
[10,"Interest of the stakeholder in increasing its own influence on the job market",null,null,null,null,null,{"$f":"IF(C42=\"x\",-2,0)","v":0},{"$f":"IF(D42=\"x\",-1,0)","v":0},{"$f":"IF(E42=\"x\",0,0)","v":0},{"$f":"IF(F42=\"x\",1,0)","v":0},{"$f":"IF(G42=\"x\",2,0)","v":0}]
[null,"(3) Human capital",null,null,null,null,null,null,null,null,null,null,{"$f":"SUM(H44:L48)","v":0},{"$f":"(((M43-(-10))*(1-0))/(10-(-10)))+0","v":0.5}]
[11,"Interest of the stakeholder to share/increase own knowledge/skills on the topic",null,null,null,null,null,{"$f":"IF(C44=\"x\",-2,0)","v":0},{"$f":"IF(D44=\"x\",-1,0)","v":0},{"$f":"IF(E44=\"x\",0,0)","v":0},{"$f":"IF(F44=\"x\",1,0)","v":0},{"$f":"IF(G44=\"x\",2,0)","v":0},null,"Weighted value"]
[12,"Willingness of the stakeholder to share/increase own awareness on the topic",null,null,null,null,null,{"$f":"IF(C45=\"x\",-2,0)","v":0},{"$f":"IF(D45=\"x\",-1,0)","v":0},{"$f":"IF(E45=\"x\",0,0)","v":0},{"$f":"IF(F45=\"x\",1,0)","v":0},{"$f":"IF(G45=\"x\",2,0)","v":0},null,{"$f":"N43*'1_COMMUNITY EVALUATION'!N22","v":0.25}]
[13,"Willingness of the stakeholder to engage in public debate",null,null,null,null,null,{"$f":"IF(C46=\"x\",-2,0)","v":0},{"$f":"IF(D46=\"x\",-1,0)","v":0},{"$f":"IF(E46=\"x\",0,0)","v":0},{"$f":"IF(F46=\"x\",1,0)","v":0},{"$f":"IF(G46=\"x\",2,0)","v":0}]
[14,"Willingness of the stakeholder to communicate through a range of different media",null,null,null,null,null,{"$f":"IF(C47=\"x\",-2,0)","v":0},{"$f":"IF(D47=\"x\",-1,0)","v":0},{"$f":"IF(E47=\"x\",0,0)","v":0},{"$f":"IF(F47=\"x\",1,0)","v":0},{"$f":"IF(G47=\"x\",2,0)","v":0}]
[15,"Willingness of the stakeholder to access public venues",null,null,null,null,null,{"$f":"IF(C48=\"x\",-2,0)","v":0},{"$f":"IF(D48=\"x\",-1,0)","v":0},{"$f":"IF(E48=\"x\",0,0)","v":0},{"$f":"IF(F48=\"x\",1,0)","v":0},{"$f":"IF(G48=\"x\",2,0)","v":0}]
[null,"(4) Political capital",null,null,null,null,null,null,null,null,null,null,{"$f":"SUM(H50:L54)","v":0},{"$f":"(((M49-(-10))*(1-0))/(10-(-10)))+0","v":0.5}]
[16,"Trust of the stakeholder towards the local administration",null,null,null,null,null,{"$f":"IF(C50=\"x\",-2,0)","v":0},{"$f":"IF(D50=\"x\",-1,0)","v":0},{"$f":"IF(E50=\"x\",0,0)","v":0},{"$f":"IF(F50=\"x\",1,0)","v":0},{"$f":"IF(G50=\"x\",2,0)","v":0},null,"Weighted value"]
[17,"Political interest of the stakeholder in the topic",null,null,null,null,null,{"$f":"IF(C51=\"x\",-2,0)","v":0},{"$f":"IF(D51=\"x\",-1,0)","v":0},{"$f":"IF(E51=\"x\",0,0)","v":0},{"$f":"IF(F51=\"x\",1,0)","v":0},{"$f":"IF(G51=\"x\",2,0)","v":0},null,{"$f":"N49*'1_COMMUNITY EVALUATION'!N31","v":0.25}]
[18,"Willingness of the stakeholder to engage with local authorities",null,null,null,null,null,{"$f":"IF(C52=\"x\",-2,0)","v":0},{"$f":"IF(D52=\"x\",-1,0)","v":0},{"$f":"IF(E52=\"x\",0,0)","v":0},{"$f":"IF(F52=\"x\",1,0)","v":0},{"$f":"IF(G52=\"x\",2,0)","v":0}]
[19,"Interest for the stakeholder to reach out to a wider public",null,null,null,null,null,{"$f":"IF(C53=\"x\",-2,0)","v":0},{"$f":"IF(D53=\"x\",-1,0)","v":0},{"$f":"IF(E53=\"x\",0,0)","v":0},{"$f":"IF(F53=\"x\",1,0)","v":0},{"$f":"IF(G53=\"x\",2,0)","v":0}]
[20,"Willingness of the stakeholder to share/increase own political awareness",null,null,null,null,null,{"$f":"IF(C54=\"x\",-2,0)","v":0},{"$f":"IF(D54=\"x\",-1,0)","v":0},{"$f":"IF(E54=\"x\",0,0)","v":0},{"$f":"IF(F54=\"x\",1,0)","v":0},{"$f":"IF(G54=\"x\",2,0)","v":0}]
[null,"INTEREST SCORE",null,null,null,null,null,null,null,null,null,null,null,{"$f":"IF(C2=\"\",\"\",(SUM(N51+N45+N39+N33)/4))","v":""}]

{"sheet":"STAKEHOLDER (21)","index":25,"n_rows":55,"n_cols":14,"rows_kept":55,"cut":false,"hidden":false,"merged":[[0,0,0,13],[1,2,1,13],[27,1,27,6],[54,1,54,6]]}
["Bearing in mind the topic at hand, please evaluate the stakeholder for each proposed item (row) by it marking with an 'x' (from extremely negative to extremely positive)."]
[null,"STAKEHOLDER - insert name ->"]
[null,"DIMENSIONS","Extremely Negative","Negative","not applicable","Positive","Extremely positive",-2,-1,0,1,2,null,"score per dimension"]
[null,"(1) Social capital",null,null,null,null,null,null,null,null,null,null,{"$f":"SUM(H5:L9)","v":0},{"$f":"(((M4-(-10))*(1-0))/(10-(-10)))+0","v":0.5}]
[1,"Capacity of the stakeholder to involve other stakeholders ",null,null,null,null,null,{"$f":"IF(C5=\"x\",-2,0)","v":0},{"$f":"IF(D5=\"x\",-1,0)","v":0},{"$f":"IF(E5=\"x\",0,0)","v":0},{"$f":"IF(F5=\"x\",1,0)","v":0},{"$f":"IF(G5=\"x\",2,0)","v":0},null,"Weighted value"]
[2,"Level of representativeness of the stakeholder of a specific category",null,null,null,null,null,{"$f":"IF(C6=\"x\",-2,0)","v":0},{"$f":"IF(D6=\"x\",-1,0)","v":0},{"$f":"IF(E6=\"x\",0,0)","v":0},{"$f":"IF(F6=\"x\",1,0)","v":0},{"$f":"IF(G6=\"x\",2,0)","v":0},null,{"$f":"N4*'1_COMMUNITY EVALUATION'!N4","v":0.25}]
[3,"Level of participation of the stakeholder to local civil society activities",null,null,null,null,null,{"$f":"IF(C7=\"x\",-2,0)","v":0},{"$f":"IF(D7=\"x\",-1,0)","v":0},{"$f":"IF(E7=\"x\",0,0)","v":0},{"$f":"IF(F7=\"x\",1,0)","v":0},{"$f":"IF(G7=\"x\",2,0)","v":0}]
[4,"Capacity of the stakeholder to start/influence change",null,null,null,null,null,{"$f":"IF(C8=\"x\",-2,0)","v":0},{"$f":"IF(D8=\"x\",-1,0)","v":0},{"$f":"IF(E8=\"x\",0,0)","v":0},{"$f":"IF(F8=\"x\",1,0)","v":0},{"$f":"IF(G8=\"x\",2,0)","v":0}]
[5,"Level of acknowledgment of the stakeholder among citizens",null,null,null,null,null,{"$f":"IF(C9=\"x\",-2,0)","v":0},{"$f":"IF(D9=\"x\",-1,0)","v":0},{"$f":"IF(E9=\"x\",0,0)","v":0},{"$f":"IF(F9=\"x\",1,0)","v":0},{"$f":"IF(G9=\"x\",2,0)","v":0}]
[null,"(2) Economic capital",null,null,null,null,null,null,null,null,null,null,{"$f":"SUM(H11:L15)","v":0},{"$f":"(((M10-(-10))*(1-0))/(10-(-10)))+0","v":0.5}]
[6,"Capacity of the stakeholder to act as donor",null,null,null,null,null,{"$f":"IF(C11=\"x\",-2,0)","v":0},{"$f":"IF(D11=\"x\",-1,0)","v":0},{"$f":"IF(E11=\"x\",0,0)","v":0},{"$f":"IF(F11=\"x\",1,0)","v":0},{"$f":"IF(G11=\"x\",2,0)","v":0},null,"Weighted value"]
[7,"Capacity of the stakeholder to influence resources' allocation",null,null,null,null,null,{"$f":"IF(C12=\"x\",-2,0)","v":0},{"$f":"IF(D12=\"x\",-1,0)","v":0},{"$f":"IF(E12=\"x\",0,0)","v":0},{"$f":"IF(F12=\"x\",1,0)","v":0},{"$f":"IF(G12=\"x\",2,0)","v":0},null,{"$f":"N10*'1_COMMUNITY EVALUATION'!N13","v":0.25}]
[8,"Capacity to facilitate access to existing exogenous resources ",null,null,null,null,null,{"$f":"IF(C13=\"x\",-2,0)","v":0},{"$f":"IF(D13=\"x\",-1,0)","v":0},{"$f":"IF(E13=\"x\",0,0)","v":0},{"$f":"IF(F13=\"x\",1,0)","v":0},{"$f":"IF(G13=\"x\",2,0)","v":0}]
[9,"Capacity of the stakeholder to provide in-kind support",null,null,null,null,null,{"$f":"IF(C14=\"x\",-2,0)","v":0},{"$f":"IF(D14=\"x\",-1,0)","v":0},{"$f":"IF(E14=\"x\",0,0)","v":0},{"$f":"IF(F14=\"x\",1,0)","v":0},{"$f":"IF(G14=\"x\",2,0)","v":0}]
[10,"Influence of the stakeholder on the job market",null,null,null,null,null,{"$f":"IF(C15=\"x\",-2,0)","v":0},{"$f":"IF(D15=\"x\",-1,0)","v":0},{"$f":"IF(E15=\"x\",0,0)","v":0},{"$f":"IF(F15=\"x\",1,0)","v":0},{"$f":"IF(G15=\"x\",2,0)","v":0}]
[null,"(3) Human capital",null,null,null,null,null,null,null,null,null,null,{"$f":"SUM(H17:L21)","v":0},{"$f":"(((M16-(-10))*(1-0))/(10-(-10)))+0","v":0.5}]
[11,"Knowledge/skills of the stakeholder on the topic",null,null,null,null,null,{"$f":"IF(C17=\"x\",-2,0)","v":0},{"$f":"IF(D17=\"x\",-1,0)","v":0},{"$f":"IF(E17=\"x\",0,0)","v":0},{"$f":"IF(F17=\"x\",1,0)","v":0},{"$f":"IF(G17=\"x\",2,0)","v":0},null,"Weighted value"]
[12,"Awareness of the stakeholder on the topic",null,null,null,null,null,{"$f":"IF(C18=\"x\",-2,0)","v":0},{"$f":"IF(D18=\"x\",-1,0)","v":0},{"$f":"IF(E18=\"x\",0,0)","v":0},{"$f":"IF(F18=\"x\",1,0)","v":0},{"$f":"IF(G18=\"x\",2,0)","v":0},null,{"$f":"N16*'1_COMMUNITY EVALUATION'!N22","v":0.25}]
[13,"Capacity of the stakeholder to engage in public debate",null,null,null,null,null,{"$f":"IF(C19=\"x\",-2,0)","v":0},{"$f":"IF(D19=\"x\",-1,0)","v":0},{"$f":"IF(E19=\"x\",0,0)","v":0},{"$f":"IF(F19=\"x\",1,0)","v":0},{"$f":"IF(G19=\"x\",2,0)","v":0}]
[14,"Capacity of the stakeholder to communicate through a range of different media",null,null,null,null,null,{"$f":"IF(C20=\"x\",-2,0)","v":0},{"$f":"IF(D20=\"x\",-1,0)","v":0},{"$f":"IF(E20=\"x\",0,0)","v":0},{"$f":"IF(F20=\"x\",1,0)","v":0},{"$f":"IF(G20=\"x\",2,0)","v":0}]
[15,"Capacity of the stakeholder to access public venues",null,null,null,null,null,{"$f":"IF(C21=\"x\",-2,0)","v":0},{"$f":"IF(D21=\"x\",-1,0)","v":0},{"$f":"IF(E21=\"x\",0,0)","v":0},{"$f":"IF(F21=\"x\",1,0)","v":0},{"$f":"IF(G21=\"x\",2,0)","v":0}]
[null,"(4) Political capital",null,null,null,null,null,null,null,null,null,null,{"$f":"SUM(H23:L27)","v":0},{"$f":"(((M22-(-10))*(1-0))/(10-(-10)))+0","v":0.5}]
[16,"Trust of the local administration towards the stakeholder ",null,null,null,null,null,{"$f":"IF(C23=\"x\",-2,0)","v":0},{"$f":"IF(D23=\"x\",-1,0)","v":0},{"$f":"IF(E23=\"x\",0,0)","v":0},{"$f":"IF(F23=\"x\",1,0)","v":0},{"$f":"IF(G23=\"x\",2,0)","v":0},null,"Weighted value"]
[17,"Capacity of the stakeholder to engage further political actors",null,null,null,null,null,{"$f":"IF(C24=\"x\",-2,0)","v":0},{"$f":"IF(D24=\"x\",-1,0)","v":0},{"$f":"IF(E24=\"x\",0,0)","v":0},{"$f":"IF(F24=\"x\",1,0)","v":0},{"$f":"IF(G24=\"x\",2,0)","v":0},null,{"$f":"N22*'1_COMMUNITY EVALUATION'!N31","v":0.25}]
[18,"Capacity of the stakeholder to engage with local authorities/other stakeholders",null,null,null,null,null,{"$f":"IF(C25=\"x\",-2,0)","v":0},{"$f":"IF(D25=\"x\",-1,0)","v":0},{"$f":"IF(E25=\"x\",0,0)","v":0},{"$f":"IF(F25=\"x\",1,0)","v":0},{"$f":"IF(G25=\"x\",2,0)","v":0}]
[19,"Capacity of the stakeholder to influence public opinion",null,null,null,null,null,{"$f":"IF(C26=\"x\",-2,0)","v":0},{"$f":"IF(D26=\"x\",-1,0)","v":0},{"$f":"IF(E26=\"x\",0,0)","v":0},{"$f":"IF(F26=\"x\",1,0)","v":0},{"$f":"IF(G26=\"x\",2,0)","v":0}]
[20,"Political awareness of the stakeholder",null,null,null,null,null,{"$f":"IF(C27=\"x\",-2,0)","v":0},{"$f":"IF(D27=\"x\",-1,0)","v":0},{"$f":"IF(E27=\"x\",0,0)","v":0},{"$f":"IF(F27=\"x\",1,0)","v":0},{"$f":"IF(G27=\"x\",2,0)","v":0}]
[null,"RELEVANCE SCORE",null,null,null,null,null,null,null,null,null,null,null,{"$f":"IF(C2=\"\",\"\",(SUM(N24+N18+N12+N6)/4))","v":""}]
[]
[null,"DIMENSIONS","Extremely Negative","Negative","not applicable","Positive","Extremely positive",-2,-1,0,1,2,null,"score per dimension"]
[null,"(1) Social capital",null,null,null,null,null,null,null,null,null,null,{"$f":"SUM(H32:L36)","v":0},{"$f":"(((M31-(-10))*(1-0))/(10-(-10)))+0","v":0.5}]
[1,"Interest for the stakeholder to engage in networking for the topic at stake ",null,null,null,null,null,{"$f":"IF(C32=\"x\",-2,0)","v":0},{"$f":"IF(D32=\"x\",-1,0)","v":0},{"$f":"IF(E32=\"x\",0,0)","v":0},{"$f":"IF(F32=\"x\",1,0)","v":0},{"$f":"IF(G32=\"x\",2,0)","v":0},null,"Weighted value"]
[2,"Interest of the stakeholder to represent a specific category for the topic at stake",null,null,null,null,null,{"$f":"IF(C33=\"x\",-2,0)","v":0},{"$f":"IF(D33=\"x\",-1,0)","v":0},{"$f":"IF(E33=\"x\",0,0)","v":0},{"$f":"IF(F33=\"x\",1,0)","v":0},{"$f":"IF(G33=\"x\",2,0)","v":0},null,{"$f":"N31*'1_COMMUNITY EVALUATION'!N4","v":0.25}]
[3,"Interest of the stakeholder to be involved further in civil society activism for the topic at stake",null,null,null,null,null,{"$f":"IF(C34=\"x\",-2,0)","v":0},{"$f":"IF(D34=\"x\",-1,0)","v":0},{"$f":"IF(E34=\"x\",0,0)","v":0},{"$f":"IF(F34=\"x\",1,0)","v":0},{"$f":"IF(G34=\"x\",2,0)","v":0}]
[4,"interest of the stakeholder to start/influence change",null,null,null,null,null,{"$f":"IF(C35=\"x\",-2,0)","v":0},{"$f":"IF(D35=\"x\",-1,0)","v":0},{"$f":"IF(E35=\"x\",0,0)","v":0},{"$f":"IF(F35=\"x\",1,0)","v":0},{"$f":"IF(G35=\"x\",2,0)","v":0}]
[5,"Interest of the stakeholder to increase its own acknowledgement among citizens",null,null,null,null,null,{"$f":"IF(C36=\"x\",-2,0)","v":0},{"$f":"IF(D36=\"x\",-1,0)","v":0},{"$f":"IF(E36=\"x\",0,0)","v":0},{"$f":"IF(F36=\"x\",1,0)","v":0},{"$f":"IF(G36=\"x\",2,0)","v":0}]
[null,"(2) Economic capital",null,null,null,null,null,null,null,null,null,null,{"$f":"SUM(H38:L42)","v":0},{"$f":"(((M37-(-10))*(1-0))/(10-(-10)))+0","v":0.5}]
[6,"Potential economic benefit for the stakeholder ",null,null,null,null,null,{"$f":"IF(C38=\"x\",-2,0)","v":0},{"$f":"IF(D38=\"x\",-1,0)","v":0},{"$f":"IF(E38=\"x\",0,0)","v":0},{"$f":"IF(F38=\"x\",1,0)","v":0},{"$f":"IF(G38=\"x\",2,0)","v":0},null,"Weighted value"]
[7,"Willingness of the stakeholder to mobilise resources ",null,null,null,null,null,{"$f":"IF(C39=\"x\",-2,0)","v":0},{"$f":"IF(D39=\"x\",-1,0)","v":0},{"$f":"IF(E39=\"x\",0,0)","v":0},{"$f":"IF(F39=\"x\",1,0)","v":0},{"$f":"IF(G39=\"x\",2,0)","v":0},null,{"$f":"N37*'1_COMMUNITY EVALUATION'!N13","v":0.25}]
[8,"Willingness of the stakeholder to support access to existing exogenous resources",null,null,null,null,null,{"$f":"IF(C40=\"x\",-2,0)","v":0},{"$f":"IF(D40=\"x\",-1,0)","v":0},{"$f":"IF(E40=\"x\",0,0)","v":0},{"$f":"IF(F40=\"x\",1,0)","v":0},{"$f":"IF(G40=\"x\",2,0)","v":0}]
[9,"Propensity of the stakeholder to provide in-kind support",null,null,null,null,null,{"$f":"IF(C41=\"x\",-2,0)","v":0},{"$f":"IF(D41=\"x\",-1,0)","v":0},{"$f":"IF(E41=\"x\",0,0)","v":0},{"$f":"IF(F41=\"x\",1,0)","v":0},{"$f":"IF(G41=\"x\",2,0)","v":0}]
[10,"Interest of the stakeholder in increasing its own influence on the job market",null,null,null,null,null,{"$f":"IF(C42=\"x\",-2,0)","v":0},{"$f":"IF(D42=\"x\",-1,0)","v":0},{"$f":"IF(E42=\"x\",0,0)","v":0},{"$f":"IF(F42=\"x\",1,0)","v":0},{"$f":"IF(G42=\"x\",2,0)","v":0}]
[null,"(3) Human capital",null,null,null,null,null,null,null,null,null,null,{"$f":"SUM(H44:L48)","v":0},{"$f":"(((M43-(-10))*(1-0))/(10-(-10)))+0","v":0.5}]
[11,"Interest of the stakeholder to share/increase own knowledge/skills on the topic",null,null,null,null,null,{"$f":"IF(C44=\"x\",-2,0)","v":0},{"$f":"IF(D44=\"x\",-1,0)","v":0},{"$f":"IF(E44=\"x\",0,0)","v":0},{"$f":"IF(F44=\"x\",1,0)","v":0},{"$f":"IF(G44=\"x\",2,0)","v":0},null,"Weighted value"]
[12,"Willingness of the stakeholder to share/increase own awareness on the topic",null,null,null,null,null,{"$f":"IF(C45=\"x\",-2,0)","v":0},{"$f":"IF(D45=\"x\",-1,0)","v":0},{"$f":"IF(E45=\"x\",0,0)","v":0},{"$f":"IF(F45=\"x\",1,0)","v":0},{"$f":"IF(G45=\"x\",2,0)","v":0},null,{"$f":"N43*'1_COMMUNITY EVALUATION'!N22","v":0.25}]
[13,"Willingness of the stakeholder to engage in public debate",null,null,null,null,null,{"$f":"IF(C46=\"x\",-2,0)","v":0},{"$f":"IF(D46=\"x\",-1,0)","v":0},{"$f":"IF(E46=\"x\",0,0)","v":0},{"$f":"IF(F46=\"x\",1,0)","v":0},{"$f":"IF(G46=\"x\",2,0)","v":0}]
[14,"Willingness of the stakeholder to communicate through a range of different media",null,null,null,null,null,{"$f":"IF(C47=\"x\",-2,0)","v":0},{"$f":"IF(D47=\"x\",-1,0)","v":0},{"$f":"IF(E47=\"x\",0,0)","v":0},{"$f":"IF(F47=\"x\",1,0)","v":0},{"$f":"IF(G47=\"x\",2,0)","v":0}]
[15,"Willingness of the stakeholder to access public venues",null,null,null,null,null,{"$f":"IF(C48=\"x\",-2,0)","v":0},{"$f":"IF(D48=\"x\",-1,0)","v":0},{"$f":"IF(E48=\"x\",0,0)","v":0},{"$f":"IF(F48=\"x\",1,0)","v":0},{"$f":"IF(G48=\"x\",2,0)","v":0}]
[null,"(4) Political capital",null,null,null,null,null,null,null,null,null,null,{"$f":"SUM(H50:L54)","v":0},{"$f":"(((M49-(-10))*(1-0))/(10-(-10)))+0","v":0.5}]
[16,"Trust of the stakeholder towards the local administration",null,null,null,null,null,{"$f":"IF(C50=\"x\",-2,0)","v":0},{"$f":"IF(D50=\"x\",-1,0)","v":0},{"$f":"IF(E50=\"x\",0,0)","v":0},{"$f":"IF(F50=\"x\",1,0)","v":0},{"$f":"IF(G50=\"x\",2,0)","v":0},null,"Weighted value"]
[17,"Political interest of the stakeholder in the topic",null,null,null,null,null,{"$f":"IF(C51=\"x\",-2,0)","v":0},{"$f":"IF(D51=\"x\",-1,0)","v":0},{"$f":"IF(E51=\"x\",0,0)","v":0},{"$f":"IF(F51=\"x\",1,0)","v":0},{"$f":"IF(G51=\"x\",2,0)","v":0},null,{"$f":"N49*'1_COMMUNITY EVALUATION'!N31","v":0.25}]
[18,"Willingness of the stakeholder to engage with local authorities",null,null,null,null,null,{"$f":"IF(C52=\"x\",-2,0)","v":0},{"$f":"IF(D52=\"x\",-1,0)","v":0},{"$f":"IF(E52=\"x\",0,0)","v":0},{"$f":"IF(F52=\"x\",1,0)","v":0},{"$f":"IF(G52=\"x\",2,0)","v":0}]
[19,"Interest for the stakeholder to reach out to a wider public",null,null,null,null,null,{"$f":"IF(C53=\"x\",-2,0)","v":0},{"$f":"IF(D53=\"x\",-1,0)","v":0},{"$f":"IF(E53=\"x\",0,0)","v":0},{"$f":"IF(F53=\"x\",1,0)","v":0},{"$f":"IF(G53=\"x\",2,0)","v":0}]
[20,"Willingness of the stakeholder to share/increase own political awareness",null,null,null,null,null,{"$f":"IF(C54=\"x\",-2,0)","v":0},{"$f":"IF(D54=\"x\",-1,0)","v":0},{"$f":"IF(E54=\"x\",0,0)","v":0},{"$f":"IF(F54=\"x\",1,0)","v":0},{"$f":"IF(G54=\"x\",2,0)","v":0}]
[null,"INTEREST SCORE",null,null,null,null,null,null,null,null,null,null,null,{"$f":"IF(C2=\"\",\"\",(SUM(N51+N45+N39+N33)/4))","v":""}]

{"sheet":"STAKEHOLDER (22)","index":26,"n_rows":55,"n_cols":14,"rows_kept":55,"cut":false,"hidden":false,"merged":[[0,0,0,13],[1,2,1,13],[27,1,27,6],[54,1,54,6]]}
["Bearing in mind the topic at hand, please evaluate the stakeholder for each proposed item (row) by it marking with an 'x' (from extremely negative to extremely positive)."]
[null,"STAKEHOLDER - insert name ->"]
[null,"DIMENSIONS","Extremely Negative","Negative","not applicable","Positive","Extremely positive",-2,-1,0,1,2,null,"score per dimension"]
[null,"(1) Social capital",null,null,null,null,null,null,null,null,null,null,{"$f":"SUM(H5:L9)","v":0},{"$f":"(((M4-(-10))*(1-0))/(10-(-10)))+0","v":0.5}]
[1,"Capacity of the stakeholder to involve other stakeholders ",null,null,null,null,null,{"$f":"IF(C5=\"x\",-2,0)","v":0},{"$f":"IF(D5=\"x\",-1,0)","v":0},{"$f":"IF(E5=\"x\",0,0)","v":0},{"$f":"IF(F5=\"x\",1,0)","v":0},{"$f":"IF(G5=\"x\",2,0)","v":0},null,"Weighted value"]
[2,"Level of representativeness of the stakeholder of a specific category",null,null,null,null,null,{"$f":"IF(C6=\"x\",-2,0)","v":0},{"$f":"IF(D6=\"x\",-1,0)","v":0},{"$f":"IF(E6=\"x\",0,0)","v":0},{"$f":"IF(F6=\"x\",1,0)","v":0},{"$f":"IF(G6=\"x\",2,0)","v":0},null,{"$f":"N4*'1_COMMUNITY EVALUATION'!N4","v":0.25}]
[3,"Level of participation of the stakeholder to local civil society activities",null,null,null,null,null,{"$f":"IF(C7=\"x\",-2,0)","v":0},{"$f":"IF(D7=\"x\",-1,0)","v":0},{"$f":"IF(E7=\"x\",0,0)","v":0},{"$f":"IF(F7=\"x\",1,0)","v":0},{"$f":"IF(G7=\"x\",2,0)","v":0}]
[4,"Capacity of the stakeholder to start/influence change",null,null,null,null,null,{"$f":"IF(C8=\"x\",-2,0)","v":0},{"$f":"IF(D8=\"x\",-1,0)","v":0},{"$f":"IF(E8=\"x\",0,0)","v":0},{"$f":"IF(F8=\"x\",1,0)","v":0},{"$f":"IF(G8=\"x\",2,0)","v":0}]
[5,"Level of acknowledgment of the stakeholder among citizens",null,null,null,null,null,{"$f":"IF(C9=\"x\",-2,0)","v":0},{"$f":"IF(D9=\"x\",-1,0)","v":0},{"$f":"IF(E9=\"x\",0,0)","v":0},{"$f":"IF(F9=\"x\",1,0)","v":0},{"$f":"IF(G9=\"x\",2,0)","v":0}]
[null,"(2) Economic capital",null,null,null,null,null,null,null,null,null,null,{"$f":"SUM(H11:L15)","v":0},{"$f":"(((M10-(-10))*(1-0))/(10-(-10)))+0","v":0.5}]
[6,"Capacity of the stakeholder to act as donor",null,null,null,null,null,{"$f":"IF(C11=\"x\",-2,0)","v":0},{"$f":"IF(D11=\"x\",-1,0)","v":0},{"$f":"IF(E11=\"x\",0,0)","v":0},{"$f":"IF(F11=\"x\",1,0)","v":0},{"$f":"IF(G11=\"x\",2,0)","v":0},null,"Weighted value"]
[7,"Capacity of the stakeholder to influence resources' allocation",null,null,null,null,null,{"$f":"IF(C12=\"x\",-2,0)","v":0},{"$f":"IF(D12=\"x\",-1,0)","v":0},{"$f":"IF(E12=\"x\",0,0)","v":0},{"$f":"IF(F12=\"x\",1,0)","v":0},{"$f":"IF(G12=\"x\",2,0)","v":0},null,{"$f":"N10*'1_COMMUNITY EVALUATION'!N13","v":0.25}]
[8,"Capacity to facilitate access to existing exogenous resources ",null,null,null,null,null,{"$f":"IF(C13=\"x\",-2,0)","v":0},{"$f":"IF(D13=\"x\",-1,0)","v":0},{"$f":"IF(E13=\"x\",0,0)","v":0},{"$f":"IF(F13=\"x\",1,0)","v":0},{"$f":"IF(G13=\"x\",2,0)","v":0}]
[9,"Capacity of the stakeholder to provide in-kind support",null,null,null,null,null,{"$f":"IF(C14=\"x\",-2,0)","v":0},{"$f":"IF(D14=\"x\",-1,0)","v":0},{"$f":"IF(E14=\"x\",0,0)","v":0},{"$f":"IF(F14=\"x\",1,0)","v":0},{"$f":"IF(G14=\"x\",2,0)","v":0}]
[10,"Influence of the stakeholder on the job market",null,null,null,null,null,{"$f":"IF(C15=\"x\",-2,0)","v":0},{"$f":"IF(D15=\"x\",-1,0)","v":0},{"$f":"IF(E15=\"x\",0,0)","v":0},{"$f":"IF(F15=\"x\",1,0)","v":0},{"$f":"IF(G15=\"x\",2,0)","v":0}]
[null,"(3) Human capital",null,null,null,null,null,null,null,null,null,null,{"$f":"SUM(H17:L21)","v":0},{"$f":"(((M16-(-10))*(1-0))/(10-(-10)))+0","v":0.5}]
[11,"Knowledge/skills of the stakeholder on the topic",null,null,null,null,null,{"$f":"IF(C17=\"x\",-2,0)","v":0},{"$f":"IF(D17=\"x\",-1,0)","v":0},{"$f":"IF(E17=\"x\",0,0)","v":0},{"$f":"IF(F17=\"x\",1,0)","v":0},{"$f":"IF(G17=\"x\",2,0)","v":0},null,"Weighted value"]
[12,"Awareness of the stakeholder on the topic",null,null,null,null,null,{"$f":"IF(C18=\"x\",-2,0)","v":0},{"$f":"IF(D18=\"x\",-1,0)","v":0},{"$f":"IF(E18=\"x\",0,0)","v":0},{"$f":"IF(F18=\"x\",1,0)","v":0},{"$f":"IF(G18=\"x\",2,0)","v":0},null,{"$f":"N16*'1_COMMUNITY EVALUATION'!N22","v":0.25}]
[13,"Capacity of the stakeholder to engage in public debate",null,null,null,null,null,{"$f":"IF(C19=\"x\",-2,0)","v":0},{"$f":"IF(D19=\"x\",-1,0)","v":0},{"$f":"IF(E19=\"x\",0,0)","v":0},{"$f":"IF(F19=\"x\",1,0)","v":0},{"$f":"IF(G19=\"x\",2,0)","v":0}]
[14,"Capacity of the stakeholder to communicate through a range of different media",null,null,null,null,null,{"$f":"IF(C20=\"x\",-2,0)","v":0},{"$f":"IF(D20=\"x\",-1,0)","v":0},{"$f":"IF(E20=\"x\",0,0)","v":0},{"$f":"IF(F20=\"x\",1,0)","v":0},{"$f":"IF(G20=\"x\",2,0)","v":0}]
[15,"Capacity of the stakeholder to access public venues",null,null,null,null,null,{"$f":"IF(C21=\"x\",-2,0)","v":0},{"$f":"IF(D21=\"x\",-1,0)","v":0},{"$f":"IF(E21=\"x\",0,0)","v":0},{"$f":"IF(F21=\"x\",1,0)","v":0},{"$f":"IF(G21=\"x\",2,0)","v":0}]
[null,"(4) Political capital",null,null,null,null,null,null,null,null,null,null,{"$f":"SUM(H23:L27)","v":0},{"$f":"(((M22-(-10))*(1-0))/(10-(-10)))+0","v":0.5}]
[16,"Trust of the local administration towards the stakeholder ",null,null,null,null,null,{"$f":"IF(C23=\"x\",-2,0)","v":0},{"$f":"IF(D23=\"x\",-1,0)","v":0},{"$f":"IF(E23=\"x\",0,0)","v":0},{"$f":"IF(F23=\"x\",1,0)","v":0},{"$f":"IF(G23=\"x\",2,0)","v":0},null,"Weighted value"]
[17,"Capacity of the stakeholder to engage further political actors",null,null,null,null,null,{"$f":"IF(C24=\"x\",-2,0)","v":0},{"$f":"IF(D24=\"x\",-1,0)","v":0},{"$f":"IF(E24=\"x\",0,0)","v":0},{"$f":"IF(F24=\"x\",1,0)","v":0},{"$f":"IF(G24=\"x\",2,0)","v":0},null,{"$f":"N22*'1_COMMUNITY EVALUATION'!N31","v":0.25}]
[18,"Capacity of the stakeholder to engage with local authorities/other stakeholders",null,null,null,null,null,{"$f":"IF(C25=\"x\",-2,0)","v":0},{"$f":"IF(D25=\"x\",-1,0)","v":0},{"$f":"IF(E25=\"x\",0,0)","v":0},{"$f":"IF(F25=\"x\",1,0)","v":0},{"$f":"IF(G25=\"x\",2,0)","v":0}]
[19,"Capacity of the stakeholder to influence public opinion",null,null,null,null,null,{"$f":"IF(C26=\"x\",-2,0)","v":0},{"$f":"IF(D26=\"x\",-1,0)","v":0},{"$f":"IF(E26=\"x\",0,0)","v":0},{"$f":"IF(F26=\"x\",1,0)","v":0},{"$f":"IF(G26=\"x\",2,0)","v":0}]
[20,"Political awareness of the stakeholder",null,null,null,null,null,{"$f":"IF(C27=\"x\",-2,0)","v":0},{"$f":"IF(D27=\"x\",-1,0)","v":0},{"$f":"IF(E27=\"x\",0,0)","v":0},{"$f":"IF(F27=\"x\",1,0)","v":0},{"$f":"IF(G27=\"x\",2,0)","v":0}]
[null,"RELEVANCE SCORE",null,null,null,null,null,null,null,null,null,null,null,{"$f":"IF(C2=\"\",\"\",(SUM(N24+N18+N12+N6)/4))","v":""}]
[]
[null,"DIMENSIONS","Extremely Negative","Negative","not applicable","Positive","Extremely positive",-2,-1,0,1,2,null,"score per dimension"]
[null,"(1) Social capital",null,null,null,null,null,null,null,null,null,null,{"$f":"SUM(H32:L36)","v":0},{"$f":"(((M31-(-10))*(1-0))/(10-(-10)))+0","v":0.5}]
[1,"Interest for the stakeholder to engage in networking for the topic at stake ",null,null,null,null,null,{"$f":"IF(C32=\"x\",-2,0)","v":0},{"$f":"IF(D32=\"x\",-1,0)","v":0},{"$f":"IF(E32=\"x\",0,0)","v":0},{"$f":"IF(F32=\"x\",1,0)","v":0},{"$f":"IF(G32=\"x\",2,0)","v":0},null,"Weighted value"]
[2,"Interest of the stakeholder to represent a specific category for the topic at stake",null,null,null,null,null,{"$f":"IF(C33=\"x\",-2,0)","v":0},{"$f":"IF(D33=\"x\",-1,0)","v":0},{"$f":"IF(E33=\"x\",0,0)","v":0},{"$f":"IF(F33=\"x\",1,0)","v":0},{"$f":"IF(G33=\"x\",2,0)","v":0},null,{"$f":"N31*'1_COMMUNITY EVALUATION'!N4","v":0.25}]
[3,"Interest of the stakeholder to be involved further in civil society activism for the topic at stake",null,null,null,null,null,{"$f":"IF(C34=\"x\",-2,0)","v":0},{"$f":"IF(D34=\"x\",-1,0)","v":0},{"$f":"IF(E34=\"x\",0,0)","v":0},{"$f":"IF(F34=\"x\",1,0)","v":0},{"$f":"IF(G34=\"x\",2,0)","v":0}]
[4,"interest of the stakeholder to start/influence change",null,null,null,null,null,{"$f":"IF(C35=\"x\",-2,0)","v":0},{"$f":"IF(D35=\"x\",-1,0)","v":0},{"$f":"IF(E35=\"x\",0,0)","v":0},{"$f":"IF(F35=\"x\",1,0)","v":0},{"$f":"IF(G35=\"x\",2,0)","v":0}]
[5,"Interest of the stakeholder to increase its own acknowledgement among citizens",null,null,null,null,null,{"$f":"IF(C36=\"x\",-2,0)","v":0},{"$f":"IF(D36=\"x\",-1,0)","v":0},{"$f":"IF(E36=\"x\",0,0)","v":0},{"$f":"IF(F36=\"x\",1,0)","v":0},{"$f":"IF(G36=\"x\",2,0)","v":0}]
[null,"(2) Economic capital",null,null,null,null,null,null,null,null,null,null,{"$f":"SUM(H38:L42)","v":0},{"$f":"(((M37-(-10))*(1-0))/(10-(-10)))+0","v":0.5}]
[6,"Potential economic benefit for the stakeholder ",null,null,null,null,null,{"$f":"IF(C38=\"x\",-2,0)","v":0},{"$f":"IF(D38=\"x\",-1,0)","v":0},{"$f":"IF(E38=\"x\",0,0)","v":0},{"$f":"IF(F38=\"x\",1,0)","v":0},{"$f":"IF(G38=\"x\",2,0)","v":0},null,"Weighted value"]
[7,"Willingness of the stakeholder to mobilise resources ",null,null,null,null,null,{"$f":"IF(C39=\"x\",-2,0)","v":0},{"$f":"IF(D39=\"x\",-1,0)","v":0},{"$f":"IF(E39=\"x\",0,0)","v":0},{"$f":"IF(F39=\"x\",1,0)","v":0},{"$f":"IF(G39=\"x\",2,0)","v":0},null,{"$f":"N37*'1_COMMUNITY EVALUATION'!N13","v":0.25}]
[8,"Willingness of the stakeholder to support access to existing exogenous resources",null,null,null,null,null,{"$f":"IF(C40=\"x\",-2,0)","v":0},{"$f":"IF(D40=\"x\",-1,0)","v":0},{"$f":"IF(E40=\"x\",0,0)","v":0},{"$f":"IF(F40=\"x\",1,0)","v":0},{"$f":"IF(G40=\"x\",2,0)","v":0}]
[9,"Propensity of the stakeholder to provide in-kind support",null,null,null,null,null,{"$f":"IF(C41=\"x\",-2,0)","v":0},{"$f":"IF(D41=\"x\",-1,0)","v":0},{"$f":"IF(E41=\"x\",0,0)","v":0},{"$f":"IF(F41=\"x\",1,0)","v":0},{"$f":"IF(G41=\"x\",2,0)","v":0}]
[10,"Interest of the stakeholder in increasing its own influence on the job market",null,null,null,null,null,{"$f":"IF(C42=\"x\",-2,0)","v":0},{"$f":"IF(D42=\"x\",-1,0)","v":0},{"$f":"IF(E42=\"x\",0,0)","v":0},{"$f":"IF(F42=\"x\",1,0)","v":0},{"$f":"IF(G42=\"x\",2,0)","v":0}]
[null,"(3) Human capital",null,null,null,null,null,null,null,null,null,null,{"$f":"SUM(H44:L48)","v":0},{"$f":"(((M43-(-10))*(1-0))/(10-(-10)))+0","v":0.5}]
[11,"Interest of the stakeholder to share/increase own knowledge/skills on the topic",null,null,null,null,null,{"$f":"IF(C44=\"x\",-2,0)","v":0},{"$f":"IF(D44=\"x\",-1,0)","v":0},{"$f":"IF(E44=\"x\",0,0)","v":0},{"$f":"IF(F44=\"x\",1,0)","v":0},{"$f":"IF(G44=\"x\",2,0)","v":0},null,"Weighted value"]
[12,"Willingness of the stakeholder to share/increase own awareness on the topic",null,null,null,null,null,{"$f":"IF(C45=\"x\",-2,0)","v":0},{"$f":"IF(D45=\"x\",-1,0)","v":0},{"$f":"IF(E45=\"x\",0,0)","v":0},{"$f":"IF(F45=\"x\",1,0)","v":0},{"$f":"IF(G45=\"x\",2,0)","v":0},null,{"$f":"N43*'1_COMMUNITY EVALUATION'!N22","v":0.25}]
[13,"Willingness of the stakeholder to engage in public debate",null,null,null,null,null,{"$f":"IF(C46=\"x\",-2,0)","v":0},{"$f":"IF(D46=\"x\",-1,0)","v":0},{"$f":"IF(E46=\"x\",0,0)","v":0},{"$f":"IF(F46=\"x\",1,0)","v":0},{"$f":"IF(G46=\"x\",2,0)","v":0}]
[14,"Willingness of the stakeholder to communicate through a range of different media",null,null,null,null,null,{"$f":"IF(C47=\"x\",-2,0)","v":0},{"$f":"IF(D47=\"x\",-1,0)","v":0},{"$f":"IF(E47=\"x\",0,0)","v":0},{"$f":"IF(F47=\"x\",1,0)","v":0},{"$f":"IF(G47=\"x\",2,0)","v":0}]
[15,"Willingness of the stakeholder to access public venues",null,null,null,null,null,{"$f":"IF(C48=\"x\",-2,0)","v":0},{"$f":"IF(D48=\"x\",-1,0)","v":0},{"$f":"IF(E48=\"x\",0,0)","v":0},{"$f":"IF(F48=\"x\",1,0)","v":0},{"$f":"IF(G48=\"x\",2,0)","v":0}]
[null,"(4) Political capital",null,null,null,null,null,null,null,null,null,null,{"$f":"SUM(H50:L54)","v":0},{"$f":"(((M49-(-10))*(1-0))/(10-(-10)))+0","v":0.5}]
[16,"Trust of the stakeholder towards the local administration",null,null,null,null,null,{"$f":"IF(C50=\"x\",-2,0)","v":0},{"$f":"IF(D50=\"x\",-1,0)","v":0},{"$f":"IF(E50=\"x\",0,0)","v":0},{"$f":"IF(F50=\"x\",1,0)","v":0},{"$f":"IF(G50=\"x\",2,0)","v":0},null,"Weighted value"]
[17,"Political interest of the stakeholder in the topic",null,null,null,null,null,{"$f":"IF(C51=\"x\",-2,0)","v":0},{"$f":"IF(D51=\"x\",-1,0)","v":0},{"$f":"IF(E51=\"x\",0,0)","v":0},{"$f":"IF(F51=\"x\",1,0)","v":0},{"$f":"IF(G51=\"x\",2,0)","v":0},null,{"$f":"N49*'1_COMMUNITY EVALUATION'!N31","v":0.25}]
[18,"Willingness of the stakeholder to engage with local authorities",null,null,null,null,null,{"$f":"IF(C52=\"x\",-2,0)","v":0},{"$f":"IF(D52=\"x\",-1,0)","v":0},{"$f":"IF(E52=\"x\",0,0)","v":0},{"$f":"IF(F52=\"x\",1,0)","v":0},{"$f":"IF(G52=\"x\",2,0)","v":0}]
[19,"Interest for the stakeholder to reach out to a wider public",null,null,null,null,null,{"$f":"IF(C53=\"x\",-2,0)","v":0},{"$f":"IF(D53=\"x\",-1,0)","v":0},{"$f":"IF(E53=\"x\",0,0)","v":0},{"$f":"IF(F53=\"x\",1,0)","v":0},{"$f":"IF(G53=\"x\",2,0)","v":0}]
[20,"Willingness of the stakeholder to share/increase own political awareness",null,null,null,null,null,{"$f":"IF(C54=\"x\",-2,0)","v":0},{"$f":"IF(D54=\"x\",-1,0)","v":0},{"$f":"IF(E54=\"x\",0,0)","v":0},{"$f":"IF(F54=\"x\",1,0)","v":0},{"$f":"IF(G54=\"x\",2,0)","v":0}]
[null,"INTEREST SCORE",null,null,null,null,null,null,null,null,null,null,null,{"$f":"IF(C2=\"\",\"\",(SUM(N51+N45+N39+N33)/4))","v":""}]

{"sheet":"STAKEHOLDER (23)","index":27,"n_rows":55,"n_cols":14,"rows_kept":55,"cut":false,"hidden":false,"merged":[[0,0,0,13],[1,2,1,13],[27,1,27,6],[54,1,54,6]]}
["Bearing in mind the topic at hand, please evaluate the stakeholder for each proposed item (row) by it marking with an 'x' (from extremely negative to extremely positive)."]
[null,"STAKEHOLDER - insert name ->"]
[null,"DIMENSIONS","Extremely Negative","Negative","not applicable","Positive","Extremely positive",-2,-1,0,1,2,null,"score per dimension"]
[null,"(1) Social capital",null,null,null,null,null,null,null,null,null,null,{"$f":"SUM(H5:L9)","v":0},{"$f":"(((M4-(-10))*(1-0))/(10-(-10)))+0","v":0.5}]
[1,"Capacity of the stakeholder to involve other stakeholders ",null,null,null,null,null,{"$f":"IF(C5=\"x\",-2,0)","v":0},{"$f":"IF(D5=\"x\",-1,0)","v":0},{"$f":"IF(E5=\"x\",0,0)","v":0},{"$f":"IF(F5=\"x\",1,0)","v":0},{"$f":"IF(G5=\"x\",2,0)","v":0},null,"Weighted value"]
[2,"Level of representativeness of the stakeholder of a specific category",null,null,null,null,null,{"$f":"IF(C6=\"x\",-2,0)","v":0},{"$f":"IF(D6=\"x\",-1,0)","v":0},{"$f":"IF(E6=\"x\",0,0)","v":0},{"$f":"IF(F6=\"x\",1,0)","v":0},{"$f":"IF(G6=\"x\",2,0)","v":0},null,{"$f":"N4*'1_COMMUNITY EVALUATION'!N4","v":0.25}]
[3,"Level of participation of the stakeholder to local civil society activities",null,null,null,null,null,{"$f":"IF(C7=\"x\",-2,0)","v":0},{"$f":"IF(D7=\"x\",-1,0)","v":0},{"$f":"IF(E7=\"x\",0,0)","v":0},{"$f":"IF(F7=\"x\",1,0)","v":0},{"$f":"IF(G7=\"x\",2,0)","v":0}]
[4,"Capacity of the stakeholder to start/influence change",null,null,null,null,null,{"$f":"IF(C8=\"x\",-2,0)","v":0},{"$f":"IF(D8=\"x\",-1,0)","v":0},{"$f":"IF(E8=\"x\",0,0)","v":0},{"$f":"IF(F8=\"x\",1,0)","v":0},{"$f":"IF(G8=\"x\",2,0)","v":0}]
[5,"Level of acknowledgment of the stakeholder among citizens",null,null,null,null,null,{"$f":"IF(C9=\"x\",-2,0)","v":0},{"$f":"IF(D9=\"x\",-1,0)","v":0},{"$f":"IF(E9=\"x\",0,0)","v":0},{"$f":"IF(F9=\"x\",1,0)","v":0},{"$f":"IF(G9=\"x\",2,0)","v":0}]
[null,"(2) Economic capital",null,null,null,null,null,null,null,null,null,null,{"$f":"SUM(H11:L15)","v":0},{"$f":"(((M10-(-10))*(1-0))/(10-(-10)))+0","v":0.5}]
[6,"Capacity of the stakeholder to act as donor",null,null,null,null,null,{"$f":"IF(C11=\"x\",-2,0)","v":0},{"$f":"IF(D11=\"x\",-1,0)","v":0},{"$f":"IF(E11=\"x\",0,0)","v":0},{"$f":"IF(F11=\"x\",1,0)","v":0},{"$f":"IF(G11=\"x\",2,0)","v":0},null,"Weighted value"]
[7,"Capacity of the stakeholder to influence resources' allocation",null,null,null,null,null,{"$f":"IF(C12=\"x\",-2,0)","v":0},{"$f":"IF(D12=\"x\",-1,0)","v":0},{"$f":"IF(E12=\"x\",0,0)","v":0},{"$f":"IF(F12=\"x\",1,0)","v":0},{"$f":"IF(G12=\"x\",2,0)","v":0},null,{"$f":"N10*'1_COMMUNITY EVALUATION'!N13","v":0.25}]
[8,"Capacity to facilitate access to existing exogenous resources ",null,null,null,null,null,{"$f":"IF(C13=\"x\",-2,0)","v":0},{"$f":"IF(D13=\"x\",-1,0)","v":0},{"$f":"IF(E13=\"x\",0,0)","v":0},{"$f":"IF(F13=\"x\",1,0)","v":0},{"$f":"IF(G13=\"x\",2,0)","v":0}]
[9,"Capacity of the stakeholder to provide in-kind support",null,null,null,null,null,{"$f":"IF(C14=\"x\",-2,0)","v":0},{"$f":"IF(D14=\"x\",-1,0)","v":0},{"$f":"IF(E14=\"x\",0,0)","v":0},{"$f":"IF(F14=\"x\",1,0)","v":0},{"$f":"IF(G14=\"x\",2,0)","v":0}]
[10,"Influence of the stakeholder on the job market",null,null,null,null,null,{"$f":"IF(C15=\"x\",-2,0)","v":0},{"$f":"IF(D15=\"x\",-1,0)","v":0},{"$f":"IF(E15=\"x\",0,0)","v":0},{"$f":"IF(F15=\"x\",1,0)","v":0},{"$f":"IF(G15=\"x\",2,0)","v":0}]
[null,"(3) Human capital",null,null,null,null,null,null,null,null,null,null,{"$f":"SUM(H17:L21)","v":0},{"$f":"(((M16-(-10))*(1-0))/(10-(-10)))+0","v":0.5}]
[11,"Knowledge/skills of the stakeholder on the topic",null,null,null,null,null,{"$f":"IF(C17=\"x\",-2,0)","v":0},{"$f":"IF(D17=\"x\",-1,0)","v":0},{"$f":"IF(E17=\"x\",0,0)","v":0},{"$f":"IF(F17=\"x\",1,0)","v":0},{"$f":"IF(G17=\"x\",2,0)","v":0},null,"Weighted value"]
[12,"Awareness of the stakeholder on the topic",null,null,null,null,null,{"$f":"IF(C18=\"x\",-2,0)","v":0},{"$f":"IF(D18=\"x\",-1,0)","v":0},{"$f":"IF(E18=\"x\",0,0)","v":0},{"$f":"IF(F18=\"x\",1,0)","v":0},{"$f":"IF(G18=\"x\",2,0)","v":0},null,{"$f":"N16*'1_COMMUNITY EVALUATION'!N22","v":0.25}]
[13,"Capacity of the stakeholder to engage in public debate",null,null,null,null,null,{"$f":"IF(C19=\"x\",-2,0)","v":0},{"$f":"IF(D19=\"x\",-1,0)","v":0},{"$f":"IF(E19=\"x\",0,0)","v":0},{"$f":"IF(F19=\"x\",1,0)","v":0},{"$f":"IF(G19=\"x\",2,0)","v":0}]
[14,"Capacity of the stakeholder to communicate through a range of different media",null,null,null,null,null,{"$f":"IF(C20=\"x\",-2,0)","v":0},{"$f":"IF(D20=\"x\",-1,0)","v":0},{"$f":"IF(E20=\"x\",0,0)","v":0},{"$f":"IF(F20=\"x\",1,0)","v":0},{"$f":"IF(G20=\"x\",2,0)","v":0}]
[15,"Capacity of the stakeholder to access public venues",null,null,null,null,null,{"$f":"IF(C21=\"x\",-2,0)","v":0},{"$f":"IF(D21=\"x\",-1,0)","v":0},{"$f":"IF(E21=\"x\",0,0)","v":0},{"$f":"IF(F21=\"x\",1,0)","v":0},{"$f":"IF(G21=\"x\",2,0)","v":0}]
[null,"(4) Political capital",null,null,null,null,null,null,null,null,null,null,{"$f":"SUM(H23:L27)","v":0},{"$f":"(((M22-(-10))*(1-0))/(10-(-10)))+0","v":0.5}]
[16,"Trust of the local administration towards the stakeholder ",null,null,null,null,null,{"$f":"IF(C23=\"x\",-2,0)","v":0},{"$f":"IF(D23=\"x\",-1,0)","v":0},{"$f":"IF(E23=\"x\",0,0)","v":0},{"$f":"IF(F23=\"x\",1,0)","v":0},{"$f":"IF(G23=\"x\",2,0)","v":0},null,"Weighted value"]
[17,"Capacity of the stakeholder to engage further political actors",null,null,null,null,null,{"$f":"IF(C24=\"x\",-2,0)","v":0},{"$f":"IF(D24=\"x\",-1,0)","v":0},{"$f":"IF(E24=\"x\",0,0)","v":0},{"$f":"IF(F24=\"x\",1,0)","v":0},{"$f":"IF(G24=\"x\",2,0)","v":0},null,{"$f":"N22*'1_COMMUNITY EVALUATION'!N31","v":0.25}]
[18,"Capacity of the stakeholder to engage with local authorities/other stakeholders",null,null,null,null,null,{"$f":"IF(C25=\"x\",-2,0)","v":0},{"$f":"IF(D25=\"x\",-1,0)","v":0},{"$f":"IF(E25=\"x\",0,0)","v":0},{"$f":"IF(F25=\"x\",1,0)","v":0},{"$f":"IF(G25=\"x\",2,0)","v":0}]
[19,"Capacity of the stakeholder to influence public opinion",null,null,null,null,null,{"$f":"IF(C26=\"x\",-2,0)","v":0},{"$f":"IF(D26=\"x\",-1,0)","v":0},{"$f":"IF(E26=\"x\",0,0)","v":0},{"$f":"IF(F26=\"x\",1,0)","v":0},{"$f":"IF(G26=\"x\",2,0)","v":0}]
[20,"Political awareness of the stakeholder",null,null,null,null,null,{"$f":"IF(C27=\"x\",-2,0)","v":0},{"$f":"IF(D27=\"x\",-1,0)","v":0},{"$f":"IF(E27=\"x\",0,0)","v":0},{"$f":"IF(F27=\"x\",1,0)","v":0},{"$f":"IF(G27=\"x\",2,0)","v":0}]
[null,"RELEVANCE SCORE",null,null,null,null,null,null,null,null,null,null,null,{"$f":"IF(C2=\"\",\"\",(SUM(N24+N18+N12+N6)/4))","v":""}]
[]
[null,"DIMENSIONS","Extremely Negative","Negative","not applicable","Positive","Extremely positive",-2,-1,0,1,2,null,"score per dimension"]
[null,"(1) Social capital",null,null,null,null,null,null,null,null,null,null,{"$f":"SUM(H32:L36)","v":0},{"$f":"(((M31-(-10))*(1-0))/(10-(-10)))+0","v":0.5}]
[1,"Interest for the stakeholder to engage in networking for the topic at stake ",null,null,null,null,null,{"$f":"IF(C32=\"x\",-2,0)","v":0},{"$f":"IF(D32=\"x\",-1,0)","v":0},{"$f":"IF(E32=\"x\",0,0)","v":0},{"$f":"IF(F32=\"x\",1,0)","v":0},{"$f":"IF(G32=\"x\",2,0)","v":0},null,"Weighted value"]
[2,"Interest of the stakeholder to represent a specific category for the topic at stake",null,null,null,null,null,{"$f":"IF(C33=\"x\",-2,0)","v":0},{"$f":"IF(D33=\"x\",-1,0)","v":0},{"$f":"IF(E33=\"x\",0,0)","v":0},{"$f":"IF(F33=\"x\",1,0)","v":0},{"$f":"IF(G33=\"x\",2,0)","v":0},null,{"$f":"N31*'1_COMMUNITY EVALUATION'!N4","v":0.25}]
[3,"Interest of the stakeholder to be involved further in civil society activism for the topic at stake",null,null,null,null,null,{"$f":"IF(C34=\"x\",-2,0)","v":0},{"$f":"IF(D34=\"x\",-1,0)","v":0},{"$f":"IF(E34=\"x\",0,0)","v":0},{"$f":"IF(F34=\"x\",1,0)","v":0},{"$f":"IF(G34=\"x\",2,0)","v":0}]
[4,"interest of the stakeholder to start/influence change",null,null,null,null,null,{"$f":"IF(C35=\"x\",-2,0)","v":0},{"$f":"IF(D35=\"x\",-1,0)","v":0},{"$f":"IF(E35=\"x\",0,0)","v":0},{"$f":"IF(F35=\"x\",1,0)","v":0},{"$f":"IF(G35=\"x\",2,0)","v":0}]
[5,"Interest of the stakeholder to increase its own acknowledgement among citizens",null,null,null,null,null,{"$f":"IF(C36=\"x\",-2,0)","v":0},{"$f":"IF(D36=\"x\",-1,0)","v":0},{"$f":"IF(E36=\"x\",0,0)","v":0},{"$f":"IF(F36=\"x\",1,0)","v":0},{"$f":"IF(G36=\"x\",2,0)","v":0}]
[null,"(2) Economic capital",null,null,null,null,null,null,null,null,null,null,{"$f":"SUM(H38:L42)","v":0},{"$f":"(((M37-(-10))*(1-0))/(10-(-10)))+0","v":0.5}]
[6,"Potential economic benefit for the stakeholder ",null,null,null,null,null,{"$f":"IF(C38=\"x\",-2,0)","v":0},{"$f":"IF(D38=\"x\",-1,0)","v":0},{"$f":"IF(E38=\"x\",0,0)","v":0},{"$f":"IF(F38=\"x\",1,0)","v":0},{"$f":"IF(G38=\"x\",2,0)","v":0},null,"Weighted value"]
[7,"Willingness of the stakeholder to mobilise resources ",null,null,null,null,null,{"$f":"IF(C39=\"x\",-2,0)","v":0},{"$f":"IF(D39=\"x\",-1,0)","v":0},{"$f":"IF(E39=\"x\",0,0)","v":0},{"$f":"IF(F39=\"x\",1,0)","v":0},{"$f":"IF(G39=\"x\",2,0)","v":0},null,{"$f":"N37*'1_COMMUNITY EVALUATION'!N13","v":0.25}]
[8,"Willingness of the stakeholder to support access to existing exogenous resources",null,null,null,null,null,{"$f":"IF(C40=\"x\",-2,0)","v":0},{"$f":"IF(D40=\"x\",-1,0)","v":0},{"$f":"IF(E40=\"x\",0,0)","v":0},{"$f":"IF(F40=\"x\",1,0)","v":0},{"$f":"IF(G40=\"x\",2,0)","v":0}]
[9,"Propensity of the stakeholder to provide in-kind support",null,null,null,null,null,{"$f":"IF(C41=\"x\",-2,0)","v":0},{"$f":"IF(D41=\"x\",-1,0)","v":0},{"$f":"IF(E41=\"x\",0,0)","v":0},{"$f":"IF(F41=\"x\",1,0)","v":0},{"$f":"IF(G41=\"x\",2,0)","v":0}]
[10,"Interest of the stakeholder in increasing its own influence on the job market",null,null,null,null,null,{"$f":"IF(C42=\"x\",-2,0)","v":0},{"$f":"IF(D42=\"x\",-1,0)","v":0},{"$f":"IF(E42=\"x\",0,0)","v":0},{"$f":"IF(F42=\"x\",1,0)","v":0},{"$f":"IF(G42=\"x\",2,0)","v":0}]
[null,"(3) Human capital",null,null,null,null,null,null,null,null,null,null,{"$f":"SUM(H44:L48)","v":0},{"$f":"(((M43-(-10))*(1-0))/(10-(-10)))+0","v":0.5}]
[11,"Interest of the stakeholder to share/increase own knowledge/skills on the topic",null,null,null,null,null,{"$f":"IF(C44=\"x\",-2,0)","v":0},{"$f":"IF(D44=\"x\",-1,0)","v":0},{"$f":"IF(E44=\"x\",0,0)","v":0},{"$f":"IF(F44=\"x\",1,0)","v":0},{"$f":"IF(G44=\"x\",2,0)","v":0},null,"Weighted value"]
[12,"Willingness of the stakeholder to share/increase own awareness on the topic",null,null,null,null,null,{"$f":"IF(C45=\"x\",-2,0)","v":0},{"$f":"IF(D45=\"x\",-1,0)","v":0},{"$f":"IF(E45=\"x\",0,0)","v":0},{"$f":"IF(F45=\"x\",1,0)","v":0},{"$f":"IF(G45=\"x\",2,0)","v":0},null,{"$f":"N43*'1_COMMUNITY EVALUATION'!N22","v":0.25}]
[13,"Willingness of the stakeholder to engage in public debate",null,null,null,null,null,{"$f":"IF(C46=\"x\",-2,0)","v":0},{"$f":"IF(D46=\"x\",-1,0)","v":0},{"$f":"IF(E46=\"x\",0,0)","v":0},{"$f":"IF(F46=\"x\",1,0)","v":0},{"$f":"IF(G46=\"x\",2,0)","v":0}]
[14,"Willingness of the stakeholder to communicate through a range of different media",null,null,null,null,null,{"$f":"IF(C47=\"x\",-2,0)","v":0},{"$f":"IF(D47=\"x\",-1,0)","v":0},{"$f":"IF(E47=\"x\",0,0)","v":0},{"$f":"IF(F47=\"x\",1,0)","v":0},{"$f":"IF(G47=\"x\",2,0)","v":0}]
[15,"Willingness of the stakeholder to access public venues",null,null,null,null,null,{"$f":"IF(C48=\"x\",-2,0)","v":0},{"$f":"IF(D48=\"x\",-1,0)","v":0},{"$f":"IF(E48=\"x\",0,0)","v":0},{"$f":"IF(F48=\"x\",1,0)","v":0},{"$f":"IF(G48=\"x\",2,0)","v":0}]
[null,"(4) Political capital",null,null,null,null,null,null,null,null,null,null,{"$f":"SUM(H50:L54)","v":0},{"$f":"(((M49-(-10))*(1-0))/(10-(-10)))+0","v":0.5}]
[16,"Trust of the stakeholder towards the local administration",null,null,null,null,null,{"$f":"IF(C50=\"x\",-2,0)","v":0},{"$f":"IF(D50=\"x\",-1,0)","v":0},{"$f":"IF(E50=\"x\",0,0)","v":0},{"$f":"IF(F50=\"x\",1,0)","v":0},{"$f":"IF(G50=\"x\",2,0)","v":0},null,"Weighted value"]
[17,"Political interest of the stakeholder in the topic",null,null,null,null,null,{"$f":"IF(C51=\"x\",-2,0)","v":0},{"$f":"IF(D51=\"x\",-1,0)","v":0},{"$f":"IF(E51=\"x\",0,0)","v":0},{"$f":"IF(F51=\"x\",1,0)","v":0},{"$f":"IF(G51=\"x\",2,0)","v":0},null,{"$f":"N49*'1_COMMUNITY EVALUATION'!N31","v":0.25}]
[18,"Willingness of the stakeholder to engage with local authorities",null,null,null,null,null,{"$f":"IF(C52=\"x\",-2,0)","v":0},{"$f":"IF(D52=\"x\",-1,0)","v":0},{"$f":"IF(E52=\"x\",0,0)","v":0},{"$f":"IF(F52=\"x\",1,0)","v":0},{"$f":"IF(G52=\"x\",2,0)","v":0}]
[19,"Interest for the stakeholder to reach out to a wider public",null,null,null,null,null,{"$f":"IF(C53=\"x\",-2,0)","v":0},{"$f":"IF(D53=\"x\",-1,0)","v":0},{"$f":"IF(E53=\"x\",0,0)","v":0},{"$f":"IF(F53=\"x\",1,0)","v":0},{"$f":"IF(G53=\"x\",2,0)","v":0}]
[20,"Willingness of the stakeholder to share/increase own political awareness",null,null,null,null,null,{"$f":"IF(C54=\"x\",-2,0)","v":0},{"$f":"IF(D54=\"x\",-1,0)","v":0},{"$f":"IF(E54=\"x\",0,0)","v":0},{"$f":"IF(F54=\"x\",1,0)","v":0},{"$f":"IF(G54=\"x\",2,0)","v":0}]
[null,"INTEREST SCORE",null,null,null,null,null,null,null,null,null,null,null,{"$f":"IF(C2=\"\",\"\",(SUM(N51+N45+N39+N33)/4))","v":""}]

{"sheet":"STAKEHOLDER (24)","index":28,"n_rows":55,"n_cols":14,"rows_kept":55,"cut":false,"hidden":false,"merged":[[0,0,0,13],[1,2,1,13],[27,1,27,6],[54,1,54,6]]}
["Bearing in mind the topic at hand, please evaluate the stakeholder for each proposed item (row) by it marking with an 'x' (from extremely negative to extremely positive)."]
[null,"STAKEHOLDER - insert name ->"]
[null,"DIMENSIONS","Extremely Negative","Negative","not applicable","Positive","Extremely positive",-2,-1,0,1,2,null,"score per dimension"]
[null,"(1) Social capital",null,null,null,null,null,null,null,null,null,null,{"$f":"SUM(H5:L9)","v":0},{"$f":"(((M4-(-10))*(1-0))/(10-(-10)))+0","v":0.5}]
[1,"Capacity of the stakeholder to involve other stakeholders ",null,null,null,null,null,{"$f":"IF(C5=\"x\",-2,0)","v":0},{"$f":"IF(D5=\"x\",-1,0)","v":0},{"$f":"IF(E5=\"x\",0,0)","v":0},{"$f":"IF(F5=\"x\",1,0)","v":0},{"$f":"IF(G5=\"x\",2,0)","v":0},null,"Weighted value"]
[2,"Level of representativeness of the stakeholder of a specific category",null,null,null,null,null,{"$f":"IF(C6=\"x\",-2,0)","v":0},{"$f":"IF(D6=\"x\",-1,0)","v":0},{"$f":"IF(E6=\"x\",0,0)","v":0},{"$f":"IF(F6=\"x\",1,0)","v":0},{"$f":"IF(G6=\"x\",2,0)","v":0},null,{"$f":"N4*'1_COMMUNITY EVALUATION'!N4","v":0.25}]
[3,"Level of participation of the stakeholder to local civil society activities",null,null,null,null,null,{"$f":"IF(C7=\"x\",-2,0)","v":0},{"$f":"IF(D7=\"x\",-1,0)","v":0},{"$f":"IF(E7=\"x\",0,0)","v":0},{"$f":"IF(F7=\"x\",1,0)","v":0},{"$f":"IF(G7=\"x\",2,0)","v":0}]
[4,"Capacity of the stakeholder to start/influence change",null,null,null,null,null,{"$f":"IF(C8=\"x\",-2,0)","v":0},{"$f":"IF(D8=\"x\",-1,0)","v":0},{"$f":"IF(E8=\"x\",0,0)","v":0},{"$f":"IF(F8=\"x\",1,0)","v":0},{"$f":"IF(G8=\"x\",2,0)","v":0}]
[5,"Level of acknowledgment of the stakeholder among citizens",null,null,null,null,null,{"$f":"IF(C9=\"x\",-2,0)","v":0},{"$f":"IF(D9=\"x\",-1,0)","v":0},{"$f":"IF(E9=\"x\",0,0)","v":0},{"$f":"IF(F9=\"x\",1,0)","v":0},{"$f":"IF(G9=\"x\",2,0)","v":0}]
[null,"(2) Economic capital",null,null,null,null,null,null,null,null,null,null,{"$f":"SUM(H11:L15)","v":0},{"$f":"(((M10-(-10))*(1-0))/(10-(-10)))+0","v":0.5}]
[6,"Capacity of the stakeholder to act as donor",null,null,null,null,null,{"$f":"IF(C11=\"x\",-2,0)","v":0},{"$f":"IF(D11=\"x\",-1,0)","v":0},{"$f":"IF(E11=\"x\",0,0)","v":0},{"$f":"IF(F11=\"x\",1,0)","v":0},{"$f":"IF(G11=\"x\",2,0)","v":0},null,"Weighted value"]
[7,"Capacity of the stakeholder to influence resources' allocation",null,null,null,null,null,{"$f":"IF(C12=\"x\",-2,0)","v":0},{"$f":"IF(D12=\"x\",-1,0)","v":0},{"$f":"IF(E12=\"x\",0,0)","v":0},{"$f":"IF(F12=\"x\",1,0)","v":0},{"$f":"IF(G12=\"x\",2,0)","v":0},null,{"$f":"N10*'1_COMMUNITY EVALUATION'!N13","v":0.25}]
[8,"Capacity to facilitate access to existing exogenous resources ",null,null,null,null,null,{"$f":"IF(C13=\"x\",-2,0)","v":0},{"$f":"IF(D13=\"x\",-1,0)","v":0},{"$f":"IF(E13=\"x\",0,0)","v":0},{"$f":"IF(F13=\"x\",1,0)","v":0},{"$f":"IF(G13=\"x\",2,0)","v":0}]
[9,"Capacity of the stakeholder to provide in-kind support",null,null,null,null,null,{"$f":"IF(C14=\"x\",-2,0)","v":0},{"$f":"IF(D14=\"x\",-1,0)","v":0},{"$f":"IF(E14=\"x\",0,0)","v":0},{"$f":"IF(F14=\"x\",1,0)","v":0},{"$f":"IF(G14=\"x\",2,0)","v":0}]
[10,"Influence of the stakeholder on the job market",null,null,null,null,null,{"$f":"IF(C15=\"x\",-2,0)","v":0},{"$f":"IF(D15=\"x\",-1,0)","v":0},{"$f":"IF(E15=\"x\",0,0)","v":0},{"$f":"IF(F15=\"x\",1,0)","v":0},{"$f":"IF(G15=\"x\",2,0)","v":0}]
[null,"(3) Human capital",null,null,null,null,null,null,null,null,null,null,{"$f":"SUM(H17:L21)","v":0},{"$f":"(((M16-(-10))*(1-0))/(10-(-10)))+0","v":0.5}]
[11,"Knowledge/skills of the stakeholder on the topic",null,null,null,null,null,{"$f":"IF(C17=\"x\",-2,0)","v":0},{"$f":"IF(D17=\"x\",-1,0)","v":0},{"$f":"IF(E17=\"x\",0,0)","v":0},{"$f":"IF(F17=\"x\",1,0)","v":0},{"$f":"IF(G17=\"x\",2,0)","v":0},null,"Weighted value"]
[12,"Awareness of the stakeholder on the topic",null,null,null,null,null,{"$f":"IF(C18=\"x\",-2,0)","v":0},{"$f":"IF(D18=\"x\",-1,0)","v":0},{"$f":"IF(E18=\"x\",0,0)","v":0},{"$f":"IF(F18=\"x\",1,0)","v":0},{"$f":"IF(G18=\"x\",2,0)","v":0},null,{"$f":"N16*'1_COMMUNITY EVALUATION'!N22","v":0.25}]
[13,"Capacity of the stakeholder to engage in public debate",null,null,null,null,null,{"$f":"IF(C19=\"x\",-2,0)","v":0},{"$f":"IF(D19=\"x\",-1,0)","v":0},{"$f":"IF(E19=\"x\",0,0)","v":0},{"$f":"IF(F19=\"x\",1,0)","v":0},{"$f":"IF(G19=\"x\",2,0)","v":0}]
[14,"Capacity of the stakeholder to communicate through a range of different media",null,null,null,null,null,{"$f":"IF(C20=\"x\",-2,0)","v":0},{"$f":"IF(D20=\"x\",-1,0)","v":0},{"$f":"IF(E20=\"x\",0,0)","v":0},{"$f":"IF(F20=\"x\",1,0)","v":0},{"$f":"IF(G20=\"x\",2,0)","v":0}]
[15,"Capacity of the stakeholder to access public venues",null,null,null,null,null,{"$f":"IF(C21=\"x\",-2,0)","v":0},{"$f":"IF(D21=\"x\",-1,0)","v":0},{"$f":"IF(E21=\"x\",0,0)","v":0},{"$f":"IF(F21=\"x\",1,0)","v":0},{"$f":"IF(G21=\"x\",2,0)","v":0}]
[null,"(4) Political capital",null,null,null,null,null,null,null,null,null,null,{"$f":"SUM(H23:L27)","v":0},{"$f":"(((M22-(-10))*(1-0))/(10-(-10)))+0","v":0.5}]
[16,"Trust of the local administration towards the stakeholder ",null,null,null,null,null,{"$f":"IF(C23=\"x\",-2,0)","v":0},{"$f":"IF(D23=\"x\",-1,0)","v":0},{"$f":"IF(E23=\"x\",0,0)","v":0},{"$f":"IF(F23=\"x\",1,0)","v":0},{"$f":"IF(G23=\"x\",2,0)","v":0},null,"Weighted value"]
[17,"Capacity of the stakeholder to engage further political actors",null,null,null,null,null,{"$f":"IF(C24=\"x\",-2,0)","v":0},{"$f":"IF(D24=\"x\",-1,0)","v":0},{"$f":"IF(E24=\"x\",0,0)","v":0},{"$f":"IF(F24=\"x\",1,0)","v":0},{"$f":"IF(G24=\"x\",2,0)","v":0},null,{"$f":"N22*'1_COMMUNITY EVALUATION'!N31","v":0.25}]
[18,"Capacity of the stakeholder to engage with local authorities/other stakeholders",null,null,null,null,null,{"$f":"IF(C25=\"x\",-2,0)","v":0},{"$f":"IF(D25=\"x\",-1,0)","v":0},{"$f":"IF(E25=\"x\",0,0)","v":0},{"$f":"IF(F25=\"x\",1,0)","v":0},{"$f":"IF(G25=\"x\",2,0)","v":0}]
[19,"Capacity of the stakeholder to influence public opinion",null,null,null,null,null,{"$f":"IF(C26=\"x\",-2,0)","v":0},{"$f":"IF(D26=\"x\",-1,0)","v":0},{"$f":"IF(E26=\"x\",0,0)","v":0},{"$f":"IF(F26=\"x\",1,0)","v":0},{"$f":"IF(G26=\"x\",2,0)","v":0}]
[20,"Political awareness of the stakeholder",null,null,null,null,null,{"$f":"IF(C27=\"x\",-2,0)","v":0},{"$f":"IF(D27=\"x\",-1,0)","v":0},{"$f":"IF(E27=\"x\",0,0)","v":0},{"$f":"IF(F27=\"x\",1,0)","v":0},{"$f":"IF(G27=\"x\",2,0)","v":0}]
[null,"RELEVANCE SCORE",null,null,null,null,null,null,null,null,null,null,null,{"$f":"IF(C2=\"\",\"\",(SUM(N24+N18+N12+N6)/4))","v":""}]
[]
[null,"DIMENSIONS","Extremely Negative","Negative","not applicable","Positive","Extremely positive",-2,-1,0,1,2,null,"score per dimension"]
[null,"(1) Social capital",null,null,null,null,null,null,null,null,null,null,{"$f":"SUM(H32:L36)","v":0},{"$f":"(((M31-(-10))*(1-0))/(10-(-10)))+0","v":0.5}]
[1,"Interest for the stakeholder to engage in networking for the topic at stake ",null,null,null,null,null,{"$f":"IF(C32=\"x\",-2,0)","v":0},{"$f":"IF(D32=\"x\",-1,0)","v":0},{"$f":"IF(E32=\"x\",0,0)","v":0},{"$f":"IF(F32=\"x\",1,0)","v":0},{"$f":"IF(G32=\"x\",2,0)","v":0},null,"Weighted value"]
[2,"Interest of the stakeholder to represent a specific category for the topic at stake",null,null,null,null,null,{"$f":"IF(C33=\"x\",-2,0)","v":0},{"$f":"IF(D33=\"x\",-1,0)","v":0},{"$f":"IF(E33=\"x\",0,0)","v":0},{"$f":"IF(F33=\"x\",1,0)","v":0},{"$f":"IF(G33=\"x\",2,0)","v":0},null,{"$f":"N31*'1_COMMUNITY EVALUATION'!N4","v":0.25}]
[3,"Interest of the stakeholder to be involved further in civil society activism for the topic at stake",null,null,null,null,null,{"$f":"IF(C34=\"x\",-2,0)","v":0},{"$f":"IF(D34=\"x\",-1,0)","v":0},{"$f":"IF(E34=\"x\",0,0)","v":0},{"$f":"IF(F34=\"x\",1,0)","v":0},{"$f":"IF(G34=\"x\",2,0)","v":0}]
[4,"interest of the stakeholder to start/influence change",null,null,null,null,null,{"$f":"IF(C35=\"x\",-2,0)","v":0},{"$f":"IF(D35=\"x\",-1,0)","v":0},{"$f":"IF(E35=\"x\",0,0)","v":0},{"$f":"IF(F35=\"x\",1,0)","v":0},{"$f":"IF(G35=\"x\",2,0)","v":0}]
[5,"Interest of the stakeholder to increase its own acknowledgement among citizens",null,null,null,null,null,{"$f":"IF(C36=\"x\",-2,0)","v":0},{"$f":"IF(D36=\"x\",-1,0)","v":0},{"$f":"IF(E36=\"x\",0,0)","v":0},{"$f":"IF(F36=\"x\",1,0)","v":0},{"$f":"IF(G36=\"x\",2,0)","v":0}]
[null,"(2) Economic capital",null,null,null,null,null,null,null,null,null,null,{"$f":"SUM(H38:L42)","v":0},{"$f":"(((M37-(-10))*(1-0))/(10-(-10)))+0","v":0.5}]
[6,"Potential economic benefit for the stakeholder ",null,null,null,null,null,{"$f":"IF(C38=\"x\",-2,0)","v":0},{"$f":"IF(D38=\"x\",-1,0)","v":0},{"$f":"IF(E38=\"x\",0,0)","v":0},{"$f":"IF(F38=\"x\",1,0)","v":0},{"$f":"IF(G38=\"x\",2,0)","v":0},null,"Weighted value"]
[7,"Willingness of the stakeholder to mobilise resources ",null,null,null,null,null,{"$f":"IF(C39=\"x\",-2,0)","v":0},{"$f":"IF(D39=\"x\",-1,0)","v":0},{"$f":"IF(E39=\"x\",0,0)","v":0},{"$f":"IF(F39=\"x\",1,0)","v":0},{"$f":"IF(G39=\"x\",2,0)","v":0},null,{"$f":"N37*'1_COMMUNITY EVALUATION'!N13","v":0.25}]
[8,"Willingness of the stakeholder to support access to existing exogenous resources",null,null,null,null,null,{"$f":"IF(C40=\"x\",-2,0)","v":0},{"$f":"IF(D40=\"x\",-1,0)","v":0},{"$f":"IF(E40=\"x\",0,0)","v":0},{"$f":"IF(F40=\"x\",1,0)","v":0},{"$f":"IF(G40=\"x\",2,0)","v":0}]
[9,"Propensity of the stakeholder to provide in-kind support",null,null,null,null,null,{"$f":"IF(C41=\"x\",-2,0)","v":0},{"$f":"IF(D41=\"x\",-1,0)","v":0},{"$f":"IF(E41=\"x\",0,0)","v":0},{"$f":"IF(F41=\"x\",1,0)","v":0},{"$f":"IF(G41=\"x\",2,0)","v":0}]
[10,"Interest of the stakeholder in increasing its own influence on the job market",null,null,null,null,null,{"$f":"IF(C42=\"x\",-2,0)","v":0},{"$f":"IF(D42=\"x\",-1,0)","v":0},{"$f":"IF(E42=\"x\",0,0)","v":0},{"$f":"IF(F42=\"x\",1,0)","v":0},{"$f":"IF(G42=\"x\",2,0)","v":0}]
[null,"(3) Human capital",null,null,null,null,null,null,null,null,null,null,{"$f":"SUM(H44:L48)","v":0},{"$f":"(((M43-(-10))*(1-0))/(10-(-10)))+0","v":0.5}]
[11,"Interest of the stakeholder to share/increase own knowledge/skills on the topic",null,null,null,null,null,{"$f":"IF(C44=\"x\",-2,0)","v":0},{"$f":"IF(D44=\"x\",-1,0)","v":0},{"$f":"IF(E44=\"x\",0,0)","v":0},{"$f":"IF(F44=\"x\",1,0)","v":0},{"$f":"IF(G44=\"x\",2,0)","v":0},null,"Weighted value"]
[12,"Willingness of the stakeholder to share/increase own awareness on the topic",null,null,null,null,null,{"$f":"IF(C45=\"x\",-2,0)","v":0},{"$f":"IF(D45=\"x\",-1,0)","v":0},{"$f":"IF(E45=\"x\",0,0)","v":0},{"$f":"IF(F45=\"x\",1,0)","v":0},{"$f":"IF(G45=\"x\",2,0)","v":0},null,{"$f":"N43*'1_COMMUNITY EVALUATION'!N22","v":0.25}]
[13,"Willingness of the stakeholder to engage in public debate",null,null,null,null,null,{"$f":"IF(C46=\"x\",-2,0)","v":0},{"$f":"IF(D46=\"x\",-1,0)","v":0},{"$f":"IF(E46=\"x\",0,0)","v":0},{"$f":"IF(F46=\"x\",1,0)","v":0},{"$f":"IF(G46=\"x\",2,0)","v":0}]
[14,"Willingness of the stakeholder to communicate through a range of different media",null,null,null,null,null,{"$f":"IF(C47=\"x\",-2,0)","v":0},{"$f":"IF(D47=\"x\",-1,0)","v":0},{"$f":"IF(E47=\"x\",0,0)","v":0},{"$f":"IF(F47=\"x\",1,0)","v":0},{"$f":"IF(G47=\"x\",2,0)","v":0}]
[15,"Willingness of the stakeholder to access public venues",null,null,null,null,null,{"$f":"IF(C48=\"x\",-2,0)","v":0},{"$f":"IF(D48=\"x\",-1,0)","v":0},{"$f":"IF(E48=\"x\",0,0)","v":0},{"$f":"IF(F48=\"x\",1,0)","v":0},{"$f":"IF(G48=\"x\",2,0)","v":0}]
[null,"(4) Political capital",null,null,null,null,null,null,null,null,null,null,{"$f":"SUM(H50:L54)","v":0},{"$f":"(((M49-(-10))*(1-0))/(10-(-10)))+0","v":0.5}]
[16,"Trust of the stakeholder towards the local administration",null,null,null,null,null,{"$f":"IF(C50=\"x\",-2,0)","v":0},{"$f":"IF(D50=\"x\",-1,0)","v":0},{"$f":"IF(E50=\"x\",0,0)","v":0},{"$f":"IF(F50=\"x\",1,0)","v":0},{"$f":"IF(G50=\"x\",2,0)","v":0},null,"Weighted value"]
[17,"Political interest of the stakeholder in the topic",null,null,null,null,null,{"$f":"IF(C51=\"x\",-2,0)","v":0},{"$f":"IF(D51=\"x\",-1,0)","v":0},{"$f":"IF(E51=\"x\",0,0)","v":0},{"$f":"IF(F51=\"x\",1,0)","v":0},{"$f":"IF(G51=\"x\",2,0)","v":0},null,{"$f":"N49*'1_COMMUNITY EVALUATION'!N31","v":0.25}]
[18,"Willingness of the stakeholder to engage with local authorities",null,null,null,null,null,{"$f":"IF(C52=\"x\",-2,0)","v":0},{"$f":"IF(D52=\"x\",-1,0)","v":0},{"$f":"IF(E52=\"x\",0,0)","v":0},{"$f":"IF(F52=\"x\",1,0)","v":0},{"$f":"IF(G52=\"x\",2,0)","v":0}]
[19,"Interest for the stakeholder to reach out to a wider public",null,null,null,null,null,{"$f":"IF(C53=\"x\",-2,0)","v":0},{"$f":"IF(D53=\"x\",-1,0)","v":0},{"$f":"IF(E53=\"x\",0,0)","v":0},{"$f":"IF(F53=\"x\",1,0)","v":0},{"$f":"IF(G53=\"x\",2,0)","v":0}]
[20,"Willingness of the stakeholder to share/increase own political awareness",null,null,null,null,null,{"$f":"IF(C54=\"x\",-2,0)","v":0},{"$f":"IF(D54=\"x\",-1,0)","v":0},{"$f":"IF(E54=\"x\",0,0)","v":0},{"$f":"IF(F54=\"x\",1,0)","v":0},{"$f":"IF(G54=\"x\",2,0)","v":0}]
[null,"INTEREST SCORE",null,null,null,null,null,null,null,null,null,null,null,{"$f":"IF(C2=\"\",\"\",(SUM(N51+N45+N39+N33)/4))","v":""}]

{"sheet":"STAKEHOLDER (25)","index":29,"n_rows":55,"n_cols":14,"rows_kept":55,"cut":false,"hidden":false,"merged":[[0,0,0,13],[1,2,1,13],[27,1,27,6],[54,1,54,6]]}
["Bearing in mind the topic at hand, please evaluate the stakeholder for each proposed item (row) by it marking with an 'x' (from extremely negative to extremely positive)."]
[null,"STAKEHOLDER - insert name ->"]
[null,"DIMENSIONS","Extremely Negative","Negative","not applicable","Positive","Extremely positive",-2,-1,0,1,2,null,"score per dimension"]
[null,"(1) Social capital",null,null,null,null,null,null,null,null,null,null,{"$f":"SUM(H5:L9)","v":0},{"$f":"(((M4-(-10))*(1-0))/(10-(-10)))+0","v":0.5}]
[1,"Capacity of the stakeholder to involve other stakeholders ",null,null,null,null,null,{"$f":"IF(C5=\"x\",-2,0)","v":0},{"$f":"IF(D5=\"x\",-1,0)","v":0},{"$f":"IF(E5=\"x\",0,0)","v":0},{"$f":"IF(F5=\"x\",1,0)","v":0},{"$f":"IF(G5=\"x\",2,0)","v":0},null,"Weighted value"]
[2,"Level of representativeness of the stakeholder of a specific category",null,null,null,null,null,{"$f":"IF(C6=\"x\",-2,0)","v":0},{"$f":"IF(D6=\"x\",-1,0)","v":0},{"$f":"IF(E6=\"x\",0,0)","v":0},{"$f":"IF(F6=\"x\",1,0)","v":0},{"$f":"IF(G6=\"x\",2,0)","v":0},null,{"$f":"N4*'1_COMMUNITY EVALUATION'!N4","v":0.25}]
[3,"Level of participation of the stakeholder to local civil society activities",null,null,null,null,null,{"$f":"IF(C7=\"x\",-2,0)","v":0},{"$f":"IF(D7=\"x\",-1,0)","v":0},{"$f":"IF(E7=\"x\",0,0)","v":0},{"$f":"IF(F7=\"x\",1,0)","v":0},{"$f":"IF(G7=\"x\",2,0)","v":0}]
[4,"Capacity of the stakeholder to start/influence change",null,null,null,null,null,{"$f":"IF(C8=\"x\",-2,0)","v":0},{"$f":"IF(D8=\"x\",-1,0)","v":0},{"$f":"IF(E8=\"x\",0,0)","v":0},{"$f":"IF(F8=\"x\",1,0)","v":0},{"$f":"IF(G8=\"x\",2,0)","v":0}]
[5,"Level of acknowledgment of the stakeholder among citizens",null,null,null,null,null,{"$f":"IF(C9=\"x\",-2,0)","v":0},{"$f":"IF(D9=\"x\",-1,0)","v":0},{"$f":"IF(E9=\"x\",0,0)","v":0},{"$f":"IF(F9=\"x\",1,0)","v":0},{"$f":"IF(G9=\"x\",2,0)","v":0}]
[null,"(2) Economic capital",null,null,null,null,null,null,null,null,null,null,{"$f":"SUM(H11:L15)","v":0},{"$f":"(((M10-(-10))*(1-0))/(10-(-10)))+0","v":0.5}]
[6,"Capacity of the stakeholder to act as donor",null,null,null,null,null,{"$f":"IF(C11=\"x\",-2,0)","v":0},{"$f":"IF(D11=\"x\",-1,0)","v":0},{"$f":"IF(E11=\"x\",0,0)","v":0},{"$f":"IF(F11=\"x\",1,0)","v":0},{"$f":"IF(G11=\"x\",2,0)","v":0},null,"Weighted value"]
[7,"Capacity of the stakeholder to influence resources' allocation",null,null,null,null,null,{"$f":"IF(C12=\"x\",-2,0)","v":0},{"$f":"IF(D12=\"x\",-1,0)","v":0},{"$f":"IF(E12=\"x\",0,0)","v":0},{"$f":"IF(F12=\"x\",1,0)","v":0},{"$f":"IF(G12=\"x\",2,0)","v":0},null,{"$f":"N10*'1_COMMUNITY EVALUATION'!N13","v":0.25}]
[8,"Capacity to facilitate access to existing exogenous resources ",null,null,null,null,null,{"$f":"IF(C13=\"x\",-2,0)","v":0},{"$f":"IF(D13=\"x\",-1,0)","v":0},{"$f":"IF(E13=\"x\",0,0)","v":0},{"$f":"IF(F13=\"x\",1,0)","v":0},{"$f":"IF(G13=\"x\",2,0)","v":0}]
[9,"Capacity of the stakeholder to provide in-kind support",null,null,null,null,null,{"$f":"IF(C14=\"x\",-2,0)","v":0},{"$f":"IF(D14=\"x\",-1,0)","v":0},{"$f":"IF(E14=\"x\",0,0)","v":0},{"$f":"IF(F14=\"x\",1,0)","v":0},{"$f":"IF(G14=\"x\",2,0)","v":0}]
[10,"Influence of the stakeholder on the job market",null,null,null,null,null,{"$f":"IF(C15=\"x\",-2,0)","v":0},{"$f":"IF(D15=\"x\",-1,0)","v":0},{"$f":"IF(E15=\"x\",0,0)","v":0},{"$f":"IF(F15=\"x\",1,0)","v":0},{"$f":"IF(G15=\"x\",2,0)","v":0}]
[null,"(3) Human capital",null,null,null,null,null,null,null,null,null,null,{"$f":"SUM(H17:L21)","v":0},{"$f":"(((M16-(-10))*(1-0))/(10-(-10)))+0","v":0.5}]
[11,"Knowledge/skills of the stakeholder on the topic",null,null,null,null,null,{"$f":"IF(C17=\"x\",-2,0)","v":0},{"$f":"IF(D17=\"x\",-1,0)","v":0},{"$f":"IF(E17=\"x\",0,0)","v":0},{"$f":"IF(F17=\"x\",1,0)","v":0},{"$f":"IF(G17=\"x\",2,0)","v":0},null,"Weighted value"]
[12,"Awareness of the stakeholder on the topic",null,null,null,null,null,{"$f":"IF(C18=\"x\",-2,0)","v":0},{"$f":"IF(D18=\"x\",-1,0)","v":0},{"$f":"IF(E18=\"x\",0,0)","v":0},{"$f":"IF(F18=\"x\",1,0)","v":0},{"$f":"IF(G18=\"x\",2,0)","v":0},null,{"$f":"N16*'1_COMMUNITY EVALUATION'!N22","v":0.25}]
[13,"Capacity of the stakeholder to engage in public debate",null,null,null,null,null,{"$f":"IF(C19=\"x\",-2,0)","v":0},{"$f":"IF(D19=\"x\",-1,0)","v":0},{"$f":"IF(E19=\"x\",0,0)","v":0},{"$f":"IF(F19=\"x\",1,0)","v":0},{"$f":"IF(G19=\"x\",2,0)","v":0}]
[14,"Capacity of the stakeholder to communicate through a range of different media",null,null,null,null,null,{"$f":"IF(C20=\"x\",-2,0)","v":0},{"$f":"IF(D20=\"x\",-1,0)","v":0},{"$f":"IF(E20=\"x\",0,0)","v":0},{"$f":"IF(F20=\"x\",1,0)","v":0},{"$f":"IF(G20=\"x\",2,0)","v":0}]
[15,"Capacity of the stakeholder to access public venues",null,null,null,null,null,{"$f":"IF(C21=\"x\",-2,0)","v":0},{"$f":"IF(D21=\"x\",-1,0)","v":0},{"$f":"IF(E21=\"x\",0,0)","v":0},{"$f":"IF(F21=\"x\",1,0)","v":0},{"$f":"IF(G21=\"x\",2,0)","v":0}]
[null,"(4) Political capital",null,null,null,null,null,null,null,null,null,null,{"$f":"SUM(H23:L27)","v":0},{"$f":"(((M22-(-10))*(1-0))/(10-(-10)))+0","v":0.5}]
[16,"Trust of the local administration towards the stakeholder ",null,null,null,null,null,{"$f":"IF(C23=\"x\",-2,0)","v":0},{"$f":"IF(D23=\"x\",-1,0)","v":0},{"$f":"IF(E23=\"x\",0,0)","v":0},{"$f":"IF(F23=\"x\",1,0)","v":0},{"$f":"IF(G23=\"x\",2,0)","v":0},null,"Weighted value"]
[17,"Capacity of the stakeholder to engage further political actors",null,null,null,null,null,{"$f":"IF(C24=\"x\",-2,0)","v":0},{"$f":"IF(D24=\"x\",-1,0)","v":0},{"$f":"IF(E24=\"x\",0,0)","v":0},{"$f":"IF(F24=\"x\",1,0)","v":0},{"$f":"IF(G24=\"x\",2,0)","v":0},null,{"$f":"N22*'1_COMMUNITY EVALUATION'!N31","v":0.25}]
[18,"Capacity of the stakeholder to engage with local authorities/other stakeholders",null,null,null,null,null,{"$f":"IF(C25=\"x\",-2,0)","v":0},{"$f":"IF(D25=\"x\",-1,0)","v":0},{"$f":"IF(E25=\"x\",0,0)","v":0},{"$f":"IF(F25=\"x\",1,0)","v":0},{"$f":"IF(G25=\"x\",2,0)","v":0}]
[19,"Capacity of the stakeholder to influence public opinion",null,null,null,null,null,{"$f":"IF(C26=\"x\",-2,0)","v":0},{"$f":"IF(D26=\"x\",-1,0)","v":0},{"$f":"IF(E26=\"x\",0,0)","v":0},{"$f":"IF(F26=\"x\",1,0)","v":0},{"$f":"IF(G26=\"x\",2,0)","v":0}]
[20,"Political awareness of the stakeholder",null,null,null,null,null,{"$f":"IF(C27=\"x\",-2,0)","v":0},{"$f":"IF(D27=\"x\",-1,0)","v":0},{"$f":"IF(E27=\"x\",0,0)","v":0},{"$f":"IF(F27=\"x\",1,0)","v":0},{"$f":"IF(G27=\"x\",2,0)","v":0}]
[null,"RELEVANCE SCORE",null,null,null,null,null,null,null,null,null,null,null,{"$f":"IF(C2=\"\",\"\",(SUM(N24+N18+N12+N6)/4))","v":""}]
[]
[null,"DIMENSIONS","Extremely Negative","Negative","not applicable","Positive","Extremely positive",-2,-1,0,1,2,null,"score per dimension"]
[null,"(1) Social capital",null,null,null,null,null,null,null,null,null,null,{"$f":"SUM(H32:L36)","v":0},{"$f":"(((M31-(-10))*(1-0))/(10-(-10)))+0","v":0.5}]
[1,"Interest for the stakeholder to engage in networking for the topic at stake ",null,null,null,null,null,{"$f":"IF(C32=\"x\",-2,0)","v":0},{"$f":"IF(D32=\"x\",-1,0)","v":0},{"$f":"IF(E32=\"x\",0,0)","v":0},{"$f":"IF(F32=\"x\",1,0)","v":0},{"$f":"IF(G32=\"x\",2,0)","v":0},null,"Weighted value"]
[2,"Interest of the stakeholder to represent a specific category for the topic at stake",null,null,null,null,null,{"$f":"IF(C33=\"x\",-2,0)","v":0},{"$f":"IF(D33=\"x\",-1,0)","v":0},{"$f":"IF(E33=\"x\",0,0)","v":0},{"$f":"IF(F33=\"x\",1,0)","v":0},{"$f":"IF(G33=\"x\",2,0)","v":0},null,{"$f":"N31*'1_COMMUNITY EVALUATION'!N4","v":0.25}]
[3,"Interest of the stakeholder to be involved further in civil society activism for the topic at stake",null,null,null,null,null,{"$f":"IF(C34=\"x\",-2,0)","v":0},{"$f":"IF(D34=\"x\",-1,0)","v":0},{"$f":"IF(E34=\"x\",0,0)","v":0},{"$f":"IF(F34=\"x\",1,0)","v":0},{"$f":"IF(G34=\"x\",2,0)","v":0}]
[4,"interest of the stakeholder to start/influence change",null,null,null,null,null,{"$f":"IF(C35=\"x\",-2,0)","v":0},{"$f":"IF(D35=\"x\",-1,0)","v":0},{"$f":"IF(E35=\"x\",0,0)","v":0},{"$f":"IF(F35=\"x\",1,0)","v":0},{"$f":"IF(G35=\"x\",2,0)","v":0}]
[5,"Interest of the stakeholder to increase its own acknowledgement among citizens",null,null,null,null,null,{"$f":"IF(C36=\"x\",-2,0)","v":0},{"$f":"IF(D36=\"x\",-1,0)","v":0},{"$f":"IF(E36=\"x\",0,0)","v":0},{"$f":"IF(F36=\"x\",1,0)","v":0},{"$f":"IF(G36=\"x\",2,0)","v":0}]
[null,"(2) Economic capital",null,null,null,null,null,null,null,null,null,null,{"$f":"SUM(H38:L42)","v":0},{"$f":"(((M37-(-10))*(1-0))/(10-(-10)))+0","v":0.5}]
[6,"Potential economic benefit for the stakeholder ",null,null,null,null,null,{"$f":"IF(C38=\"x\",-2,0)","v":0},{"$f":"IF(D38=\"x\",-1,0)","v":0},{"$f":"IF(E38=\"x\",0,0)","v":0},{"$f":"IF(F38=\"x\",1,0)","v":0},{"$f":"IF(G38=\"x\",2,0)","v":0},null,"Weighted value"]
[7,"Willingness of the stakeholder to mobilise resources ",null,null,null,null,null,{"$f":"IF(C39=\"x\",-2,0)","v":0},{"$f":"IF(D39=\"x\",-1,0)","v":0},{"$f":"IF(E39=\"x\",0,0)","v":0},{"$f":"IF(F39=\"x\",1,0)","v":0},{"$f":"IF(G39=\"x\",2,0)","v":0},null,{"$f":"N37*'1_COMMUNITY EVALUATION'!N13","v":0.25}]
[8,"Willingness of the stakeholder to support access to existing exogenous resources",null,null,null,null,null,{"$f":"IF(C40=\"x\",-2,0)","v":0},{"$f":"IF(D40=\"x\",-1,0)","v":0},{"$f":"IF(E40=\"x\",0,0)","v":0},{"$f":"IF(F40=\"x\",1,0)","v":0},{"$f":"IF(G40=\"x\",2,0)","v":0}]
[9,"Propensity of the stakeholder to provide in-kind support",null,null,null,null,null,{"$f":"IF(C41=\"x\",-2,0)","v":0},{"$f":"IF(D41=\"x\",-1,0)","v":0},{"$f":"IF(E41=\"x\",0,0)","v":0},{"$f":"IF(F41=\"x\",1,0)","v":0},{"$f":"IF(G41=\"x\",2,0)","v":0}]
[10,"Interest of the stakeholder in increasing its own influence on the job market",null,null,null,null,null,{"$f":"IF(C42=\"x\",-2,0)","v":0},{"$f":"IF(D42=\"x\",-1,0)","v":0},{"$f":"IF(E42=\"x\",0,0)","v":0},{"$f":"IF(F42=\"x\",1,0)","v":0},{"$f":"IF(G42=\"x\",2,0)","v":0}]
[null,"(3) Human capital",null,null,null,null,null,null,null,null,null,null,{"$f":"SUM(H44:L48)","v":0},{"$f":"(((M43-(-10))*(1-0))/(10-(-10)))+0","v":0.5}]
[11,"Interest of the stakeholder to share/increase own knowledge/skills on the topic",null,null,null,null,null,{"$f":"IF(C44=\"x\",-2,0)","v":0},{"$f":"IF(D44=\"x\",-1,0)","v":0},{"$f":"IF(E44=\"x\",0,0)","v":0},{"$f":"IF(F44=\"x\",1,0)","v":0},{"$f":"IF(G44=\"x\",2,0)","v":0},null,"Weighted value"]
[12,"Willingness of the stakeholder to share/increase own awareness on the topic",null,null,null,null,null,{"$f":"IF(C45=\"x\",-2,0)","v":0},{"$f":"IF(D45=\"x\",-1,0)","v":0},{"$f":"IF(E45=\"x\",0,0)","v":0},{"$f":"IF(F45=\"x\",1,0)","v":0},{"$f":"IF(G45=\"x\",2,0)","v":0},null,{"$f":"N43*'1_COMMUNITY EVALUATION'!N22","v":0.25}]
[13,"Willingness of the stakeholder to engage in public debate",null,null,null,null,null,{"$f":"IF(C46=\"x\",-2,0)","v":0},{"$f":"IF(D46=\"x\",-1,0)","v":0},{"$f":"IF(E46=\"x\",0,0)","v":0},{"$f":"IF(F46=\"x\",1,0)","v":0},{"$f":"IF(G46=\"x\",2,0)","v":0}]
[14,"Willingness of the stakeholder to communicate through a range of different media",null,null,null,null,null,{"$f":"IF(C47=\"x\",-2,0)","v":0},{"$f":"IF(D47=\"x\",-1,0)","v":0},{"$f":"IF(E47=\"x\",0,0)","v":0},{"$f":"IF(F47=\"x\",1,0)","v":0},{"$f":"IF(G47=\"x\",2,0)","v":0}]
[15,"Willingness of the stakeholder to access public venues",null,null,null,null,null,{"$f":"IF(C48=\"x\",-2,0)","v":0},{"$f":"IF(D48=\"x\",-1,0)","v":0},{"$f":"IF(E48=\"x\",0,0)","v":0},{"$f":"IF(F48=\"x\",1,0)","v":0},{"$f":"IF(G48=\"x\",2,0)","v":0}]
[null,"(4) Political capital",null,null,null,null,null,null,null,null,null,null,{"$f":"SUM(H50:L54)","v":0},{"$f":"(((M49-(-10))*(1-0))/(10-(-10)))+0","v":0.5}]
[16,"Trust of the stakeholder towards the local administration",null,null,null,null,null,{"$f":"IF(C50=\"x\",-2,0)","v":0},{"$f":"IF(D50=\"x\",-1,0)","v":0},{"$f":"IF(E50=\"x\",0,0)","v":0},{"$f":"IF(F50=\"x\",1,0)","v":0},{"$f":"IF(G50=\"x\",2,0)","v":0},null,"Weighted value"]
[17,"Political interest of the stakeholder in the topic",null,null,null,null,null,{"$f":"IF(C51=\"x\",-2,0)","v":0},{"$f":"IF(D51=\"x\",-1,0)","v":0},{"$f":"IF(E51=\"x\",0,0)","v":0},{"$f":"IF(F51=\"x\",1,0)","v":0},{"$f":"IF(G51=\"x\",2,0)","v":0},null,{"$f":"N49*'1_COMMUNITY EVALUATION'!N31","v":0.25}]
[18,"Willingness of the stakeholder to engage with local authorities",null,null,null,null,null,{"$f":"IF(C52=\"x\",-2,0)","v":0},{"$f":"IF(D52=\"x\",-1,0)","v":0},{"$f":"IF(E52=\"x\",0,0)","v":0},{"$f":"IF(F52=\"x\",1,0)","v":0},{"$f":"IF(G52=\"x\",2,0)","v":0}]
[19,"Interest for the stakeholder to reach out to a wider public",null,null,null,null,null,{"$f":"IF(C53=\"x\",-2,0)","v":0},{"$f":"IF(D53=\"x\",-1,0)","v":0},{"$f":"IF(E53=\"x\",0,0)","v":0},{"$f":"IF(F53=\"x\",1,0)","v":0},{"$f":"IF(G53=\"x\",2,0)","v":0}]
[20,"Willingness of the stakeholder to share/increase own political awareness",null,null,null,null,null,{"$f":"IF(C54=\"x\",-2,0)","v":0},{"$f":"IF(D54=\"x\",-1,0)","v":0},{"$f":"IF(E54=\"x\",0,0)","v":0},{"$f":"IF(F54=\"x\",1,0)","v":0},{"$f":"IF(G54=\"x\",2,0)","v":0}]
[null,"INTEREST SCORE",null,null,null,null,null,null,null,null,null,null,null,{"$f":"IF(C2=\"\",\"\",(SUM(N51+N45+N39+N33)/4))","v":""}]

{"sheet":"STAKEHOLDER (26)","index":30,"n_rows":55,"n_cols":14,"rows_kept":55,"cut":false,"hidden":false,"merged":[[0,0,0,13],[1,2,1,13],[27,1,27,6],[54,1,54,6]]}
["Bearing in mind the topic at hand, please evaluate the stakeholder for each proposed item (row) by it marking with an 'x' (from extremely negative to extremely positive)."]
[null,"STAKEHOLDER - insert name ->"]
[null,"DIMENSIONS","Extremely Negative","Negative","not applicable","Positive","Extremely positive",-2,-1,0,1,2,null,"score per dimension"]
[null,"(1) Social capital",null,null,null,null,null,null,null,null,null,null,{"$f":"SUM(H5:L9)","v":0},{"$f":"(((M4-(-10))*(1-0))/(10-(-10)))+0","v":0.5}]
[1,"Capacity of the stakeholder to involve other stakeholders ",null,null,null,null,null,{"$f":"IF(C5=\"x\",-2,0)","v":0},{"$f":"IF(D5=\"x\",-1,0)","v":0},{"$f":"IF(E5=\"x\",0,0)","v":0},{"$f":"IF(F5=\"x\",1,0)","v":0},{"$f":"IF(G5=\"x\",2,0)","v":0},null,"Weighted value"]
[2,"Level of representativeness of the stakeholder of a specific category",null,null,null,null,null,{"$f":"IF(C6=\"x\",-2,0)","v":0},{"$f":"IF(D6=\"x\",-1,0)","v":0},{"$f":"IF(E6=\"x\",0,0)","v":0},{"$f":"IF(F6=\"x\",1,0)","v":0},{"$f":"IF(G6=\"x\",2,0)","v":0},null,{"$f":"N4*'1_COMMUNITY EVALUATION'!N4","v":0.25}]
[3,"Level of participation of the stakeholder to local civil society activities",null,null,null,null,null,{"$f":"IF(C7=\"x\",-2,0)","v":0},{"$f":"IF(D7=\"x\",-1,0)","v":0},{"$f":"IF(E7=\"x\",0,0)","v":0},{"$f":"IF(F7=\"x\",1,0)","v":0},{"$f":"IF(G7=\"x\",2,0)","v":0}]
[4,"Capacity of the stakeholder to start/influence change",null,null,null,null,null,{"$f":"IF(C8=\"x\",-2,0)","v":0},{"$f":"IF(D8=\"x\",-1,0)","v":0},{"$f":"IF(E8=\"x\",0,0)","v":0},{"$f":"IF(F8=\"x\",1,0)","v":0},{"$f":"IF(G8=\"x\",2,0)","v":0}]
[5,"Level of acknowledgment of the stakeholder among citizens",null,null,null,null,null,{"$f":"IF(C9=\"x\",-2,0)","v":0},{"$f":"IF(D9=\"x\",-1,0)","v":0},{"$f":"IF(E9=\"x\",0,0)","v":0},{"$f":"IF(F9=\"x\",1,0)","v":0},{"$f":"IF(G9=\"x\",2,0)","v":0}]
[null,"(2) Economic capital",null,null,null,null,null,null,null,null,null,null,{"$f":"SUM(H11:L15)","v":0},{"$f":"(((M10-(-10))*(1-0))/(10-(-10)))+0","v":0.5}]
[6,"Capacity of the stakeholder to act as donor",null,null,null,null,null,{"$f":"IF(C11=\"x\",-2,0)","v":0},{"$f":"IF(D11=\"x\",-1,0)","v":0},{"$f":"IF(E11=\"x\",0,0)","v":0},{"$f":"IF(F11=\"x\",1,0)","v":0},{"$f":"IF(G11=\"x\",2,0)","v":0},null,"Weighted value"]
[7,"Capacity of the stakeholder to influence resources' allocation",null,null,null,null,null,{"$f":"IF(C12=\"x\",-2,0)","v":0},{"$f":"IF(D12=\"x\",-1,0)","v":0},{"$f":"IF(E12=\"x\",0,0)","v":0},{"$f":"IF(F12=\"x\",1,0)","v":0},{"$f":"IF(G12=\"x\",2,0)","v":0},null,{"$f":"N10*'1_COMMUNITY EVALUATION'!N13","v":0.25}]
[8,"Capacity to facilitate access to existing exogenous resources ",null,null,null,null,null,{"$f":"IF(C13=\"x\",-2,0)","v":0},{"$f":"IF(D13=\"x\",-1,0)","v":0},{"$f":"IF(E13=\"x\",0,0)","v":0},{"$f":"IF(F13=\"x\",1,0)","v":0},{"$f":"IF(G13=\"x\",2,0)","v":0}]
[9,"Capacity of the stakeholder to provide in-kind support",null,null,null,null,null,{"$f":"IF(C14=\"x\",-2,0)","v":0},{"$f":"IF(D14=\"x\",-1,0)","v":0},{"$f":"IF(E14=\"x\",0,0)","v":0},{"$f":"IF(F14=\"x\",1,0)","v":0},{"$f":"IF(G14=\"x\",2,0)","v":0}]
[10,"Influence of the stakeholder on the job market",null,null,null,null,null,{"$f":"IF(C15=\"x\",-2,0)","v":0},{"$f":"IF(D15=\"x\",-1,0)","v":0},{"$f":"IF(E15=\"x\",0,0)","v":0},{"$f":"IF(F15=\"x\",1,0)","v":0},{"$f":"IF(G15=\"x\",2,0)","v":0}]
[null,"(3) Human capital",null,null,null,null,null,null,null,null,null,null,{"$f":"SUM(H17:L21)","v":0},{"$f":"(((M16-(-10))*(1-0))/(10-(-10)))+0","v":0.5}]
[11,"Knowledge/skills of the stakeholder on the topic",null,null,null,null,null,{"$f":"IF(C17=\"x\",-2,0)","v":0},{"$f":"IF(D17=\"x\",-1,0)","v":0},{"$f":"IF(E17=\"x\",0,0)","v":0},{"$f":"IF(F17=\"x\",1,0)","v":0},{"$f":"IF(G17=\"x\",2,0)","v":0},null,"Weighted value"]
[12,"Awareness of the stakeholder on the topic",null,null,null,null,null,{"$f":"IF(C18=\"x\",-2,0)","v":0},{"$f":"IF(D18=\"x\",-1,0)","v":0},{"$f":"IF(E18=\"x\",0,0)","v":0},{"$f":"IF(F18=\"x\",1,0)","v":0},{"$f":"IF(G18=\"x\",2,0)","v":0},null,{"$f":"N16*'1_COMMUNITY EVALUATION'!N22","v":0.25}]
[13,"Capacity of the stakeholder to engage in public debate",null,null,null,null,null,{"$f":"IF(C19=\"x\",-2,0)","v":0},{"$f":"IF(D19=\"x\",-1,0)","v":0},{"$f":"IF(E19=\"x\",0,0)","v":0},{"$f":"IF(F19=\"x\",1,0)","v":0},{"$f":"IF(G19=\"x\",2,0)","v":0}]
[14,"Capacity of the stakeholder to communicate through a range of different media",null,null,null,null,null,{"$f":"IF(C20=\"x\",-2,0)","v":0},{"$f":"IF(D20=\"x\",-1,0)","v":0},{"$f":"IF(E20=\"x\",0,0)","v":0},{"$f":"IF(F20=\"x\",1,0)","v":0},{"$f":"IF(G20=\"x\",2,0)","v":0}]
[15,"Capacity of the stakeholder to access public venues",null,null,null,null,null,{"$f":"IF(C21=\"x\",-2,0)","v":0},{"$f":"IF(D21=\"x\",-1,0)","v":0},{"$f":"IF(E21=\"x\",0,0)","v":0},{"$f":"IF(F21=\"x\",1,0)","v":0},{"$f":"IF(G21=\"x\",2,0)","v":0}]
[null,"(4) Political capital",null,null,null,null,null,null,null,null,null,null,{"$f":"SUM(H23:L27)","v":0},{"$f":"(((M22-(-10))*(1-0))/(10-(-10)))+0","v":0.5}]
[16,"Trust of the local administration towards the stakeholder ",null,null,null,null,null,{"$f":"IF(C23=\"x\",-2,0)","v":0},{"$f":"IF(D23=\"x\",-1,0)","v":0},{"$f":"IF(E23=\"x\",0,0)","v":0},{"$f":"IF(F23=\"x\",1,0)","v":0},{"$f":"IF(G23=\"x\",2,0)","v":0},null,"Weighted value"]
[17,"Capacity of the stakeholder to engage further political actors",null,null,null,null,null,{"$f":"IF(C24=\"x\",-2,0)","v":0},{"$f":"IF(D24=\"x\",-1,0)","v":0},{"$f":"IF(E24=\"x\",0,0)","v":0},{"$f":"IF(F24=\"x\",1,0)","v":0},{"$f":"IF(G24=\"x\",2,0)","v":0},null,{"$f":"N22*'1_COMMUNITY EVALUATION'!N31","v":0.25}]
[18,"Capacity of the stakeholder to engage with local authorities/other stakeholders",null,null,null,null,null,{"$f":"IF(C25=\"x\",-2,0)","v":0},{"$f":"IF(D25=\"x\",-1,0)","v":0},{"$f":"IF(E25=\"x\",0,0)","v":0},{"$f":"IF(F25=\"x\",1,0)","v":0},{"$f":"IF(G25=\"x\",2,0)","v":0}]
[19,"Capacity of the stakeholder to influence public opinion",null,null,null,null,null,{"$f":"IF(C26=\"x\",-2,0)","v":0},{"$f":"IF(D26=\"x\",-1,0)","v":0},{"$f":"IF(E26=\"x\",0,0)","v":0},{"$f":"IF(F26=\"x\",1,0)","v":0},{"$f":"IF(G26=\"x\",2,0)","v":0}]
[20,"Political awareness of the stakeholder",null,null,null,null,null,{"$f":"IF(C27=\"x\",-2,0)","v":0},{"$f":"IF(D27=\"x\",-1,0)","v":0},{"$f":"IF(E27=\"x\",0,0)","v":0},{"$f":"IF(F27=\"x\",1,0)","v":0},{"$f":"IF(G27=\"x\",2,0)","v":0}]
[null,"RELEVANCE SCORE",null,null,null,null,null,null,null,null,null,null,null,{"$f":"IF(C2=\"\",\"\",(SUM(N24+N18+N12+N6)/4))","v":""}]
[]
[null,"DIMENSIONS","Extremely Negative","Negative","not applicable","Positive","Extremely positive",-2,-1,0,1,2,null,"score per dimension"]
[null,"(1) Social capital",null,null,null,null,null,null,null,null,null,null,{"$f":"SUM(H32:L36)","v":0},{"$f":"(((M31-(-10))*(1-0))/(10-(-10)))+0","v":0.5}]
[1,"Interest for the stakeholder to engage in networking for the topic at stake ",null,null,null,null,null,{"$f":"IF(C32=\"x\",-2,0)","v":0},{"$f":"IF(D32=\"x\",-1,0)","v":0},{"$f":"IF(E32=\"x\",0,0)","v":0},{"$f":"IF(F32=\"x\",1,0)","v":0},{"$f":"IF(G32=\"x\",2,0)","v":0},null,"Weighted value"]
[2,"Interest of the stakeholder to represent a specific category for the topic at stake",null,null,null,null,null,{"$f":"IF(C33=\"x\",-2,0)","v":0},{"$f":"IF(D33=\"x\",-1,0)","v":0},{"$f":"IF(E33=\"x\",0,0)","v":0},{"$f":"IF(F33=\"x\",1,0)","v":0},{"$f":"IF(G33=\"x\",2,0)","v":0},null,{"$f":"N31*'1_COMMUNITY EVALUATION'!N4","v":0.25}]
[3,"Interest of the stakeholder to be involved further in civil society activism for the topic at stake",null,null,null,null,null,{"$f":"IF(C34=\"x\",-2,0)","v":0},{"$f":"IF(D34=\"x\",-1,0)","v":0},{"$f":"IF(E34=\"x\",0,0)","v":0},{"$f":"IF(F34=\"x\",1,0)","v":0},{"$f":"IF(G34=\"x\",2,0)","v":0}]
[4,"interest of the stakeholder to start/influence change",null,null,null,null,null,{"$f":"IF(C35=\"x\",-2,0)","v":0},{"$f":"IF(D35=\"x\",-1,0)","v":0},{"$f":"IF(E35=\"x\",0,0)","v":0},{"$f":"IF(F35=\"x\",1,0)","v":0},{"$f":"IF(G35=\"x\",2,0)","v":0}]
[5,"Interest of the stakeholder to increase its own acknowledgement among citizens",null,null,null,null,null,{"$f":"IF(C36=\"x\",-2,0)","v":0},{"$f":"IF(D36=\"x\",-1,0)","v":0},{"$f":"IF(E36=\"x\",0,0)","v":0},{"$f":"IF(F36=\"x\",1,0)","v":0},{"$f":"IF(G36=\"x\",2,0)","v":0}]
[null,"(2) Economic capital",null,null,null,null,null,null,null,null,null,null,{"$f":"SUM(H38:L42)","v":0},{"$f":"(((M37-(-10))*(1-0))/(10-(-10)))+0","v":0.5}]
[6,"Potential economic benefit for the stakeholder ",null,null,null,null,null,{"$f":"IF(C38=\"x\",-2,0)","v":0},{"$f":"IF(D38=\"x\",-1,0)","v":0},{"$f":"IF(E38=\"x\",0,0)","v":0},{"$f":"IF(F38=\"x\",1,0)","v":0},{"$f":"IF(G38=\"x\",2,0)","v":0},null,"Weighted value"]
[7,"Willingness of the stakeholder to mobilise resources ",null,null,null,null,null,{"$f":"IF(C39=\"x\",-2,0)","v":0},{"$f":"IF(D39=\"x\",-1,0)","v":0},{"$f":"IF(E39=\"x\",0,0)","v":0},{"$f":"IF(F39=\"x\",1,0)","v":0},{"$f":"IF(G39=\"x\",2,0)","v":0},null,{"$f":"N37*'1_COMMUNITY EVALUATION'!N13","v":0.25}]
[8,"Willingness of the stakeholder to support access to existing exogenous resources",null,null,null,null,null,{"$f":"IF(C40=\"x\",-2,0)","v":0},{"$f":"IF(D40=\"x\",-1,0)","v":0},{"$f":"IF(E40=\"x\",0,0)","v":0},{"$f":"IF(F40=\"x\",1,0)","v":0},{"$f":"IF(G40=\"x\",2,0)","v":0}]
[9,"Propensity of the stakeholder to provide in-kind support",null,null,null,null,null,{"$f":"IF(C41=\"x\",-2,0)","v":0},{"$f":"IF(D41=\"x\",-1,0)","v":0},{"$f":"IF(E41=\"x\",0,0)","v":0},{"$f":"IF(F41=\"x\",1,0)","v":0},{"$f":"IF(G41=\"x\",2,0)","v":0}]
[10,"Interest of the stakeholder in increasing its own influence on the job market",null,null,null,null,null,{"$f":"IF(C42=\"x\",-2,0)","v":0},{"$f":"IF(D42=\"x\",-1,0)","v":0},{"$f":"IF(E42=\"x\",0,0)","v":0},{"$f":"IF(F42=\"x\",1,0)","v":0},{"$f":"IF(G42=\"x\",2,0)","v":0}]
[null,"(3) Human capital",null,null,null,null,null,null,null,null,null,null,{"$f":"SUM(H44:L48)","v":0},{"$f":"(((M43-(-10))*(1-0))/(10-(-10)))+0","v":0.5}]
[11,"Interest of the stakeholder to share/increase own knowledge/skills on the topic",null,null,null,null,null,{"$f":"IF(C44=\"x\",-2,0)","v":0},{"$f":"IF(D44=\"x\",-1,0)","v":0},{"$f":"IF(E44=\"x\",0,0)","v":0},{"$f":"IF(F44=\"x\",1,0)","v":0},{"$f":"IF(G44=\"x\",2,0)","v":0},null,"Weighted value"]
[12,"Willingness of the stakeholder to share/increase own awareness on the topic",null,null,null,null,null,{"$f":"IF(C45=\"x\",-2,0)","v":0},{"$f":"IF(D45=\"x\",-1,0)","v":0},{"$f":"IF(E45=\"x\",0,0)","v":0},{"$f":"IF(F45=\"x\",1,0)","v":0},{"$f":"IF(G45=\"x\",2,0)","v":0},null,{"$f":"N43*'1_COMMUNITY EVALUATION'!N22","v":0.25}]
[13,"Willingness of the stakeholder to engage in public debate",null,null,null,null,null,{"$f":"IF(C46=\"x\",-2,0)","v":0},{"$f":"IF(D46=\"x\",-1,0)","v":0},{"$f":"IF(E46=\"x\",0,0)","v":0},{"$f":"IF(F46=\"x\",1,0)","v":0},{"$f":"IF(G46=\"x\",2,0)","v":0}]
[14,"Willingness of the stakeholder to communicate through a range of different media",null,null,null,null,null,{"$f":"IF(C47=\"x\",-2,0)","v":0},{"$f":"IF(D47=\"x\",-1,0)","v":0},{"$f":"IF(E47=\"x\",0,0)","v":0},{"$f":"IF(F47=\"x\",1,0)","v":0},{"$f":"IF(G47=\"x\",2,0)","v":0}]
[15,"Willingness of the stakeholder to access public venues",null,null,null,null,null,{"$f":"IF(C48=\"x\",-2,0)","v":0},{"$f":"IF(D48=\"x\",-1,0)","v":0},{"$f":"IF(E48=\"x\",0,0)","v":0},{"$f":"IF(F48=\"x\",1,0)","v":0},{"$f":"IF(G48=\"x\",2,0)","v":0}]
[null,"(4) Political capital",null,null,null,null,null,null,null,null,null,null,{"$f":"SUM(H50:L54)","v":0},{"$f":"(((M49-(-10))*(1-0))/(10-(-10)))+0","v":0.5}]
[16,"Trust of the stakeholder towards the local administration",null,null,null,null,null,{"$f":"IF(C50=\"x\",-2,0)","v":0},{"$f":"IF(D50=\"x\",-1,0)","v":0},{"$f":"IF(E50=\"x\",0,0)","v":0},{"$f":"IF(F50=\"x\",1,0)","v":0},{"$f":"IF(G50=\"x\",2,0)","v":0},null,"Weighted value"]
[17,"Political interest of the stakeholder in the topic",null,null,null,null,null,{"$f":"IF(C51=\"x\",-2,0)","v":0},{"$f":"IF(D51=\"x\",-1,0)","v":0},{"$f":"IF(E51=\"x\",0,0)","v":0},{"$f":"IF(F51=\"x\",1,0)","v":0},{"$f":"IF(G51=\"x\",2,0)","v":0},null,{"$f":"N49*'1_COMMUNITY EVALUATION'!N31","v":0.25}]
[18,"Willingness of the stakeholder to engage with local authorities",null,null,null,null,null,{"$f":"IF(C52=\"x\",-2,0)","v":0},{"$f":"IF(D52=\"x\",-1,0)","v":0},{"$f":"IF(E52=\"x\",0,0)","v":0},{"$f":"IF(F52=\"x\",1,0)","v":0},{"$f":"IF(G52=\"x\",2,0)","v":0}]
[19,"Interest for the stakeholder to reach out to a wider public",null,null,null,null,null,{"$f":"IF(C53=\"x\",-2,0)","v":0},{"$f":"IF(D53=\"x\",-1,0)","v":0},{"$f":"IF(E53=\"x\",0,0)","v":0},{"$f":"IF(F53=\"x\",1,0)","v":0},{"$f":"IF(G53=\"x\",2,0)","v":0}]
[20,"Willingness of the stakeholder to share/increase own political awareness",null,null,null,null,null,{"$f":"IF(C54=\"x\",-2,0)","v":0},{"$f":"IF(D54=\"x\",-1,0)","v":0},{"$f":"IF(E54=\"x\",0,0)","v":0},{"$f":"IF(F54=\"x\",1,0)","v":0},{"$f":"IF(G54=\"x\",2,0)","v":0}]
[null,"INTEREST SCORE",null,null,null,null,null,null,null,null,null,null,null,{"$f":"IF(C2=\"\",\"\",(SUM(N51+N45+N39+N33)/4))","v":""}]

{"sheet":"STAKEHOLDER (27)","index":31,"n_rows":55,"n_cols":14,"rows_kept":55,"cut":false,"hidden":false,"merged":[[0,0,0,13],[1,2,1,13],[27,1,27,6],[54,1,54,6]]}
["Bearing in mind the topic at hand, please evaluate the stakeholder for each proposed item (row) by it marking with an 'x' (from extremely negative to extremely positive)."]
[null,"STAKEHOLDER - insert name ->"]
[null,"DIMENSIONS","Extremely Negative","Negative","not applicable","Positive","Extremely positive",-2,-1,0,1,2,null,"score per dimension"]
[null,"(1) Social capital",null,null,null,null,null,null,null,null,null,null,{"$f":"SUM(H5:L9)","v":0},{"$f":"(((M4-(-10))*(1-0))/(10-(-10)))+0","v":0.5}]
[1,"Capacity of the stakeholder to involve other stakeholders ",null,null,null,null,null,{"$f":"IF(C5=\"x\",-2,0)","v":0},{"$f":"IF(D5=\"x\",-1,0)","v":0},{"$f":"IF(E5=\"x\",0,0)","v":0},{"$f":"IF(F5=\"x\",1,0)","v":0},{"$f":"IF(G5=\"x\",2,0)","v":0},null,"Weighted value"]
[2,"Level of representativeness of the stakeholder of a specific category",null,null,null,null,null,{"$f":"IF(C6=\"x\",-2,0)","v":0},{"$f":"IF(D6=\"x\",-1,0)","v":0},{"$f":"IF(E6=\"x\",0,0)","v":0},{"$f":"IF(F6=\"x\",1,0)","v":0},{"$f":"IF(G6=\"x\",2,0)","v":0},null,{"$f":"N4*'1_COMMUNITY EVALUATION'!N4","v":0.25}]
[3,"Level of participation of the stakeholder to local civil society activities",null,null,null,null,null,{"$f":"IF(C7=\"x\",-2,0)","v":0},{"$f":"IF(D7=\"x\",-1,0)","v":0},{"$f":"IF(E7=\"x\",0,0)","v":0},{"$f":"IF(F7=\"x\",1,0)","v":0},{"$f":"IF(G7=\"x\",2,0)","v":0}]
[4,"Capacity of the stakeholder to start/influence change",null,null,null,null,null,{"$f":"IF(C8=\"x\",-2,0)","v":0},{"$f":"IF(D8=\"x\",-1,0)","v":0},{"$f":"IF(E8=\"x\",0,0)","v":0},{"$f":"IF(F8=\"x\",1,0)","v":0},{"$f":"IF(G8=\"x\",2,0)","v":0}]
[5,"Level of acknowledgment of the stakeholder among citizens",null,null,null,null,null,{"$f":"IF(C9=\"x\",-2,0)","v":0},{"$f":"IF(D9=\"x\",-1,0)","v":0},{"$f":"IF(E9=\"x\",0,0)","v":0},{"$f":"IF(F9=\"x\",1,0)","v":0},{"$f":"IF(G9=\"x\",2,0)","v":0}]
[null,"(2) Economic capital",null,null,null,null,null,null,null,null,null,null,{"$f":"SUM(H11:L15)","v":0},{"$f":"(((M10-(-10))*(1-0))/(10-(-10)))+0","v":0.5}]
[6,"Capacity of the stakeholder to act as donor",null,null,null,null,null,{"$f":"IF(C11=\"x\",-2,0)","v":0},{"$f":"IF(D11=\"x\",-1,0)","v":0},{"$f":"IF(E11=\"x\",0,0)","v":0},{"$f":"IF(F11=\"x\",1,0)","v":0},{"$f":"IF(G11=\"x\",2,0)","v":0},null,"Weighted value"]
[7,"Capacity of the stakeholder to influence resources' allocation",null,null,null,null,null,{"$f":"IF(C12=\"x\",-2,0)","v":0},{"$f":"IF(D12=\"x\",-1,0)","v":0},{"$f":"IF(E12=\"x\",0,0)","v":0},{"$f":"IF(F12=\"x\",1,0)","v":0},{"$f":"IF(G12=\"x\",2,0)","v":0},null,{"$f":"N10*'1_COMMUNITY EVALUATION'!N13","v":0.25}]
[8,"Capacity to facilitate access to existing exogenous resources ",null,null,null,null,null,{"$f":"IF(C13=\"x\",-2,0)","v":0},{"$f":"IF(D13=\"x\",-1,0)","v":0},{"$f":"IF(E13=\"x\",0,0)","v":0},{"$f":"IF(F13=\"x\",1,0)","v":0},{"$f":"IF(G13=\"x\",2,0)","v":0}]
[9,"Capacity of the stakeholder to provide in-kind support",null,null,null,null,null,{"$f":"IF(C14=\"x\",-2,0)","v":0},{"$f":"IF(D14=\"x\",-1,0)","v":0},{"$f":"IF(E14=\"x\",0,0)","v":0},{"$f":"IF(F14=\"x\",1,0)","v":0},{"$f":"IF(G14=\"x\",2,0)","v":0}]
[10,"Influence of the stakeholder on the job market",null,null,null,null,null,{"$f":"IF(C15=\"x\",-2,0)","v":0},{"$f":"IF(D15=\"x\",-1,0)","v":0},{"$f":"IF(E15=\"x\",0,0)","v":0},{"$f":"IF(F15=\"x\",1,0)","v":0},{"$f":"IF(G15=\"x\",2,0)","v":0}]
[null,"(3) Human capital",null,null,null,null,null,null,null,null,null,null,{"$f":"SUM(H17:L21)","v":0},{"$f":"(((M16-(-10))*(1-0))/(10-(-10)))+0","v":0.5}]
[11,"Knowledge/skills of the stakeholder on the topic",null,null,null,null,null,{"$f":"IF(C17=\"x\",-2,0)","v":0},{"$f":"IF(D17=\"x\",-1,0)","v":0},{"$f":"IF(E17=\"x\",0,0)","v":0},{"$f":"IF(F17=\"x\",1,0)","v":0},{"$f":"IF(G17=\"x\",2,0)","v":0},null,"Weighted value"]
[12,"Awareness of the stakeholder on the topic",null,null,null,null,null,{"$f":"IF(C18=\"x\",-2,0)","v":0},{"$f":"IF(D18=\"x\",-1,0)","v":0},{"$f":"IF(E18=\"x\",0,0)","v":0},{"$f":"IF(F18=\"x\",1,0)","v":0},{"$f":"IF(G18=\"x\",2,0)","v":0},null,{"$f":"N16*'1_COMMUNITY EVALUATION'!N22","v":0.25}]
[13,"Capacity of the stakeholder to engage in public debate",null,null,null,null,null,{"$f":"IF(C19=\"x\",-2,0)","v":0},{"$f":"IF(D19=\"x\",-1,0)","v":0},{"$f":"IF(E19=\"x\",0,0)","v":0},{"$f":"IF(F19=\"x\",1,0)","v":0},{"$f":"IF(G19=\"x\",2,0)","v":0}]
[14,"Capacity of the stakeholder to communicate through a range of different media",null,null,null,null,null,{"$f":"IF(C20=\"x\",-2,0)","v":0},{"$f":"IF(D20=\"x\",-1,0)","v":0},{"$f":"IF(E20=\"x\",0,0)","v":0},{"$f":"IF(F20=\"x\",1,0)","v":0},{"$f":"IF(G20=\"x\",2,0)","v":0}]
[15,"Capacity of the stakeholder to access public venues",null,null,null,null,null,{"$f":"IF(C21=\"x\",-2,0)","v":0},{"$f":"IF(D21=\"x\",-1,0)","v":0},{"$f":"IF(E21=\"x\",0,0)","v":0},{"$f":"IF(F21=\"x\",1,0)","v":0},{"$f":"IF(G21=\"x\",2,0)","v":0}]
[null,"(4) Political capital",null,null,null,null,null,null,null,null,null,null,{"$f":"SUM(H23:L27)","v":0},{"$f":"(((M22-(-10))*(1-0))/(10-(-10)))+0","v":0.5}]
[16,"Trust of the local administration towards the stakeholder ",null,null,null,null,null,{"$f":"IF(C23=\"x\",-2,0)","v":0},{"$f":"IF(D23=\"x\",-1,0)","v":0},{"$f":"IF(E23=\"x\",0,0)","v":0},{"$f":"IF(F23=\"x\",1,0)","v":0},{"$f":"IF(G23=\"x\",2,0)","v":0},null,"Weighted value"]
[17,"Capacity of the stakeholder to engage further political actors",null,null,null,null,null,{"$f":"IF(C24=\"x\",-2,0)","v":0},{"$f":"IF(D24=\"x\",-1,0)","v":0},{"$f":"IF(E24=\"x\",0,0)","v":0},{"$f":"IF(F24=\"x\",1,0)","v":0},{"$f":"IF(G24=\"x\",2,0)","v":0},null,{"$f":"N22*'1_COMMUNITY EVALUATION'!N31","v":0.25}]
[18,"Capacity of the stakeholder to engage with local authorities/other stakeholders",null,null,null,null,null,{"$f":"IF(C25=\"x\",-2,0)","v":0},{"$f":"IF(D25=\"x\",-1,0)","v":0},{"$f":"IF(E25=\"x\",0,0)","v":0},{"$f":"IF(F25=\"x\",1,0)","v":0},{"$f":"IF(G25=\"x\",2,0)","v":0}]
[19,"Capacity of the stakeholder to influence public opinion",null,null,null,null,null,{"$f":"IF(C26=\"x\",-2,0)","v":0},{"$f":"IF(D26=\"x\",-1,0)","v":0},{"$f":"IF(E26=\"x\",0,0)","v":0},{"$f":"IF(F26=\"x\",1,0)","v":0},{"$f":"IF(G26=\"x\",2,0)","v":0}]
[20,"Political awareness of the stakeholder",null,null,null,null,null,{"$f":"IF(C27=\"x\",-2,0)","v":0},{"$f":"IF(D27=\"x\",-1,0)","v":0},{"$f":"IF(E27=\"x\",0,0)","v":0},{"$f":"IF(F27=\"x\",1,0)","v":0},{"$f":"IF(G27=\"x\",2,0)","v":0}]
[null,"RELEVANCE SCORE",null,null,null,null,null,null,null,null,null,null,null,{"$f":"IF(C2=\"\",\"\",(SUM(N24+N18+N12+N6)/4))","v":""}]
[]
[null,"DIMENSIONS","Extremely Negative","Negative","not applicable","Positive","Extremely positive",-2,-1,0,1,2,null,"score per dimension"]
[null,"(1) Social capital",null,null,null,null,null,null,null,null,null,null,{"$f":"SUM(H32:L36)","v":0},{"$f":"(((M31-(-10))*(1-0))/(10-(-10)))+0","v":0.5}]
[1,"Interest for the stakeholder to engage in networking for the topic at stake ",null,null,null,null,null,{"$f":"IF(C32=\"x\",-2,0)","v":0},{"$f":"IF(D32=\"x\",-1,0)","v":0},{"$f":"IF(E32=\"x\",0,0)","v":0},{"$f":"IF(F32=\"x\",1,0)","v":0},{"$f":"IF(G32=\"x\",2,0)","v":0},null,"Weighted value"]
[2,"Interest of the stakeholder to represent a specific category for the topic at stake",null,null,null,null,null,{"$f":"IF(C33=\"x\",-2,0)","v":0},{"$f":"IF(D33=\"x\",-1,0)","v":0},{"$f":"IF(E33=\"x\",0,0)","v":0},{"$f":"IF(F33=\"x\",1,0)","v":0},{"$f":"IF(G33=\"x\",2,0)","v":0},null,{"$f":"N31*'1_COMMUNITY EVALUATION'!N4","v":0.25}]
[3,"Interest of the stakeholder to be involved further in civil society activism for the topic at stake",null,null,null,null,null,{"$f":"IF(C34=\"x\",-2,0)","v":0},{"$f":"IF(D34=\"x\",-1,0)","v":0},{"$f":"IF(E34=\"x\",0,0)","v":0},{"$f":"IF(F34=\"x\",1,0)","v":0},{"$f":"IF(G34=\"x\",2,0)","v":0}]
[4,"interest of the stakeholder to start/influence change",null,null,null,null,null,{"$f":"IF(C35=\"x\",-2,0)","v":0},{"$f":"IF(D35=\"x\",-1,0)","v":0},{"$f":"IF(E35=\"x\",0,0)","v":0},{"$f":"IF(F35=\"x\",1,0)","v":0},{"$f":"IF(G35=\"x\",2,0)","v":0}]
[5,"Interest of the stakeholder to increase its own acknowledgement among citizens",null,null,null,null,null,{"$f":"IF(C36=\"x\",-2,0)","v":0},{"$f":"IF(D36=\"x\",-1,0)","v":0},{"$f":"IF(E36=\"x\",0,0)","v":0},{"$f":"IF(F36=\"x\",1,0)","v":0},{"$f":"IF(G36=\"x\",2,0)","v":0}]
[null,"(2) Economic capital",null,null,null,null,null,null,null,null,null,null,{"$f":"SUM(H38:L42)","v":0},{"$f":"(((M37-(-10))*(1-0))/(10-(-10)))+0","v":0.5}]
[6,"Potential economic benefit for the stakeholder ",null,null,null,null,null,{"$f":"IF(C38=\"x\",-2,0)","v":0},{"$f":"IF(D38=\"x\",-1,0)","v":0},{"$f":"IF(E38=\"x\",0,0)","v":0},{"$f":"IF(F38=\"x\",1,0)","v":0},{"$f":"IF(G38=\"x\",2,0)","v":0},null,"Weighted value"]
[7,"Willingness of the stakeholder to mobilise resources ",null,null,null,null,null,{"$f":"IF(C39=\"x\",-2,0)","v":0},{"$f":"IF(D39=\"x\",-1,0)","v":0},{"$f":"IF(E39=\"x\",0,0)","v":0},{"$f":"IF(F39=\"x\",1,0)","v":0},{"$f":"IF(G39=\"x\",2,0)","v":0},null,{"$f":"N37*'1_COMMUNITY EVALUATION'!N13","v":0.25}]
[8,"Willingness of the stakeholder to support access to existing exogenous resources",null,null,null,null,null,{"$f":"IF(C40=\"x\",-2,0)","v":0},{"$f":"IF(D40=\"x\",-1,0)","v":0},{"$f":"IF(E40=\"x\",0,0)","v":0},{"$f":"IF(F40=\"x\",1,0)","v":0},{"$f":"IF(G40=\"x\",2,0)","v":0}]
[9,"Propensity of the stakeholder to provide in-kind support",null,null,null,null,null,{"$f":"IF(C41=\"x\",-2,0)","v":0},{"$f":"IF(D41=\"x\",-1,0)","v":0},{"$f":"IF(E41=\"x\",0,0)","v":0},{"$f":"IF(F41=\"x\",1,0)","v":0},{"$f":"IF(G41=\"x\",2,0)","v":0}]
[10,"Interest of the stakeholder in increasing its own influence on the job market",null,null,null,null,null,{"$f":"IF(C42=\"x\",-2,0)","v":0},{"$f":"IF(D42=\"x\",-1,0)","v":0},{"$f":"IF(E42=\"x\",0,0)","v":0},{"$f":"IF(F42=\"x\",1,0)","v":0},{"$f":"IF(G42=\"x\",2,0)","v":0}]
[null,"(3) Human capital",null,null,null,null,null,null,null,null,null,null,{"$f":"SUM(H44:L48)","v":0},{"$f":"(((M43-(-10))*(1-0))/(10-(-10)))+0","v":0.5}]
[11,"Interest of the stakeholder to share/increase own knowledge/skills on the topic",null,null,null,null,null,{"$f":"IF(C44=\"x\",-2,0)","v":0},{"$f":"IF(D44=\"x\",-1,0)","v":0},{"$f":"IF(E44=\"x\",0,0)","v":0},{"$f":"IF(F44=\"x\",1,0)","v":0},{"$f":"IF(G44=\"x\",2,0)","v":0},null,"Weighted value"]
[12,"Willingness of the stakeholder to share/increase own awareness on the topic",null,null,null,null,null,{"$f":"IF(C45=\"x\",-2,0)","v":0},{"$f":"IF(D45=\"x\",-1,0)","v":0},{"$f":"IF(E45=\"x\",0,0)","v":0},{"$f":"IF(F45=\"x\",1,0)","v":0},{"$f":"IF(G45=\"x\",2,0)","v":0},null,{"$f":"N43*'1_COMMUNITY EVALUATION'!N22","v":0.25}]
[13,"Willingness of the stakeholder to engage in public debate",null,null,null,null,null,{"$f":"IF(C46=\"x\",-2,0)","v":0},{"$f":"IF(D46=\"x\",-1,0)","v":0},{"$f":"IF(E46=\"x\",0,0)","v":0},{"$f":"IF(F46=\"x\",1,0)","v":0},{"$f":"IF(G46=\"x\",2,0)","v":0}]
[14,"Willingness of the stakeholder to communicate through a range of different media",null,null,null,null,null,{"$f":"IF(C47=\"x\",-2,0)","v":0},{"$f":"IF(D47=\"x\",-1,0)","v":0},{"$f":"IF(E47=\"x\",0,0)","v":0},{"$f":"IF(F47=\"x\",1,0)","v":0},{"$f":"IF(G47=\"x\",2,0)","v":0}]
[15,"Willingness of the stakeholder to access public venues",null,null,null,null,null,{"$f":"IF(C48=\"x\",-2,0)","v":0},{"$f":"IF(D48=\"x\",-1,0)","v":0},{"$f":"IF(E48=\"x\",0,0)","v":0},{"$f":"IF(F48=\"x\",1,0)","v":0},{"$f":"IF(G48=\"x\",2,0)","v":0}]
[null,"(4) Political capital",null,null,null,null,null,null,null,null,null,null,{"$f":"SUM(H50:L54)","v":0},{"$f":"(((M49-(-10))*(1-0))/(10-(-10)))+0","v":0.5}]
[16,"Trust of the stakeholder towards the local administration",null,null,null,null,null,{"$f":"IF(C50=\"x\",-2,0)","v":0},{"$f":"IF(D50=\"x\",-1,0)","v":0},{"$f":"IF(E50=\"x\",0,0)","v":0},{"$f":"IF(F50=\"x\",1,0)","v":0},{"$f":"IF(G50=\"x\",2,0)","v":0},null,"Weighted value"]
[17,"Political interest of the stakeholder in the topic",null,null,null,null,null,{"$f":"IF(C51=\"x\",-2,0)","v":0},{"$f":"IF(D51=\"x\",-1,0)","v":0},{"$f":"IF(E51=\"x\",0,0)","v":0},{"$f":"IF(F51=\"x\",1,0)","v":0},{"$f":"IF(G51=\"x\",2,0)","v":0},null,{"$f":"N49*'1_COMMUNITY EVALUATION'!N31","v":0.25}]
[18,"Willingness of the stakeholder to engage with local authorities",null,null,null,null,null,{"$f":"IF(C52=\"x\",-2,0)","v":0},{"$f":"IF(D52=\"x\",-1,0)","v":0},{"$f":"IF(E52=\"x\",0,0)","v":0},{"$f":"IF(F52=\"x\",1,0)","v":0},{"$f":"IF(G52=\"x\",2,0)","v":0}]
[19,"Interest for the stakeholder to reach out to a wider public",null,null,null,null,null,{"$f":"IF(C53=\"x\",-2,0)","v":0},{"$f":"IF(D53=\"x\",-1,0)","v":0},{"$f":"IF(E53=\"x\",0,0)","v":0},{"$f":"IF(F53=\"x\",1,0)","v":0},{"$f":"IF(G53=\"x\",2,0)","v":0}]
[20,"Willingness of the stakeholder to share/increase own political awareness",null,null,null,null,null,{"$f":"IF(C54=\"x\",-2,0)","v":0},{"$f":"IF(D54=\"x\",-1,0)","v":0},{"$f":"IF(E54=\"x\",0,0)","v":0},{"$f":"IF(F54=\"x\",1,0)","v":0},{"$f":"IF(G54=\"x\",2,0)","v":0}]
[null,"INTEREST SCORE",null,null,null,null,null,null,null,null,null,null,null,{"$f":"IF(C2=\"\",\"\",(SUM(N51+N45+N39+N33)/4))","v":""}]

{"sheet":"STAKEHOLDER (28)","index":32,"n_rows":55,"n_cols":14,"rows_kept":55,"cut":false,"hidden":false,"merged":[[0,0,0,13],[1,2,1,13],[27,1,27,6],[54,1,54,6]]}
["Bearing in mind the topic at hand, please evaluate the stakeholder for each proposed item (row) by it marking with an 'x' (from extremely negative to extremely positive)."]
[null,"STAKEHOLDER - insert name ->"]
[null,"DIMENSIONS","Extremely Negative","Negative","not applicable","Positive","Extremely positive",-2,-1,0,1,2,null,"score per dimension"]
[null,"(1) Social capital",null,null,null,null,null,null,null,null,null,null,{"$f":"SUM(H5:L9)","v":0},{"$f":"(((M4-(-10))*(1-0))/(10-(-10)))+0","v":0.5}]
[1,"Capacity of the stakeholder to involve other stakeholders ",null,null,null,null,null,{"$f":"IF(C5=\"x\",-2,0)","v":0},{"$f":"IF(D5=\"x\",-1,0)","v":0},{"$f":"IF(E5=\"x\",0,0)","v":0},{"$f":"IF(F5=\"x\",1,0)","v":0},{"$f":"IF(G5=\"x\",2,0)","v":0},null,"Weighted value"]
[2,"Level of representativeness of the stakeholder of a specific category",null,null,null,null,null,{"$f":"IF(C6=\"x\",-2,0)","v":0},{"$f":"IF(D6=\"x\",-1,0)","v":0},{"$f":"IF(E6=\"x\",0,0)","v":0},{"$f":"IF(F6=\"x\",1,0)","v":0},{"$f":"IF(G6=\"x\",2,0)","v":0},null,{"$f":"N4*'1_COMMUNITY EVALUATION'!N4","v":0.25}]
[3,"Level of participation of the stakeholder to local civil society activities",null,null,null,null,null,{"$f":"IF(C7=\"x\",-2,0)","v":0},{"$f":"IF(D7=\"x\",-1,0)","v":0},{"$f":"IF(E7=\"x\",0,0)","v":0},{"$f":"IF(F7=\"x\",1,0)","v":0},{"$f":"IF(G7=\"x\",2,0)","v":0}]
[4,"Capacity of the stakeholder to start/influence change",null,null,null,null,null,{"$f":"IF(C8=\"x\",-2,0)","v":0},{"$f":"IF(D8=\"x\",-1,0)","v":0},{"$f":"IF(E8=\"x\",0,0)","v":0},{"$f":"IF(F8=\"x\",1,0)","v":0},{"$f":"IF(G8=\"x\",2,0)","v":0}]
[5,"Level of acknowledgment of the stakeholder among citizens",null,null,null,null,null,{"$f":"IF(C9=\"x\",-2,0)","v":0},{"$f":"IF(D9=\"x\",-1,0)","v":0},{"$f":"IF(E9=\"x\",0,0)","v":0},{"$f":"IF(F9=\"x\",1,0)","v":0},{"$f":"IF(G9=\"x\",2,0)","v":0}]
[null,"(2) Economic capital",null,null,null,null,null,null,null,null,null,null,{"$f":"SUM(H11:L15)","v":0},{"$f":"(((M10-(-10))*(1-0))/(10-(-10)))+0","v":0.5}]
[6,"Capacity of the stakeholder to act as donor",null,null,null,null,null,{"$f":"IF(C11=\"x\",-2,0)","v":0},{"$f":"IF(D11=\"x\",-1,0)","v":0},{"$f":"IF(E11=\"x\",0,0)","v":0},{"$f":"IF(F11=\"x\",1,0)","v":0},{"$f":"IF(G11=\"x\",2,0)","v":0},null,"Weighted value"]
[7,"Capacity of the stakeholder to influence resources' allocation",null,null,null,null,null,{"$f":"IF(C12=\"x\",-2,0)","v":0},{"$f":"IF(D12=\"x\",-1,0)","v":0},{"$f":"IF(E12=\"x\",0,0)","v":0},{"$f":"IF(F12=\"x\",1,0)","v":0},{"$f":"IF(G12=\"x\",2,0)","v":0},null,{"$f":"N10*'1_COMMUNITY EVALUATION'!N13","v":0.25}]
[8,"Capacity to facilitate access to existing exogenous resources ",null,null,null,null,null,{"$f":"IF(C13=\"x\",-2,0)","v":0},{"$f":"IF(D13=\"x\",-1,0)","v":0},{"$f":"IF(E13=\"x\",0,0)","v":0},{"$f":"IF(F13=\"x\",1,0)","v":0},{"$f":"IF(G13=\"x\",2,0)","v":0}]
[9,"Capacity of the stakeholder to provide in-kind support",null,null,null,null,null,{"$f":"IF(C14=\"x\",-2,0)","v":0},{"$f":"IF(D14=\"x\",-1,0)","v":0},{"$f":"IF(E14=\"x\",0,0)","v":0},{"$f":"IF(F14=\"x\",1,0)","v":0},{"$f":"IF(G14=\"x\",2,0)","v":0}]
[10,"Influence of the stakeholder on the job market",null,null,null,null,null,{"$f":"IF(C15=\"x\",-2,0)","v":0},{"$f":"IF(D15=\"x\",-1,0)","v":0},{"$f":"IF(E15=\"x\",0,0)","v":0},{"$f":"IF(F15=\"x\",1,0)","v":0},{"$f":"IF(G15=\"x\",2,0)","v":0}]
[null,"(3) Human capital",null,null,null,null,null,null,null,null,null,null,{"$f":"SUM(H17:L21)","v":0},{"$f":"(((M16-(-10))*(1-0))/(10-(-10)))+0","v":0.5}]
[11,"Knowledge/skills of the stakeholder on the topic",null,null,null,null,null,{"$f":"IF(C17=\"x\",-2,0)","v":0},{"$f":"IF(D17=\"x\",-1,0)","v":0},{"$f":"IF(E17=\"x\",0,0)","v":0},{"$f":"IF(F17=\"x\",1,0)","v":0},{"$f":"IF(G17=\"x\",2,0)","v":0},null,"Weighted value"]
[12,"Awareness of the stakeholder on the topic",null,null,null,null,null,{"$f":"IF(C18=\"x\",-2,0)","v":0},{"$f":"IF(D18=\"x\",-1,0)","v":0},{"$f":"IF(E18=\"x\",0,0)","v":0},{"$f":"IF(F18=\"x\",1,0)","v":0},{"$f":"IF(G18=\"x\",2,0)","v":0},null,{"$f":"N16*'1_COMMUNITY EVALUATION'!N22","v":0.25}]
[13,"Capacity of the stakeholder to engage in public debate",null,null,null,null,null,{"$f":"IF(C19=\"x\",-2,0)","v":0},{"$f":"IF(D19=\"x\",-1,0)","v":0},{"$f":"IF(E19=\"x\",0,0)","v":0},{"$f":"IF(F19=\"x\",1,0)","v":0},{"$f":"IF(G19=\"x\",2,0)","v":0}]
[14,"Capacity of the stakeholder to communicate through a range of different media",null,null,null,null,null,{"$f":"IF(C20=\"x\",-2,0)","v":0},{"$f":"IF(D20=\"x\",-1,0)","v":0},{"$f":"IF(E20=\"x\",0,0)","v":0},{"$f":"IF(F20=\"x\",1,0)","v":0},{"$f":"IF(G20=\"x\",2,0)","v":0}]
[15,"Capacity of the stakeholder to access public venues",null,null,null,null,null,{"$f":"IF(C21=\"x\",-2,0)","v":0},{"$f":"IF(D21=\"x\",-1,0)","v":0},{"$f":"IF(E21=\"x\",0,0)","v":0},{"$f":"IF(F21=\"x\",1,0)","v":0},{"$f":"IF(G21=\"x\",2,0)","v":0}]
[null,"(4) Political capital",null,null,null,null,null,null,null,null,null,null,{"$f":"SUM(H23:L27)","v":0},{"$f":"(((M22-(-10))*(1-0))/(10-(-10)))+0","v":0.5}]
[16,"Trust of the local administration towards the stakeholder ",null,null,null,null,null,{"$f":"IF(C23=\"x\",-2,0)","v":0},{"$f":"IF(D23=\"x\",-1,0)","v":0},{"$f":"IF(E23=\"x\",0,0)","v":0},{"$f":"IF(F23=\"x\",1,0)","v":0},{"$f":"IF(G23=\"x\",2,0)","v":0},null,"Weighted value"]
[17,"Capacity of the stakeholder to engage further political actors",null,null,null,null,null,{"$f":"IF(C24=\"x\",-2,0)","v":0},{"$f":"IF(D24=\"x\",-1,0)","v":0},{"$f":"IF(E24=\"x\",0,0)","v":0},{"$f":"IF(F24=\"x\",1,0)","v":0},{"$f":"IF(G24=\"x\",2,0)","v":0},null,{"$f":"N22*'1_COMMUNITY EVALUATION'!N31","v":0.25}]
[18,"Capacity of the stakeholder to engage with local authorities/other stakeholders",null,null,null,null,null,{"$f":"IF(C25=\"x\",-2,0)","v":0},{"$f":"IF(D25=\"x\",-1,0)","v":0},{"$f":"IF(E25=\"x\",0,0)","v":0},{"$f":"IF(F25=\"x\",1,0)","v":0},{"$f":"IF(G25=\"x\",2,0)","v":0}]
[19,"Capacity of the stakeholder to influence public opinion",null,null,null,null,null,{"$f":"IF(C26=\"x\",-2,0)","v":0},{"$f":"IF(D26=\"x\",-1,0)","v":0},{"$f":"IF(E26=\"x\",0,0)","v":0},{"$f":"IF(F26=\"x\",1,0)","v":0},{"$f":"IF(G26=\"x\",2,0)","v":0}]
[20,"Political awareness of the stakeholder",null,null,null,null,null,{"$f":"IF(C27=\"x\",-2,0)","v":0},{"$f":"IF(D27=\"x\",-1,0)","v":0},{"$f":"IF(E27=\"x\",0,0)","v":0},{"$f":"IF(F27=\"x\",1,0)","v":0},{"$f":"IF(G27=\"x\",2,0)","v":0}]
[null,"RELEVANCE SCORE",null,null,null,null,null,null,null,null,null,null,null,{"$f":"IF(C2=\"\",\"\",(SUM(N24+N18+N12+N6)/4))","v":""}]
[]
[null,"DIMENSIONS","Extremely Negative","Negative","not applicable","Positive","Extremely positive",-2,-1,0,1,2,null,"score per dimension"]
[null,"(1) Social capital",null,null,null,null,null,null,null,null,null,null,{"$f":"SUM(H32:L36)","v":0},{"$f":"(((M31-(-10))*(1-0))/(10-(-10)))+0","v":0.5}]
[1,"Interest for the stakeholder to engage in networking for the topic at stake ",null,null,null,null,null,{"$f":"IF(C32=\"x\",-2,0)","v":0},{"$f":"IF(D32=\"x\",-1,0)","v":0},{"$f":"IF(E32=\"x\",0,0)","v":0},{"$f":"IF(F32=\"x\",1,0)","v":0},{"$f":"IF(G32=\"x\",2,0)","v":0},null,"Weighted value"]
[2,"Interest of the stakeholder to represent a specific category for the topic at stake",null,null,null,null,null,{"$f":"IF(C33=\"x\",-2,0)","v":0},{"$f":"IF(D33=\"x\",-1,0)","v":0},{"$f":"IF(E33=\"x\",0,0)","v":0},{"$f":"IF(F33=\"x\",1,0)","v":0},{"$f":"IF(G33=\"x\",2,0)","v":0},null,{"$f":"N31*'1_COMMUNITY EVALUATION'!N4","v":0.25}]
[3,"Interest of the stakeholder to be involved further in civil society activism for the topic at stake",null,null,null,null,null,{"$f":"IF(C34=\"x\",-2,0)","v":0},{"$f":"IF(D34=\"x\",-1,0)","v":0},{"$f":"IF(E34=\"x\",0,0)","v":0},{"$f":"IF(F34=\"x\",1,0)","v":0},{"$f":"IF(G34=\"x\",2,0)","v":0}]
[4,"interest of the stakeholder to start/influence change",null,null,null,null,null,{"$f":"IF(C35=\"x\",-2,0)","v":0},{"$f":"IF(D35=\"x\",-1,0)","v":0},{"$f":"IF(E35=\"x\",0,0)","v":0},{"$f":"IF(F35=\"x\",1,0)","v":0},{"$f":"IF(G35=\"x\",2,0)","v":0}]
[5,"Interest of the stakeholder to increase its own acknowledgement among citizens",null,null,null,null,null,{"$f":"IF(C36=\"x\",-2,0)","v":0},{"$f":"IF(D36=\"x\",-1,0)","v":0},{"$f":"IF(E36=\"x\",0,0)","v":0},{"$f":"IF(F36=\"x\",1,0)","v":0},{"$f":"IF(G36=\"x\",2,0)","v":0}]
[null,"(2) Economic capital",null,null,null,null,null,null,null,null,null,null,{"$f":"SUM(H38:L42)","v":0},{"$f":"(((M37-(-10))*(1-0))/(10-(-10)))+0","v":0.5}]
[6,"Potential economic benefit for the stakeholder ",null,null,null,null,null,{"$f":"IF(C38=\"x\",-2,0)","v":0},{"$f":"IF(D38=\"x\",-1,0)","v":0},{"$f":"IF(E38=\"x\",0,0)","v":0},{"$f":"IF(F38=\"x\",1,0)","v":0},{"$f":"IF(G38=\"x\",2,0)","v":0},null,"Weighted value"]
[7,"Willingness of the stakeholder to mobilise resources ",null,null,null,null,null,{"$f":"IF(C39=\"x\",-2,0)","v":0},{"$f":"IF(D39=\"x\",-1,0)","v":0},{"$f":"IF(E39=\"x\",0,0)","v":0},{"$f":"IF(F39=\"x\",1,0)","v":0},{"$f":"IF(G39=\"x\",2,0)","v":0},null,{"$f":"N37*'1_COMMUNITY EVALUATION'!N13","v":0.25}]
[8,"Willingness of the stakeholder to support access to existing exogenous resources",null,null,null,null,null,{"$f":"IF(C40=\"x\",-2,0)","v":0},{"$f":"IF(D40=\"x\",-1,0)","v":0},{"$f":"IF(E40=\"x\",0,0)","v":0},{"$f":"IF(F40=\"x\",1,0)","v":0},{"$f":"IF(G40=\"x\",2,0)","v":0}]
[9,"Propensity of the stakeholder to provide in-kind support",null,null,null,null,null,{"$f":"IF(C41=\"x\",-2,0)","v":0},{"$f":"IF(D41=\"x\",-1,0)","v":0},{"$f":"IF(E41=\"x\",0,0)","v":0},{"$f":"IF(F41=\"x\",1,0)","v":0},{"$f":"IF(G41=\"x\",2,0)","v":0}]
[10,"Interest of the stakeholder in increasing its own influence on the job market",null,null,null,null,null,{"$f":"IF(C42=\"x\",-2,0)","v":0},{"$f":"IF(D42=\"x\",-1,0)","v":0},{"$f":"IF(E42=\"x\",0,0)","v":0},{"$f":"IF(F42=\"x\",1,0)","v":0},{"$f":"IF(G42=\"x\",2,0)","v":0}]
[null,"(3) Human capital",null,null,null,null,null,null,null,null,null,null,{"$f":"SUM(H44:L48)","v":0},{"$f":"(((M43-(-10))*(1-0))/(10-(-10)))+0","v":0.5}]
[11,"Interest of the stakeholder to share/increase own knowledge/skills on the topic",null,null,null,null,null,{"$f":"IF(C44=\"x\",-2,0)","v":0},{"$f":"IF(D44=\"x\",-1,0)","v":0},{"$f":"IF(E44=\"x\",0,0)","v":0},{"$f":"IF(F44=\"x\",1,0)","v":0},{"$f":"IF(G44=\"x\",2,0)","v":0},null,"Weighted value"]
[12,"Willingness of the stakeholder to share/increase own awareness on the topic",null,null,null,null,null,{"$f":"IF(C45=\"x\",-2,0)","v":0},{"$f":"IF(D45=\"x\",-1,0)","v":0},{"$f":"IF(E45=\"x\",0,0)","v":0},{"$f":"IF(F45=\"x\",1,0)","v":0},{"$f":"IF(G45=\"x\",2,0)","v":0},null,{"$f":"N43*'1_COMMUNITY EVALUATION'!N22","v":0.25}]
[13,"Willingness of the stakeholder to engage in public debate",null,null,null,null,null,{"$f":"IF(C46=\"x\",-2,0)","v":0},{"$f":"IF(D46=\"x\",-1,0)","v":0},{"$f":"IF(E46=\"x\",0,0)","v":0},{"$f":"IF(F46=\"x\",1,0)","v":0},{"$f":"IF(G46=\"x\",2,0)","v":0}]
[14,"Willingness of the stakeholder to communicate through a range of different media",null,null,null,null,null,{"$f":"IF(C47=\"x\",-2,0)","v":0},{"$f":"IF(D47=\"x\",-1,0)","v":0},{"$f":"IF(E47=\"x\",0,0)","v":0},{"$f":"IF(F47=\"x\",1,0)","v":0},{"$f":"IF(G47=\"x\",2,0)","v":0}]
[15,"Willingness of the stakeholder to access public venues",null,null,null,null,null,{"$f":"IF(C48=\"x\",-2,0)","v":0},{"$f":"IF(D48=\"x\",-1,0)","v":0},{"$f":"IF(E48=\"x\",0,0)","v":0},{"$f":"IF(F48=\"x\",1,0)","v":0},{"$f":"IF(G48=\"x\",2,0)","v":0}]
[null,"(4) Political capital",null,null,null,null,null,null,null,null,null,null,{"$f":"SUM(H50:L54)","v":0},{"$f":"(((M49-(-10))*(1-0))/(10-(-10)))+0","v":0.5}]
[16,"Trust of the stakeholder towards the local administration",null,null,null,null,null,{"$f":"IF(C50=\"x\",-2,0)","v":0},{"$f":"IF(D50=\"x\",-1,0)","v":0},{"$f":"IF(E50=\"x\",0,0)","v":0},{"$f":"IF(F50=\"x\",1,0)","v":0},{"$f":"IF(G50=\"x\",2,0)","v":0},null,"Weighted value"]
[17,"Political interest of the stakeholder in the topic",null,null,null,null,null,{"$f":"IF(C51=\"x\",-2,0)","v":0},{"$f":"IF(D51=\"x\",-1,0)","v":0},{"$f":"IF(E51=\"x\",0,0)","v":0},{"$f":"IF(F51=\"x\",1,0)","v":0},{"$f":"IF(G51=\"x\",2,0)","v":0},null,{"$f":"N49*'1_COMMUNITY EVALUATION'!N31","v":0.25}]
[18,"Willingness of the stakeholder to engage with local authorities",null,null,null,null,null,{"$f":"IF(C52=\"x\",-2,0)","v":0},{"$f":"IF(D52=\"x\",-1,0)","v":0},{"$f":"IF(E52=\"x\",0,0)","v":0},{"$f":"IF(F52=\"x\",1,0)","v":0},{"$f":"IF(G52=\"x\",2,0)","v":0}]
[19,"Interest for the stakeholder to reach out to a wider public",null,null,null,null,null,{"$f":"IF(C53=\"x\",-2,0)","v":0},{"$f":"IF(D53=\"x\",-1,0)","v":0},{"$f":"IF(E53=\"x\",0,0)","v":0},{"$f":"IF(F53=\"x\",1,0)","v":0},{"$f":"IF(G53=\"x\",2,0)","v":0}]
[20,"Willingness of the stakeholder to share/increase own political awareness",null,null,null,null,null,{"$f":"IF(C54=\"x\",-2,0)","v":0},{"$f":"IF(D54=\"x\",-1,0)","v":0},{"$f":"IF(E54=\"x\",0,0)","v":0},{"$f":"IF(F54=\"x\",1,0)","v":0},{"$f":"IF(G54=\"x\",2,0)","v":0}]
[null,"INTEREST SCORE",null,null,null,null,null,null,null,null,null,null,null,{"$f":"IF(C2=\"\",\"\",(SUM(N51+N45+N39+N33)/4))","v":""}]

{"sheet":"STAKEHOLDER (29)","index":33,"n_rows":55,"n_cols":14,"rows_kept":55,"cut":false,"hidden":false,"merged":[[0,0,0,13],[1,2,1,13],[27,1,27,6],[54,1,54,6]]}
["Bearing in mind the topic at hand, please evaluate the stakeholder for each proposed item (row) by it marking with an 'x' (from extremely negative to extremely positive)."]
[null,"STAKEHOLDER - insert name ->"]
[null,"DIMENSIONS","Extremely Negative","Negative","not applicable","Positive","Extremely positive",-2,-1,0,1,2,null,"score per dimension"]
[null,"(1) Social capital",null,null,null,null,null,null,null,null,null,null,{"$f":"SUM(H5:L9)","v":0},{"$f":"(((M4-(-10))*(1-0))/(10-(-10)))+0","v":0.5}]
[1,"Capacity of the stakeholder to involve other stakeholders ",null,null,null,null,null,{"$f":"IF(C5=\"x\",-2,0)","v":0},{"$f":"IF(D5=\"x\",-1,0)","v":0},{"$f":"IF(E5=\"x\",0,0)","v":0},{"$f":"IF(F5=\"x\",1,0)","v":0},{"$f":"IF(G5=\"x\",2,0)","v":0},null,"Weighted value"]
[2,"Level of representativeness of the stakeholder of a specific category",null,null,null,null,null,{"$f":"IF(C6=\"x\",-2,0)","v":0},{"$f":"IF(D6=\"x\",-1,0)","v":0},{"$f":"IF(E6=\"x\",0,0)","v":0},{"$f":"IF(F6=\"x\",1,0)","v":0},{"$f":"IF(G6=\"x\",2,0)","v":0},null,{"$f":"N4*'1_COMMUNITY EVALUATION'!N4","v":0.25}]
[3,"Level of participation of the stakeholder to local civil society activities",null,null,null,null,null,{"$f":"IF(C7=\"x\",-2,0)","v":0},{"$f":"IF(D7=\"x\",-1,0)","v":0},{"$f":"IF(E7=\"x\",0,0)","v":0},{"$f":"IF(F7=\"x\",1,0)","v":0},{"$f":"IF(G7=\"x\",2,0)","v":0}]
[4,"Capacity of the stakeholder to start/influence change",null,null,null,null,null,{"$f":"IF(C8=\"x\",-2,0)","v":0},{"$f":"IF(D8=\"x\",-1,0)","v":0},{"$f":"IF(E8=\"x\",0,0)","v":0},{"$f":"IF(F8=\"x\",1,0)","v":0},{"$f":"IF(G8=\"x\",2,0)","v":0}]
[5,"Level of acknowledgment of the stakeholder among citizens",null,null,null,null,null,{"$f":"IF(C9=\"x\",-2,0)","v":0},{"$f":"IF(D9=\"x\",-1,0)","v":0},{"$f":"IF(E9=\"x\",0,0)","v":0},{"$f":"IF(F9=\"x\",1,0)","v":0},{"$f":"IF(G9=\"x\",2,0)","v":0}]
[null,"(2) Economic capital",null,null,null,null,null,null,null,null,null,null,{"$f":"SUM(H11:L15)","v":0},{"$f":"(((M10-(-10))*(1-0))/(10-(-10)))+0","v":0.5}]
[6,"Capacity of the stakeholder to act as donor",null,null,null,null,null,{"$f":"IF(C11=\"x\",-2,0)","v":0},{"$f":"IF(D11=\"x\",-1,0)","v":0},{"$f":"IF(E11=\"x\",0,0)","v":0},{"$f":"IF(F11=\"x\",1,0)","v":0},{"$f":"IF(G11=\"x\",2,0)","v":0},null,"Weighted value"]
[7,"Capacity of the stakeholder to influence resources' allocation",null,null,null,null,null,{"$f":"IF(C12=\"x\",-2,0)","v":0},{"$f":"IF(D12=\"x\",-1,0)","v":0},{"$f":"IF(E12=\"x\",0,0)","v":0},{"$f":"IF(F12=\"x\",1,0)","v":0},{"$f":"IF(G12=\"x\",2,0)","v":0},null,{"$f":"N10*'1_COMMUNITY EVALUATION'!N13","v":0.25}]
[8,"Capacity to facilitate access to existing exogenous resources ",null,null,null,null,null,{"$f":"IF(C13=\"x\",-2,0)","v":0},{"$f":"IF(D13=\"x\",-1,0)","v":0},{"$f":"IF(E13=\"x\",0,0)","v":0},{"$f":"IF(F13=\"x\",1,0)","v":0},{"$f":"IF(G13=\"x\",2,0)","v":0}]
[9,"Capacity of the stakeholder to provide in-kind support",null,null,null,null,null,{"$f":"IF(C14=\"x\",-2,0)","v":0},{"$f":"IF(D14=\"x\",-1,0)","v":0},{"$f":"IF(E14=\"x\",0,0)","v":0},{"$f":"IF(F14=\"x\",1,0)","v":0},{"$f":"IF(G14=\"x\",2,0)","v":0}]
[10,"Influence of the stakeholder on the job market",null,null,null,null,null,{"$f":"IF(C15=\"x\",-2,0)","v":0},{"$f":"IF(D15=\"x\",-1,0)","v":0},{"$f":"IF(E15=\"x\",0,0)","v":0},{"$f":"IF(F15=\"x\",1,0)","v":0},{"$f":"IF(G15=\"x\",2,0)","v":0}]
[null,"(3) Human capital",null,null,null,null,null,null,null,null,null,null,{"$f":"SUM(H17:L21)","v":0},{"$f":"(((M16-(-10))*(1-0))/(10-(-10)))+0","v":0.5}]
[11,"Knowledge/skills of the stakeholder on the topic",null,null,null,null,null,{"$f":"IF(C17=\"x\",-2,0)","v":0},{"$f":"IF(D17=\"x\",-1,0)","v":0},{"$f":"IF(E17=\"x\",0,0)","v":0},{"$f":"IF(F17=\"x\",1,0)","v":0},{"$f":"IF(G17=\"x\",2,0)","v":0},null,"Weighted value"]
[12,"Awareness of the stakeholder on the topic",null,null,null,null,null,{"$f":"IF(C18=\"x\",-2,0)","v":0},{"$f":"IF(D18=\"x\",-1,0)","v":0},{"$f":"IF(E18=\"x\",0,0)","v":0},{"$f":"IF(F18=\"x\",1,0)","v":0},{"$f":"IF(G18=\"x\",2,0)","v":0},null,{"$f":"N16*'1_COMMUNITY EVALUATION'!N22","v":0.25}]
[13,"Capacity of the stakeholder to engage in public debate",null,null,null,null,null,{"$f":"IF(C19=\"x\",-2,0)","v":0},{"$f":"IF(D19=\"x\",-1,0)","v":0},{"$f":"IF(E19=\"x\",0,0)","v":0},{"$f":"IF(F19=\"x\",1,0)","v":0},{"$f":"IF(G19=\"x\",2,0)","v":0}]
[14,"Capacity of the stakeholder to communicate through a range of different media",null,null,null,null,null,{"$f":"IF(C20=\"x\",-2,0)","v":0},{"$f":"IF(D20=\"x\",-1,0)","v":0},{"$f":"IF(E20=\"x\",0,0)","v":0},{"$f":"IF(F20=\"x\",1,0)","v":0},{"$f":"IF(G20=\"x\",2,0)","v":0}]
[15,"Capacity of the stakeholder to access public venues",null,null,null,null,null,{"$f":"IF(C21=\"x\",-2,0)","v":0},{"$f":"IF(D21=\"x\",-1,0)","v":0},{"$f":"IF(E21=\"x\",0,0)","v":0},{"$f":"IF(F21=\"x\",1,0)","v":0},{"$f":"IF(G21=\"x\",2,0)","v":0}]
[null,"(4) Political capital",null,null,null,null,null,null,null,null,null,null,{"$f":"SUM(H23:L27)","v":0},{"$f":"(((M22-(-10))*(1-0))/(10-(-10)))+0","v":0.5}]
[16,"Trust of the local administration towards the stakeholder ",null,null,null,null,null,{"$f":"IF(C23=\"x\",-2,0)","v":0},{"$f":"IF(D23=\"x\",-1,0)","v":0},{"$f":"IF(E23=\"x\",0,0)","v":0},{"$f":"IF(F23=\"x\",1,0)","v":0},{"$f":"IF(G23=\"x\",2,0)","v":0},null,"Weighted value"]
[17,"Capacity of the stakeholder to engage further political actors",null,null,null,null,null,{"$f":"IF(C24=\"x\",-2,0)","v":0},{"$f":"IF(D24=\"x\",-1,0)","v":0},{"$f":"IF(E24=\"x\",0,0)","v":0},{"$f":"IF(F24=\"x\",1,0)","v":0},{"$f":"IF(G24=\"x\",2,0)","v":0},null,{"$f":"N22*'1_COMMUNITY EVALUATION'!N31","v":0.25}]
[18,"Capacity of the stakeholder to engage with local authorities/other stakeholders",null,null,null,null,null,{"$f":"IF(C25=\"x\",-2,0)","v":0},{"$f":"IF(D25=\"x\",-1,0)","v":0},{"$f":"IF(E25=\"x\",0,0)","v":0},{"$f":"IF(F25=\"x\",1,0)","v":0},{"$f":"IF(G25=\"x\",2,0)","v":0}]
[19,"Capacity of the stakeholder to influence public opinion",null,null,null,null,null,{"$f":"IF(C26=\"x\",-2,0)","v":0},{"$f":"IF(D26=\"x\",-1,0)","v":0},{"$f":"IF(E26=\"x\",0,0)","v":0},{"$f":"IF(F26=\"x\",1,0)","v":0},{"$f":"IF(G26=\"x\",2,0)","v":0}]
[20,"Political awareness of the stakeholder",null,null,null,null,null,{"$f":"IF(C27=\"x\",-2,0)","v":0},{"$f":"IF(D27=\"x\",-1,0)","v":0},{"$f":"IF(E27=\"x\",0,0)","v":0},{"$f":"IF(F27=\"x\",1,0)","v":0},{"$f":"IF(G27=\"x\",2,0)","v":0}]
[null,"RELEVANCE SCORE",null,null,null,null,null,null,null,null,null,null,null,{"$f":"IF(C2=\"\",\"\",(SUM(N24+N18+N12+N6)/4))","v":""}]
[]
[null,"DIMENSIONS","Extremely Negative","Negative","not applicable","Positive","Extremely positive",-2,-1,0,1,2,null,"score per dimension"]
[null,"(1) Social capital",null,null,null,null,null,null,null,null,null,null,{"$f":"SUM(H32:L36)","v":0},{"$f":"(((M31-(-10))*(1-0))/(10-(-10)))+0","v":0.5}]
[1,"Interest for the stakeholder to engage in networking for the topic at stake ",null,null,null,null,null,{"$f":"IF(C32=\"x\",-2,0)","v":0},{"$f":"IF(D32=\"x\",-1,0)","v":0},{"$f":"IF(E32=\"x\",0,0)","v":0},{"$f":"IF(F32=\"x\",1,0)","v":0},{"$f":"IF(G32=\"x\",2,0)","v":0},null,"Weighted value"]
[2,"Interest of the stakeholder to represent a specific category for the topic at stake",null,null,null,null,null,{"$f":"IF(C33=\"x\",-2,0)","v":0},{"$f":"IF(D33=\"x\",-1,0)","v":0},{"$f":"IF(E33=\"x\",0,0)","v":0},{"$f":"IF(F33=\"x\",1,0)","v":0},{"$f":"IF(G33=\"x\",2,0)","v":0},null,{"$f":"N31*'1_COMMUNITY EVALUATION'!N4","v":0.25}]
[3,"Interest of the stakeholder to be involved further in civil society activism for the topic at stake",null,null,null,null,null,{"$f":"IF(C34=\"x\",-2,0)","v":0},{"$f":"IF(D34=\"x\",-1,0)","v":0},{"$f":"IF(E34=\"x\",0,0)","v":0},{"$f":"IF(F34=\"x\",1,0)","v":0},{"$f":"IF(G34=\"x\",2,0)","v":0}]
[4,"interest of the stakeholder to start/influence change",null,null,null,null,null,{"$f":"IF(C35=\"x\",-2,0)","v":0},{"$f":"IF(D35=\"x\",-1,0)","v":0},{"$f":"IF(E35=\"x\",0,0)","v":0},{"$f":"IF(F35=\"x\",1,0)","v":0},{"$f":"IF(G35=\"x\",2,0)","v":0}]
[5,"Interest of the stakeholder to increase its own acknowledgement among citizens",null,null,null,null,null,{"$f":"IF(C36=\"x\",-2,0)","v":0},{"$f":"IF(D36=\"x\",-1,0)","v":0},{"$f":"IF(E36=\"x\",0,0)","v":0},{"$f":"IF(F36=\"x\",1,0)","v":0},{"$f":"IF(G36=\"x\",2,0)","v":0}]
[null,"(2) Economic capital",null,null,null,null,null,null,null,null,null,null,{"$f":"SUM(H38:L42)","v":0},{"$f":"(((M37-(-10))*(1-0))/(10-(-10)))+0","v":0.5}]
[6,"Potential economic benefit for the stakeholder ",null,null,null,null,null,{"$f":"IF(C38=\"x\",-2,0)","v":0},{"$f":"IF(D38=\"x\",-1,0)","v":0},{"$f":"IF(E38=\"x\",0,0)","v":0},{"$f":"IF(F38=\"x\",1,0)","v":0},{"$f":"IF(G38=\"x\",2,0)","v":0},null,"Weighted value"]
[7,"Willingness of the stakeholder to mobilise resources ",null,null,null,null,null,{"$f":"IF(C39=\"x\",-2,0)","v":0},{"$f":"IF(D39=\"x\",-1,0)","v":0},{"$f":"IF(E39=\"x\",0,0)","v":0},{"$f":"IF(F39=\"x\",1,0)","v":0},{"$f":"IF(G39=\"x\",2,0)","v":0},null,{"$f":"N37*'1_COMMUNITY EVALUATION'!N13","v":0.25}]
[8,"Willingness of the stakeholder to support access to existing exogenous resources",null,null,null,null,null,{"$f":"IF(C40=\"x\",-2,0)","v":0},{"$f":"IF(D40=\"x\",-1,0)","v":0},{"$f":"IF(E40=\"x\",0,0)","v":0},{"$f":"IF(F40=\"x\",1,0)","v":0},{"$f":"IF(G40=\"x\",2,0)","v":0}]
[9,"Propensity of the stakeholder to provide in-kind support",null,null,null,null,null,{"$f":"IF(C41=\"x\",-2,0)","v":0},{"$f":"IF(D41=\"x\",-1,0)","v":0},{"$f":"IF(E41=\"x\",0,0)","v":0},{"$f":"IF(F41=\"x\",1,0)","v":0},{"$f":"IF(G41=\"x\",2,0)","v":0}]
[10,"Interest of the stakeholder in increasing its own influence on the job market",null,null,null,null,null,{"$f":"IF(C42=\"x\",-2,0)","v":0},{"$f":"IF(D42=\"x\",-1,0)","v":0},{"$f":"IF(E42=\"x\",0,0)","v":0},{"$f":"IF(F42=\"x\",1,0)","v":0},{"$f":"IF(G42=\"x\",2,0)","v":0}]
[null,"(3) Human capital",null,null,null,null,null,null,null,null,null,null,{"$f":"SUM(H44:L48)","v":0},{"$f":"(((M43-(-10))*(1-0))/(10-(-10)))+0","v":0.5}]
[11,"Interest of the stakeholder to share/increase own knowledge/skills on the topic",null,null,null,null,null,{"$f":"IF(C44=\"x\",-2,0)","v":0},{"$f":"IF(D44=\"x\",-1,0)","v":0},{"$f":"IF(E44=\"x\",0,0)","v":0},{"$f":"IF(F44=\"x\",1,0)","v":0},{"$f":"IF(G44=\"x\",2,0)","v":0},null,"Weighted value"]
[12,"Willingness of the stakeholder to share/increase own awareness on the topic",null,null,null,null,null,{"$f":"IF(C45=\"x\",-2,0)","v":0},{"$f":"IF(D45=\"x\",-1,0)","v":0},{"$f":"IF(E45=\"x\",0,0)","v":0},{"$f":"IF(F45=\"x\",1,0)","v":0},{"$f":"IF(G45=\"x\",2,0)","v":0},null,{"$f":"N43*'1_COMMUNITY EVALUATION'!N22","v":0.25}]
[13,"Willingness of the stakeholder to engage in public debate",null,null,null,null,null,{"$f":"IF(C46=\"x\",-2,0)","v":0},{"$f":"IF(D46=\"x\",-1,0)","v":0},{"$f":"IF(E46=\"x\",0,0)","v":0},{"$f":"IF(F46=\"x\",1,0)","v":0},{"$f":"IF(G46=\"x\",2,0)","v":0}]
[14,"Willingness of the stakeholder to communicate through a range of different media",null,null,null,null,null,{"$f":"IF(C47=\"x\",-2,0)","v":0},{"$f":"IF(D47=\"x\",-1,0)","v":0},{"$f":"IF(E47=\"x\",0,0)","v":0},{"$f":"IF(F47=\"x\",1,0)","v":0},{"$f":"IF(G47=\"x\",2,0)","v":0}]
[15,"Willingness of the stakeholder to access public venues",null,null,null,null,null,{"$f":"IF(C48=\"x\",-2,0)","v":0},{"$f":"IF(D48=\"x\",-1,0)","v":0},{"$f":"IF(E48=\"x\",0,0)","v":0},{"$f":"IF(F48=\"x\",1,0)","v":0},{"$f":"IF(G48=\"x\",2,0)","v":0}]
[null,"(4) Political capital",null,null,null,null,null,null,null,null,null,null,{"$f":"SUM(H50:L54)","v":0},{"$f":"(((M49-(-10))*(1-0))/(10-(-10)))+0","v":0.5}]
[16,"Trust of the stakeholder towards the local administration",null,null,null,null,null,{"$f":"IF(C50=\"x\",-2,0)","v":0},{"$f":"IF(D50=\"x\",-1,0)","v":0},{"$f":"IF(E50=\"x\",0,0)","v":0},{"$f":"IF(F50=\"x\",1,0)","v":0},{"$f":"IF(G50=\"x\",2,0)","v":0},null,"Weighted value"]
[17,"Political interest of the stakeholder in the topic",null,null,null,null,null,{"$f":"IF(C51=\"x\",-2,0)","v":0},{"$f":"IF(D51=\"x\",-1,0)","v":0},{"$f":"IF(E51=\"x\",0,0)","v":0},{"$f":"IF(F51=\"x\",1,0)","v":0},{"$f":"IF(G51=\"x\",2,0)","v":0},null,{"$f":"N49*'1_COMMUNITY EVALUATION'!N31","v":0.25}]
[18,"Willingness of the stakeholder to engage with local authorities",null,null,null,null,null,{"$f":"IF(C52=\"x\",-2,0)","v":0},{"$f":"IF(D52=\"x\",-1,0)","v":0},{"$f":"IF(E52=\"x\",0,0)","v":0},{"$f":"IF(F52=\"x\",1,0)","v":0},{"$f":"IF(G52=\"x\",2,0)","v":0}]
[19,"Interest for the stakeholder to reach out to a wider public",null,null,null,null,null,{"$f":"IF(C53=\"x\",-2,0)","v":0},{"$f":"IF(D53=\"x\",-1,0)","v":0},{"$f":"IF(E53=\"x\",0,0)","v":0},{"$f":"IF(F53=\"x\",1,0)","v":0},{"$f":"IF(G53=\"x\",2,0)","v":0}]
[20,"Willingness of the stakeholder to share/increase own political awareness",null,null,null,null,null,{"$f":"IF(C54=\"x\",-2,0)","v":0},{"$f":"IF(D54=\"x\",-1,0)","v":0},{"$f":"IF(E54=\"x\",0,0)","v":0},{"$f":"IF(F54=\"x\",1,0)","v":0},{"$f":"IF(G54=\"x\",2,0)","v":0}]
[null,"INTEREST SCORE",null,null,null,null,null,null,null,null,null,null,null,{"$f":"IF(C2=\"\",\"\",(SUM(N51+N45+N39+N33)/4))","v":""}]

{"sheet":"STAKEHOLDER (30)","index":34,"n_rows":55,"n_cols":14,"rows_kept":55,"cut":false,"hidden":false,"merged":[[0,0,0,13],[1,2,1,13],[27,1,27,6],[54,1,54,6]]}
["Bearing in mind the topic at hand, please evaluate the stakeholder for each proposed item (row) by it marking with an 'x' (from extremely negative to extremely positive)."]
[null,"STAKEHOLDER - insert name ->"]
[null,"DIMENSIONS","Extremely Negative","Negative","not applicable","Positive","Extremely positive",-2,-1,0,1,2,null,"score per dimension"]
[null,"(1) Social capital",null,null,null,null,null,null,null,null,null,null,{"$f":"SUM(H5:L9)","v":0},{"$f":"(((M4-(-10))*(1-0))/(10-(-10)))+0","v":0.5}]
[1,"Capacity of the stakeholder to involve other stakeholders ",null,null,null,null,null,{"$f":"IF(C5=\"x\",-2,0)","v":0},{"$f":"IF(D5=\"x\",-1,0)","v":0},{"$f":"IF(E5=\"x\",0,0)","v":0},{"$f":"IF(F5=\"x\",1,0)","v":0},{"$f":"IF(G5=\"x\",2,0)","v":0},null,"Weighted value"]
[2,"Level of representativeness of the stakeholder of a specific category",null,null,null,null,null,{"$f":"IF(C6=\"x\",-2,0)","v":0},{"$f":"IF(D6=\"x\",-1,0)","v":0},{"$f":"IF(E6=\"x\",0,0)","v":0},{"$f":"IF(F6=\"x\",1,0)","v":0},{"$f":"IF(G6=\"x\",2,0)","v":0},null,{"$f":"N4*'1_COMMUNITY EVALUATION'!N4","v":0.25}]
[3,"Level of participation of the stakeholder to local civil society activities",null,null,null,null,null,{"$f":"IF(C7=\"x\",-2,0)","v":0},{"$f":"IF(D7=\"x\",-1,0)","v":0},{"$f":"IF(E7=\"x\",0,0)","v":0},{"$f":"IF(F7=\"x\",1,0)","v":0},{"$f":"IF(G7=\"x\",2,0)","v":0}]
[4,"Capacity of the stakeholder to start/influence change",null,null,null,null,null,{"$f":"IF(C8=\"x\",-2,0)","v":0},{"$f":"IF(D8=\"x\",-1,0)","v":0},{"$f":"IF(E8=\"x\",0,0)","v":0},{"$f":"IF(F8=\"x\",1,0)","v":0},{"$f":"IF(G8=\"x\",2,0)","v":0}]
[5,"Level of acknowledgment of the stakeholder among citizens",null,null,null,null,null,{"$f":"IF(C9=\"x\",-2,0)","v":0},{"$f":"IF(D9=\"x\",-1,0)","v":0},{"$f":"IF(E9=\"x\",0,0)","v":0},{"$f":"IF(F9=\"x\",1,0)","v":0},{"$f":"IF(G9=\"x\",2,0)","v":0}]
[null,"(2) Economic capital",null,null,null,null,null,null,null,null,null,null,{"$f":"SUM(H11:L15)","v":0},{"$f":"(((M10-(-10))*(1-0))/(10-(-10)))+0","v":0.5}]
[6,"Capacity of the stakeholder to act as donor",null,null,null,null,null,{"$f":"IF(C11=\"x\",-2,0)","v":0},{"$f":"IF(D11=\"x\",-1,0)","v":0},{"$f":"IF(E11=\"x\",0,0)","v":0},{"$f":"IF(F11=\"x\",1,0)","v":0},{"$f":"IF(G11=\"x\",2,0)","v":0},null,"Weighted value"]
[7,"Capacity of the stakeholder to influence resources' allocation",null,null,null,null,null,{"$f":"IF(C12=\"x\",-2,0)","v":0},{"$f":"IF(D12=\"x\",-1,0)","v":0},{"$f":"IF(E12=\"x\",0,0)","v":0},{"$f":"IF(F12=\"x\",1,0)","v":0},{"$f":"IF(G12=\"x\",2,0)","v":0},null,{"$f":"N10*'1_COMMUNITY EVALUATION'!N13","v":0.25}]
[8,"Capacity to facilitate access to existing exogenous resources ",null,null,null,null,null,{"$f":"IF(C13=\"x\",-2,0)","v":0},{"$f":"IF(D13=\"x\",-1,0)","v":0},{"$f":"IF(E13=\"x\",0,0)","v":0},{"$f":"IF(F13=\"x\",1,0)","v":0},{"$f":"IF(G13=\"x\",2,0)","v":0}]
[9,"Capacity of the stakeholder to provide in-kind support",null,null,null,null,null,{"$f":"IF(C14=\"x\",-2,0)","v":0},{"$f":"IF(D14=\"x\",-1,0)","v":0},{"$f":"IF(E14=\"x\",0,0)","v":0},{"$f":"IF(F14=\"x\",1,0)","v":0},{"$f":"IF(G14=\"x\",2,0)","v":0}]
[10,"Influence of the stakeholder on the job market",null,null,null,null,null,{"$f":"IF(C15=\"x\",-2,0)","v":0},{"$f":"IF(D15=\"x\",-1,0)","v":0},{"$f":"IF(E15=\"x\",0,0)","v":0},{"$f":"IF(F15=\"x\",1,0)","v":0},{"$f":"IF(G15=\"x\",2,0)","v":0}]
[null,"(3) Human capital",null,null,null,null,null,null,null,null,null,null,{"$f":"SUM(H17:L21)","v":0},{"$f":"(((M16-(-10))*(1-0))/(10-(-10)))+0","v":0.5}]
[11,"Knowledge/skills of the stakeholder on the topic",null,null,null,null,null,{"$f":"IF(C17=\"x\",-2,0)","v":0},{"$f":"IF(D17=\"x\",-1,0)","v":0},{"$f":"IF(E17=\"x\",0,0)","v":0},{"$f":"IF(F17=\"x\",1,0)","v":0},{"$f":"IF(G17=\"x\",2,0)","v":0},null,"Weighted value"]
[12,"Awareness of the stakeholder on the topic",null,null,null,null,null,{"$f":"IF(C18=\"x\",-2,0)","v":0},{"$f":"IF(D18=\"x\",-1,0)","v":0},{"$f":"IF(E18=\"x\",0,0)","v":0},{"$f":"IF(F18=\"x\",1,0)","v":0},{"$f":"IF(G18=\"x\",2,0)","v":0},null,{"$f":"N16*'1_COMMUNITY EVALUATION'!N22","v":0.25}]
[13,"Capacity of the stakeholder to engage in public debate",null,null,null,null,null,{"$f":"IF(C19=\"x\",-2,0)","v":0},{"$f":"IF(D19=\"x\",-1,0)","v":0},{"$f":"IF(E19=\"x\",0,0)","v":0},{"$f":"IF(F19=\"x\",1,0)","v":0},{"$f":"IF(G19=\"x\",2,0)","v":0}]
[14,"Capacity of the stakeholder to communicate through a range of different media",null,null,null,null,null,{"$f":"IF(C20=\"x\",-2,0)","v":0},{"$f":"IF(D20=\"x\",-1,0)","v":0},{"$f":"IF(E20=\"x\",0,0)","v":0},{"$f":"IF(F20=\"x\",1,0)","v":0},{"$f":"IF(G20=\"x\",2,0)","v":0}]
[15,"Capacity of the stakeholder to access public venues",null,null,null,null,null,{"$f":"IF(C21=\"x\",-2,0)","v":0},{"$f":"IF(D21=\"x\",-1,0)","v":0},{"$f":"IF(E21=\"x\",0,0)","v":0},{"$f":"IF(F21=\"x\",1,0)","v":0},{"$f":"IF(G21=\"x\",2,0)","v":0}]
[null,"(4) Political capital",null,null,null,null,null,null,null,null,null,null,{"$f":"SUM(H23:L27)","v":0},{"$f":"(((M22-(-10))*(1-0))/(10-(-10)))+0","v":0.5}]
[16,"Trust of the local administration towards the stakeholder ",null,null,null,null,null,{"$f":"IF(C23=\"x\",-2,0)","v":0},{"$f":"IF(D23=\"x\",-1,0)","v":0},{"$f":"IF(E23=\"x\",0,0)","v":0},{"$f":"IF(F23=\"x\",1,0)","v":0},{"$f":"IF(G23=\"x\",2,0)","v":0},null,"Weighted value"]
[17,"Capacity of the stakeholder to engage further political actors",null,null,null,null,null,{"$f":"IF(C24=\"x\",-2,0)","v":0},{"$f":"IF(D24=\"x\",-1,0)","v":0},{"$f":"IF(E24=\"x\",0,0)","v":0},{"$f":"IF(F24=\"x\",1,0)","v":0},{"$f":"IF(G24=\"x\",2,0)","v":0},null,{"$f":"N22*'1_COMMUNITY EVALUATION'!N31","v":0.25}]
[18,"Capacity of the stakeholder to engage with local authorities/other stakeholders",null,null,null,null,null,{"$f":"IF(C25=\"x\",-2,0)","v":0},{"$f":"IF(D25=\"x\",-1,0)","v":0},{"$f":"IF(E25=\"x\",0,0)","v":0},{"$f":"IF(F25=\"x\",1,0)","v":0},{"$f":"IF(G25=\"x\",2,0)","v":0}]
[19,"Capacity of the stakeholder to influence public opinion",null,null,null,null,null,{"$f":"IF(C26=\"x\",-2,0)","v":0},{"$f":"IF(D26=\"x\",-1,0)","v":0},{"$f":"IF(E26=\"x\",0,0)","v":0},{"$f":"IF(F26=\"x\",1,0)","v":0},{"$f":"IF(G26=\"x\",2,0)","v":0}]
[20,"Political awareness of the stakeholder",null,null,null,null,null,{"$f":"IF(C27=\"x\",-2,0)","v":0},{"$f":"IF(D27=\"x\",-1,0)","v":0},{"$f":"IF(E27=\"x\",0,0)","v":0},{"$f":"IF(F27=\"x\",1,0)","v":0},{"$f":"IF(G27=\"x\",2,0)","v":0}]
[null,"RELEVANCE SCORE",null,null,null,null,null,null,null,null,null,null,null,{"$f":"IF(C2=\"\",\"\",(SUM(N24+N18+N12+N6)/4))","v":""}]
[]
[null,"DIMENSIONS","Extremely Negative","Negative","not applicable","Positive","Extremely positive",-2,-1,0,1,2,null,"score per dimension"]
[null,"(1) Social capital",null,null,null,null,null,null,null,null,null,null,{"$f":"SUM(H32:L36)","v":0},{"$f":"(((M31-(-10))*(1-0))/(10-(-10)))+0","v":0.5}]
[1,"Interest for the stakeholder to engage in networking for the topic at stake ",null,null,null,null,null,{"$f":"IF(C32=\"x\",-2,0)","v":0},{"$f":"IF(D32=\"x\",-1,0)","v":0},{"$f":"IF(E32=\"x\",0,0)","v":0},{"$f":"IF(F32=\"x\",1,0)","v":0},{"$f":"IF(G32=\"x\",2,0)","v":0},null,"Weighted value"]
[2,"Interest of the stakeholder to represent a specific category for the topic at stake",null,null,null,null,null,{"$f":"IF(C33=\"x\",-2,0)","v":0},{"$f":"IF(D33=\"x\",-1,0)","v":0},{"$f":"IF(E33=\"x\",0,0)","v":0},{"$f":"IF(F33=\"x\",1,0)","v":0},{"$f":"IF(G33=\"x\",2,0)","v":0},null,{"$f":"N31*'1_COMMUNITY EVALUATION'!N4","v":0.25}]
[3,"Interest of the stakeholder to be involved further in civil society activism for the topic at stake",null,null,null,null,null,{"$f":"IF(C34=\"x\",-2,0)","v":0},{"$f":"IF(D34=\"x\",-1,0)","v":0},{"$f":"IF(E34=\"x\",0,0)","v":0},{"$f":"IF(F34=\"x\",1,0)","v":0},{"$f":"IF(G34=\"x\",2,0)","v":0}]
[4,"interest of the stakeholder to start/influence change",null,null,null,null,null,{"$f":"IF(C35=\"x\",-2,0)","v":0},{"$f":"IF(D35=\"x\",-1,0)","v":0},{"$f":"IF(E35=\"x\",0,0)","v":0},{"$f":"IF(F35=\"x\",1,0)","v":0},{"$f":"IF(G35=\"x\",2,0)","v":0}]
[5,"Interest of the stakeholder to increase its own acknowledgement among citizens",null,null,null,null,null,{"$f":"IF(C36=\"x\",-2,0)","v":0},{"$f":"IF(D36=\"x\",-1,0)","v":0},{"$f":"IF(E36=\"x\",0,0)","v":0},{"$f":"IF(F36=\"x\",1,0)","v":0},{"$f":"IF(G36=\"x\",2,0)","v":0}]
[null,"(2) Economic capital",null,null,null,null,null,null,null,null,null,null,{"$f":"SUM(H38:L42)","v":0},{"$f":"(((M37-(-10))*(1-0))/(10-(-10)))+0","v":0.5}]
[6,"Potential economic benefit for the stakeholder ",null,null,null,null,null,{"$f":"IF(C38=\"x\",-2,0)","v":0},{"$f":"IF(D38=\"x\",-1,0)","v":0},{"$f":"IF(E38=\"x\",0,0)","v":0},{"$f":"IF(F38=\"x\",1,0)","v":0},{"$f":"IF(G38=\"x\",2,0)","v":0},null,"Weighted value"]
[7,"Willingness of the stakeholder to mobilise resources ",null,null,null,null,null,{"$f":"IF(C39=\"x\",-2,0)","v":0},{"$f":"IF(D39=\"x\",-1,0)","v":0},{"$f":"IF(E39=\"x\",0,0)","v":0},{"$f":"IF(F39=\"x\",1,0)","v":0},{"$f":"IF(G39=\"x\",2,0)","v":0},null,{"$f":"N37*'1_COMMUNITY EVALUATION'!N13","v":0.25}]
[8,"Willingness of the stakeholder to support access to existing exogenous resources",null,null,null,null,null,{"$f":"IF(C40=\"x\",-2,0)","v":0},{"$f":"IF(D40=\"x\",-1,0)","v":0},{"$f":"IF(E40=\"x\",0,0)","v":0},{"$f":"IF(F40=\"x\",1,0)","v":0},{"$f":"IF(G40=\"x\",2,0)","v":0}]
[9,"Propensity of the stakeholder to provide in-kind support",null,null,null,null,null,{"$f":"IF(C41=\"x\",-2,0)","v":0},{"$f":"IF(D41=\"x\",-1,0)","v":0},{"$f":"IF(E41=\"x\",0,0)","v":0},{"$f":"IF(F41=\"x\",1,0)","v":0},{"$f":"IF(G41=\"x\",2,0)","v":0}]
[10,"Interest of the stakeholder in increasing its own influence on the job market",null,null,null,null,null,{"$f":"IF(C42=\"x\",-2,0)","v":0},{"$f":"IF(D42=\"x\",-1,0)","v":0},{"$f":"IF(E42=\"x\",0,0)","v":0},{"$f":"IF(F42=\"x\",1,0)","v":0},{"$f":"IF(G42=\"x\",2,0)","v":0}]
[null,"(3) Human capital",null,null,null,null,null,null,null,null,null,null,{"$f":"SUM(H44:L48)","v":0},{"$f":"(((M43-(-10))*(1-0))/(10-(-10)))+0","v":0.5}]
[11,"Interest of the stakeholder to share/increase own knowledge/skills on the topic",null,null,null,null,null,{"$f":"IF(C44=\"x\",-2,0)","v":0},{"$f":"IF(D44=\"x\",-1,0)","v":0},{"$f":"IF(E44=\"x\",0,0)","v":0},{"$f":"IF(F44=\"x\",1,0)","v":0},{"$f":"IF(G44=\"x\",2,0)","v":0},null,"Weighted value"]
[12,"Willingness of the stakeholder to share/increase own awareness on the topic",null,null,null,null,null,{"$f":"IF(C45=\"x\",-2,0)","v":0},{"$f":"IF(D45=\"x\",-1,0)","v":0},{"$f":"IF(E45=\"x\",0,0)","v":0},{"$f":"IF(F45=\"x\",1,0)","v":0},{"$f":"IF(G45=\"x\",2,0)","v":0},null,{"$f":"N43*'1_COMMUNITY EVALUATION'!N22","v":0.25}]
[13,"Willingness of the stakeholder to engage in public debate",null,null,null,null,null,{"$f":"IF(C46=\"x\",-2,0)","v":0},{"$f":"IF(D46=\"x\",-1,0)","v":0},{"$f":"IF(E46=\"x\",0,0)","v":0},{"$f":"IF(F46=\"x\",1,0)","v":0},{"$f":"IF(G46=\"x\",2,0)","v":0}]
[14,"Willingness of the stakeholder to communicate through a range of different media",null,null,null,null,null,{"$f":"IF(C47=\"x\",-2,0)","v":0},{"$f":"IF(D47=\"x\",-1,0)","v":0},{"$f":"IF(E47=\"x\",0,0)","v":0},{"$f":"IF(F47=\"x\",1,0)","v":0},{"$f":"IF(G47=\"x\",2,0)","v":0}]
[15,"Willingness of the stakeholder to access public venues",null,null,null,null,null,{"$f":"IF(C48=\"x\",-2,0)","v":0},{"$f":"IF(D48=\"x\",-1,0)","v":0},{"$f":"IF(E48=\"x\",0,0)","v":0},{"$f":"IF(F48=\"x\",1,0)","v":0},{"$f":"IF(G48=\"x\",2,0)","v":0}]
[null,"(4) Political capital",null,null,null,null,null,null,null,null,null,null,{"$f":"SUM(H50:L54)","v":0},{"$f":"(((M49-(-10))*(1-0))/(10-(-10)))+0","v":0.5}]
[16,"Trust of the stakeholder towards the local administration",null,null,null,null,null,{"$f":"IF(C50=\"x\",-2,0)","v":0},{"$f":"IF(D50=\"x\",-1,0)","v":0},{"$f":"IF(E50=\"x\",0,0)","v":0},{"$f":"IF(F50=\"x\",1,0)","v":0},{"$f":"IF(G50=\"x\",2,0)","v":0},null,"Weighted value"]
[17,"Political interest of the stakeholder in the topic",null,null,null,null,null,{"$f":"IF(C51=\"x\",-2,0)","v":0},{"$f":"IF(D51=\"x\",-1,0)","v":0},{"$f":"IF(E51=\"x\",0,0)","v":0},{"$f":"IF(F51=\"x\",1,0)","v":0},{"$f":"IF(G51=\"x\",2,0)","v":0},null,{"$f":"N49*'1_COMMUNITY EVALUATION'!N31","v":0.25}]
[18,"Willingness of the stakeholder to engage with local authorities",null,null,null,null,null,{"$f":"IF(C52=\"x\",-2,0)","v":0},{"$f":"IF(D52=\"x\",-1,0)","v":0},{"$f":"IF(E52=\"x\",0,0)","v":0},{"$f":"IF(F52=\"x\",1,0)","v":0},{"$f":"IF(G52=\"x\",2,0)","v":0}]
[19,"Interest for the stakeholder to reach out to a wider public",null,null,null,null,null,{"$f":"IF(C53=\"x\",-2,0)","v":0},{"$f":"IF(D53=\"x\",-1,0)","v":0},{"$f":"IF(E53=\"x\",0,0)","v":0},{"$f":"IF(F53=\"x\",1,0)","v":0},{"$f":"IF(G53=\"x\",2,0)","v":0}]
[20,"Willingness of the stakeholder to share/increase own political awareness",null,null,null,null,null,{"$f":"IF(C54=\"x\",-2,0)","v":0},{"$f":"IF(D54=\"x\",-1,0)","v":0},{"$f":"IF(E54=\"x\",0,0)","v":0},{"$f":"IF(F54=\"x\",1,0)","v":0},{"$f":"IF(G54=\"x\",2,0)","v":0}]
[null,"INTEREST SCORE",null,null,null,null,null,null,null,null,null,null,null,{"$f":"IF(C2=\"\",\"\",(SUM(N51+N45+N39+N33)/4))","v":""}]

{"sheet":"STEP_3","index":35,"n_rows":17,"n_cols":1,"rows_kept":17,"cut":false,"hidden":false,"merged":[[0,0,5,2],[0,3,5,8],[6,5,8,8],[11,5,13,8],[16,0,50,8]]}
[]
[]
[]
[]
[]
[]
[]
[]
[]
[]
[]
[]
[]
[]
[]
[]
["STEP 3 - Stakeholder Plotting\n\nThe \"Stakeholder Evaluation\" results in 2 scores (one for Relevance, one for Interest), ranging from 0 to 1. These scores are automatically plotted by the tool on a graph, divided in four quadrants. Each quadrant represents a different level of potential involvement of the stakeholder. Based on the quadrant where the stakeholder is located, the Local Authority will have the possibility to implement different strategies to allow its engagement, based on what described in Section 4. \n"]

{"sheet":"Stakeholders' Scores","index":36,"n_rows":32,"n_cols":4,"rows_kept":32,"cut":false,"hidden":false,"merged":[]}
[]
[null,"STAKEHOLDER","RELEVANCE","INTEREST"]
[1,{"$f":"IF(STAKEHOLDER!$C$2=\"\",\"\",STAKEHOLDER!$C$2)","v":""},{"$f":"STAKEHOLDER!$N$28","v":""},{"$f":"STAKEHOLDER!$N$55","v":""}]
[2,{"$f":"IF('STAKEHOLDER (2)'!$C$2=\"\",\"\",'STAKEHOLDER (2)'!$C$2)","v":""},{"$f":"'STAKEHOLDER (2)'!$N$28","v":""},{"$f":"'STAKEHOLDER (2)'!$N$55","v":""}]
[3,{"$f":"IF('STAKEHOLDER (3)'!$C$2=\"\",\"\",'STAKEHOLDER (3)'!$C$2)","v":""},{"$f":"'STAKEHOLDER (3)'!$N$28","v":""},{"$f":"'STAKEHOLDER (3)'!$N$55","v":""}]
[4,{"$f":"IF('STAKEHOLDER (4)'!$C$2=\"\",\"\",'STAKEHOLDER (4)'!$C$2)","v":""},{"$f":"'STAKEHOLDER (4)'!$N$28","v":""},{"$f":"'STAKEHOLDER (4)'!$N$55","v":""}]
[5,{"$f":"IF('STAKEHOLDER (5)'!$C$2=\"\",\"\",'STAKEHOLDER (5)'!$C$2)","v":""},{"$f":"'STAKEHOLDER (5)'!$N$28","v":""},{"$f":"'STAKEHOLDER (5)'!$N$55","v":""}]
[6,{"$f":"IF('STAKEHOLDER (6)'!$C$2=\"\",\"\",'STAKEHOLDER (6)'!$C$2)","v":""},{"$f":"'STAKEHOLDER (6)'!$N$28","v":""},{"$f":"'STAKEHOLDER (6)'!$N$55","v":""}]
[7,{"$f":"IF('STAKEHOLDER (7)'!$C$2=\"\",\"\",'STAKEHOLDER (7)'!$C$2)","v":""},{"$f":"'STAKEHOLDER (7)'!$N$28","v":""},{"$f":"'STAKEHOLDER (7)'!$N$55","v":""}]
[8,{"$f":"IF('STAKEHOLDER (8)'!$C$2=\"\",\"\",'STAKEHOLDER (8)'!$C$2)","v":""},{"$f":"'STAKEHOLDER (8)'!$N$28","v":""},{"$f":"'STAKEHOLDER (8)'!$N$55","v":""}]
[9,{"$f":"IF('STAKEHOLDER (9)'!$C$2=\"\",\"\",'STAKEHOLDER (9)'!$C$2)","v":""},{"$f":"'STAKEHOLDER (9)'!$N$28","v":""},{"$f":"'STAKEHOLDER (9)'!$N$55","v":""}]
[10,{"$f":"IF('STAKEHOLDER (10)'!$C$2=\"\",\"\",'STAKEHOLDER (10)'!$C$2)","v":""},{"$f":"'STAKEHOLDER (10)'!$N$28","v":""},{"$f":"'STAKEHOLDER (10)'!$N$55","v":""}]
[11,{"$f":"IF('STAKEHOLDER (11)'!$C$2=\"\",\"\",'STAKEHOLDER (11)'!$C$2)","v":""},{"$f":"'STAKEHOLDER (11)'!$N$28","v":""},{"$f":"'STAKEHOLDER (11)'!$N$55","v":""}]
[12,{"$f":"IF('STAKEHOLDER (12)'!$C$2=\"\",\"\",'STAKEHOLDER (12)'!$C$2)","v":""},{"$f":"'STAKEHOLDER (12)'!$N$28","v":""},{"$f":"'STAKEHOLDER (12)'!$N$55","v":""}]
[13,{"$f":"IF('STAKEHOLDER (13)'!$C$2=\"\",\"\",'STAKEHOLDER (13)'!$C$2)","v":""},{"$f":"'STAKEHOLDER (13)'!$N$28","v":""},{"$f":"'STAKEHOLDER (13)'!$N$55","v":""}]
[14,{"$f":"IF('STAKEHOLDER (14)'!$C$2=\"\",\"\",'STAKEHOLDER (14)'!$C$2)","v":""},{"$f":"'STAKEHOLDER (14)'!$N$28","v":""},{"$f":"'STAKEHOLDER (14)'!$N$55","v":""}]
[15,{"$f":"IF('STAKEHOLDER (15)'!$C$2=\"\",\"\",'STAKEHOLDER (15)'!$C$2)","v":""},{"$f":"'STAKEHOLDER (15)'!$N$28","v":""},{"$f":"'STAKEHOLDER (15)'!$N$55","v":""}]
[16,{"$f":"IF('STAKEHOLDER (16)'!$C$2=\"\",\"\",'STAKEHOLDER (16)'!$C$2)","v":""},{"$f":"'STAKEHOLDER (16)'!$N$28","v":""},{"$f":"'STAKEHOLDER (16)'!$N$55","v":""}]
[17,{"$f":"IF('STAKEHOLDER (17)'!$C$2=\"\",\"\",'STAKEHOLDER (17)'!$C$2)","v":""},{"$f":"'STAKEHOLDER (17)'!$N$28","v":""},{"$f":"'STAKEHOLDER (17)'!$N$55","v":""}]
[18,{"$f":"IF('STAKEHOLDER (18)'!$C$2=\"\",\"\",'STAKEHOLDER (18)'!$C$2)","v":""},{"$f":"'STAKEHOLDER (18)'!$N$28","v":""},{"$f":"'STAKEHOLDER (18)'!$N$55","v":""}]
[19,{"$f":"IF('STAKEHOLDER (19)'!$C$2=\"\",\"\",'STAKEHOLDER (19)'!$C$2)","v":""},{"$f":"'STAKEHOLDER (19)'!$N$28","v":""},{"$f":"'STAKEHOLDER (19)'!$N$55","v":""}]
[20,{"$f":"IF('STAKEHOLDER (20)'!$C$2=\"\",\"\",'STAKEHOLDER (20)'!$C$2)","v":""},{"$f":"'STAKEHOLDER (20)'!$N$28","v":""},{"$f":"'STAKEHOLDER (20)'!$N$55","v":""}]
[21,{"$f":"IF('STAKEHOLDER (21)'!$C$2=\"\",\"\",'STAKEHOLDER (21)'!$C$2)","v":""},{"$f":"'STAKEHOLDER (21)'!$N$28","v":""},{"$f":"'STAKEHOLDER (21)'!$N$55","v":""}]
[22,{"$f":"IF('STAKEHOLDER (22)'!$C$2=\"\",\"\",'STAKEHOLDER (22)'!$C$2)","v":""},{"$f":"'STAKEHOLDER (22)'!$N$28","v":""},{"$f":"'STAKEHOLDER (22)'!$N$55","v":""}]
[23,{"$f":"IF('STAKEHOLDER (23)'!$C$2=\"\",\"\",'STAKEHOLDER (23)'!$C$2)","v":""},{"$f":"'STAKEHOLDER (23)'!$N$28","v":""},{"$f":"'STAKEHOLDER (23)'!$N$55","v":""}]
[24,{"$f":"IF('STAKEHOLDER (24)'!$C$2=\"\",\"\",'STAKEHOLDER (24)'!$C$2)","v":""},{"$f":"'STAKEHOLDER (24)'!$N$28","v":""},{"$f":"'STAKEHOLDER (24)'!$N$55","v":""}]
[25,{"$f":"IF('STAKEHOLDER (25)'!$C$2=\"\",\"\",'STAKEHOLDER (25)'!$C$2)","v":""},{"$f":"'STAKEHOLDER (25)'!$N$28","v":""},{"$f":"'STAKEHOLDER (25)'!$N$55","v":""}]
[26,{"$f":"IF('STAKEHOLDER (26)'!$C$2=\"\",\"\",'STAKEHOLDER (26)'!$C$2)","v":""},{"$f":"'STAKEHOLDER (26)'!$N$28","v":""},{"$f":"'STAKEHOLDER (26)'!$N$55","v":""}]
[27,{"$f":"IF('STAKEHOLDER (27)'!$C$2=\"\",\"\",'STAKEHOLDER (27)'!$C$2)","v":""},{"$f":"'STAKEHOLDER (27)'!$N$28","v":""},{"$f":"'STAKEHOLDER (27)'!$N$55","v":""}]
[28,{"$f":"IF('STAKEHOLDER (28)'!$C$2=\"\",\"\",'STAKEHOLDER (28)'!$C$2)","v":""},{"$f":"'STAKEHOLDER (28)'!$N$28","v":""},{"$f":"'STAKEHOLDER (28)'!$N$55","v":""}]
[29,{"$f":"IF('STAKEHOLDER (29)'!$C$2=\"\",\"\",'STAKEHOLDER (29)'!$C$2)","v":""},{"$f":"'STAKEHOLDER (29)'!$N$28","v":""},{"$f":"'STAKEHOLDER (29)'!$N$55","v":""}]
[30,{"$f":"IF('STAKEHOLDER (30)'!$C$2=\"\",\"\",'STAKEHOLDER (30)'!$C$2)","v":""},{"$f":"'STAKEHOLDER (30)'!$N$28","v":""},{"$f":"'STAKEHOLDER (30)'!$N$55","v":""}]